{"text_format":"1","workbook":"xlsx","n_sheets":18,"sheets":["Allgemeines","Anleitung","Beschreibung","WE Bestand","WÜ Bestand","WW Bestand","Lüftung Bestand","Sanierungsschritte","WE Auswahl","WE Matrix","WE Leistung","WE Puffer","WÜ neu","WW neu","PV - Solar","Lüftung System","Lüftung AbZuluft","Zusammenfassung"],"not_rendered":{"charts":13,"images":0,"macros":1,"external_links":0,"defined_names":6,"comments":14,"pivot_tables":0},"unopened":[],"bounds":{"document_bytes":16777216,"sheet_cells":100000,"rows_first":2000,"rows_last":500,"rows_between":2000,"halvings":0,"cell_chars":16384,"cell_head_chars":4096},"cells_cut":0,"cells_raw":0,"read":"whole","date_system":"1900"}

{"sheet":"Allgemeines","index":0,"n_rows":25,"n_cols":12,"rows_kept":25,"cut":false,"hidden":false,"merged":[[22,3,22,4],[22,5,22,6],[22,8,22,9],[22,10,22,11],[19,3,19,6],[19,8,19,11],[20,3,20,6],[20,8,20,11],[21,4,21,6],[21,9,21,11],[16,4,16,6],[16,9,16,11],[17,3,17,4],[17,5,17,6],[17,8,17,9],[17,10,17,11],[10,3,10,6],[14,3,14,6],[14,8,14,11],[15,3,15,6],[15,8,15,11],[9,7,11,11],[1,1,1,12],[3,1,3,3],[9,3,9,6],[5,8,5,11],[6,8,6,11],[3,4,3,11],[5,3,5,6],[6,3,6,6],[7,4,7,6],[8,3,8,4],[8,5,8,6],[7,9,7,11],[8,8,8,9],[8,10,8,11]]}
[]
[null,"LEITFADEN ZUR AUSWAHL DER GEBÄUDETECHNIK"]
[]
[null,"Name der PHPP Quelldatei:",null,null,"Geben Sie hier bitte den Namen der PHPP-Quelldatei mit Dateiendung ein (meist .xlsm)"]
[]
[null,null,"Objekt:",{"$f":"IF($E$4=\"\",\"\",IF(INDEX(INDIRECT(\"'\"&Allgemeines!$E$4&\"'\"&\"!\"&\"Nachweis_Objekt\"),1,1)=0,\"\",INDEX(INDIRECT(\"'\"&Allgemeines!$E$4&\"'\"&\"!\"&\"Nachweis_Objekt\"),1,1)))","v":{"$error":"#REF!"}},null,null,null,"Bauherrschaft:",{"$f":"IF($E$4=\"\",\"\",IF(INDEX(INDIRECT(\"'\"&Allgemeines!$E$4&\"'\"&\"!\"&\"Nachweis_Bauherr\"),1,1)=0,\"\",INDEX(INDIRECT(\"'\"&Allgemeines!$E$4&\"'\"&\"!\"&\"Nachweis_Bauherr\"),1,1)))","v":{"$error":"#REF!"}}]
[null,null,"Straße:",{"$f":"IF($E$4=\"\",\"\",IF(INDEX(INDIRECT(\"'\"&Allgemeines!$E$4&\"'\"&\"!\"&\"Nachweis_Objekt\"),2,1)=0,\"\",INDEX(INDIRECT(\"'\"&Allgemeines!$E$4&\"'\"&\"!\"&\"Nachweis_Objekt\"),2,1)))","v":{"$error":"#REF!"}},null,null,null,"Straße:",{"$f":"IF($E$4=\"\",\"\",IF(INDEX(INDIRECT(\"'\"&Allgemeines!$E$4&\"'\"&\"!\"&\"Nachweis_Bauherr\"),2,1)=0,\"\",INDEX(INDIRECT(\"'\"&Allgemeines!$E$4&\"'\"&\"!\"&\"Nachweis_Bauherr\"),2,1)))","v":{"$error":"#REF!"}}]
[null,null,"PLZ/Ort:",{"$f":"IF($E$4=\"\",\"\",IF(INDEX(INDIRECT(\"'\"&Allgemeines!$E$4&\"'\"&\"!\"&\"Nachweis_Objekt\"),3,1)=0,\"\",INDEX(INDIRECT(\"'\"&Allgemeines!$E$4&\"'\"&\"!\"&\"Nachweis_Objekt\"),3,1)))","v":{"$error":"#REF!"}},{"$f":"IF($E$4=\"\",\"\",IF(INDEX(INDIRECT(\"'\"&Allgemeines!$E$4&\"'\"&\"!\"&\"Nachweis_Objekt\"),3,2)=0,\"\",INDEX(INDIRECT(\"'\"&Allgemeines!$E$4&\"'\"&\"!\"&\"Nachweis_Objekt\"),3,2)))","v":{"$error":"#REF!"}},null,null,"PLZ/Ort:",{"$f":"IF($E$4=\"\",\"\",IF(INDEX(INDIRECT(\"'\"&Allgemeines!$E$4&\"'\"&\"!\"&\"Nachweis_Bauherr\"),3,1)=0,\"\",INDEX(INDIRECT(\"'\"&Allgemeines!$E$4&\"'\"&\"!\"&\"Nachweis_Bauherr\"),3,1)))","v":{"$error":"#REF!"}},{"$f":"IF($E$4=\"\",\"\",IF(INDEX(INDIRECT(\"'\"&Allgemeines!$E$4&\"'\"&\"!\"&\"Nachweis_Bauherr\"),3,2)=0,\"\",INDEX(INDIRECT(\"'\"&Allgemeines!$E$4&\"'\"&\"!\"&\"Nachweis_Bauherr\"),3,2)))","v":{"$error":"#REF!"}}]
[null,null,"Provinz/Land:",{"$f":"IF($E$4=\"\",\"\",IF(INDEX(INDIRECT(\"'\"&Allgemeines!$E$4&\"'\"&\"!\"&\"Nachweis_Objekt\"),4,1)=0,\"\",INDEX(INDIRECT(\"'\"&Allgemeines!$E$4&\"'\"&\"!\"&\"Nachweis_Objekt\"),4,1)))","v":{"$error":"#REF!"}},null,{"$f":"IF($E$4=\"\",\"\",IF(INDEX(INDIRECT(\"'\"&Allgemeines!$E$4&\"'\"&\"!\"&\"Nachweis_Objekt\"),4,3)=0,\"\",INDEX(INDIRECT(\"'\"&Allgemeines!$E$4&\"'\"&\"!\"&\"Nachweis_Objekt\"),4,3)))","v":{"$error":"#REF!"}},null,"Provinz/Land:",{"$f":"IF($E$4=\"\",\"\",IF(INDEX(INDIRECT(\"'\"&Allgemeines!$E$4&\"'\"&\"!\"&\"Nachweis_Bauherr\"),4,1)=0,\"\",INDEX(INDIRECT(\"'\"&Allgemeines!$E$4&\"'\"&\"!\"&\"Nachweis_Bauherr\"),4,1)))","v":{"$error":"#REF!"}},null,{"$f":"IF($E$4=\"\",\"\",IF(INDEX(INDIRECT(\"'\"&Allgemeines!$E$4&\"'\"&\"!\"&\"Nachweis_Bauherr\"),4,3)=0,\"\",INDEX(INDIRECT(\"'\"&Allgemeines!$E$4&\"'\"&\"!\"&\"Nachweis_Bauherr\"),4,3)))","v":{"$error":"#REF!"}}]
[null,null,"Objekt-Typ:",{"$f":"IF($E$4=\"\",\"\",IF(INDEX(INDIRECT(\"'\"&Allgemeines!$E$4&\"'\"&\"!\"&\"Nachweis_Objekt\"),5,1)=0,\"\",INDEX(INDIRECT(\"'\"&Allgemeines!$E$4&\"'\"&\"!\"&\"Nachweis_Objekt\"),5,1)))","v":{"$error":"#REF!"}},null,null,null,{"$f":"IF(AND(D10<>\"Einfamilienhaus\",D10<>\"EINFAMILIENHAUS\",D10<>\"EFH\",D10<>\"Efh\"),\"Hinweis: \nDieser Leitfaden ist für die Verwendung bei der Sanierung von Einfamilienhäusern vorgesehen. Der angegebene Objekt-Typ stimmt nicht damit überein.\",\"\")","v":{"$error":"#REF!"}}]
[null,null,"Klimadatensatz:",{"$f":"IF($E$4=\"\",\"\",IF(INDIRECT(\"'\"&Allgemeines!$E$4&\"'\"&\"!\"&\"Klima_Standort\")=0,\"\",INDIRECT(\"'\"&Allgemeines!$E$4&\"'\"&\"!\"&\"Klima_Standort\")))","v":{"$error":"#REF!"}}]
[null,null,"Klimazone:",{"$f":"IF($E$4=\"\",\"\",IF(INDIRECT(\"'\"&Allgemeines!$E$4&\"'\"&\"!\"&\"Output_Klimazone\")=0,\"\",INDIRECT(\"'\"&Allgemeines!$E$4&\"'\"&\"!\"&\"Output_Klimazone\")))","v":{"$error":"#REF!"}},null,"Standorthöhe:",{"$f":"IF($E$4=\"\",\"\",IF(INDIRECT(\"'\"&Allgemeines!$E$4&\"'\"&\"!\"&\"Klimadaten_Hoehe_NN\")=0,\"\",INDIRECT(\"'\"&Allgemeines!$E$4&\"'\"&\"!\"&\"Klimadaten_Hoehe_NN\")))","v":{"$error":"#REF!"}}]
[]
[]
[null,null,"Architektur:",{"$f":"IF($E$4=\"\",\"\",IF(INDEX(INDIRECT(\"'\"&Allgemeines!$E$4&\"'\"&\"!\"&\"Nachweis_Architekt\"),1,1)=0,\"\",INDEX(INDIRECT(\"'\"&Allgemeines!$E$4&\"'\"&\"!\"&\"Nachweis_Architekt\"),1,1)))","v":{"$error":"#REF!"}},null,null,null,"Haustechnik:",{"$f":"IF($E$4=\"\",\"\",IF(INDEX(INDIRECT(\"'\"&Allgemeines!$E$4&\"'\"&\"!\"&\"Nachweis_Haustechnik\"),1,1)=0,\"\",INDEX(INDIRECT(\"'\"&Allgemeines!$E$4&\"'\"&\"!\"&\"Nachweis_Haustechnik\"),1,1)))","v":{"$error":"#REF!"}}]
[null,null,"Straße:",{"$f":"IF($E$4=\"\",\"\",IF(INDEX(INDIRECT(\"'\"&Allgemeines!$E$4&\"'\"&\"!\"&\"Nachweis_Architekt\"),2,1)=0,\"\",INDEX(INDIRECT(\"'\"&Allgemeines!$E$4&\"'\"&\"!\"&\"Nachweis_Architekt\"),2,1)))","v":{"$error":"#REF!"}},null,null,null,"Straße:",{"$f":"IF($E$4=\"\",\"\",IF(INDEX(INDIRECT(\"'\"&Allgemeines!$E$4&\"'\"&\"!\"&\"Nachweis_Haustechnik\"),2,1)=0,\"\",INDEX(INDIRECT(\"'\"&Allgemeines!$E$4&\"'\"&\"!\"&\"Nachweis_Haustechnik\"),2,1)))","v":{"$error":"#REF!"}}]
[null,null,"PLZ/Ort:",{"$f":"IF($E$4=\"\",\"\",IF(INDEX(INDIRECT(\"'\"&Allgemeines!$E$4&\"'\"&\"!\"&\"Nachweis_Architekt\"),3,1)=0,\"\",INDEX(INDIRECT(\"'\"&Allgemeines!$E$4&\"'\"&\"!\"&\"Nachweis_Architekt\"),3,1)))","v":{"$error":"#REF!"}},{"$f":"IF($E$4=\"\",\"\",IF(INDEX(INDIRECT(\"'\"&Allgemeines!$E$4&\"'\"&\"!\"&\"Nachweis_Architekt\"),3,2)=0,\"\",INDEX(INDIRECT(\"'\"&Allgemeines!$E$4&\"'\"&\"!\"&\"Nachweis_Architekt\"),3,2)))","v":{"$error":"#REF!"}},null,null,"PLZ/Ort:",{"$f":"IF($E$4=\"\",\"\",IF(INDEX(INDIRECT(\"'\"&Allgemeines!$E$4&\"'\"&\"!\"&\"Nachweis_Haustechnik\"),3,1)=0,\"\",INDEX(INDIRECT(\"'\"&Allgemeines!$E$4&\"'\"&\"!\"&\"Nachweis_Haustechnik\"),3,1)))","v":{"$error":"#REF!"}},{"$f":"IF($E$4=\"\",\"\",IF(INDEX(INDIRECT(\"'\"&Allgemeines!$E$4&\"'\"&\"!\"&\"Nachweis_Haustechnik\"),3,2)=0,\"\",INDEX(INDIRECT(\"'\"&Allgemeines!$E$4&\"'\"&\"!\"&\"Nachweis_Haustechnik\"),3,2)))","v":{"$error":"#REF!"}}]
[null,null,"Provinz/Land:",{"$f":"IF($E$4=\"\",\"\",IF(INDEX(INDIRECT(\"'\"&Allgemeines!$E$4&\"'\"&\"!\"&\"Nachweis_Architekt\"),4,1)=0,\"\",INDEX(INDIRECT(\"'\"&Allgemeines!$E$4&\"'\"&\"!\"&\"Nachweis_Architekt\"),4,1)))","v":{"$error":"#REF!"}},null,{"$f":"IF($E$4=\"\",\"\",IF(INDEX(INDIRECT(\"'\"&Allgemeines!$E$4&\"'\"&\"!\"&\"Nachweis_Architekt\"),4,3)=0,\"\",INDEX(INDIRECT(\"'\"&Allgemeines!$E$4&\"'\"&\"!\"&\"Nachweis_Architekt\"),4,3)))","v":{"$error":"#REF!"}},null,"Provinz/Land:",{"$f":"IF($E$4=\"\",\"\",IF(INDEX(INDIRECT(\"'\"&Allgemeines!$E$4&\"'\"&\"!\"&\"Nachweis_Haustechnik\"),4,1)=0,\"\",INDEX(INDIRECT(\"'\"&Allgemeines!$E$4&\"'\"&\"!\"&\"Nachweis_Haustechnik\"),4,1)))","v":{"$error":"#REF!"}},null,{"$f":"IF($E$4=\"\",\"\",IF(INDEX(INDIRECT(\"'\"&Allgemeines!$E$4&\"'\"&\"!\"&\"Nachweis_Haustechnik\"),4,3)=0,\"\",INDEX(INDIRECT(\"'\"&Allgemeines!$E$4&\"'\"&\"!\"&\"Nachweis_Haustechnik\"),4,3)))","v":{"$error":"#REF!"}}]
[]
[null,null,"Energieberatung:",{"$f":"IF($E$4=\"\",\"\",IF(INDEX(INDIRECT(\"'\"&Allgemeines!$E$4&\"'\"&\"!\"&\"Nachweis_Energieberatung\"),1,1)=0,\"\",INDEX(INDIRECT(\"'\"&Allgemeines!$E$4&\"'\"&\"!\"&\"Nachweis_Energieberatung\"),1,1)))","v":{"$error":"#REF!"}},null,null,null,"Zertifizierung:",{"$f":"IF($E$4=\"\",\"\",IF(INDEX(INDIRECT(\"'\"&Allgemeines!$E$4&\"'\"&\"!\"&\"Nachweis_Zertifzierung\"),1,1)=0,\"\",INDEX(INDIRECT(\"'\"&Allgemeines!$E$4&\"'\"&\"!\"&\"Nachweis_Zertifzierung\"),1,1)))","v":{"$error":"#REF!"}}]
[null,null,"Straße:",{"$f":"IF($E$4=\"\",\"\",IF(INDEX(INDIRECT(\"'\"&Allgemeines!$E$4&\"'\"&\"!\"&\"Nachweis_Energieberatung\"),2,1)=0,\"\",INDEX(INDIRECT(\"'\"&Allgemeines!$E$4&\"'\"&\"!\"&\"Nachweis_Energieberatung\"),2,1)))","v":{"$error":"#REF!"}},null,null,null,"Straße:",{"$f":"IF($E$4=\"\",\"\",IF(INDEX(INDIRECT(\"'\"&Allgemeines!$E$4&\"'\"&\"!\"&\"Nachweis_Zertifzierung\"),2,1)=0,\"\",INDEX(INDIRECT(\"'\"&Allgemeines!$E$4&\"'\"&\"!\"&\"Nachweis_Zertifzierung\"),2,1)))","v":{"$error":"#REF!"}}]
[null,null,"PLZ/Ort:",{"$f":"IF($E$4=\"\",\"\",IF(INDEX(INDIRECT(\"'\"&Allgemeines!$E$4&\"'\"&\"!\"&\"Nachweis_Energieberatung\"),3,1)=0,\"\",INDEX(INDIRECT(\"'\"&Allgemeines!$E$4&\"'\"&\"!\"&\"Nachweis_Energieberatung\"),3,1)))","v":{"$error":"#REF!"}},{"$f":"IF($E$4=\"\",\"\",IF(INDEX(INDIRECT(\"'\"&Allgemeines!$E$4&\"'\"&\"!\"&\"Nachweis_Energieberatung\"),3,2)=0,\"\",INDEX(INDIRECT(\"'\"&Allgemeines!$E$4&\"'\"&\"!\"&\"Nachweis_Energieberatung\"),3,2)))","v":{"$error":"#REF!"}},null,null,"PLZ/Ort:",{"$f":"IF($E$4=\"\",\"\",IF(INDEX(INDIRECT(\"'\"&Allgemeines!$E$4&\"'\"&\"!\"&\"Nachweis_Zertifzierung\"),3,1)=0,\"\",INDEX(INDIRECT(\"'\"&Allgemeines!$E$4&\"'\"&\"!\"&\"Nachweis_Zertifzierung\"),3,1)))","v":{"$error":"#REF!"}},{"$f":"IF($E$4=\"\",\"\",IF(INDEX(INDIRECT(\"'\"&Allgemeines!$E$4&\"'\"&\"!\"&\"Nachweis_Zertifzierung\"),3,2)=0,\"\",INDEX(INDIRECT(\"'\"&Allgemeines!$E$4&\"'\"&\"!\"&\"Nachweis_Zertifzierung\"),3,2)))","v":{"$error":"#REF!"}}]
[null,null,"Provinz/Land:",{"$f":"IF($E$4=\"\",\"\",IF(INDEX(INDIRECT(\"'\"&Allgemeines!$E$4&\"'\"&\"!\"&\"Nachweis_Energieberatung\"),4,1)=0,\"\",INDEX(INDIRECT(\"'\"&Allgemeines!$E$4&\"'\"&\"!\"&\"Nachweis_Energieberatung\"),4,1)))","v":{"$error":"#REF!"}},null,{"$f":"IF($E$4=\"\",\"\",IF(INDEX(INDIRECT(\"'\"&Allgemeines!$E$4&\"'\"&\"!\"&\"Nachweis_Energieberatung\"),4,3)=0,\"\",INDEX(INDIRECT(\"'\"&Allgemeines!$E$4&\"'\"&\"!\"&\"Nachweis_Energieberatung\"),4,3)))","v":{"$error":"#REF!"}},null,"Provinz/Land:",{"$f":"IF($E$4=\"\",\"\",IF(INDEX(INDIRECT(\"'\"&Allgemeines!$E$4&\"'\"&\"!\"&\"Nachweis_Zertifzierung\"),4,1)=0,\"\",INDEX(INDIRECT(\"'\"&Allgemeines!$E$4&\"'\"&\"!\"&\"Nachweis_Zertifzierung\"),4,1)))","v":{"$error":"#REF!"}},null,{"$f":"IF($E$4=\"\",\"\",IF(INDEX(INDIRECT(\"'\"&Allgemeines!$E$4&\"'\"&\"!\"&\"Nachweis_Zertifzierung\"),4,3)=0,\"\",INDEX(INDIRECT(\"'\"&Allgemeines!$E$4&\"'\"&\"!\"&\"Nachweis_Zertifzierung\"),4,3)))","v":{"$error":"#REF!"}}]
[]
[null,null,"Baujahr:",{"$f":"INDIRECT(\"'\"&Allgemeines!$E$4&\"'\"&\"!\"&\"Nachweis_Baujahr\")","v":{"$error":"#REF!"}},null,null,null,"Innentemperatur Winter [°C]:",{"$f":"INDIRECT(\"'\"&Allgemeines!$E$4&\"'\"&\"!\"&\"Nachweis_Innentemperatur\")","v":{"$error":"#REF!"}},null,"Innentemp. Sommer [°C]:",{"$f":"INDIRECT(\"'\"&Allgemeines!$E$4&\"'\"&\"!\"&\"Sommer_Uebertemperaturgrenze\")","v":{"$error":"#REF!"}}]

{"sheet":"Anleitung","index":1,"n_rows":6,"n_cols":3,"rows_kept":6,"cut":false,"hidden":false,"merged":[[1,1,2,3]]}
[]
[null,"ANLEITUNG ZUR NUTZUNG DES LEITFADENS"]
[]
[]
[null,null,"Sehr geehrter Nutzer!\n\nDie einzelnen Elemente der Gebäudetechnik stehen untereinander mitunter in starker Wechselwirkung und beeinflussen sich gegenseitig. Aus diesem Grund ist es sinnvoll die Erneuerung der Anlagenteile möglichst gut zu planen um das bestmögliche System für Ihr Haus zu erhalten. Der vorliegende Leitfaden soll Sie dabei unterstützen und geht dabei auf den auf die Auswahl des Heizwärmeerzeuger, die Wärmeübergabe, die Trinkwarmwasserbereitung und Lüftung im Gebäude ein.\n\nDie Auswahl der Systemkomponenten ist sehr komplex und von vielen zum Teil schwer oder nicht automatisch erfass- und bewertbaren Faktoren abhängig. Die Gewichtung von monetären und nicht monetären Parametern ist letztlich Ihre Entscheidung.\n\nDas Ziel des Leitfadens ist dabei keineswegs, die Konfrontation mit einem fertigen, automatisch generierten Systemvorschlag, sondern das schrittweise Anleiten bei der Entscheidungsfindung.\n\nEs empfiehlt sich den Leitfaden möglichst in der vorgegebenen Reihenfolge durchzugehen. An vielen Stellen werden Ihnen Vorschläge und Empfehlungen gemacht auf deren Basis Sie selbst entscheiden können. \n\nDas Ergebnis der Arbeit ist also eine sehr gut nachvollziehbare Lösung für die Gebäudetechnik Ihres Hauses unter Berücksichtigung des angestrebten Sanierungsverlaufs."]
[null,null,"Bevor es los geht, hier noch eine kurze Erklärung der verwendeten Abkürzungen:\n     WE ..... Wärmeerzeuger\n     WÜ .... Wärmeübergabe\n     WW ... Warmwasser\n\n\nViel Erfolg!"]

{"sheet":"Beschreibung","index":2,"n_rows":100,"n_cols":47,"rows_kept":100,"cut":false,"hidden":false,"merged":[[20,2,20,3],[20,5,20,7],[20,9,20,10],[20,12,20,13],[20,15,20,16],[19,2,19,10],[18,2,18,10],[16,2,16,7],[3,2,3,7],[8,2,8,7],[10,2,10,3],[12,2,12,3],[14,2,14,3],[5,2,5,3],[31,5,31,6],[26,5,26,6],[27,5,27,6],[21,5,21,6],[25,5,25,6],[23,5,23,6],[38,5,38,6],[1,1,1,17],[35,5,35,6],[43,5,43,6],[40,2,40,7],[42,2,42,3],[42,5,42,7],[42,9,42,10],[42,12,42,13],[42,15,42,16],[33,5,33,6],[32,5,32,6],[24,5,24,6],[28,5,28,6],[29,5,29,6],[30,5,30,6]]}
[]
[null,"BESCHREIBUNG DES GEBÄUDES",null,null,null,null,null,null,null,null,null,null,null,null,null,null,null,null,null,null,null,null,null,null,null,null,null,"Geschoße"]
[null,null,null,null,null,null,null,null,null,null,null,null,null,null,null,null,null,null,null,null,null,null,null,null,null,null,null,1,null,null,null,"Abfrage"]
[null,null,"GRUNDSTÜCK",null,null,null,null,null,null,null,null,null,null,null,null,null,null,null,null,null,null,null,null,null,null,null,null,2,null,null,null,"ja"]
[null,null,null,null,null,null,null,null,null,null,null,null,null,null,null,null,null,null,null,null,null,null,null,null,null,null,null,3,null,null,null,"nein"]
[null,null,"Gartenfläche:"]
[]
[]
[null,null,"GEBÄUDE"]
[]
[null,null,"Anzahl der oberirdischen Geschoße:",null,null,null,null,null,null,null,null,null,null,null,null,null,null,null,null,null,null,null,null,null,null,null,null,{"$f":"IF($F$11>=2,0,1)","v":1},{"$f":"IF($F$11=3,0,1)","v":1}]
[]
[null,null,"Gibt es ein Kellergeschoß?",null,null,null,null,null,null,null,null,null,null,null,null,null,null,null,null,null,null,null,null,null,null,null,null,null,{"$f":"IF(F13=\"ja\",0,1)","v":1}]
[]
[null,null,"Gibt es ein Dachgeschoß:",null,null,null,null,null,null,null,null,null,null,null,null,null,null,null,null,null,null,null,null,null,null,null,null,null,{"$f":"IF(F15=\"ja\",0,1)","v":1}]
[]
[null,null,"RÄUME"]
[]
[null,null,"Hinweis zur Eingabe der Räume:"]
[null,null,"Erst gilt es zu überlegen, ob das Stockwerk durch einen (zentralen) Erschließungsraum (Gang, Flur, Stiegenhaus) erschlossen wird, \noder ob es sich um einen sehr offenen Grundriss handelt und die Erschließung über einen großen Raum (im Erdgeschoß z.B. über eine Wohnküche) erfolgt.\nDie Eingabe der Räume sollte mit diesem (zentralen) Erschließungsraum beginnen. Die weiteren Eingabe erfolgt dann von diesem zentralen Raum ausgehend, bei der Stiege beginnend im Uhrzeigersinn."]
[null,null,"Kellergeschoß",null,null,"Erdgeschoß",null,null,null,"1.Obergeschoß",null,null,"2.Obergeschoß",null,null,"Dachgeschoß"]
[null,null,"Raumhöhe:",2.4,null,"Raumhöhe:",null,null,null,"Raumhöhe:",2.5,null,"Raumhöhe:",2.5,null,"gemittelte Raumhöhe:",1.7]
[]
[null,null,"Raum","Fläche",null,"Raum",null,"Fläche",null,"Raum","Fläche",null,"Raum","Fläche",null,"Raum","Fläche",null,null,null,null,null,null,null,null,null,null,"Raumarten, KG",null,"Raumarten, EG",null,"Raumarten, OG",null,"Erschließungsart"]
[null,null,"Gang / Flur",10.4,null,null,null,null,null,"Gang / Flur / Stgh",5.0999999999999996,null,"Schlafzimmer",10,null,"Aufenthaltsraum",14.1,null,null,{"$f":"IF($F$13=\"ja\",IF(C25=\"\",0,1),0)","v":0},{"$f":"IF(F25=\"\",0,MAX($T$25:$T$34)+1)","v":0},{"$f":"IF($F$11>=2,IF(J25=\"\",0,MAX($U$25:$U$34)+1),0)","v":0},{"$f":"IF($F$11>=3,IF(M25=\"\",0,MAX($U$25:$U$34,$V$25:$V$34)+1),0)","v":0},{"$f":"IF($F$15=\"ja\",IF(P25=\"\",0,MAX($U$25:$U$34,$V$25:$V$34,$W$25:$W$34)+1),0)","v":0},null,null,null,null,null,null,null,null,null,"zentrale Erschließung (Gang / Flur)"]
[null,null,"Heizraum",12.9,null,null,null,null,null,"Gang / Flur / Stgh",6.4,null,"Arbeitszimmer",15,null,"Gang / Flur / Stgh",10.7,null,null,{"$f":"IF($F$13=\"ja\",IF(C26=\"\",0,MAX(T25)+1),0)","v":0},{"$f":"IF(F26=\"\",0,MAX($T$25:$T$34,U25)+1)","v":0},{"$f":"IF($F$11>=2,IF(J26=\"\",0,MAX($U$25:$U$34,V25)+1),0)","v":0},{"$f":"IF($F$11>=3,IF(M26=\"\",0,MAX($U$25:$U$34,$V$25:$V$34,W25)+1),0)","v":0},{"$f":"IF($F$15=\"ja\",IF(P26=\"\",0,MAX($U$25:$U$34,$V$25:$V$34,$W$25:$W$34,X25)+1),0)","v":0},null,null,null,"Heizraum",null,"Gang / Flur / Stgh",null,"Gang / Flur / Stgh",null,"Offener Grundriss"]
[null,null,"Arbeitszimmer",21.8,null,null,null,null,null,"Kinderzimmer",12.9,null,"Kinderzimmer",40,null,"Schlafzimmer",13.1,null,null,{"$f":"IF($F$13=\"ja\",IF(C27=\"\",0,MAX(T25:T26)+1),0)","v":0},{"$f":"IF(F27=\"\",0,MAX($T$25:$T$34,U25:U26)+1)","v":0},{"$f":"IF($F$11>=2,IF(J27=\"\",0,MAX($U$25:$U$34,V25:V26)+1),0)","v":0},{"$f":"IF($F$11>=3,IF(M27=\"\",0,MAX($U$25:$U$34,$V$25:$V$34,W25:W26)+1),0)","v":0},{"$f":"IF($F$15=\"ja\",IF(P27=\"\",0,MAX($U$25:$U$34,$V$25:$V$34,$W$25:$W$34,X25:X26)+1),0)","v":0},null,null,null,"Gang / Flur",null,"Küche",null,"Schlafzimmer"]
[null,null,"Lager",15.2,null,null,null,null,null,"Kinderzimmer",21.8,null,"Bad",15,null,"Aufenthaltsraum",21.7,null,null,{"$f":"IF($F$13=\"ja\",IF(C28=\"\",0,MAX(T25:T27)+1),0)","v":0},{"$f":"IF(F28=\"\",0,MAX($T$25:$T$34,U25:U27)+1)","v":0},{"$f":"IF($F$11>=2,IF(J28=\"\",0,MAX($U$25:$U$34,V25:V27)+1),0)","v":0},{"$f":"IF($F$11>=3,IF(M28=\"\",0,MAX($U$25:$U$34,$V$25:$V$34,W25:W27)+1),0)","v":0},{"$f":"IF($F$15=\"ja\",IF(P28=\"\",0,MAX($U$25:$U$34,$V$25:$V$34,$W$25:$W$34,X25:X27)+1),0)","v":0},null,null,null,"Bad",null,"Esszimmer",null,"Kinderzimmer",null,"Außenwand"]
[null,null,"Abstellraum",3.8,null,null,null,null,null,"Schlafzimmer",10.9,null,null,null,null,"Bad",4.8,null,null,{"$f":"IF($F$13=\"ja\",IF(C29=\"\",0,MAX(T25:T28)+1),0)","v":0},{"$f":"IF(F29=\"\",0,MAX($T$25:$T$34,U25:U28)+1)","v":0},{"$f":"IF($F$11>=2,IF(J29=\"\",0,MAX($U$25:$U$34,V25:V28)+1),0)","v":0},{"$f":"IF($F$11>=3,IF(M29=\"\",0,MAX($U$25:$U$34,$V$25:$V$34,W25:W28)+1),0)","v":0},{"$f":"IF($F$15=\"ja\",IF(P29=\"\",0,MAX($U$25:$U$34,$V$25:$V$34,$W$25:$W$34,X25:X28)+1),0)","v":0},null,null,null,"WC",null,"Wohnküche",null,"Aufenthaltsraum",null,"Hochlochziegel"]
[null,null,null,null,null,null,null,null,null,"Abstellraum",2.7,null,null,null,null,null,null,null,null,{"$f":"IF($F$13=\"ja\",IF(C30=\"\",0,MAX(T25:T29)+1),0)","v":0},{"$f":"IF(F30=\"\",0,MAX($T$25:$T$34,U25:U29)+1)","v":0},{"$f":"IF($F$11>=2,IF(J30=\"\",0,MAX($U$25:$U$34,V25:V29)+1),0)","v":0},{"$f":"IF($F$11>=3,IF(M30=\"\",0,MAX($U$25:$U$34,$V$25:$V$34,W25:W29)+1),0)","v":0},{"$f":"IF($F$15=\"ja\",IF(P30=\"\",0,MAX($U$25:$U$34,$V$25:$V$34,$W$25:$W$34,X25:X29)+1),0)","v":0},null,null,null,"Abstellraum",null,"Wohnzimmer",null,"Arbeitszimmer",null,"Ziegel, massiv"]
[null,null,null,null,null,null,null,null,null,"Bad",4.2,null,null,null,null,null,null,null,null,{"$f":"IF($F$13=\"ja\",IF(C31=\"\",0,MAX(T25:T30)+1),0)","v":0},{"$f":"IF(F31=\"\",0,MAX($T$25:$T$34,U25:U30)+1)","v":0},{"$f":"IF($F$11>=2,IF(J31=\"\",0,MAX($U$25:$U$34,V25:V30)+1),0)","v":0},{"$f":"IF($F$11>=3,IF(M31=\"\",0,MAX($U$25:$U$34,$V$25:$V$34,W25:W30)+1),0)","v":0},{"$f":"IF($F$15=\"ja\",IF(P31=\"\",0,MAX($U$25:$U$34,$V$25:$V$34,$W$25:$W$34,X25:X30)+1),0)","v":0},null,null,null,"Lager",null,"Arbeitszimmer",null,"Bad",null,"Stahlbeton"]
[null,null,null,null,null,null,null,null,null,null,null,null,null,null,null,null,null,null,null,{"$f":"IF($F$13=\"ja\",IF(C32=\"\",0,MAX(T25:T31)+1),0)","v":0},{"$f":"IF(F32=\"\",0,MAX($T$25:$T$34,U25:U31)+1)","v":0},{"$f":"IF($F$11>=2,IF(J32=\"\",0,MAX($U$25:$U$34,V25:V31)+1),0)","v":0},{"$f":"IF($F$11>=3,IF(M32=\"\",0,MAX($U$25:$U$34,$V$25:$V$34,W25:W31)+1),0)","v":0},{"$f":"IF($F$15=\"ja\",IF(P32=\"\",0,MAX($U$25:$U$34,$V$25:$V$34,$W$25:$W$34,X25:X31)+1),0)","v":0},null,null,null,"Aufenthaltsraum",null,"Bad",null,"WC",null,"Holzriegel"]
[null,null,null,null,null,null,null,null,null,null,null,null,null,null,null,null,null,null,null,{"$f":"IF($F$13=\"ja\",IF(C33=\"\",0,MAX(T25:T32)+1),0)","v":0},{"$f":"IF(F33=\"\",0,MAX($T$25:$T$34,U25:U32)+1)","v":0},{"$f":"IF($F$11>=2,IF(J33=\"\",0,MAX($U$25:$U$34,V25:V32)+1),0)","v":0},{"$f":"IF($F$11>=3,IF(M33=\"\",0,MAX($U$25:$U$34,$V$25:$V$34,W25:W32)+1),0)","v":0},{"$f":"IF($F$15=\"ja\",IF(P33=\"\",0,MAX($U$25:$U$34,$V$25:$V$34,$W$25:$W$34,X25:X32)+1),0)","v":0},null,null,null,"Arbeitszimmer",null,"WC",null,"Abstellraum",null,"Holz, massiv"]
[null,null,null,null,null,null,null,null,null,null,null,null,null,null,null,null,null,null,null,{"$f":"IF($F$13=\"ja\",IF(C34=\"\",0,MAX(T25:T33)+1),0)","v":0},{"$f":"IF(F34=\"\",0,MAX($T$25:$T$34,U25:U33)+1)","v":0},{"$f":"IF($F$11>=2,IF(J34=\"\",0,MAX($U$25:$U$34,V25:V33)+1),0)","v":0},{"$f":"IF($F$11>=3,IF(M34=\"\",0,MAX($U$25:$U$34,$V$25:$V$34,W25:W33)+1),0)","v":0},{"$f":"IF($F$15=\"ja\",IF(P34=\"\",0,MAX($U$25:$U$34,$V$25:$V$34,$W$25:$W$34,X25:X33)+1),0)","v":0},null,null,null,"Werkstatt",null,"Abstellraum"]
[null,null,null,null,null,null,null,null,null,null,null,null,null,null,null,null,null,null,null,null,null,null,null,null,null,null,null,null,null,"Aufenthaltsraum"]
[null,null,"Anzahl der Räume",{"$f":"MAX(T25:T34)","v":0},null,"Anzahl der Räume",null,{"$f":"MAX(U25:U34)-D36","v":0},null,"Anzahl der Räume",{"$f":"IF(MAX(V25:V34)<>0,MAX(V25:V34)-H36-D36,0)","v":0},null,"Anzahl der Räume",{"$f":"IF(MAX(W25:W34)<>0,MAX(W25:W34)-H36-D36-K36,0)","v":0},null,"Anzahl der Räume",{"$f":"IF(MAX(X25:X34)<>0,MAX(X25:X34)-H36-D36-K36-N36,0)","v":0},null,null,null,null,null,null,null,null,null,null,null,null,"Schlafzimmer"]
[null,null,"Gesamtfläche",{"$f":"IF(D36<>0,SUM(D25:D34),0)","v":0},null,null,null,{"$f":"IF(H36<>0,SUM(H25:H34),0)","v":0},null,null,{"$f":"IF(K36<>0,SUM(K25:K34),0)","v":0},null,null,{"$f":"IF(N36<>0,SUM(N25:N34),0)","v":0},null,null,{"$f":"IF(Q36<>0,SUM(Q25:Q34),0)","v":0},null,null,null,null,null,null,null,null,null,null,null,null,"Heizraum"]
[]
[null,null,"Räume, gesamt:",{"$f":"D36+H36+K36+N36+Q36","v":0},null,"Gesamtfläche",null,{"$f":"SUM(D37:Q37)","v":0}]
[]
[null,null,"MATERIALIEN"]
[]
[null,null,"Kellergeschoß",null,null,"Erdgeschoß",null,null,null,"1.Obergeschoß",null,null,"2.Obergeschoß",null,null,"Dachgeschoß"]
[null,null,"Außenwände","Stahlbeton",null,"Außenwände",null,null,null,"Außenwände","Ziegel, massiv",null,"Außenwände","Hochlochziegel",null,"Außenwände","Ziegel, massiv"]
[]
[]
[]
[]
[]
[null,null,null,null,null,null,null,null,null,null,null,null,null,null,null,null,null,null,null,null,null,null,null,null,null,null,null,null,null,null,null,null,null,null,null,null,null,"Nummer","Geschoß","Raum","Fläche",null,"Nummer","Geschoß","Raum","Fläche","Bezeichnung"]
[null,null,null,null,null,null,null,null,null,null,null,null,null,null,null,null,null,null,null,null,null,null,null,null,null,null,null,null,null,null,null,null,null,null,null,null,null,{"$f":"T25","v":0},"KG",{"$f":"IF(AL51<>0,C25,0)","v":0},{"$f":"IF(AL51<>0,D25,0)","v":0},null,1,{"$f":"IF(AQ51=\"\",\"\",INDEX(Raumliste[Geschoß],MATCH(AQ51,Raumliste[Nummer],0)))","v":{"$error":"#N/A"}},{"$f":"IF(AQ51=\"\",\"\",INDEX(Raumliste[Raum],MATCH(AQ51,Raumliste[Nummer],0)))","v":{"$error":"#N/A"}},{"$f":"IF(AQ51=\"\",\"\",INDEX(Raumliste[Fläche],MATCH(AQ51,Raumliste[Nummer],0)))","v":{"$error":"#N/A"}},{"$f":"IF(Raumliste_kompakt[[#This Row],[Nummer]]<>\"\",Raumliste_kompakt[[#This Row],[Raum]]&\", \"&Raumliste_kompakt[[#This Row],[Geschoß]],\"\")","v":{"$error":"#N/A"}}]
[null,null,null,null,null,null,null,null,null,null,null,null,null,null,null,null,null,null,null,null,null,null,null,null,null,null,null,null,null,null,null,null,null,null,null,null,null,0,"KG",0,0,null,{"$f":"IF(AQ51<MAX(Raumliste[Nummer]),AQ51+1,\"\")","v":""},{"$f":"IF(AQ52=\"\",\"\",INDEX(Raumliste[Geschoß],MATCH(AQ52,Raumliste[Nummer],0)))","v":""},{"$f":"IF(AQ52=\"\",\"\",INDEX(Raumliste[Raum],MATCH(AQ52,Raumliste[Nummer],0)))","v":""},{"$f":"IF(AQ52=\"\",\"\",INDEX(Raumliste[Fläche],MATCH(AQ52,Raumliste[Nummer],0)))","v":""},{"$f":"IF(Raumliste_kompakt[[#This Row],[Nummer]]<>\"\",Raumliste_kompakt[[#This Row],[Raum]]&\", \"&Raumliste_kompakt[[#This Row],[Geschoß]],\"\")","v":""}]
[null,null,null,null,null,null,null,null,null,null,null,null,null,null,null,null,null,null,null,null,null,null,null,null,null,null,null,null,null,null,null,null,null,null,null,null,null,0,"KG",0,0,null,{"$f":"IF(AQ52<MAX(Raumliste[Nummer]),AQ52+1,\"\")","v":""},{"$f":"IF(AQ53=\"\",\"\",INDEX(Raumliste[Geschoß],MATCH(AQ53,Raumliste[Nummer],0)))","v":""},{"$f":"IF(AQ53=\"\",\"\",INDEX(Raumliste[Raum],MATCH(AQ53,Raumliste[Nummer],0)))","v":""},{"$f":"IF(AQ53=\"\",\"\",INDEX(Raumliste[Fläche],MATCH(AQ53,Raumliste[Nummer],0)))","v":""},{"$f":"IF(Raumliste_kompakt[[#This Row],[Nummer]]<>\"\",Raumliste_kompakt[[#This Row],[Raum]]&\", \"&Raumliste_kompakt[[#This Row],[Geschoß]],\"\")","v":""}]
[null,null,null,null,null,null,null,null,null,null,null,null,null,null,null,null,null,null,null,null,null,null,null,null,null,null,null,null,null,null,null,null,null,null,null,null,null,0,"KG",0,0,null,{"$f":"IF(AQ53<MAX(Raumliste[Nummer]),AQ53+1,\"\")","v":""},{"$f":"IF(AQ54=\"\",\"\",INDEX(Raumliste[Geschoß],MATCH(AQ54,Raumliste[Nummer],0)))","v":""},{"$f":"IF(AQ54=\"\",\"\",INDEX(Raumliste[Raum],MATCH(AQ54,Raumliste[Nummer],0)))","v":""},{"$f":"IF(AQ54=\"\",\"\",INDEX(Raumliste[Fläche],MATCH(AQ54,Raumliste[Nummer],0)))","v":""},{"$f":"IF(Raumliste_kompakt[[#This Row],[Nummer]]<>\"\",Raumliste_kompakt[[#This Row],[Raum]]&\", \"&Raumliste_kompakt[[#This Row],[Geschoß]],\"\")","v":""}]
[null,null,null,null,null,null,null,null,null,null,null,null,null,null,null,null,null,null,null,null,null,null,null,null,null,null,null,null,null,null,null,null,null,null,null,null,null,0,"KG",0,0,null,{"$f":"IF(AQ54<MAX(Raumliste[Nummer]),AQ54+1,\"\")","v":""},{"$f":"IF(AQ55=\"\",\"\",INDEX(Raumliste[Geschoß],MATCH(AQ55,Raumliste[Nummer],0)))","v":""},{"$f":"IF(AQ55=\"\",\"\",INDEX(Raumliste[Raum],MATCH(AQ55,Raumliste[Nummer],0)))","v":""},{"$f":"IF(AQ55=\"\",\"\",INDEX(Raumliste[Fläche],MATCH(AQ55,Raumliste[Nummer],0)))","v":""},{"$f":"IF(Raumliste_kompakt[[#This Row],[Nummer]]<>\"\",Raumliste_kompakt[[#This Row],[Raum]]&\", \"&Raumliste_kompakt[[#This Row],[Geschoß]],\"\")","v":""}]
[null,null,null,null,null,null,null,null,null,null,null,null,null,null,null,null,null,null,null,null,null,null,null,null,null,null,null,null,null,null,null,null,null,null,null,null,null,0,"KG",0,0,null,{"$f":"IF(AQ55<MAX(Raumliste[Nummer]),AQ55+1,\"\")","v":""},{"$f":"IF(AQ56=\"\",\"\",INDEX(Raumliste[Geschoß],MATCH(AQ56,Raumliste[Nummer],0)))","v":""},{"$f":"IF(AQ56=\"\",\"\",INDEX(Raumliste[Raum],MATCH(AQ56,Raumliste[Nummer],0)))","v":""},{"$f":"IF(AQ56=\"\",\"\",INDEX(Raumliste[Fläche],MATCH(AQ56,Raumliste[Nummer],0)))","v":""},{"$f":"IF(Raumliste_kompakt[[#This Row],[Nummer]]<>\"\",Raumliste_kompakt[[#This Row],[Raum]]&\", \"&Raumliste_kompakt[[#This Row],[Geschoß]],\"\")","v":""}]
[null,null,null,null,null,null,null,null,null,null,null,null,null,null,null,null,null,null,null,null,null,null,null,null,null,null,null,null,null,null,null,null,null,null,null,null,null,0,"KG",0,0,null,{"$f":"IF(AQ56<MAX(Raumliste[Nummer]),AQ56+1,\"\")","v":""},{"$f":"IF(AQ57=\"\",\"\",INDEX(Raumliste[Geschoß],MATCH(AQ57,Raumliste[Nummer],0)))","v":""},{"$f":"IF(AQ57=\"\",\"\",INDEX(Raumliste[Raum],MATCH(AQ57,Raumliste[Nummer],0)))","v":""},{"$f":"IF(AQ57=\"\",\"\",INDEX(Raumliste[Fläche],MATCH(AQ57,Raumliste[Nummer],0)))","v":""},{"$f":"IF(Raumliste_kompakt[[#This Row],[Nummer]]<>\"\",Raumliste_kompakt[[#This Row],[Raum]]&\", \"&Raumliste_kompakt[[#This Row],[Geschoß]],\"\")","v":""}]
[null,null,null,null,null,null,null,null,null,null,null,null,null,null,null,null,null,null,null,null,null,null,null,null,null,null,null,null,null,null,null,null,null,null,null,null,null,0,"KG",0,0,null,{"$f":"IF(AQ57<MAX(Raumliste[Nummer]),AQ57+1,\"\")","v":""},{"$f":"IF(AQ58=\"\",\"\",INDEX(Raumliste[Geschoß],MATCH(AQ58,Raumliste[Nummer],0)))","v":""},{"$f":"IF(AQ58=\"\",\"\",INDEX(Raumliste[Raum],MATCH(AQ58,Raumliste[Nummer],0)))","v":""},{"$f":"IF(AQ58=\"\",\"\",INDEX(Raumliste[Fläche],MATCH(AQ58,Raumliste[Nummer],0)))","v":""},{"$f":"IF(Raumliste_kompakt[[#This Row],[Nummer]]<>\"\",Raumliste_kompakt[[#This Row],[Raum]]&\", \"&Raumliste_kompakt[[#This Row],[Geschoß]],\"\")","v":""}]
[null,null,null,null,null,null,null,null,null,null,null,null,null,null,null,null,null,null,null,null,null,null,null,null,null,null,null,null,null,null,null,null,null,null,null,null,null,0,"KG",0,0,null,{"$f":"IF(AQ58<MAX(Raumliste[Nummer]),AQ58+1,\"\")","v":""},{"$f":"IF(AQ59=\"\",\"\",INDEX(Raumliste[Geschoß],MATCH(AQ59,Raumliste[Nummer],0)))","v":""},{"$f":"IF(AQ59=\"\",\"\",INDEX(Raumliste[Raum],MATCH(AQ59,Raumliste[Nummer],0)))","v":""},{"$f":"IF(AQ59=\"\",\"\",INDEX(Raumliste[Fläche],MATCH(AQ59,Raumliste[Nummer],0)))","v":""},{"$f":"IF(Raumliste_kompakt[[#This Row],[Nummer]]<>\"\",Raumliste_kompakt[[#This Row],[Raum]]&\", \"&Raumliste_kompakt[[#This Row],[Geschoß]],\"\")","v":""}]
[null,null,null,null,null,null,null,null,null,null,null,null,null,null,null,null,null,null,null,null,null,null,null,null,null,null,null,null,null,null,null,null,null,null,null,null,null,0,"KG",0,0,null,{"$f":"IF(AQ59<MAX(Raumliste[Nummer]),AQ59+1,\"\")","v":""},{"$f":"IF(AQ60=\"\",\"\",INDEX(Raumliste[Geschoß],MATCH(AQ60,Raumliste[Nummer],0)))","v":""},{"$f":"IF(AQ60=\"\",\"\",INDEX(Raumliste[Raum],MATCH(AQ60,Raumliste[Nummer],0)))","v":""},{"$f":"IF(AQ60=\"\",\"\",INDEX(Raumliste[Fläche],MATCH(AQ60,Raumliste[Nummer],0)))","v":""},{"$f":"IF(Raumliste_kompakt[[#This Row],[Nummer]]<>\"\",Raumliste_kompakt[[#This Row],[Raum]]&\", \"&Raumliste_kompakt[[#This Row],[Geschoß]],\"\")","v":""}]
[null,null,null,null,null,null,null,null,null,null,null,null,null,null,null,null,null,null,null,null,null,null,null,null,null,null,null,null,null,null,null,null,null,null,null,null,null,{"$f":"U25","v":0},"EG",{"$f":"IF(AL61<>0,F25,0)","v":0},{"$f":"IF(AL61<>0,H25,0)","v":0},null,{"$f":"IF(AQ60<MAX(Raumliste[Nummer]),AQ60+1,\"\")","v":""},{"$f":"IF(AQ61=\"\",\"\",INDEX(Raumliste[Geschoß],MATCH(AQ61,Raumliste[Nummer],0)))","v":""},{"$f":"IF(AQ61=\"\",\"\",INDEX(Raumliste[Raum],MATCH(AQ61,Raumliste[Nummer],0)))","v":""},{"$f":"IF(AQ61=\"\",\"\",INDEX(Raumliste[Fläche],MATCH(AQ61,Raumliste[Nummer],0)))","v":""},{"$f":"IF(Raumliste_kompakt[[#This Row],[Nummer]]<>\"\",Raumliste_kompakt[[#This Row],[Raum]]&\", \"&Raumliste_kompakt[[#This Row],[Geschoß]],\"\")","v":""}]
[null,null,null,null,null,null,null,null,null,null,null,null,null,null,null,null,null,null,null,null,null,null,null,null,null,null,null,null,null,null,null,null,null,null,null,null,null,0,"EG",0,0,null,{"$f":"IF(AQ61<MAX(Raumliste[Nummer]),AQ61+1,\"\")","v":""},{"$f":"IF(AQ62=\"\",\"\",INDEX(Raumliste[Geschoß],MATCH(AQ62,Raumliste[Nummer],0)))","v":""},{"$f":"IF(AQ62=\"\",\"\",INDEX(Raumliste[Raum],MATCH(AQ62,Raumliste[Nummer],0)))","v":""},{"$f":"IF(AQ62=\"\",\"\",INDEX(Raumliste[Fläche],MATCH(AQ62,Raumliste[Nummer],0)))","v":""},{"$f":"IF(Raumliste_kompakt[[#This Row],[Nummer]]<>\"\",Raumliste_kompakt[[#This Row],[Raum]]&\", \"&Raumliste_kompakt[[#This Row],[Geschoß]],\"\")","v":""}]
[null,null,null,null,null,null,null,null,null,null,null,null,null,null,null,null,null,null,null,null,null,null,null,null,null,null,null,null,null,null,null,null,null,null,null,null,null,0,"EG",0,0,null,{"$f":"IF(AQ62<MAX(Raumliste[Nummer]),AQ62+1,\"\")","v":""},{"$f":"IF(AQ63=\"\",\"\",INDEX(Raumliste[Geschoß],MATCH(AQ63,Raumliste[Nummer],0)))","v":""},{"$f":"IF(AQ63=\"\",\"\",INDEX(Raumliste[Raum],MATCH(AQ63,Raumliste[Nummer],0)))","v":""},{"$f":"IF(AQ63=\"\",\"\",INDEX(Raumliste[Fläche],MATCH(AQ63,Raumliste[Nummer],0)))","v":""},{"$f":"IF(Raumliste_kompakt[[#This Row],[Nummer]]<>\"\",Raumliste_kompakt[[#This Row],[Raum]]&\", \"&Raumliste_kompakt[[#This Row],[Geschoß]],\"\")","v":""}]
[null,null,null,null,null,null,null,null,null,null,null,null,null,null,null,null,null,null,null,null,null,null,null,null,null,null,null,null,null,null,null,null,null,null,null,null,null,0,"EG",0,0,null,{"$f":"IF(AQ63<MAX(Raumliste[Nummer]),AQ63+1,\"\")","v":""},{"$f":"IF(AQ64=\"\",\"\",INDEX(Raumliste[Geschoß],MATCH(AQ64,Raumliste[Nummer],0)))","v":""},{"$f":"IF(AQ64=\"\",\"\",INDEX(Raumliste[Raum],MATCH(AQ64,Raumliste[Nummer],0)))","v":""},{"$f":"IF(AQ64=\"\",\"\",INDEX(Raumliste[Fläche],MATCH(AQ64,Raumliste[Nummer],0)))","v":""},{"$f":"IF(Raumliste_kompakt[[#This Row],[Nummer]]<>\"\",Raumliste_kompakt[[#This Row],[Raum]]&\", \"&Raumliste_kompakt[[#This Row],[Geschoß]],\"\")","v":""}]
[null,null,null,null,null,null,null,null,null,null,null,null,null,null,null,null,null,null,null,null,null,null,null,null,null,null,null,null,null,null,null,null,null,null,null,null,null,0,"EG",0,0,null,{"$f":"IF(AQ64<MAX(Raumliste[Nummer]),AQ64+1,\"\")","v":""},{"$f":"IF(AQ65=\"\",\"\",INDEX(Raumliste[Geschoß],MATCH(AQ65,Raumliste[Nummer],0)))","v":""},{"$f":"IF(AQ65=\"\",\"\",INDEX(Raumliste[Raum],MATCH(AQ65,Raumliste[Nummer],0)))","v":""},{"$f":"IF(AQ65=\"\",\"\",INDEX(Raumliste[Fläche],MATCH(AQ65,Raumliste[Nummer],0)))","v":""},{"$f":"IF(Raumliste_kompakt[[#This Row],[Nummer]]<>\"\",Raumliste_kompakt[[#This Row],[Raum]]&\", \"&Raumliste_kompakt[[#This Row],[Geschoß]],\"\")","v":""}]
[null,null,null,null,null,null,null,null,null,null,null,null,null,null,null,null,null,null,null,null,null,null,null,null,null,null,null,null,null,null,null,null,null,null,null,null,null,0,"EG",0,0,null,{"$f":"IF(AQ65<MAX(Raumliste[Nummer]),AQ65+1,\"\")","v":""},{"$f":"IF(AQ66=\"\",\"\",INDEX(Raumliste[Geschoß],MATCH(AQ66,Raumliste[Nummer],0)))","v":""},{"$f":"IF(AQ66=\"\",\"\",INDEX(Raumliste[Raum],MATCH(AQ66,Raumliste[Nummer],0)))","v":""},{"$f":"IF(AQ66=\"\",\"\",INDEX(Raumliste[Fläche],MATCH(AQ66,Raumliste[Nummer],0)))","v":""},{"$f":"IF(Raumliste_kompakt[[#This Row],[Nummer]]<>\"\",Raumliste_kompakt[[#This Row],[Raum]]&\", \"&Raumliste_kompakt[[#This Row],[Geschoß]],\"\")","v":""}]
[null,null,null,null,null,null,null,null,null,null,null,null,null,null,null,null,null,null,null,null,null,null,null,null,null,null,null,null,null,null,null,null,null,null,null,null,null,0,"EG",0,0,null,{"$f":"IF(AQ66<MAX(Raumliste[Nummer]),AQ66+1,\"\")","v":""},{"$f":"IF(AQ67=\"\",\"\",INDEX(Raumliste[Geschoß],MATCH(AQ67,Raumliste[Nummer],0)))","v":""},{"$f":"IF(AQ67=\"\",\"\",INDEX(Raumliste[Raum],MATCH(AQ67,Raumliste[Nummer],0)))","v":""},{"$f":"IF(AQ67=\"\",\"\",INDEX(Raumliste[Fläche],MATCH(AQ67,Raumliste[Nummer],0)))","v":""},{"$f":"IF(Raumliste_kompakt[[#This Row],[Nummer]]<>\"\",Raumliste_kompakt[[#This Row],[Raum]]&\", \"&Raumliste_kompakt[[#This Row],[Geschoß]],\"\")","v":""}]
[null,null,null,null,null,null,null,null,null,null,null,null,null,null,null,null,null,null,null,null,null,null,null,null,null,null,null,null,null,null,null,null,null,null,null,null,null,0,"EG",0,0,null,{"$f":"IF(AQ67<MAX(Raumliste[Nummer]),AQ67+1,\"\")","v":""},{"$f":"IF(AQ68=\"\",\"\",INDEX(Raumliste[Geschoß],MATCH(AQ68,Raumliste[Nummer],0)))","v":""},{"$f":"IF(AQ68=\"\",\"\",INDEX(Raumliste[Raum],MATCH(AQ68,Raumliste[Nummer],0)))","v":""},{"$f":"IF(AQ68=\"\",\"\",INDEX(Raumliste[Fläche],MATCH(AQ68,Raumliste[Nummer],0)))","v":""},{"$f":"IF(Raumliste_kompakt[[#This Row],[Nummer]]<>\"\",Raumliste_kompakt[[#This Row],[Raum]]&\", \"&Raumliste_kompakt[[#This Row],[Geschoß]],\"\")","v":""}]
[null,null,null,null,null,null,null,null,null,null,null,null,null,null,null,null,null,null,null,null,null,null,null,null,null,null,null,null,null,null,null,null,null,null,null,null,null,0,"EG",0,0,null,{"$f":"IF(AQ68<MAX(Raumliste[Nummer]),AQ68+1,\"\")","v":""},{"$f":"IF(AQ69=\"\",\"\",INDEX(Raumliste[Geschoß],MATCH(AQ69,Raumliste[Nummer],0)))","v":""},{"$f":"IF(AQ69=\"\",\"\",INDEX(Raumliste[Raum],MATCH(AQ69,Raumliste[Nummer],0)))","v":""},{"$f":"IF(AQ69=\"\",\"\",INDEX(Raumliste[Fläche],MATCH(AQ69,Raumliste[Nummer],0)))","v":""},{"$f":"IF(Raumliste_kompakt[[#This Row],[Nummer]]<>\"\",Raumliste_kompakt[[#This Row],[Raum]]&\", \"&Raumliste_kompakt[[#This Row],[Geschoß]],\"\")","v":""}]
[null,null,null,null,null,null,null,null,null,null,null,null,null,null,null,null,null,null,null,null,null,null,null,null,null,null,null,null,null,null,null,null,null,null,null,null,null,0,"EG",0,0,null,{"$f":"IF(AQ69<MAX(Raumliste[Nummer]),AQ69+1,\"\")","v":""},{"$f":"IF(AQ70=\"\",\"\",INDEX(Raumliste[Geschoß],MATCH(AQ70,Raumliste[Nummer],0)))","v":""},{"$f":"IF(AQ70=\"\",\"\",INDEX(Raumliste[Raum],MATCH(AQ70,Raumliste[Nummer],0)))","v":""},{"$f":"IF(AQ70=\"\",\"\",INDEX(Raumliste[Fläche],MATCH(AQ70,Raumliste[Nummer],0)))","v":""},{"$f":"IF(Raumliste_kompakt[[#This Row],[Nummer]]<>\"\",Raumliste_kompakt[[#This Row],[Raum]]&\", \"&Raumliste_kompakt[[#This Row],[Geschoß]],\"\")","v":""}]
[null,null,null,null,null,null,null,null,null,null,null,null,null,null,null,null,null,null,null,null,null,null,null,null,null,null,null,null,null,null,null,null,null,null,null,null,null,{"$f":"V25","v":0},"1.OG",{"$f":"IF(AL71<>0,J25,0)","v":0},{"$f":"IF(AL71<>0,K25,0)","v":0},null,{"$f":"IF(AQ70<MAX(Raumliste[Nummer]),AQ70+1,\"\")","v":""},{"$f":"IF(AQ71=\"\",\"\",INDEX(Raumliste[Geschoß],MATCH(AQ71,Raumliste[Nummer],0)))","v":""},{"$f":"IF(AQ71=\"\",\"\",INDEX(Raumliste[Raum],MATCH(AQ71,Raumliste[Nummer],0)))","v":""},{"$f":"IF(AQ71=\"\",\"\",INDEX(Raumliste[Fläche],MATCH(AQ71,Raumliste[Nummer],0)))","v":""},{"$f":"IF(Raumliste_kompakt[[#This Row],[Nummer]]<>\"\",Raumliste_kompakt[[#This Row],[Raum]]&\", \"&Raumliste_kompakt[[#This Row],[Geschoß]],\"\")","v":""}]
[null,null,null,null,null,null,null,null,null,null,null,null,null,null,null,null,null,null,null,null,null,null,null,null,null,null,null,null,null,null,null,null,null,null,null,null,null,0,"1.OG",0,0,null,{"$f":"IF(AQ71<MAX(Raumliste[Nummer]),AQ71+1,\"\")","v":""},{"$f":"IF(AQ72=\"\",\"\",INDEX(Raumliste[Geschoß],MATCH(AQ72,Raumliste[Nummer],0)))","v":""},{"$f":"IF(AQ72=\"\",\"\",INDEX(Raumliste[Raum],MATCH(AQ72,Raumliste[Nummer],0)))","v":""},{"$f":"IF(AQ72=\"\",\"\",INDEX(Raumliste[Fläche],MATCH(AQ72,Raumliste[Nummer],0)))","v":""},{"$f":"IF(Raumliste_kompakt[[#This Row],[Nummer]]<>\"\",Raumliste_kompakt[[#This Row],[Raum]]&\", \"&Raumliste_kompakt[[#This Row],[Geschoß]],\"\")","v":""}]
[null,null,null,null,null,null,null,null,null,null,null,null,null,null,null,null,null,null,null,null,null,null,null,null,null,null,null,null,null,null,null,null,null,null,null,null,null,0,"1.OG",0,0,null,{"$f":"IF(AQ72<MAX(Raumliste[Nummer]),AQ72+1,\"\")","v":""},{"$f":"IF(AQ73=\"\",\"\",INDEX(Raumliste[Geschoß],MATCH(AQ73,Raumliste[Nummer],0)))","v":""},{"$f":"IF(AQ73=\"\",\"\",INDEX(Raumliste[Raum],MATCH(AQ73,Raumliste[Nummer],0)))","v":""},{"$f":"IF(AQ73=\"\",\"\",INDEX(Raumliste[Fläche],MATCH(AQ73,Raumliste[Nummer],0)))","v":""},{"$f":"IF(Raumliste_kompakt[[#This Row],[Nummer]]<>\"\",Raumliste_kompakt[[#This Row],[Raum]]&\", \"&Raumliste_kompakt[[#This Row],[Geschoß]],\"\")","v":""}]
[null,null,null,null,null,null,null,null,null,null,null,null,null,null,null,null,null,null,null,null,null,null,null,null,null,null,null,null,null,null,null,null,null,null,null,null,null,0,"1.OG",0,0,null,{"$f":"IF(AQ73<MAX(Raumliste[Nummer]),AQ73+1,\"\")","v":""},{"$f":"IF(AQ74=\"\",\"\",INDEX(Raumliste[Geschoß],MATCH(AQ74,Raumliste[Nummer],0)))","v":""},{"$f":"IF(AQ74=\"\",\"\",INDEX(Raumliste[Raum],MATCH(AQ74,Raumliste[Nummer],0)))","v":""},{"$f":"IF(AQ74=\"\",\"\",INDEX(Raumliste[Fläche],MATCH(AQ74,Raumliste[Nummer],0)))","v":""},{"$f":"IF(Raumliste_kompakt[[#This Row],[Nummer]]<>\"\",Raumliste_kompakt[[#This Row],[Raum]]&\", \"&Raumliste_kompakt[[#This Row],[Geschoß]],\"\")","v":""}]
[null,null,null,null,null,null,null,null,null,null,null,null,null,null,null,null,null,null,null,null,null,null,null,null,null,null,null,null,null,null,null,null,null,null,null,null,null,0,"1.OG",0,0,null,{"$f":"IF(AQ74<MAX(Raumliste[Nummer]),AQ74+1,\"\")","v":""},{"$f":"IF(AQ75=\"\",\"\",INDEX(Raumliste[Geschoß],MATCH(AQ75,Raumliste[Nummer],0)))","v":""},{"$f":"IF(AQ75=\"\",\"\",INDEX(Raumliste[Raum],MATCH(AQ75,Raumliste[Nummer],0)))","v":""},{"$f":"IF(AQ75=\"\",\"\",INDEX(Raumliste[Fläche],MATCH(AQ75,Raumliste[Nummer],0)))","v":""},{"$f":"IF(Raumliste_kompakt[[#This Row],[Nummer]]<>\"\",Raumliste_kompakt[[#This Row],[Raum]]&\", \"&Raumliste_kompakt[[#This Row],[Geschoß]],\"\")","v":""}]
[null,null,null,null,null,null,null,null,null,null,null,null,null,null,null,null,null,null,null,null,null,null,null,null,null,null,null,null,null,null,null,null,null,null,null,null,null,0,"1.OG",0,0,null,{"$f":"IF(AQ75<MAX(Raumliste[Nummer]),AQ75+1,\"\")","v":""},{"$f":"IF(AQ76=\"\",\"\",INDEX(Raumliste[Geschoß],MATCH(AQ76,Raumliste[Nummer],0)))","v":""},{"$f":"IF(AQ76=\"\",\"\",INDEX(Raumliste[Raum],MATCH(AQ76,Raumliste[Nummer],0)))","v":""},{"$f":"IF(AQ76=\"\",\"\",INDEX(Raumliste[Fläche],MATCH(AQ76,Raumliste[Nummer],0)))","v":""},{"$f":"IF(Raumliste_kompakt[[#This Row],[Nummer]]<>\"\",Raumliste_kompakt[[#This Row],[Raum]]&\", \"&Raumliste_kompakt[[#This Row],[Geschoß]],\"\")","v":""}]
[null,null,null,null,null,null,null,null,null,null,null,null,null,null,null,null,null,null,null,null,null,null,null,null,null,null,null,null,null,null,null,null,null,null,null,null,null,0,"1.OG",0,0,null,{"$f":"IF(AQ76<MAX(Raumliste[Nummer]),AQ76+1,\"\")","v":""},{"$f":"IF(AQ77=\"\",\"\",INDEX(Raumliste[Geschoß],MATCH(AQ77,Raumliste[Nummer],0)))","v":""},{"$f":"IF(AQ77=\"\",\"\",INDEX(Raumliste[Raum],MATCH(AQ77,Raumliste[Nummer],0)))","v":""},{"$f":"IF(AQ77=\"\",\"\",INDEX(Raumliste[Fläche],MATCH(AQ77,Raumliste[Nummer],0)))","v":""},{"$f":"IF(Raumliste_kompakt[[#This Row],[Nummer]]<>\"\",Raumliste_kompakt[[#This Row],[Raum]]&\", \"&Raumliste_kompakt[[#This Row],[Geschoß]],\"\")","v":""}]
[null,null,null,null,null,null,null,null,null,null,null,null,null,null,null,null,null,null,null,null,null,null,null,null,null,null,null,null,null,null,null,null,null,null,null,null,null,0,"1.OG",0,0,null,{"$f":"IF(AQ77<MAX(Raumliste[Nummer]),AQ77+1,\"\")","v":""},{"$f":"IF(AQ78=\"\",\"\",INDEX(Raumliste[Geschoß],MATCH(AQ78,Raumliste[Nummer],0)))","v":""},{"$f":"IF(AQ78=\"\",\"\",INDEX(Raumliste[Raum],MATCH(AQ78,Raumliste[Nummer],0)))","v":""},{"$f":"IF(AQ78=\"\",\"\",INDEX(Raumliste[Fläche],MATCH(AQ78,Raumliste[Nummer],0)))","v":""},{"$f":"IF(Raumliste_kompakt[[#This Row],[Nummer]]<>\"\",Raumliste_kompakt[[#This Row],[Raum]]&\", \"&Raumliste_kompakt[[#This Row],[Geschoß]],\"\")","v":""}]
[null,null,null,null,null,null,null,null,null,null,null,null,null,null,null,null,null,null,null,null,null,null,null,null,null,null,null,null,null,null,null,null,null,null,null,null,null,0,"1.OG",0,0,null,{"$f":"IF(AQ78<MAX(Raumliste[Nummer]),AQ78+1,\"\")","v":""},{"$f":"IF(AQ79=\"\",\"\",INDEX(Raumliste[Geschoß],MATCH(AQ79,Raumliste[Nummer],0)))","v":""},{"$f":"IF(AQ79=\"\",\"\",INDEX(Raumliste[Raum],MATCH(AQ79,Raumliste[Nummer],0)))","v":""},{"$f":"IF(AQ79=\"\",\"\",INDEX(Raumliste[Fläche],MATCH(AQ79,Raumliste[Nummer],0)))","v":""},{"$f":"IF(Raumliste_kompakt[[#This Row],[Nummer]]<>\"\",Raumliste_kompakt[[#This Row],[Raum]]&\", \"&Raumliste_kompakt[[#This Row],[Geschoß]],\"\")","v":""}]
[null,null,null,null,null,null,null,null,null,null,null,null,null,null,null,null,null,null,null,null,null,null,null,null,null,null,null,null,null,null,null,null,null,null,null,null,null,0,"1.OG",0,0,null,{"$f":"IF(AQ79<MAX(Raumliste[Nummer]),AQ79+1,\"\")","v":""},{"$f":"IF(AQ80=\"\",\"\",INDEX(Raumliste[Geschoß],MATCH(AQ80,Raumliste[Nummer],0)))","v":""},{"$f":"IF(AQ80=\"\",\"\",INDEX(Raumliste[Raum],MATCH(AQ80,Raumliste[Nummer],0)))","v":""},{"$f":"IF(AQ80=\"\",\"\",INDEX(Raumliste[Fläche],MATCH(AQ80,Raumliste[Nummer],0)))","v":""},{"$f":"IF(Raumliste_kompakt[[#This Row],[Nummer]]<>\"\",Raumliste_kompakt[[#This Row],[Raum]]&\", \"&Raumliste_kompakt[[#This Row],[Geschoß]],\"\")","v":""}]
[null,null,null,null,null,null,null,null,null,null,null,null,null,null,null,null,null,null,null,null,null,null,null,null,null,null,null,null,null,null,null,null,null,null,null,null,null,{"$f":"W25","v":0},"2.OG",{"$f":"IF(AL81<>0,M25,0)","v":0},{"$f":"IF(AL81<>0,N25,0)","v":0},null,{"$f":"IF(AQ80<MAX(Raumliste[Nummer]),AQ80+1,\"\")","v":""},{"$f":"IF(AQ81=\"\",\"\",INDEX(Raumliste[Geschoß],MATCH(AQ81,Raumliste[Nummer],0)))","v":""},{"$f":"IF(AQ81=\"\",\"\",INDEX(Raumliste[Raum],MATCH(AQ81,Raumliste[Nummer],0)))","v":""},{"$f":"IF(AQ81=\"\",\"\",INDEX(Raumliste[Fläche],MATCH(AQ81,Raumliste[Nummer],0)))","v":""},{"$f":"IF(Raumliste_kompakt[[#This Row],[Nummer]]<>\"\",Raumliste_kompakt[[#This Row],[Raum]]&\", \"&Raumliste_kompakt[[#This Row],[Geschoß]],\"\")","v":""}]
[null,null,null,null,null,null,null,null,null,null,null,null,null,null,null,null,null,null,null,null,null,null,null,null,null,null,null,null,null,null,null,null,null,null,null,null,null,0,"2.OG",0,0,null,{"$f":"IF(AQ81<MAX(Raumliste[Nummer]),AQ81+1,\"\")","v":""},{"$f":"IF(AQ82=\"\",\"\",INDEX(Raumliste[Geschoß],MATCH(AQ82,Raumliste[Nummer],0)))","v":""},{"$f":"IF(AQ82=\"\",\"\",INDEX(Raumliste[Raum],MATCH(AQ82,Raumliste[Nummer],0)))","v":""},{"$f":"IF(AQ82=\"\",\"\",INDEX(Raumliste[Fläche],MATCH(AQ82,Raumliste[Nummer],0)))","v":""},{"$f":"IF(Raumliste_kompakt[[#This Row],[Nummer]]<>\"\",Raumliste_kompakt[[#This Row],[Raum]]&\", \"&Raumliste_kompakt[[#This Row],[Geschoß]],\"\")","v":""}]
[null,null,null,null,null,null,null,null,null,null,null,null,null,null,null,null,null,null,null,null,null,null,null,null,null,null,null,null,null,null,null,null,null,null,null,null,null,0,"2.OG",0,0,null,{"$f":"IF(AQ82<MAX(Raumliste[Nummer]),AQ82+1,\"\")","v":""},{"$f":"IF(AQ83=\"\",\"\",INDEX(Raumliste[Geschoß],MATCH(AQ83,Raumliste[Nummer],0)))","v":""},{"$f":"IF(AQ83=\"\",\"\",INDEX(Raumliste[Raum],MATCH(AQ83,Raumliste[Nummer],0)))","v":""},{"$f":"IF(AQ83=\"\",\"\",INDEX(Raumliste[Fläche],MATCH(AQ83,Raumliste[Nummer],0)))","v":""},{"$f":"IF(Raumliste_kompakt[[#This Row],[Nummer]]<>\"\",Raumliste_kompakt[[#This Row],[Raum]]&\", \"&Raumliste_kompakt[[#This Row],[Geschoß]],\"\")","v":""}]
[null,null,null,null,null,null,null,null,null,null,null,null,null,null,null,null,null,null,null,null,null,null,null,null,null,null,null,null,null,null,null,null,null,null,null,null,null,0,"2.OG",0,0,null,{"$f":"IF(AQ83<MAX(Raumliste[Nummer]),AQ83+1,\"\")","v":""},{"$f":"IF(AQ84=\"\",\"\",INDEX(Raumliste[Geschoß],MATCH(AQ84,Raumliste[Nummer],0)))","v":""},{"$f":"IF(AQ84=\"\",\"\",INDEX(Raumliste[Raum],MATCH(AQ84,Raumliste[Nummer],0)))","v":""},{"$f":"IF(AQ84=\"\",\"\",INDEX(Raumliste[Fläche],MATCH(AQ84,Raumliste[Nummer],0)))","v":""},{"$f":"IF(Raumliste_kompakt[[#This Row],[Nummer]]<>\"\",Raumliste_kompakt[[#This Row],[Raum]]&\", \"&Raumliste_kompakt[[#This Row],[Geschoß]],\"\")","v":""}]
[null,null,null,null,null,null,null,null,null,null,null,null,null,null,null,null,null,null,null,null,null,null,null,null,null,null,null,null,null,null,null,null,null,null,null,null,null,0,"2.OG",0,0,null,{"$f":"IF(AQ84<MAX(Raumliste[Nummer]),AQ84+1,\"\")","v":""},{"$f":"IF(AQ85=\"\",\"\",INDEX(Raumliste[Geschoß],MATCH(AQ85,Raumliste[Nummer],0)))","v":""},{"$f":"IF(AQ85=\"\",\"\",INDEX(Raumliste[Raum],MATCH(AQ85,Raumliste[Nummer],0)))","v":""},{"$f":"IF(AQ85=\"\",\"\",INDEX(Raumliste[Fläche],MATCH(AQ85,Raumliste[Nummer],0)))","v":""},{"$f":"IF(Raumliste_kompakt[[#This Row],[Nummer]]<>\"\",Raumliste_kompakt[[#This Row],[Raum]]&\", \"&Raumliste_kompakt[[#This Row],[Geschoß]],\"\")","v":""}]
[null,null,null,null,null,null,null,null,null,null,null,null,null,null,null,null,null,null,null,null,null,null,null,null,null,null,null,null,null,null,null,null,null,null,null,null,null,0,"2.OG",0,0,null,{"$f":"IF(AQ85<MAX(Raumliste[Nummer]),AQ85+1,\"\")","v":""},{"$f":"IF(AQ86=\"\",\"\",INDEX(Raumliste[Geschoß],MATCH(AQ86,Raumliste[Nummer],0)))","v":""},{"$f":"IF(AQ86=\"\",\"\",INDEX(Raumliste[Raum],MATCH(AQ86,Raumliste[Nummer],0)))","v":""},{"$f":"IF(AQ86=\"\",\"\",INDEX(Raumliste[Fläche],MATCH(AQ86,Raumliste[Nummer],0)))","v":""},{"$f":"IF(Raumliste_kompakt[[#This Row],[Nummer]]<>\"\",Raumliste_kompakt[[#This Row],[Raum]]&\", \"&Raumliste_kompakt[[#This Row],[Geschoß]],\"\")","v":""}]
[null,null,null,null,null,null,null,null,null,null,null,null,null,null,null,null,null,null,null,null,null,null,null,null,null,null,null,null,null,null,null,null,null,null,null,null,null,0,"2.OG",0,0,null,{"$f":"IF(AQ86<MAX(Raumliste[Nummer]),AQ86+1,\"\")","v":""},{"$f":"IF(AQ87=\"\",\"\",INDEX(Raumliste[Geschoß],MATCH(AQ87,Raumliste[Nummer],0)))","v":""},{"$f":"IF(AQ87=\"\",\"\",INDEX(Raumliste[Raum],MATCH(AQ87,Raumliste[Nummer],0)))","v":""},{"$f":"IF(AQ87=\"\",\"\",INDEX(Raumliste[Fläche],MATCH(AQ87,Raumliste[Nummer],0)))","v":""},{"$f":"IF(Raumliste_kompakt[[#This Row],[Nummer]]<>\"\",Raumliste_kompakt[[#This Row],[Raum]]&\", \"&Raumliste_kompakt[[#This Row],[Geschoß]],\"\")","v":""}]
[null,null,null,null,null,null,null,null,null,null,null,null,null,null,null,null,null,null,null,null,null,null,null,null,null,null,null,null,null,null,null,null,null,null,null,null,null,0,"2.OG",0,0,null,{"$f":"IF(AQ87<MAX(Raumliste[Nummer]),AQ87+1,\"\")","v":""},{"$f":"IF(AQ88=\"\",\"\",INDEX(Raumliste[Geschoß],MATCH(AQ88,Raumliste[Nummer],0)))","v":""},{"$f":"IF(AQ88=\"\",\"\",INDEX(Raumliste[Raum],MATCH(AQ88,Raumliste[Nummer],0)))","v":""},{"$f":"IF(AQ88=\"\",\"\",INDEX(Raumliste[Fläche],MATCH(AQ88,Raumliste[Nummer],0)))","v":""},{"$f":"IF(Raumliste_kompakt[[#This Row],[Nummer]]<>\"\",Raumliste_kompakt[[#This Row],[Raum]]&\", \"&Raumliste_kompakt[[#This Row],[Geschoß]],\"\")","v":""}]
[null,null,null,null,null,null,null,null,null,null,null,null,null,null,null,null,null,null,null,null,null,null,null,null,null,null,null,null,null,null,null,null,null,null,null,null,null,0,"2.OG",0,0,null,{"$f":"IF(AQ88<MAX(Raumliste[Nummer]),AQ88+1,\"\")","v":""},{"$f":"IF(AQ89=\"\",\"\",INDEX(Raumliste[Geschoß],MATCH(AQ89,Raumliste[Nummer],0)))","v":""},{"$f":"IF(AQ89=\"\",\"\",INDEX(Raumliste[Raum],MATCH(AQ89,Raumliste[Nummer],0)))","v":""},{"$f":"IF(AQ89=\"\",\"\",INDEX(Raumliste[Fläche],MATCH(AQ89,Raumliste[Nummer],0)))","v":""},{"$f":"IF(Raumliste_kompakt[[#This Row],[Nummer]]<>\"\",Raumliste_kompakt[[#This Row],[Raum]]&\", \"&Raumliste_kompakt[[#This Row],[Geschoß]],\"\")","v":""}]
[null,null,null,null,null,null,null,null,null,null,null,null,null,null,null,null,null,null,null,null,null,null,null,null,null,null,null,null,null,null,null,null,null,null,null,null,null,0,"2.OG",0,0,null,{"$f":"IF(AQ89<MAX(Raumliste[Nummer]),AQ89+1,\"\")","v":""},{"$f":"IF(AQ90=\"\",\"\",INDEX(Raumliste[Geschoß],MATCH(AQ90,Raumliste[Nummer],0)))","v":""},{"$f":"IF(AQ90=\"\",\"\",INDEX(Raumliste[Raum],MATCH(AQ90,Raumliste[Nummer],0)))","v":""},{"$f":"IF(AQ90=\"\",\"\",INDEX(Raumliste[Fläche],MATCH(AQ90,Raumliste[Nummer],0)))","v":""},{"$f":"IF(Raumliste_kompakt[[#This Row],[Nummer]]<>\"\",Raumliste_kompakt[[#This Row],[Raum]]&\", \"&Raumliste_kompakt[[#This Row],[Geschoß]],\"\")","v":""}]
[null,null,null,null,null,null,null,null,null,null,null,null,null,null,null,null,null,null,null,null,null,null,null,null,null,null,null,null,null,null,null,null,null,null,null,null,null,{"$f":"X25","v":0},"DG",{"$f":"IF(AL91<>0,P25,0)","v":0},{"$f":"IF(AL91<>0,Q25,0)","v":0},null,{"$f":"IF(AQ90<MAX(Raumliste[Nummer]),AQ90+1,\"\")","v":""},{"$f":"IF(AQ91=\"\",\"\",INDEX(Raumliste[Geschoß],MATCH(AQ91,Raumliste[Nummer],0)))","v":""},{"$f":"IF(AQ91=\"\",\"\",INDEX(Raumliste[Raum],MATCH(AQ91,Raumliste[Nummer],0)))","v":""},{"$f":"IF(AQ91=\"\",\"\",INDEX(Raumliste[Fläche],MATCH(AQ91,Raumliste[Nummer],0)))","v":""},{"$f":"IF(Raumliste_kompakt[[#This Row],[Nummer]]<>\"\",Raumliste_kompakt[[#This Row],[Raum]]&\", \"&Raumliste_kompakt[[#This Row],[Geschoß]],\"\")","v":""}]
[null,null,null,null,null,null,null,null,null,null,null,null,null,null,null,null,null,null,null,null,null,null,null,null,null,null,null,null,null,null,null,null,null,null,null,null,null,0,"DG",0,0,null,{"$f":"IF(AQ91<MAX(Raumliste[Nummer]),AQ91+1,\"\")","v":""},{"$f":"IF(AQ92=\"\",\"\",INDEX(Raumliste[Geschoß],MATCH(AQ92,Raumliste[Nummer],0)))","v":""},{"$f":"IF(AQ92=\"\",\"\",INDEX(Raumliste[Raum],MATCH(AQ92,Raumliste[Nummer],0)))","v":""},{"$f":"IF(AQ92=\"\",\"\",INDEX(Raumliste[Fläche],MATCH(AQ92,Raumliste[Nummer],0)))","v":""},{"$f":"IF(Raumliste_kompakt[[#This Row],[Nummer]]<>\"\",Raumliste_kompakt[[#This Row],[Raum]]&\", \"&Raumliste_kompakt[[#This Row],[Geschoß]],\"\")","v":""}]
[null,null,null,null,null,null,null,null,null,null,null,null,null,null,null,null,null,null,null,null,null,null,null,null,null,null,null,null,null,null,null,null,null,null,null,null,null,0,"DG",0,0,null,{"$f":"IF(AQ92<MAX(Raumliste[Nummer]),AQ92+1,\"\")","v":""},{"$f":"IF(AQ93=\"\",\"\",INDEX(Raumliste[Geschoß],MATCH(AQ93,Raumliste[Nummer],0)))","v":""},{"$f":"IF(AQ93=\"\",\"\",INDEX(Raumliste[Raum],MATCH(AQ93,Raumliste[Nummer],0)))","v":""},{"$f":"IF(AQ93=\"\",\"\",INDEX(Raumliste[Fläche],MATCH(AQ93,Raumliste[Nummer],0)))","v":""},{"$f":"IF(Raumliste_kompakt[[#This Row],[Nummer]]<>\"\",Raumliste_kompakt[[#This Row],[Raum]]&\", \"&Raumliste_kompakt[[#This Row],[Geschoß]],\"\")","v":""}]
[null,null,null,null,null,null,null,null,null,null,null,null,null,null,null,null,null,null,null,null,null,null,null,null,null,null,null,null,null,null,null,null,null,null,null,null,null,0,"DG",0,0,null,{"$f":"IF(AQ93<MAX(Raumliste[Nummer]),AQ93+1,\"\")","v":""},{"$f":"IF(AQ94=\"\",\"\",INDEX(Raumliste[Geschoß],MATCH(AQ94,Raumliste[Nummer],0)))","v":""},{"$f":"IF(AQ94=\"\",\"\",INDEX(Raumliste[Raum],MATCH(AQ94,Raumliste[Nummer],0)))","v":""},{"$f":"IF(AQ94=\"\",\"\",INDEX(Raumliste[Fläche],MATCH(AQ94,Raumliste[Nummer],0)))","v":""},{"$f":"IF(Raumliste_kompakt[[#This Row],[Nummer]]<>\"\",Raumliste_kompakt[[#This Row],[Raum]]&\", \"&Raumliste_kompakt[[#This Row],[Geschoß]],\"\")","v":""}]
[null,null,null,null,null,null,null,null,null,null,null,null,null,null,null,null,null,null,null,null,null,null,null,null,null,null,null,null,null,null,null,null,null,null,null,null,null,0,"DG",0,0,null,{"$f":"IF(AQ94<MAX(Raumliste[Nummer]),AQ94+1,\"\")","v":""},{"$f":"IF(AQ95=\"\",\"\",INDEX(Raumliste[Geschoß],MATCH(AQ95,Raumliste[Nummer],0)))","v":""},{"$f":"IF(AQ95=\"\",\"\",INDEX(Raumliste[Raum],MATCH(AQ95,Raumliste[Nummer],0)))","v":""},{"$f":"IF(AQ95=\"\",\"\",INDEX(Raumliste[Fläche],MATCH(AQ95,Raumliste[Nummer],0)))","v":""},{"$f":"IF(Raumliste_kompakt[[#This Row],[Nummer]]<>\"\",Raumliste_kompakt[[#This Row],[Raum]]&\", \"&Raumliste_kompakt[[#This Row],[Geschoß]],\"\")","v":""}]
[null,null,null,null,null,null,null,null,null,null,null,null,null,null,null,null,null,null,null,null,null,null,null,null,null,null,null,null,null,null,null,null,null,null,null,null,null,0,"DG",0,0,null,{"$f":"IF(AQ95<MAX(Raumliste[Nummer]),AQ95+1,\"\")","v":""},{"$f":"IF(AQ96=\"\",\"\",INDEX(Raumliste[Geschoß],MATCH(AQ96,Raumliste[Nummer],0)))","v":""},{"$f":"IF(AQ96=\"\",\"\",INDEX(Raumliste[Raum],MATCH(AQ96,Raumliste[Nummer],0)))","v":""},{"$f":"IF(AQ96=\"\",\"\",INDEX(Raumliste[Fläche],MATCH(AQ96,Raumliste[Nummer],0)))","v":""},{"$f":"IF(Raumliste_kompakt[[#This Row],[Nummer]]<>\"\",Raumliste_kompakt[[#This Row],[Raum]]&\", \"&Raumliste_kompakt[[#This Row],[Geschoß]],\"\")","v":""}]
[null,null,null,null,null,null,null,null,null,null,null,null,null,null,null,null,null,null,null,null,null,null,null,null,null,null,null,null,null,null,null,null,null,null,null,null,null,0,"DG",0,0,null,{"$f":"IF(AQ96<MAX(Raumliste[Nummer]),AQ96+1,\"\")","v":""},{"$f":"IF(AQ97=\"\",\"\",INDEX(Raumliste[Geschoß],MATCH(AQ97,Raumliste[Nummer],0)))","v":""},{"$f":"IF(AQ97=\"\",\"\",INDEX(Raumliste[Raum],MATCH(AQ97,Raumliste[Nummer],0)))","v":""},{"$f":"IF(AQ97=\"\",\"\",INDEX(Raumliste[Fläche],MATCH(AQ97,Raumliste[Nummer],0)))","v":""},{"$f":"IF(Raumliste_kompakt[[#This Row],[Nummer]]<>\"\",Raumliste_kompakt[[#This Row],[Raum]]&\", \"&Raumliste_kompakt[[#This Row],[Geschoß]],\"\")","v":""}]
[null,null,null,null,null,null,null,null,null,null,null,null,null,null,null,null,null,null,null,null,null,null,null,null,null,null,null,null,null,null,null,null,null,null,null,null,null,0,"DG",0,0,null,{"$f":"IF(AQ97<MAX(Raumliste[Nummer]),AQ97+1,\"\")","v":""},{"$f":"IF(AQ98=\"\",\"\",INDEX(Raumliste[Geschoß],MATCH(AQ98,Raumliste[Nummer],0)))","v":""},{"$f":"IF(AQ98=\"\",\"\",INDEX(Raumliste[Raum],MATCH(AQ98,Raumliste[Nummer],0)))","v":""},{"$f":"IF(AQ98=\"\",\"\",INDEX(Raumliste[Fläche],MATCH(AQ98,Raumliste[Nummer],0)))","v":""},{"$f":"IF(Raumliste_kompakt[[#This Row],[Nummer]]<>\"\",Raumliste_kompakt[[#This Row],[Raum]]&\", \"&Raumliste_kompakt[[#This Row],[Geschoß]],\"\")","v":""}]
[null,null,null,null,null,null,null,null,null,null,null,null,null,null,null,null,null,null,null,null,null,null,null,null,null,null,null,null,null,null,null,null,null,null,null,null,null,0,"DG",0,0,null,{"$f":"IF(AQ98<MAX(Raumliste[Nummer]),AQ98+1,\"\")","v":""},{"$f":"IF(AQ99=\"\",\"\",INDEX(Raumliste[Geschoß],MATCH(AQ99,Raumliste[Nummer],0)))","v":""},{"$f":"IF(AQ99=\"\",\"\",INDEX(Raumliste[Raum],MATCH(AQ99,Raumliste[Nummer],0)))","v":""},{"$f":"IF(AQ99=\"\",\"\",INDEX(Raumliste[Fläche],MATCH(AQ99,Raumliste[Nummer],0)))","v":""},{"$f":"IF(Raumliste_kompakt[[#This Row],[Nummer]]<>\"\",Raumliste_kompakt[[#This Row],[Raum]]&\", \"&Raumliste_kompakt[[#This Row],[Geschoß]],\"\")","v":""}]
[null,null,null,null,null,null,null,null,null,null,null,null,null,null,null,null,null,null,null,null,null,null,null,null,null,null,null,null,null,null,null,null,null,null,null,null,null,0,"DG",0,0,null,{"$f":"IF(AQ99<MAX(Raumliste[Nummer]),AQ99+1,\"\")","v":""},{"$f":"IF(AQ100=\"\",\"\",INDEX(Raumliste[Geschoß],MATCH(AQ100,Raumliste[Nummer],0)))","v":""},{"$f":"IF(AQ100=\"\",\"\",INDEX(Raumliste[Raum],MATCH(AQ100,Raumliste[Nummer],0)))","v":""},{"$f":"IF(AQ100=\"\",\"\",INDEX(Raumliste[Fläche],MATCH(AQ100,Raumliste[Nummer],0)))","v":""},{"$f":"IF(Raumliste_kompakt[[#This Row],[Nummer]]<>\"\",Raumliste_kompakt[[#This Row],[Raum]]&\", \"&Raumliste_kompakt[[#This Row],[Geschoß]],\"\")","v":""}]

{"sheet":"WE Bestand","index":3,"n_rows":32,"n_cols":16,"rows_kept":32,"cut":false,"hidden":false,"merged":[[31,2,31,6],[1,1,1,9],[27,2,27,6],[29,2,29,8],[19,2,19,8],[21,2,21,6],[25,2,25,6],[23,2,23,6],[3,2,3,8],[12,2,12,6],[14,2,14,6],[16,2,16,6],[10,6,10,8]]}
[]
[null,"WÄRMEERZEUGER IM BESTAND"]
[]
[null,null,"ALLGEMEINES"]
[]
[null,null,"Energieträger:",null,null,null,"Einbau: (Jahr)",null,null,null,null,null,null,"Energieträger",null,"Abfrage"]
[null,null,null,null,null,null,null,null,null,null,null,null,null,"Heizöl",null,"ja"]
[null,null,"Installierte Leitung:",null,null,null,"Erforderliche Leitung:",null,{"$f":"Sanierungsschritte!AH32","v":{"$error":"#VALUE!"}},null,null,null,null,"Gas",null,"nein"]
[null,null,null,null,null,null,null,null,null,null,null,null,null,"Holz"]
[null,null,"Pufferspeicher:",null,null,null,"wenn ja, Größe:",null,null,null,null,null,null,"Fernwärme",null,{"$f":"IF($E$10=\"nein\",0,$I$10)","v":0}]
[null,null,null,null,null,null,{"$f":"IF(AND(E10=\"ja\",I10=\"\"),\"Bitte Größe angeben ↑\",\"\")","v":""},null,null,null,null,null,null,"Wärmepumpe",null,{"$f":"IF(OR(AND($E$10=\"ja\",$I$10<>0),AND($E$10=\"nein\",I10=0)),\"Eingabe OK\",\"Fehlerhafte Eingabe\")","v":"Fehlerhafte Eingabe"}]
[]
[null,null,"Wird der Wärmeerzeuger auch zur Warmwasserbereitung verwendet?"]
[]
[null,null,"Gibt es einen eigenen Lagerraum für das Brenngut?",null,null,null,null,null,"nein"]
[]
[null,null,"   Wenn ja, wie groß?",null,null,null,null,null,6,null,null,{"$f":"IF(I15=\"ja\",0,1)","v":1},{"$f":"IF(OR(E6=\"Heizöl\",E6=\"Holz\"),0,1)","v":1}]
[]
[]
[null,null,"ANSCHLÜSSE"]
[]
[null,null,"Gibt es einen Gasanschluss?"]
[]
[null,null,"   Wenn nein, besteht die Möglichkeit eines Gasanschlusses?",null,null,null,null,null,null,null,null,{"$f":"IF(I22=\"ja\",1,0)","v":0}]
[]
[null,null,"Gibt es einen Fernwärmeanschluss?"]
[]
[null,null,"   Wenn nein, besteht die Möglichkeit eines Fernwärmeanschlusses?",null,null,null,null,null,null,null,null,{"$f":"IF(I26=\"ja\",1,0)","v":0}]
[]
[null,null,"ZUSTAND"]
[]
[null,null,"Ist der bestehende Wärmeerzeuger noch funktionstüchtig?"]

{"sheet":"WÜ Bestand","index":4,"n_rows":51,"n_cols":21,"rows_kept":51,"cut":false,"hidden":false,"merged":[[1,1,1,7],[3,2,3,6]]}
[]
[null,"WÄRMEÜBERGABE IM BESTAND"]
[]
[null,null,"BESTEHENDES SYSTEM"]
[]
[null,null,null,"Einbau des bestehenden Wärmeübergabesystems:"]
[null,null,null,"Angenommene Lebensdauer:"]
[]
[]
[null,null,null,"Geschoß","Raum","Wärmeübergabesystem","abweichender\nEinbau?",null,null,null,null,null,null,null,null,null,null,null,"Abfrage",null,"Wärmeübegabesystem"]
[null,null,1,{"$f":"IF(C11<=MAX(Raumliste_kompakt[Nummer]),INDEX(Raumliste_kompakt[Geschoß],C11),\"\")","v":{"$error":"#N/A"}},{"$f":"IF(C11<=MAX(Raumliste_kompakt[Nummer]),INDEX(Raumliste_kompakt[Raum],C11),\"\")","v":{"$error":"#N/A"}},null,null,null,null,null,null,null,null,null,null,null,null,null,"ja",null,"Plattenheizkörper"]
[null,null,{"$f":"IF(C11<MAX(Raumliste_kompakt[Nummer]),C11+1,\"\")","v":""},{"$f":"IF(C12<=MAX(Raumliste_kompakt[Nummer]),INDEX(Raumliste_kompakt[Geschoß],C12),\"\")","v":""},{"$f":"IF(C12<=MAX(Raumliste_kompakt[Nummer]),INDEX(Raumliste_kompakt[Raum],C12),\"\")","v":""},null,null,null,null,null,null,null,null,null,null,null,null,null,"nein",null,"Radiator"]
[null,null,{"$f":"IF(C12<MAX(Raumliste_kompakt[Nummer]),C12+1,\"\")","v":""},{"$f":"IF(C13<=MAX(Raumliste_kompakt[Nummer]),INDEX(Raumliste_kompakt[Geschoß],C13),\"\")","v":""},{"$f":"IF(C13<=MAX(Raumliste_kompakt[Nummer]),INDEX(Raumliste_kompakt[Raum],C13),\"\")","v":""},null,null,null,null,null,null,null,null,null,null,null,null,null,null,null,"Konvektor"]
[null,null,{"$f":"IF(C13<MAX(Raumliste_kompakt[Nummer]),C13+1,\"\")","v":""},{"$f":"IF(C14<=MAX(Raumliste_kompakt[Nummer]),INDEX(Raumliste_kompakt[Geschoß],C14),\"\")","v":""},{"$f":"IF(C14<=MAX(Raumliste_kompakt[Nummer]),INDEX(Raumliste_kompakt[Raum],C14),\"\")","v":""},null,null,null,null,null,null,null,null,null,null,null,null,null,null,null,"Fußbodenheizung"]
[null,null,{"$f":"IF(C14<MAX(Raumliste_kompakt[Nummer]),C14+1,\"\")","v":""},{"$f":"IF(C15<=MAX(Raumliste_kompakt[Nummer]),INDEX(Raumliste_kompakt[Geschoß],C15),\"\")","v":""},{"$f":"IF(C15<=MAX(Raumliste_kompakt[Nummer]),INDEX(Raumliste_kompakt[Raum],C15),\"\")","v":""},null,null,null,null,null,null,null,null,null,null,null,null,null,null,null,"Wandheizung"]
[null,null,{"$f":"IF(C15<MAX(Raumliste_kompakt[Nummer]),C15+1,\"\")","v":""},{"$f":"IF(C16<=MAX(Raumliste_kompakt[Nummer]),INDEX(Raumliste_kompakt[Geschoß],C16),\"\")","v":""},{"$f":"IF(C16<=MAX(Raumliste_kompakt[Nummer]),INDEX(Raumliste_kompakt[Raum],C16),\"\")","v":""},null,null,null,null,null,null,null,null,null,null,null,null,null,null,null,"Deckenheizung"]
[null,null,{"$f":"IF(C16<MAX(Raumliste_kompakt[Nummer]),C16+1,\"\")","v":""},{"$f":"IF(C17<=MAX(Raumliste_kompakt[Nummer]),INDEX(Raumliste_kompakt[Geschoß],C17),\"\")","v":""},{"$f":"IF(C17<=MAX(Raumliste_kompakt[Nummer]),INDEX(Raumliste_kompakt[Raum],C17),\"\")","v":""}]
[null,null,{"$f":"IF(C17<MAX(Raumliste_kompakt[Nummer]),C17+1,\"\")","v":""},{"$f":"IF(C18<=MAX(Raumliste_kompakt[Nummer]),INDEX(Raumliste_kompakt[Geschoß],C18),\"\")","v":""},{"$f":"IF(C18<=MAX(Raumliste_kompakt[Nummer]),INDEX(Raumliste_kompakt[Raum],C18),\"\")","v":""}]
[null,null,{"$f":"IF(C18<MAX(Raumliste_kompakt[Nummer]),C18+1,\"\")","v":""},{"$f":"IF(C19<=MAX(Raumliste_kompakt[Nummer]),INDEX(Raumliste_kompakt[Geschoß],C19),\"\")","v":""},{"$f":"IF(C19<=MAX(Raumliste_kompakt[Nummer]),INDEX(Raumliste_kompakt[Raum],C19),\"\")","v":""}]
[null,null,{"$f":"IF(C19<MAX(Raumliste_kompakt[Nummer]),C19+1,\"\")","v":""},{"$f":"IF(C20<=MAX(Raumliste_kompakt[Nummer]),INDEX(Raumliste_kompakt[Geschoß],C20),\"\")","v":""},{"$f":"IF(C20<=MAX(Raumliste_kompakt[Nummer]),INDEX(Raumliste_kompakt[Raum],C20),\"\")","v":""}]
[null,null,{"$f":"IF(C20<MAX(Raumliste_kompakt[Nummer]),C20+1,\"\")","v":""},{"$f":"IF(C21<=MAX(Raumliste_kompakt[Nummer]),INDEX(Raumliste_kompakt[Geschoß],C21),\"\")","v":""},{"$f":"IF(C21<=MAX(Raumliste_kompakt[Nummer]),INDEX(Raumliste_kompakt[Raum],C21),\"\")","v":""}]
[null,null,{"$f":"IF(C21<MAX(Raumliste_kompakt[Nummer]),C21+1,\"\")","v":""},{"$f":"IF(C22<=MAX(Raumliste_kompakt[Nummer]),INDEX(Raumliste_kompakt[Geschoß],C22),\"\")","v":""},{"$f":"IF(C22<=MAX(Raumliste_kompakt[Nummer]),INDEX(Raumliste_kompakt[Raum],C22),\"\")","v":""}]
[null,null,{"$f":"IF(C22<MAX(Raumliste_kompakt[Nummer]),C22+1,\"\")","v":""},{"$f":"IF(C23<=MAX(Raumliste_kompakt[Nummer]),INDEX(Raumliste_kompakt[Geschoß],C23),\"\")","v":""},{"$f":"IF(C23<=MAX(Raumliste_kompakt[Nummer]),INDEX(Raumliste_kompakt[Raum],C23),\"\")","v":""}]
[null,null,{"$f":"IF(C23<MAX(Raumliste_kompakt[Nummer]),C23+1,\"\")","v":""},{"$f":"IF(C24<=MAX(Raumliste_kompakt[Nummer]),INDEX(Raumliste_kompakt[Geschoß],C24),\"\")","v":""},{"$f":"IF(C24<=MAX(Raumliste_kompakt[Nummer]),INDEX(Raumliste_kompakt[Raum],C24),\"\")","v":""}]
[null,null,{"$f":"IF(C24<MAX(Raumliste_kompakt[Nummer]),C24+1,\"\")","v":""},{"$f":"IF(C25<=MAX(Raumliste_kompakt[Nummer]),INDEX(Raumliste_kompakt[Geschoß],C25),\"\")","v":""},{"$f":"IF(C25<=MAX(Raumliste_kompakt[Nummer]),INDEX(Raumliste_kompakt[Raum],C25),\"\")","v":""}]
[null,null,{"$f":"IF(C25<MAX(Raumliste_kompakt[Nummer]),C25+1,\"\")","v":""},{"$f":"IF(C26<=MAX(Raumliste_kompakt[Nummer]),INDEX(Raumliste_kompakt[Geschoß],C26),\"\")","v":""},{"$f":"IF(C26<=MAX(Raumliste_kompakt[Nummer]),INDEX(Raumliste_kompakt[Raum],C26),\"\")","v":""}]
[null,null,{"$f":"IF(C26<MAX(Raumliste_kompakt[Nummer]),C26+1,\"\")","v":""},{"$f":"IF(C27<=MAX(Raumliste_kompakt[Nummer]),INDEX(Raumliste_kompakt[Geschoß],C27),\"\")","v":""},{"$f":"IF(C27<=MAX(Raumliste_kompakt[Nummer]),INDEX(Raumliste_kompakt[Raum],C27),\"\")","v":""}]
[null,null,{"$f":"IF(C27<MAX(Raumliste_kompakt[Nummer]),C27+1,\"\")","v":""},{"$f":"IF(C28<=MAX(Raumliste_kompakt[Nummer]),INDEX(Raumliste_kompakt[Geschoß],C28),\"\")","v":""},{"$f":"IF(C28<=MAX(Raumliste_kompakt[Nummer]),INDEX(Raumliste_kompakt[Raum],C28),\"\")","v":""}]
[null,null,{"$f":"IF(C28<MAX(Raumliste_kompakt[Nummer]),C28+1,\"\")","v":""},{"$f":"IF(C29<=MAX(Raumliste_kompakt[Nummer]),INDEX(Raumliste_kompakt[Geschoß],C29),\"\")","v":""},{"$f":"IF(C29<=MAX(Raumliste_kompakt[Nummer]),INDEX(Raumliste_kompakt[Raum],C29),\"\")","v":""}]
[null,null,{"$f":"IF(C29<MAX(Raumliste_kompakt[Nummer]),C29+1,\"\")","v":""},{"$f":"IF(C30<=MAX(Raumliste_kompakt[Nummer]),INDEX(Raumliste_kompakt[Geschoß],C30),\"\")","v":""},{"$f":"IF(C30<=MAX(Raumliste_kompakt[Nummer]),INDEX(Raumliste_kompakt[Raum],C30),\"\")","v":""}]
[null,null,{"$f":"IF(C30<MAX(Raumliste_kompakt[Nummer]),C30+1,\"\")","v":""},{"$f":"IF(C31<=MAX(Raumliste_kompakt[Nummer]),INDEX(Raumliste_kompakt[Geschoß],C31),\"\")","v":""},{"$f":"IF(C31<=MAX(Raumliste_kompakt[Nummer]),INDEX(Raumliste_kompakt[Raum],C31),\"\")","v":""}]
[null,null,{"$f":"IF(C31<MAX(Raumliste_kompakt[Nummer]),C31+1,\"\")","v":""},{"$f":"IF(C32<=MAX(Raumliste_kompakt[Nummer]),INDEX(Raumliste_kompakt[Geschoß],C32),\"\")","v":""},{"$f":"IF(C32<=MAX(Raumliste_kompakt[Nummer]),INDEX(Raumliste_kompakt[Raum],C32),\"\")","v":""}]
[null,null,{"$f":"IF(C32<MAX(Raumliste_kompakt[Nummer]),C32+1,\"\")","v":""},{"$f":"IF(C33<=MAX(Raumliste_kompakt[Nummer]),INDEX(Raumliste_kompakt[Geschoß],C33),\"\")","v":""},{"$f":"IF(C33<=MAX(Raumliste_kompakt[Nummer]),INDEX(Raumliste_kompakt[Raum],C33),\"\")","v":""}]
[null,null,{"$f":"IF(C33<MAX(Raumliste_kompakt[Nummer]),C33+1,\"\")","v":""},{"$f":"IF(C34<=MAX(Raumliste_kompakt[Nummer]),INDEX(Raumliste_kompakt[Geschoß],C34),\"\")","v":""},{"$f":"IF(C34<=MAX(Raumliste_kompakt[Nummer]),INDEX(Raumliste_kompakt[Raum],C34),\"\")","v":""}]
[null,null,{"$f":"IF(C34<MAX(Raumliste_kompakt[Nummer]),C34+1,\"\")","v":""},{"$f":"IF(C35<=MAX(Raumliste_kompakt[Nummer]),INDEX(Raumliste_kompakt[Geschoß],C35),\"\")","v":""},{"$f":"IF(C35<=MAX(Raumliste_kompakt[Nummer]),INDEX(Raumliste_kompakt[Raum],C35),\"\")","v":""}]
[null,null,{"$f":"IF(C35<MAX(Raumliste_kompakt[Nummer]),C35+1,\"\")","v":""},{"$f":"IF(C36<=MAX(Raumliste_kompakt[Nummer]),INDEX(Raumliste_kompakt[Geschoß],C36),\"\")","v":""},{"$f":"IF(C36<=MAX(Raumliste_kompakt[Nummer]),INDEX(Raumliste_kompakt[Raum],C36),\"\")","v":""}]
[null,null,{"$f":"IF(C36<MAX(Raumliste_kompakt[Nummer]),C36+1,\"\")","v":""},{"$f":"IF(C37<=MAX(Raumliste_kompakt[Nummer]),INDEX(Raumliste_kompakt[Geschoß],C37),\"\")","v":""},{"$f":"IF(C37<=MAX(Raumliste_kompakt[Nummer]),INDEX(Raumliste_kompakt[Raum],C37),\"\")","v":""}]
[null,null,{"$f":"IF(C37<MAX(Raumliste_kompakt[Nummer]),C37+1,\"\")","v":""},{"$f":"IF(C38<=MAX(Raumliste_kompakt[Nummer]),INDEX(Raumliste_kompakt[Geschoß],C38),\"\")","v":""},{"$f":"IF(C38<=MAX(Raumliste_kompakt[Nummer]),INDEX(Raumliste_kompakt[Raum],C38),\"\")","v":""}]
[null,null,{"$f":"IF(C38<MAX(Raumliste_kompakt[Nummer]),C38+1,\"\")","v":""},{"$f":"IF(C39<=MAX(Raumliste_kompakt[Nummer]),INDEX(Raumliste_kompakt[Geschoß],C39),\"\")","v":""},{"$f":"IF(C39<=MAX(Raumliste_kompakt[Nummer]),INDEX(Raumliste_kompakt[Raum],C39),\"\")","v":""}]
[null,null,{"$f":"IF(C39<MAX(Raumliste_kompakt[Nummer]),C39+1,\"\")","v":""},{"$f":"IF(C40<=MAX(Raumliste_kompakt[Nummer]),INDEX(Raumliste_kompakt[Geschoß],C40),\"\")","v":""},{"$f":"IF(C40<=MAX(Raumliste_kompakt[Nummer]),INDEX(Raumliste_kompakt[Raum],C40),\"\")","v":""}]
[null,null,{"$f":"IF(C40<MAX(Raumliste_kompakt[Nummer]),C40+1,\"\")","v":""},{"$f":"IF(C41<=MAX(Raumliste_kompakt[Nummer]),INDEX(Raumliste_kompakt[Geschoß],C41),\"\")","v":""},{"$f":"IF(C41<=MAX(Raumliste_kompakt[Nummer]),INDEX(Raumliste_kompakt[Raum],C41),\"\")","v":""}]
[null,null,{"$f":"IF(C41<MAX(Raumliste_kompakt[Nummer]),C41+1,\"\")","v":""},{"$f":"IF(C42<=MAX(Raumliste_kompakt[Nummer]),INDEX(Raumliste_kompakt[Geschoß],C42),\"\")","v":""},{"$f":"IF(C42<=MAX(Raumliste_kompakt[Nummer]),INDEX(Raumliste_kompakt[Raum],C42),\"\")","v":""}]
[null,null,{"$f":"IF(C42<MAX(Raumliste_kompakt[Nummer]),C42+1,\"\")","v":""},{"$f":"IF(C43<=MAX(Raumliste_kompakt[Nummer]),INDEX(Raumliste_kompakt[Geschoß],C43),\"\")","v":""},{"$f":"IF(C43<=MAX(Raumliste_kompakt[Nummer]),INDEX(Raumliste_kompakt[Raum],C43),\"\")","v":""}]
[null,null,{"$f":"IF(C43<MAX(Raumliste_kompakt[Nummer]),C43+1,\"\")","v":""},{"$f":"IF(C44<=MAX(Raumliste_kompakt[Nummer]),INDEX(Raumliste_kompakt[Geschoß],C44),\"\")","v":""},{"$f":"IF(C44<=MAX(Raumliste_kompakt[Nummer]),INDEX(Raumliste_kompakt[Raum],C44),\"\")","v":""}]
[null,null,{"$f":"IF(C44<MAX(Raumliste_kompakt[Nummer]),C44+1,\"\")","v":""},{"$f":"IF(C45<=MAX(Raumliste_kompakt[Nummer]),INDEX(Raumliste_kompakt[Geschoß],C45),\"\")","v":""},{"$f":"IF(C45<=MAX(Raumliste_kompakt[Nummer]),INDEX(Raumliste_kompakt[Raum],C45),\"\")","v":""}]
[null,null,{"$f":"IF(C45<MAX(Raumliste_kompakt[Nummer]),C45+1,\"\")","v":""},{"$f":"IF(C46<=MAX(Raumliste_kompakt[Nummer]),INDEX(Raumliste_kompakt[Geschoß],C46),\"\")","v":""},{"$f":"IF(C46<=MAX(Raumliste_kompakt[Nummer]),INDEX(Raumliste_kompakt[Raum],C46),\"\")","v":""}]
[null,null,{"$f":"IF(C46<MAX(Raumliste_kompakt[Nummer]),C46+1,\"\")","v":""},{"$f":"IF(C47<=MAX(Raumliste_kompakt[Nummer]),INDEX(Raumliste_kompakt[Geschoß],C47),\"\")","v":""},{"$f":"IF(C47<=MAX(Raumliste_kompakt[Nummer]),INDEX(Raumliste_kompakt[Raum],C47),\"\")","v":""}]
[null,null,{"$f":"IF(C47<MAX(Raumliste_kompakt[Nummer]),C47+1,\"\")","v":""},{"$f":"IF(C48<=MAX(Raumliste_kompakt[Nummer]),INDEX(Raumliste_kompakt[Geschoß],C48),\"\")","v":""},{"$f":"IF(C48<=MAX(Raumliste_kompakt[Nummer]),INDEX(Raumliste_kompakt[Raum],C48),\"\")","v":""}]
[null,null,{"$f":"IF(C48<MAX(Raumliste_kompakt[Nummer]),C48+1,\"\")","v":""},{"$f":"IF(C49<=MAX(Raumliste_kompakt[Nummer]),INDEX(Raumliste_kompakt[Geschoß],C49),\"\")","v":""},{"$f":"IF(C49<=MAX(Raumliste_kompakt[Nummer]),INDEX(Raumliste_kompakt[Raum],C49),\"\")","v":""}]
[null,null,{"$f":"IF(C49<MAX(Raumliste_kompakt[Nummer]),C49+1,\"\")","v":""},{"$f":"IF(C50<=MAX(Raumliste_kompakt[Nummer]),INDEX(Raumliste_kompakt[Geschoß],C50),\"\")","v":""},{"$f":"IF(C50<=MAX(Raumliste_kompakt[Nummer]),INDEX(Raumliste_kompakt[Raum],C50),\"\")","v":""}]
[null,null,{"$f":"IF(C50<MAX(Raumliste_kompakt[Nummer]),C50+1,\"\")","v":""},{"$f":"IF(C51<=MAX(Raumliste_kompakt[Nummer]),INDEX(Raumliste_kompakt[Geschoß],C51),\"\")","v":""},{"$f":"IF(C51<=MAX(Raumliste_kompakt[Nummer]),INDEX(Raumliste_kompakt[Raum],C51),\"\")","v":""}]

{"sheet":"WW Bestand","index":5,"n_rows":70,"n_cols":43,"rows_kept":70,"cut":false,"hidden":false,"merged":[[25,9,25,10],[25,12,25,13],[21,12,21,13],[22,2,22,10],[23,2,23,13],[25,5,26,5],[25,8,26,8],[25,11,26,11],[21,2,21,11],[25,6,25,7],[1,1,1,14],[13,2,13,13],[15,2,15,7],[15,10,15,13],[19,6,19,7],[19,9,19,10],[19,12,19,13],[16,2,16,10],[16,12,16,13],[3,2,3,13],[17,2,17,10],[5,2,5,9],[6,2,6,9],[8,2,8,9],[10,2,10,7],[11,2,11,7]]}
[]
[null,"WARMWASSERBEREITUNG IM BESTAND"]
[]
[null,null,"BEDARF"]
[]
[null,null,"Anzahl der Bewohner:"]
[null,null,"Ist absehbar bzw. vorgesehen, dass sich die Anzahl im Zuge der Sanierung ändert?"]
[]
[null,null,"     Wenn ja, wieviele Personen leben nach der Sanierung im Haus?"]
[]
[null,null,"WW-Bedarf für Duschen, je Person und Tag (bei 60°C)"]
[null,null,"WW-Bedarf für Sonstiges, je Person und Tag (bei 60°C)"]
[]
[null,null,"BESTEHENDES SYSTEM",null,null,null,null,null,null,null,null,null,null,null,null,null,null,null,null,null,null,null,null,null,null,null,null,null,null,null,null,null,null,null,null,null,null,null,null,null,null,null,"WW-Bereitung"]
[null,null,null,null,null,null,null,null,null,null,null,null,null,null,null,null,null,null,null,null,null,null,null,null,null,null,null,null,null,null,null,null,null,null,null,null,null,null,null,null,null,null,"vollständig zentral"]
[null,null,"Wie erfolgt im bestehenden System die Warmwasserbereitung?",null,null,null,null,null,null,null,null,null,null,null,null,null,{"$f":"IF(K16=\"vollständig dezentral\",1,0)","v":0},null,null,null,null,null,null,null,null,null,null,null,null,null,"Spalten \"zentral\" grau einfärben wenn \"vollständig (de-)zentral\"",null,null,null,null,null,null,null,null,null,null,null,"vollständig dezentral"]
[null,null,null,null,null,null,null,null,null,null,null,null,null,null,null,null,null,null,null,null,null,null,null,null,null,null,null,null,null,null,null,null,null,null,null,null,null,null,null,null,null,null,"ein Teil zentral, ein Teil dezentral"]
[null,null,"Welche Systeme kommen dabei zum Einsatz?"]
[]
[null,null,null,null,null,null,null,null,null,null,null,null,null,null,null,null,"Information im Moment nur fürs Protokkoll"]
[]
[null,null,"Sind im Zuge der Sanierung zusätzliche Warmwasserabnehmer vorgesehen?",null,null,null,null,null,null,null,null,null,null,null,null,null,{"$f":"IF(M22=\"nein\",1,0)","v":0},null,null,null,null,null,null,"x",null,null,null,null,null,null,"Spalten \"neu\" grau einfärben wenn \"nein\""]
[]
[null,null,"Bitte markieren Sie in der folgenden Tabelle mit einem \"x\" welche Warmwasserverbraucher in welchen Räumen installiert sind / installiert werden sollen und mit einem ggf. mit einem weiteren \"x\" ob der Verbraucher im Bestand zentral versorgt wird. In grauen Feldern ist keine Eingabe erforderlich."]
[]
[null,null,null,null,null,"zentral?","Waschbecken/Spüle",null,"zentral?","Dusche",null,"zentral?","Badewanne",null,null,null,"Zählen","Wb","Du","Bw","T1\nnur Wb","T2\nnur Du","T3\nWb+Du","T4\nWb+Bw","T5\nWb+Du+Bw","Typ","zentral?"]
[null,null,"Geschoß","Nr.","Raum",null,"Bestand","Neu",null,"Bestand","Neu",null,"Bestand","Neu",null,null,null,null,null,null,null,null,null,null,null,null,null,null,null,null,null,null,null,null,null,null,null,null,null,null,"Abfrage",null,"WW-Erzeuger"]
[null,null,{"$f":"IF(D28<=MAX(Raumliste_kompakt[Nummer]),INDEX(Raumliste_kompakt[Geschoß],D28),\"\")","v":{"$error":"#N/A"}},1,{"$f":"IF(D28<=MAX(Raumliste_kompakt[Nummer]),INDEX(Raumliste_kompakt[Raum],D28),\"\")","v":{"$error":"#N/A"}},null,null,null,null,null,null,null,null,null,null,null,{"$f":"IF(AND(ISBLANK(J28),ISBLANK(H28),ISBLANK(K28),ISBLANK(M28),ISBLANK(N28),ISBLANK(G28)),0,1)","v":0},{"$f":"IF(AND(ISBLANK(G28),ISBLANK(H28)),0,1)","v":0},{"$f":"IF(AND(ISBLANK(J28),ISBLANK(K28)),0,1)","v":0},{"$f":"IF(AND(ISBLANK(M28),ISBLANK(N28)),0,1)","v":0},{"$f":"IF(AND(R28=1,S28=0,T28=0),1,0)","v":0},{"$f":"IF(AND(R28=0,S28=1,T28=0),2,0)","v":0},{"$f":"IF(AND($R28=1,$S28=1,$T28=0),3,0)","v":0},{"$f":"IF(AND($R28=1,$S28=0,$T28=1),4,0)","v":0},{"$f":"IF(AND($R28=1,$S28=1,$T28=1),5,0)","v":0},{"$f":"IF(Q28<>0,MAX(R28:Y28),0)","v":0},{"$f":"IF(AND(ISBLANK(F28),ISBLANK(I28),ISBLANK(L28)),0,1)","v":0},null,null,null,null,null,null,null,null,null,null,null,null,null,"ja"]
[null,null,{"$f":"IF(D29<=MAX(Raumliste_kompakt[Nummer]),INDEX(Raumliste_kompakt[Geschoß],D29),\"\")","v":""},{"$f":"IF(D28<MAX(Raumliste_kompakt[Nummer]),D28+1,\"\")","v":""},{"$f":"IF(D29<=MAX(Raumliste_kompakt[Nummer]),INDEX(Raumliste_kompakt[Raum],D29),\"\")","v":""},null,null,null,null,null,null,null,null,null,null,null,{"$f":"IF(AND(ISBLANK(J29),ISBLANK(H29),ISBLANK(K29),ISBLANK(M29),ISBLANK(N29),ISBLANK(G29)),0,MAX(Q28)+1)","v":0},{"$f":"IF(AND(ISBLANK(G29),ISBLANK(H29)),0,1)","v":0},{"$f":"IF(AND(ISBLANK(J29),ISBLANK(K29)),0,1)","v":0},{"$f":"IF(AND(ISBLANK(M29),ISBLANK(N29)),0,1)","v":0},{"$f":"IF(AND(R29=1,S29=0,T29=0),1,0)","v":0},{"$f":"IF(AND(R29=0,S29=1,T29=0),2,0)","v":0},{"$f":"IF(AND($R29=1,$S29=1,$T29=0),3,0)","v":0},{"$f":"IF(AND($R29=1,$S29=0,$T29=1),4,0)","v":0},{"$f":"IF(AND($R29=1,$S29=1,$T29=1),5,0)","v":0},{"$f":"IF(Q29<>0,MAX(R29:Y29),0)","v":0},{"$f":"IF(AND(ISBLANK(F29),ISBLANK(I29),ISBLANK(L29)),0,1)","v":0},null,null,null,null,null,null,null,null,null,null,null,null,null,"nein",null,{"$f":"IF('WE Bestand'!I13=\"nein\",\"\",\"Heizwämeerzeuger\")","v":"Heizwämeerzeuger"}]
[null,null,{"$f":"IF(D30<=MAX(Raumliste_kompakt[Nummer]),INDEX(Raumliste_kompakt[Geschoß],D30),\"\")","v":""},{"$f":"IF(D29<MAX(Raumliste_kompakt[Nummer]),D29+1,\"\")","v":""},{"$f":"IF(D30<=MAX(Raumliste_kompakt[Nummer]),INDEX(Raumliste_kompakt[Raum],D30),\"\")","v":""},null,null,null,null,null,null,null,null,null,null,null,{"$f":"IF(AND(ISBLANK(J30),ISBLANK(H30),ISBLANK(K30),ISBLANK(M30),ISBLANK(N30),ISBLANK(G30)),0,MAX($Q$28:Q29)+1)","v":0},0,0,0,0,0,0,0,0,0,0,null,null,null,null,null,null,null,null,null,null,null,null,null,null,null,"Elektrischer Speicher"]
[null,null,{"$f":"IF(D31<=MAX(Raumliste_kompakt[Nummer]),INDEX(Raumliste_kompakt[Geschoß],D31),\"\")","v":""},{"$f":"IF(D30<MAX(Raumliste_kompakt[Nummer]),D30+1,\"\")","v":""},{"$f":"IF(D31<=MAX(Raumliste_kompakt[Nummer]),INDEX(Raumliste_kompakt[Raum],D31),\"\")","v":""},null,null,null,null,null,null,null,null,null,null,null,{"$f":"IF(AND(ISBLANK(J31),ISBLANK(H31),ISBLANK(K31),ISBLANK(M31),ISBLANK(N31),ISBLANK(G31)),0,MAX($Q$28:Q30)+1)","v":0},0,0,0,0,0,0,0,0,0,0,null,null,null,null,null,null,null,null,null,null,null,null,null,null,null,"Elektr. Durchlauferhitzer"]
[null,null,{"$f":"IF(D32<=MAX(Raumliste_kompakt[Nummer]),INDEX(Raumliste_kompakt[Geschoß],D32),\"\")","v":""},{"$f":"IF(D31<MAX(Raumliste_kompakt[Nummer]),D31+1,\"\")","v":""},{"$f":"IF(D32<=MAX(Raumliste_kompakt[Nummer]),INDEX(Raumliste_kompakt[Raum],D32),\"\")","v":""},null,null,null,null,null,null,null,null,null,null,null,{"$f":"IF(AND(ISBLANK(J32),ISBLANK(H32),ISBLANK(K32),ISBLANK(M32),ISBLANK(N32),ISBLANK(G32)),0,MAX($Q$28:Q31)+1)","v":0},0,0,0,0,0,0,0,0,0,0,null,null,null,null,null,null,null,null,null,null,null,null,null,null,null,"Gas-Durchlauferhitzer"]
[null,null,{"$f":"IF(D33<=MAX(Raumliste_kompakt[Nummer]),INDEX(Raumliste_kompakt[Geschoß],D33),\"\")","v":""},{"$f":"IF(D32<MAX(Raumliste_kompakt[Nummer]),D32+1,\"\")","v":""},{"$f":"IF(D33<=MAX(Raumliste_kompakt[Nummer]),INDEX(Raumliste_kompakt[Raum],D33),\"\")","v":""},null,null,null,null,null,null,null,null,null,null,null,{"$f":"IF(AND(ISBLANK(J33),ISBLANK(H33),ISBLANK(K33),ISBLANK(M33),ISBLANK(N33),ISBLANK(G33)),0,MAX($Q$28:Q32)+1)","v":0},0,0,0,0,0,0,0,0,0,0,null,null,null,null,null,null,null,null,null,null,null,null,null,null,null,"Gas-Vorratsspeicher"]
[null,null,{"$f":"IF(D34<=MAX(Raumliste_kompakt[Nummer]),INDEX(Raumliste_kompakt[Geschoß],D34),\"\")","v":""},{"$f":"IF(D33<MAX(Raumliste_kompakt[Nummer]),D33+1,\"\")","v":""},{"$f":"IF(D34<=MAX(Raumliste_kompakt[Nummer]),INDEX(Raumliste_kompakt[Raum],D34),\"\")","v":""},null,null,null,null,null,null,null,null,null,null,null,{"$f":"IF(AND(ISBLANK(J34),ISBLANK(H34),ISBLANK(K34),ISBLANK(M34),ISBLANK(N34),ISBLANK(G34)),0,MAX($Q$28:Q33)+1)","v":0},0,0,0,0,0,0,0,0,0,0,null,null,null,null,null,null,null,null,null,null,null,null,null,null,null,"Wärmepumpe + Speicher"]
[null,null,{"$f":"IF(D35<=MAX(Raumliste_kompakt[Nummer]),INDEX(Raumliste_kompakt[Geschoß],D35),\"\")","v":""},{"$f":"IF(D34<MAX(Raumliste_kompakt[Nummer]),D34+1,\"\")","v":""},{"$f":"IF(D35<=MAX(Raumliste_kompakt[Nummer]),INDEX(Raumliste_kompakt[Raum],D35),\"\")","v":""},null,null,null,null,null,null,null,null,null,null,null,{"$f":"IF(AND(ISBLANK(J35),ISBLANK(H35),ISBLANK(K35),ISBLANK(M35),ISBLANK(N35),ISBLANK(G35)),0,MAX($Q$28:Q34)+1)","v":0},0,0,0,0,0,0,0,0,0,0]
[null,null,{"$f":"IF(D36<=MAX(Raumliste_kompakt[Nummer]),INDEX(Raumliste_kompakt[Geschoß],D36),\"\")","v":""},{"$f":"IF(D35<MAX(Raumliste_kompakt[Nummer]),D35+1,\"\")","v":""},{"$f":"IF(D36<=MAX(Raumliste_kompakt[Nummer]),INDEX(Raumliste_kompakt[Raum],D36),\"\")","v":""},null,null,null,null,null,null,null,null,null,null,null,{"$f":"IF(AND(ISBLANK(J36),ISBLANK(H36),ISBLANK(K36),ISBLANK(M36),ISBLANK(N36),ISBLANK(G36)),0,MAX($Q$28:Q35)+1)","v":0},0,0,0,0,0,0,0,0,0,0,null,"WW_Nr","Geschoß","Raum","Raumnr.","Typ","Bezeichnung","zentral"]
[null,null,{"$f":"IF(D37<=MAX(Raumliste_kompakt[Nummer]),INDEX(Raumliste_kompakt[Geschoß],D37),\"\")","v":""},{"$f":"IF(D36<MAX(Raumliste_kompakt[Nummer]),D36+1,\"\")","v":""},{"$f":"IF(D37<=MAX(Raumliste_kompakt[Nummer]),INDEX(Raumliste_kompakt[Raum],D37),\"\")","v":""},null,null,null,null,null,null,null,null,null,null,null,{"$f":"IF(AND(ISBLANK(J37),ISBLANK(H37),ISBLANK(K37),ISBLANK(M37),ISBLANK(N37),ISBLANK(G37)),0,MAX($Q$28:Q36)+1)","v":0},0,0,0,0,0,0,0,0,0,0,null,1,{"$f":"IF(AC37<>\"\",INDEX($C$28:$C$68,MATCH(AC37,$Q$28:$Q$68,0)),\"\")","v":{"$error":"#N/A"}},{"$f":"IF(AC37<>\"\",INDEX($E$28:$E$68,MATCH(AC37,$Q$28:$Q$68,0)),\"\")","v":{"$error":"#N/A"}},{"$f":"IF(AC37<>\"\",INDEX($D$28:$D$68,MATCH(AC37,$Q$28:$Q$68,0)),\"\")","v":{"$error":"#N/A"}},{"$f":"IF(WW_Räume[[#This Row],[Raumnr.]]<>\"\",INDEX($Z$28:$Z$68,MATCH(AF37,$D$28:$D$68,0)),\"\")","v":{"$error":"#N/A"}},{"$f":"IF(WW_Räume[[#This Row],[WW_Nr]]<>\"\",WW_Räume[[#This Row],[Raum]]&\", \"&WW_Räume[[#This Row],[Geschoß]],\"\")","v":{"$error":"#N/A"}},{"$f":"IF(WW_Räume[[#This Row],[WW_Nr]]<>\"\",IF(INDEX($AA$28:$AA$68,MATCH(WW_Räume[[#This Row],[Raumnr.]],$D$28:$D$68,0)),1,0),\"\")","v":{"$error":"#N/A"}}]
[null,null,{"$f":"IF(D38<=MAX(Raumliste_kompakt[Nummer]),INDEX(Raumliste_kompakt[Geschoß],D38),\"\")","v":""},{"$f":"IF(D37<MAX(Raumliste_kompakt[Nummer]),D37+1,\"\")","v":""},{"$f":"IF(D38<=MAX(Raumliste_kompakt[Nummer]),INDEX(Raumliste_kompakt[Raum],D38),\"\")","v":""},null,null,null,null,null,null,null,null,null,null,null,{"$f":"IF(AND(ISBLANK(J38),ISBLANK(H38),ISBLANK(K38),ISBLANK(M38),ISBLANK(N38),ISBLANK(G38)),0,MAX($Q$28:Q37)+1)","v":0},0,0,0,0,0,0,0,0,0,0,null,{"$f":"IF(AC37>=MAX($Q$28:$Q$68),\"\",AC37+1)","v":""},{"$f":"IF(AC38<>\"\",INDEX($C$28:$C$68,MATCH(AC38,$Q$28:$Q$68,0)),\"\")","v":""},{"$f":"IF(AC38<>\"\",INDEX($E$28:$E$68,MATCH(AC38,$Q$28:$Q$68,0)),\"\")","v":""},{"$f":"IF(AC38<>\"\",INDEX($D$28:$D$68,MATCH(AC38,$Q$28:$Q$68,0)),\"\")","v":""},{"$f":"IF(WW_Räume[[#This Row],[Raumnr.]]<>\"\",INDEX($Z$28:$Z$68,MATCH(AF38,$D$28:$D$68,0)),\"\")","v":""},{"$f":"IF(WW_Räume[[#This Row],[WW_Nr]]<>\"\",WW_Räume[[#This Row],[Raum]]&\", \"&WW_Räume[[#This Row],[Geschoß]],\"\")","v":""},{"$f":"IF(WW_Räume[[#This Row],[WW_Nr]]<>\"\",IF(INDEX($AA$28:$AA$68,MATCH(WW_Räume[[#This Row],[Raumnr.]],$D$28:$D$68,0)),1,0),\"\")","v":""}]
[null,null,{"$f":"IF(D39<=MAX(Raumliste_kompakt[Nummer]),INDEX(Raumliste_kompakt[Geschoß],D39),\"\")","v":""},{"$f":"IF(D38<MAX(Raumliste_kompakt[Nummer]),D38+1,\"\")","v":""},{"$f":"IF(D39<=MAX(Raumliste_kompakt[Nummer]),INDEX(Raumliste_kompakt[Raum],D39),\"\")","v":""},null,null,null,null,null,null,null,null,null,null,null,{"$f":"IF(AND(ISBLANK(J39),ISBLANK(H39),ISBLANK(K39),ISBLANK(M39),ISBLANK(N39),ISBLANK(G39)),0,MAX($Q$28:Q38)+1)","v":0},0,0,0,0,0,0,0,0,0,0,null,{"$f":"IF(AC38>=MAX($Q$28:$Q$68),\"\",AC38+1)","v":""},"","","",{"$f":"IF(WW_Räume[[#This Row],[Raumnr.]]<>\"\",INDEX($Z$28:$Z$68,MATCH(AF39,$D$28:$D$68,0)),\"\")","v":""},{"$f":"IF(WW_Räume[[#This Row],[WW_Nr]]<>\"\",WW_Räume[[#This Row],[Raum]]&\", \"&WW_Räume[[#This Row],[Geschoß]],\"\")","v":""},{"$f":"IF(WW_Räume[[#This Row],[WW_Nr]]<>\"\",IF(INDEX($AA$28:$AA$68,MATCH(WW_Räume[[#This Row],[Raumnr.]],$D$28:$D$68,0)),1,0),\"\")","v":""}]
[null,null,{"$f":"IF(D40<=MAX(Raumliste_kompakt[Nummer]),INDEX(Raumliste_kompakt[Geschoß],D40),\"\")","v":""},{"$f":"IF(D39<MAX(Raumliste_kompakt[Nummer]),D39+1,\"\")","v":""},{"$f":"IF(D40<=MAX(Raumliste_kompakt[Nummer]),INDEX(Raumliste_kompakt[Raum],D40),\"\")","v":""},null,null,null,null,null,null,null,null,null,null,null,{"$f":"IF(AND(ISBLANK(J40),ISBLANK(H40),ISBLANK(K40),ISBLANK(M40),ISBLANK(N40),ISBLANK(G40)),0,MAX($Q$28:Q39)+1)","v":0},0,0,0,0,0,0,0,0,0,0,null,"","","","",{"$f":"IF(WW_Räume[[#This Row],[Raumnr.]]<>\"\",INDEX($Z$28:$Z$68,MATCH(AF40,$D$28:$D$68,0)),\"\")","v":""},{"$f":"IF(WW_Räume[[#This Row],[WW_Nr]]<>\"\",WW_Räume[[#This Row],[Raum]]&\", \"&WW_Räume[[#This Row],[Geschoß]],\"\")","v":""},{"$f":"IF(WW_Räume[[#This Row],[WW_Nr]]<>\"\",IF(INDEX($AA$28:$AA$68,MATCH(WW_Räume[[#This Row],[Raumnr.]],$D$28:$D$68,0)),1,0),\"\")","v":""}]
[null,null,{"$f":"IF(D41<=MAX(Raumliste_kompakt[Nummer]),INDEX(Raumliste_kompakt[Geschoß],D41),\"\")","v":""},{"$f":"IF(D40<MAX(Raumliste_kompakt[Nummer]),D40+1,\"\")","v":""},{"$f":"IF(D41<=MAX(Raumliste_kompakt[Nummer]),INDEX(Raumliste_kompakt[Raum],D41),\"\")","v":""},null,null,null,null,null,null,null,null,null,null,null,{"$f":"IF(AND(ISBLANK(J41),ISBLANK(H41),ISBLANK(K41),ISBLANK(M41),ISBLANK(N41),ISBLANK(G41)),0,MAX($Q$28:Q40)+1)","v":0},0,0,0,0,0,0,0,0,0,0,null,"","","","",{"$f":"IF(WW_Räume[[#This Row],[Raumnr.]]<>\"\",INDEX($Z$28:$Z$68,MATCH(AF41,$D$28:$D$68,0)),\"\")","v":""},{"$f":"IF(WW_Räume[[#This Row],[WW_Nr]]<>\"\",WW_Räume[[#This Row],[Raum]]&\", \"&WW_Räume[[#This Row],[Geschoß]],\"\")","v":""},{"$f":"IF(WW_Räume[[#This Row],[WW_Nr]]<>\"\",IF(INDEX($AA$28:$AA$68,MATCH(WW_Räume[[#This Row],[Raumnr.]],$D$28:$D$68,0)),1,0),\"\")","v":""}]
[null,null,{"$f":"IF(D42<=MAX(Raumliste_kompakt[Nummer]),INDEX(Raumliste_kompakt[Geschoß],D42),\"\")","v":""},{"$f":"IF(D41<MAX(Raumliste_kompakt[Nummer]),D41+1,\"\")","v":""},{"$f":"IF(D42<=MAX(Raumliste_kompakt[Nummer]),INDEX(Raumliste_kompakt[Raum],D42),\"\")","v":""},null,null,null,null,null,null,null,null,null,null,null,{"$f":"IF(AND(ISBLANK(J42),ISBLANK(H42),ISBLANK(K42),ISBLANK(M42),ISBLANK(N42),ISBLANK(G42)),0,MAX($Q$28:Q41)+1)","v":0},0,0,0,0,0,0,0,0,0,0,null,"","","","",{"$f":"IF(WW_Räume[[#This Row],[Raumnr.]]<>\"\",INDEX($Z$28:$Z$68,MATCH(AF42,$D$28:$D$68,0)),\"\")","v":""},{"$f":"IF(WW_Räume[[#This Row],[WW_Nr]]<>\"\",WW_Räume[[#This Row],[Raum]]&\", \"&WW_Räume[[#This Row],[Geschoß]],\"\")","v":""},{"$f":"IF(WW_Räume[[#This Row],[WW_Nr]]<>\"\",IF(INDEX($AA$28:$AA$68,MATCH(WW_Räume[[#This Row],[Raumnr.]],$D$28:$D$68,0)),1,0),\"\")","v":""}]
[null,null,{"$f":"IF(D43<=MAX(Raumliste_kompakt[Nummer]),INDEX(Raumliste_kompakt[Geschoß],D43),\"\")","v":""},{"$f":"IF(D42<MAX(Raumliste_kompakt[Nummer]),D42+1,\"\")","v":""},{"$f":"IF(D43<=MAX(Raumliste_kompakt[Nummer]),INDEX(Raumliste_kompakt[Raum],D43),\"\")","v":""},null,null,null,null,null,null,null,null,null,null,null,{"$f":"IF(AND(ISBLANK(J43),ISBLANK(H43),ISBLANK(K43),ISBLANK(M43),ISBLANK(N43),ISBLANK(G43)),0,MAX($Q$28:Q42)+1)","v":0},0,0,0,0,0,0,0,0,0,0,null,"","","","",{"$f":"IF(WW_Räume[[#This Row],[Raumnr.]]<>\"\",INDEX($Z$28:$Z$68,MATCH(AF43,$D$28:$D$68,0)),\"\")","v":""},{"$f":"IF(WW_Räume[[#This Row],[WW_Nr]]<>\"\",WW_Räume[[#This Row],[Raum]]&\", \"&WW_Räume[[#This Row],[Geschoß]],\"\")","v":""},{"$f":"IF(WW_Räume[[#This Row],[WW_Nr]]<>\"\",IF(INDEX($AA$28:$AA$68,MATCH(WW_Räume[[#This Row],[Raumnr.]],$D$28:$D$68,0)),1,0),\"\")","v":""}]
[null,null,{"$f":"IF(D44<=MAX(Raumliste_kompakt[Nummer]),INDEX(Raumliste_kompakt[Geschoß],D44),\"\")","v":""},{"$f":"IF(D43<MAX(Raumliste_kompakt[Nummer]),D43+1,\"\")","v":""},{"$f":"IF(D44<=MAX(Raumliste_kompakt[Nummer]),INDEX(Raumliste_kompakt[Raum],D44),\"\")","v":""},null,null,null,null,null,null,null,null,null,null,null,{"$f":"IF(AND(ISBLANK(J44),ISBLANK(H44),ISBLANK(K44),ISBLANK(M44),ISBLANK(N44),ISBLANK(G44)),0,MAX($Q$28:Q43)+1)","v":0},0,0,0,0,0,0,0,0,0,0,null,"","","","",{"$f":"IF(WW_Räume[[#This Row],[Raumnr.]]<>\"\",INDEX($Z$28:$Z$68,MATCH(AF44,$D$28:$D$68,0)),\"\")","v":""},{"$f":"IF(WW_Räume[[#This Row],[WW_Nr]]<>\"\",WW_Räume[[#This Row],[Raum]]&\", \"&WW_Räume[[#This Row],[Geschoß]],\"\")","v":""},{"$f":"IF(WW_Räume[[#This Row],[WW_Nr]]<>\"\",IF(INDEX($AA$28:$AA$68,MATCH(WW_Räume[[#This Row],[Raumnr.]],$D$28:$D$68,0)),1,0),\"\")","v":""}]
[null,null,{"$f":"IF(D45<=MAX(Raumliste_kompakt[Nummer]),INDEX(Raumliste_kompakt[Geschoß],D45),\"\")","v":""},{"$f":"IF(D44<MAX(Raumliste_kompakt[Nummer]),D44+1,\"\")","v":""},{"$f":"IF(D45<=MAX(Raumliste_kompakt[Nummer]),INDEX(Raumliste_kompakt[Raum],D45),\"\")","v":""},null,null,null,null,null,null,null,null,null,null,null,{"$f":"IF(AND(ISBLANK(J45),ISBLANK(H45),ISBLANK(K45),ISBLANK(M45),ISBLANK(N45),ISBLANK(G45)),0,MAX($Q$28:Q44)+1)","v":0},0,0,0,0,0,0,0,0,0,0,null,"","","","",{"$f":"IF(WW_Räume[[#This Row],[Raumnr.]]<>\"\",INDEX($Z$28:$Z$68,MATCH(AF45,$D$28:$D$68,0)),\"\")","v":""},{"$f":"IF(WW_Räume[[#This Row],[WW_Nr]]<>\"\",WW_Räume[[#This Row],[Raum]]&\", \"&WW_Räume[[#This Row],[Geschoß]],\"\")","v":""},{"$f":"IF(WW_Räume[[#This Row],[WW_Nr]]<>\"\",IF(INDEX($AA$28:$AA$68,MATCH(WW_Räume[[#This Row],[Raumnr.]],$D$28:$D$68,0)),1,0),\"\")","v":""}]
[null,null,{"$f":"IF(D46<=MAX(Raumliste_kompakt[Nummer]),INDEX(Raumliste_kompakt[Geschoß],D46),\"\")","v":""},{"$f":"IF(D45<MAX(Raumliste_kompakt[Nummer]),D45+1,\"\")","v":""},{"$f":"IF(D46<=MAX(Raumliste_kompakt[Nummer]),INDEX(Raumliste_kompakt[Raum],D46),\"\")","v":""},null,null,null,null,null,null,null,null,null,null,null,{"$f":"IF(AND(ISBLANK(J46),ISBLANK(H46),ISBLANK(K46),ISBLANK(M46),ISBLANK(N46),ISBLANK(G46)),0,MAX($Q$28:Q45)+1)","v":0},0,0,0,0,0,0,0,0,0,0,null,"","","","",{"$f":"IF(WW_Räume[[#This Row],[Raumnr.]]<>\"\",INDEX($Z$28:$Z$68,MATCH(AF46,$D$28:$D$68,0)),\"\")","v":""},{"$f":"IF(WW_Räume[[#This Row],[WW_Nr]]<>\"\",WW_Räume[[#This Row],[Raum]]&\", \"&WW_Räume[[#This Row],[Geschoß]],\"\")","v":""},{"$f":"IF(WW_Räume[[#This Row],[WW_Nr]]<>\"\",IF(INDEX($AA$28:$AA$68,MATCH(WW_Räume[[#This Row],[Raumnr.]],$D$28:$D$68,0)),1,0),\"\")","v":""}]
[null,null,{"$f":"IF(D47<=MAX(Raumliste_kompakt[Nummer]),INDEX(Raumliste_kompakt[Geschoß],D47),\"\")","v":""},{"$f":"IF(D46<MAX(Raumliste_kompakt[Nummer]),D46+1,\"\")","v":""},{"$f":"IF(D47<=MAX(Raumliste_kompakt[Nummer]),INDEX(Raumliste_kompakt[Raum],D47),\"\")","v":""},null,null,null,null,null,null,null,null,null,null,null,{"$f":"IF(AND(ISBLANK(J47),ISBLANK(H47),ISBLANK(K47),ISBLANK(M47),ISBLANK(N47),ISBLANK(G47)),0,MAX($Q$28:Q46)+1)","v":0},0,0,0,0,0,0,0,0,0,0,null,"","","","",{"$f":"IF(WW_Räume[[#This Row],[Raumnr.]]<>\"\",INDEX($Z$28:$Z$68,MATCH(AF47,$D$28:$D$68,0)),\"\")","v":""},{"$f":"IF(WW_Räume[[#This Row],[WW_Nr]]<>\"\",WW_Räume[[#This Row],[Raum]]&\", \"&WW_Räume[[#This Row],[Geschoß]],\"\")","v":""},{"$f":"IF(WW_Räume[[#This Row],[WW_Nr]]<>\"\",IF(INDEX($AA$28:$AA$68,MATCH(WW_Räume[[#This Row],[Raumnr.]],$D$28:$D$68,0)),1,0),\"\")","v":""}]
[null,null,{"$f":"IF(D48<=MAX(Raumliste_kompakt[Nummer]),INDEX(Raumliste_kompakt[Geschoß],D48),\"\")","v":""},{"$f":"IF(D47<MAX(Raumliste_kompakt[Nummer]),D47+1,\"\")","v":""},{"$f":"IF(D48<=MAX(Raumliste_kompakt[Nummer]),INDEX(Raumliste_kompakt[Raum],D48),\"\")","v":""},null,null,null,null,null,null,null,null,null,null,null,{"$f":"IF(AND(ISBLANK(J48),ISBLANK(H48),ISBLANK(K48),ISBLANK(M48),ISBLANK(N48),ISBLANK(G48)),0,MAX($Q$28:Q47)+1)","v":0},0,0,0,0,0,0,0,0,0,0,null,"","","","",{"$f":"IF(WW_Räume[[#This Row],[Raumnr.]]<>\"\",INDEX($Z$28:$Z$68,MATCH(AF48,$D$28:$D$68,0)),\"\")","v":""},{"$f":"IF(WW_Räume[[#This Row],[WW_Nr]]<>\"\",WW_Räume[[#This Row],[Raum]]&\", \"&WW_Räume[[#This Row],[Geschoß]],\"\")","v":""},{"$f":"IF(WW_Räume[[#This Row],[WW_Nr]]<>\"\",IF(INDEX($AA$28:$AA$68,MATCH(WW_Räume[[#This Row],[Raumnr.]],$D$28:$D$68,0)),1,0),\"\")","v":""}]
[null,null,{"$f":"IF(D49<=MAX(Raumliste_kompakt[Nummer]),INDEX(Raumliste_kompakt[Geschoß],D49),\"\")","v":""},{"$f":"IF(D48<MAX(Raumliste_kompakt[Nummer]),D48+1,\"\")","v":""},{"$f":"IF(D49<=MAX(Raumliste_kompakt[Nummer]),INDEX(Raumliste_kompakt[Raum],D49),\"\")","v":""},null,null,null,null,null,null,null,null,null,null,null,{"$f":"IF(AND(ISBLANK(J49),ISBLANK(H49),ISBLANK(K49),ISBLANK(M49),ISBLANK(N49),ISBLANK(G49)),0,MAX($Q$28:Q48)+1)","v":0},0,0,0,0,0,0,0,0,0,0,null,"","","","",{"$f":"IF(WW_Räume[[#This Row],[Raumnr.]]<>\"\",INDEX($Z$28:$Z$68,MATCH(AF49,$D$28:$D$68,0)),\"\")","v":""},{"$f":"IF(WW_Räume[[#This Row],[WW_Nr]]<>\"\",WW_Räume[[#This Row],[Raum]]&\", \"&WW_Räume[[#This Row],[Geschoß]],\"\")","v":""},{"$f":"IF(WW_Räume[[#This Row],[WW_Nr]]<>\"\",IF(INDEX($AA$28:$AA$68,MATCH(WW_Räume[[#This Row],[Raumnr.]],$D$28:$D$68,0)),1,0),\"\")","v":""}]
[null,null,{"$f":"IF(D50<=MAX(Raumliste_kompakt[Nummer]),INDEX(Raumliste_kompakt[Geschoß],D50),\"\")","v":""},{"$f":"IF(D49<MAX(Raumliste_kompakt[Nummer]),D49+1,\"\")","v":""},{"$f":"IF(D50<=MAX(Raumliste_kompakt[Nummer]),INDEX(Raumliste_kompakt[Raum],D50),\"\")","v":""},null,null,null,null,null,null,null,null,null,null,null,{"$f":"IF(AND(ISBLANK(J50),ISBLANK(H50),ISBLANK(K50),ISBLANK(M50),ISBLANK(N50),ISBLANK(G50)),0,MAX($Q$28:Q49)+1)","v":0},0,0,0,0,0,0,0,0,0,0,null,"","","","",{"$f":"IF(WW_Räume[[#This Row],[Raumnr.]]<>\"\",INDEX($Z$28:$Z$68,MATCH(AF50,$D$28:$D$68,0)),\"\")","v":""},{"$f":"IF(WW_Räume[[#This Row],[WW_Nr]]<>\"\",WW_Räume[[#This Row],[Raum]]&\", \"&WW_Räume[[#This Row],[Geschoß]],\"\")","v":""},{"$f":"IF(WW_Räume[[#This Row],[WW_Nr]]<>\"\",IF(INDEX($AA$28:$AA$68,MATCH(WW_Räume[[#This Row],[Raumnr.]],$D$28:$D$68,0)),1,0),\"\")","v":""}]
[null,null,{"$f":"IF(D51<=MAX(Raumliste_kompakt[Nummer]),INDEX(Raumliste_kompakt[Geschoß],D51),\"\")","v":""},{"$f":"IF(D50<MAX(Raumliste_kompakt[Nummer]),D50+1,\"\")","v":""},{"$f":"IF(D51<=MAX(Raumliste_kompakt[Nummer]),INDEX(Raumliste_kompakt[Raum],D51),\"\")","v":""},null,null,null,null,null,null,null,null,null,null,null,{"$f":"IF(AND(ISBLANK(J51),ISBLANK(H51),ISBLANK(K51),ISBLANK(M51),ISBLANK(N51),ISBLANK(G51)),0,MAX($Q$28:Q50)+1)","v":0},0,0,0,0,0,0,0,0,0,0,null,"","","","",{"$f":"IF(WW_Räume[[#This Row],[Raumnr.]]<>\"\",INDEX($Z$28:$Z$68,MATCH(AF51,$D$28:$D$68,0)),\"\")","v":""},{"$f":"IF(WW_Räume[[#This Row],[WW_Nr]]<>\"\",WW_Räume[[#This Row],[Raum]]&\", \"&WW_Räume[[#This Row],[Geschoß]],\"\")","v":""},{"$f":"IF(WW_Räume[[#This Row],[WW_Nr]]<>\"\",IF(INDEX($AA$28:$AA$68,MATCH(WW_Räume[[#This Row],[Raumnr.]],$D$28:$D$68,0)),1,0),\"\")","v":""}]
[null,null,{"$f":"IF(D52<=MAX(Raumliste_kompakt[Nummer]),INDEX(Raumliste_kompakt[Geschoß],D52),\"\")","v":""},{"$f":"IF(D51<MAX(Raumliste_kompakt[Nummer]),D51+1,\"\")","v":""},{"$f":"IF(D52<=MAX(Raumliste_kompakt[Nummer]),INDEX(Raumliste_kompakt[Raum],D52),\"\")","v":""},null,null,null,null,null,null,null,null,null,null,null,{"$f":"IF(AND(ISBLANK(J52),ISBLANK(H52),ISBLANK(K52),ISBLANK(M52),ISBLANK(N52),ISBLANK(G52)),0,MAX($Q$28:Q51)+1)","v":0},0,0,0,0,0,0,0,0,0,0,null,{"$f":"IF(AC51>=MAX($Q$28:$Q$68),\"\",AC51+1)","v":""},{"$f":"IF(AC52<>\"\",INDEX($C$28:$C$68,MATCH(AC52,$Q$28:$Q$68,0)),\"\")","v":""},{"$f":"IF(AC52<>\"\",INDEX($E$28:$E$68,MATCH(AC52,$Q$28:$Q$68,0)),\"\")","v":""},{"$f":"IF(AC52<>\"\",INDEX($D$28:$D$68,MATCH(AC52,$Q$28:$Q$68,0)),\"\")","v":""},{"$f":"IF(WW_Räume[[#This Row],[Raumnr.]]<>\"\",INDEX($Z$28:$Z$68,MATCH(AF52,$D$28:$D$68,0)),\"\")","v":""},{"$f":"IF(WW_Räume[[#This Row],[WW_Nr]]<>\"\",WW_Räume[[#This Row],[Raum]]&\", \"&WW_Räume[[#This Row],[Geschoß]],\"\")","v":""},{"$f":"IF(WW_Räume[[#This Row],[WW_Nr]]<>\"\",IF(INDEX($AA$28:$AA$68,MATCH(WW_Räume[[#This Row],[Raumnr.]],$D$28:$D$68,0)),1,0),\"\")","v":""}]
[null,null,{"$f":"IF(D53<=MAX(Raumliste_kompakt[Nummer]),INDEX(Raumliste_kompakt[Geschoß],D53),\"\")","v":""},{"$f":"IF(D52<MAX(Raumliste_kompakt[Nummer]),D52+1,\"\")","v":""},{"$f":"IF(D53<=MAX(Raumliste_kompakt[Nummer]),INDEX(Raumliste_kompakt[Raum],D53),\"\")","v":""},null,null,null,null,null,null,null,null,null,null,null,{"$f":"IF(AND(ISBLANK(J53),ISBLANK(H53),ISBLANK(K53),ISBLANK(M53),ISBLANK(N53),ISBLANK(G53)),0,MAX($Q$28:Q52)+1)","v":0},0,0,0,0,0,0,0,0,0,0,null,"","","","",{"$f":"IF(WW_Räume[[#This Row],[Raumnr.]]<>\"\",INDEX($Z$28:$Z$68,MATCH(AF53,$D$28:$D$68,0)),\"\")","v":""},{"$f":"IF(WW_Räume[[#This Row],[WW_Nr]]<>\"\",WW_Räume[[#This Row],[Raum]]&\", \"&WW_Räume[[#This Row],[Geschoß]],\"\")","v":""},{"$f":"IF(WW_Räume[[#This Row],[WW_Nr]]<>\"\",IF(INDEX($AA$28:$AA$68,MATCH(WW_Räume[[#This Row],[Raumnr.]],$D$28:$D$68,0)),1,0),\"\")","v":""}]
[null,null,{"$f":"IF(D54<=MAX(Raumliste_kompakt[Nummer]),INDEX(Raumliste_kompakt[Geschoß],D54),\"\")","v":""},{"$f":"IF(D53<MAX(Raumliste_kompakt[Nummer]),D53+1,\"\")","v":""},{"$f":"IF(D54<=MAX(Raumliste_kompakt[Nummer]),INDEX(Raumliste_kompakt[Raum],D54),\"\")","v":""},null,null,null,null,null,null,null,null,null,null,null,{"$f":"IF(AND(ISBLANK(J54),ISBLANK(H54),ISBLANK(K54),ISBLANK(M54),ISBLANK(N54),ISBLANK(G54)),0,MAX($Q$28:Q53)+1)","v":0},0,0,0,0,0,0,0,0,0,0,null,"","","","",{"$f":"IF(WW_Räume[[#This Row],[Raumnr.]]<>\"\",INDEX($Z$28:$Z$68,MATCH(AF54,$D$28:$D$68,0)),\"\")","v":""},{"$f":"IF(WW_Räume[[#This Row],[WW_Nr]]<>\"\",WW_Räume[[#This Row],[Raum]]&\", \"&WW_Räume[[#This Row],[Geschoß]],\"\")","v":""},{"$f":"IF(WW_Räume[[#This Row],[WW_Nr]]<>\"\",IF(INDEX($AA$28:$AA$68,MATCH(WW_Räume[[#This Row],[Raumnr.]],$D$28:$D$68,0)),1,0),\"\")","v":""}]
[null,null,{"$f":"IF(D55<=MAX(Raumliste_kompakt[Nummer]),INDEX(Raumliste_kompakt[Geschoß],D55),\"\")","v":""},{"$f":"IF(D54<MAX(Raumliste_kompakt[Nummer]),D54+1,\"\")","v":""},{"$f":"IF(D55<=MAX(Raumliste_kompakt[Nummer]),INDEX(Raumliste_kompakt[Raum],D55),\"\")","v":""},null,null,null,null,null,null,null,null,null,null,null,{"$f":"IF(AND(ISBLANK(J55),ISBLANK(H55),ISBLANK(K55),ISBLANK(M55),ISBLANK(N55),ISBLANK(G55)),0,MAX($Q$28:Q54)+1)","v":0},0,0,0,0,0,0,0,0,0,0,null,"","","","",{"$f":"IF(WW_Räume[[#This Row],[Raumnr.]]<>\"\",INDEX($Z$28:$Z$68,MATCH(AF55,$D$28:$D$68,0)),\"\")","v":""},{"$f":"IF(WW_Räume[[#This Row],[WW_Nr]]<>\"\",WW_Räume[[#This Row],[Raum]]&\", \"&WW_Räume[[#This Row],[Geschoß]],\"\")","v":""},{"$f":"IF(WW_Räume[[#This Row],[WW_Nr]]<>\"\",IF(INDEX($AA$28:$AA$68,MATCH(WW_Räume[[#This Row],[Raumnr.]],$D$28:$D$68,0)),1,0),\"\")","v":""}]
[null,null,{"$f":"IF(D56<=MAX(Raumliste_kompakt[Nummer]),INDEX(Raumliste_kompakt[Geschoß],D56),\"\")","v":""},{"$f":"IF(D55<MAX(Raumliste_kompakt[Nummer]),D55+1,\"\")","v":""},{"$f":"IF(D56<=MAX(Raumliste_kompakt[Nummer]),INDEX(Raumliste_kompakt[Raum],D56),\"\")","v":""},null,null,null,null,null,null,null,null,null,null,null,{"$f":"IF(AND(ISBLANK(J56),ISBLANK(H56),ISBLANK(K56),ISBLANK(M56),ISBLANK(N56),ISBLANK(G56)),0,MAX($Q$28:Q55)+1)","v":0},0,0,0,0,0,0,0,0,0,0,null,"","","","",{"$f":"IF(WW_Räume[[#This Row],[Raumnr.]]<>\"\",INDEX($Z$28:$Z$68,MATCH(AF56,$D$28:$D$68,0)),\"\")","v":""},{"$f":"IF(WW_Räume[[#This Row],[WW_Nr]]<>\"\",WW_Räume[[#This Row],[Raum]]&\", \"&WW_Räume[[#This Row],[Geschoß]],\"\")","v":""},{"$f":"IF(WW_Räume[[#This Row],[WW_Nr]]<>\"\",IF(INDEX($AA$28:$AA$68,MATCH(WW_Räume[[#This Row],[Raumnr.]],$D$28:$D$68,0)),1,0),\"\")","v":""}]
[null,null,{"$f":"IF(D57<=MAX(Raumliste_kompakt[Nummer]),INDEX(Raumliste_kompakt[Geschoß],D57),\"\")","v":""},{"$f":"IF(D56<MAX(Raumliste_kompakt[Nummer]),D56+1,\"\")","v":""},{"$f":"IF(D57<=MAX(Raumliste_kompakt[Nummer]),INDEX(Raumliste_kompakt[Raum],D57),\"\")","v":""},null,null,null,null,null,null,null,null,null,null,null,{"$f":"IF(AND(ISBLANK(J57),ISBLANK(H57),ISBLANK(K57),ISBLANK(M57),ISBLANK(N57),ISBLANK(G57)),0,MAX($Q$28:Q56)+1)","v":0},0,0,0,0,0,0,0,0,0,0,null,"","","","",{"$f":"IF(WW_Räume[[#This Row],[Raumnr.]]<>\"\",INDEX($Z$28:$Z$68,MATCH(AF57,$D$28:$D$68,0)),\"\")","v":""},{"$f":"IF(WW_Räume[[#This Row],[WW_Nr]]<>\"\",WW_Räume[[#This Row],[Raum]]&\", \"&WW_Räume[[#This Row],[Geschoß]],\"\")","v":""},{"$f":"IF(WW_Räume[[#This Row],[WW_Nr]]<>\"\",IF(INDEX($AA$28:$AA$68,MATCH(WW_Räume[[#This Row],[Raumnr.]],$D$28:$D$68,0)),1,0),\"\")","v":""}]
[null,null,{"$f":"IF(D58<=MAX(Raumliste_kompakt[Nummer]),INDEX(Raumliste_kompakt[Geschoß],D58),\"\")","v":""},{"$f":"IF(D57<MAX(Raumliste_kompakt[Nummer]),D57+1,\"\")","v":""},{"$f":"IF(D58<=MAX(Raumliste_kompakt[Nummer]),INDEX(Raumliste_kompakt[Raum],D58),\"\")","v":""},null,null,null,null,null,null,null,null,null,null,null,{"$f":"IF(AND(ISBLANK(J58),ISBLANK(H58),ISBLANK(K58),ISBLANK(M58),ISBLANK(N58),ISBLANK(G58)),0,MAX($Q$28:Q57)+1)","v":0},0,0,0,0,0,0,0,0,0,0,null,"","","","",{"$f":"IF(WW_Räume[[#This Row],[Raumnr.]]<>\"\",INDEX($Z$28:$Z$68,MATCH(AF58,$D$28:$D$68,0)),\"\")","v":""},{"$f":"IF(WW_Räume[[#This Row],[WW_Nr]]<>\"\",WW_Räume[[#This Row],[Raum]]&\", \"&WW_Räume[[#This Row],[Geschoß]],\"\")","v":""},{"$f":"IF(WW_Räume[[#This Row],[WW_Nr]]<>\"\",IF(INDEX($AA$28:$AA$68,MATCH(WW_Räume[[#This Row],[Raumnr.]],$D$28:$D$68,0)),1,0),\"\")","v":""}]
[null,null,{"$f":"IF(D59<=MAX(Raumliste_kompakt[Nummer]),INDEX(Raumliste_kompakt[Geschoß],D59),\"\")","v":""},{"$f":"IF(D58<MAX(Raumliste_kompakt[Nummer]),D58+1,\"\")","v":""},{"$f":"IF(D59<=MAX(Raumliste_kompakt[Nummer]),INDEX(Raumliste_kompakt[Raum],D59),\"\")","v":""},null,null,null,null,null,null,null,null,null,null,null,{"$f":"IF(AND(ISBLANK(J59),ISBLANK(H59),ISBLANK(K59),ISBLANK(M59),ISBLANK(N59),ISBLANK(G59)),0,MAX($Q$28:Q58)+1)","v":0},0,0,0,0,0,0,0,0,0,0,null,"","","","",{"$f":"IF(WW_Räume[[#This Row],[Raumnr.]]<>\"\",INDEX($Z$28:$Z$68,MATCH(AF59,$D$28:$D$68,0)),\"\")","v":""},{"$f":"IF(WW_Räume[[#This Row],[WW_Nr]]<>\"\",WW_Räume[[#This Row],[Raum]]&\", \"&WW_Räume[[#This Row],[Geschoß]],\"\")","v":""},{"$f":"IF(WW_Räume[[#This Row],[WW_Nr]]<>\"\",IF(INDEX($AA$28:$AA$68,MATCH(WW_Räume[[#This Row],[Raumnr.]],$D$28:$D$68,0)),1,0),\"\")","v":""}]
[null,null,{"$f":"IF(D60<=MAX(Raumliste_kompakt[Nummer]),INDEX(Raumliste_kompakt[Geschoß],D60),\"\")","v":""},{"$f":"IF(D59<MAX(Raumliste_kompakt[Nummer]),D59+1,\"\")","v":""},{"$f":"IF(D60<=MAX(Raumliste_kompakt[Nummer]),INDEX(Raumliste_kompakt[Raum],D60),\"\")","v":""},null,null,null,null,null,null,null,null,null,null,null,{"$f":"IF(AND(ISBLANK(J60),ISBLANK(H60),ISBLANK(K60),ISBLANK(M60),ISBLANK(N60),ISBLANK(G60)),0,MAX($Q$28:Q59)+1)","v":0},0,0,0,0,0,0,0,0,0,0,null,"","","","",{"$f":"IF(WW_Räume[[#This Row],[Raumnr.]]<>\"\",INDEX($Z$28:$Z$68,MATCH(AF60,$D$28:$D$68,0)),\"\")","v":""},{"$f":"IF(WW_Räume[[#This Row],[WW_Nr]]<>\"\",WW_Räume[[#This Row],[Raum]]&\", \"&WW_Räume[[#This Row],[Geschoß]],\"\")","v":""},{"$f":"IF(WW_Räume[[#This Row],[WW_Nr]]<>\"\",IF(INDEX($AA$28:$AA$68,MATCH(WW_Räume[[#This Row],[Raumnr.]],$D$28:$D$68,0)),1,0),\"\")","v":""}]
[null,null,{"$f":"IF(D61<=MAX(Raumliste_kompakt[Nummer]),INDEX(Raumliste_kompakt[Geschoß],D61),\"\")","v":""},{"$f":"IF(D60<MAX(Raumliste_kompakt[Nummer]),D60+1,\"\")","v":""},{"$f":"IF(D61<=MAX(Raumliste_kompakt[Nummer]),INDEX(Raumliste_kompakt[Raum],D61),\"\")","v":""},null,null,null,null,null,null,null,null,null,null,null,{"$f":"IF(AND(ISBLANK(J61),ISBLANK(H61),ISBLANK(K61),ISBLANK(M61),ISBLANK(N61),ISBLANK(G61)),0,MAX($Q$28:Q60)+1)","v":0},0,0,0,0,0,0,0,0,0,0,null,"","","","",{"$f":"IF(WW_Räume[[#This Row],[Raumnr.]]<>\"\",INDEX($Z$28:$Z$68,MATCH(AF61,$D$28:$D$68,0)),\"\")","v":""},{"$f":"IF(WW_Räume[[#This Row],[WW_Nr]]<>\"\",WW_Räume[[#This Row],[Raum]]&\", \"&WW_Räume[[#This Row],[Geschoß]],\"\")","v":""},{"$f":"IF(WW_Räume[[#This Row],[WW_Nr]]<>\"\",IF(INDEX($AA$28:$AA$68,MATCH(WW_Räume[[#This Row],[Raumnr.]],$D$28:$D$68,0)),1,0),\"\")","v":""}]
[null,null,{"$f":"IF(D62<=MAX(Raumliste_kompakt[Nummer]),INDEX(Raumliste_kompakt[Geschoß],D62),\"\")","v":""},{"$f":"IF(D61<MAX(Raumliste_kompakt[Nummer]),D61+1,\"\")","v":""},{"$f":"IF(D62<=MAX(Raumliste_kompakt[Nummer]),INDEX(Raumliste_kompakt[Raum],D62),\"\")","v":""},null,null,null,null,null,null,null,null,null,null,null,{"$f":"IF(AND(ISBLANK(J62),ISBLANK(H62),ISBLANK(K62),ISBLANK(M62),ISBLANK(N62),ISBLANK(G62)),0,MAX($Q$28:Q61)+1)","v":0},0,0,0,0,0,0,0,0,0,0,null,"","","","",{"$f":"IF(WW_Räume[[#This Row],[Raumnr.]]<>\"\",INDEX($Z$28:$Z$68,MATCH(AF62,$D$28:$D$68,0)),\"\")","v":""},{"$f":"IF(WW_Räume[[#This Row],[WW_Nr]]<>\"\",WW_Räume[[#This Row],[Raum]]&\", \"&WW_Räume[[#This Row],[Geschoß]],\"\")","v":""},{"$f":"IF(WW_Räume[[#This Row],[WW_Nr]]<>\"\",IF(INDEX($AA$28:$AA$68,MATCH(WW_Räume[[#This Row],[Raumnr.]],$D$28:$D$68,0)),1,0),\"\")","v":""}]
[null,null,{"$f":"IF(D63<=MAX(Raumliste_kompakt[Nummer]),INDEX(Raumliste_kompakt[Geschoß],D63),\"\")","v":""},{"$f":"IF(D62<MAX(Raumliste_kompakt[Nummer]),D62+1,\"\")","v":""},{"$f":"IF(D63<=MAX(Raumliste_kompakt[Nummer]),INDEX(Raumliste_kompakt[Raum],D63),\"\")","v":""},null,null,null,null,null,null,null,null,null,null,null,{"$f":"IF(AND(ISBLANK(J63),ISBLANK(H63),ISBLANK(K63),ISBLANK(M63),ISBLANK(N63),ISBLANK(G63)),0,MAX($Q$28:Q62)+1)","v":0},0,0,0,0,0,0,0,0,0,0,null,"","","","",{"$f":"IF(WW_Räume[[#This Row],[Raumnr.]]<>\"\",INDEX($Z$28:$Z$68,MATCH(AF63,$D$28:$D$68,0)),\"\")","v":""},{"$f":"IF(WW_Räume[[#This Row],[WW_Nr]]<>\"\",WW_Räume[[#This Row],[Raum]]&\", \"&WW_Räume[[#This Row],[Geschoß]],\"\")","v":""},{"$f":"IF(WW_Räume[[#This Row],[WW_Nr]]<>\"\",IF(INDEX($AA$28:$AA$68,MATCH(WW_Räume[[#This Row],[Raumnr.]],$D$28:$D$68,0)),1,0),\"\")","v":""}]
[null,null,{"$f":"IF(D64<=MAX(Raumliste_kompakt[Nummer]),INDEX(Raumliste_kompakt[Geschoß],D64),\"\")","v":""},{"$f":"IF(D63<MAX(Raumliste_kompakt[Nummer]),D63+1,\"\")","v":""},{"$f":"IF(D64<=MAX(Raumliste_kompakt[Nummer]),INDEX(Raumliste_kompakt[Raum],D64),\"\")","v":""},null,null,null,null,null,null,null,null,null,null,null,{"$f":"IF(AND(ISBLANK(J64),ISBLANK(H64),ISBLANK(K64),ISBLANK(M64),ISBLANK(N64),ISBLANK(G64)),0,MAX($Q$28:Q63)+1)","v":0},0,0,0,0,0,0,0,0,0,0,null,"","","","",{"$f":"IF(WW_Räume[[#This Row],[Raumnr.]]<>\"\",INDEX($Z$28:$Z$68,MATCH(AF64,$D$28:$D$68,0)),\"\")","v":""},{"$f":"IF(WW_Räume[[#This Row],[WW_Nr]]<>\"\",WW_Räume[[#This Row],[Raum]]&\", \"&WW_Räume[[#This Row],[Geschoß]],\"\")","v":""},{"$f":"IF(WW_Räume[[#This Row],[WW_Nr]]<>\"\",IF(INDEX($AA$28:$AA$68,MATCH(WW_Räume[[#This Row],[Raumnr.]],$D$28:$D$68,0)),1,0),\"\")","v":""}]
[null,null,{"$f":"IF(D65<=MAX(Raumliste_kompakt[Nummer]),INDEX(Raumliste_kompakt[Geschoß],D65),\"\")","v":""},{"$f":"IF(D64<MAX(Raumliste_kompakt[Nummer]),D64+1,\"\")","v":""},{"$f":"IF(D65<=MAX(Raumliste_kompakt[Nummer]),INDEX(Raumliste_kompakt[Raum],D65),\"\")","v":""},null,null,null,null,null,null,null,null,null,null,null,{"$f":"IF(AND(ISBLANK(J65),ISBLANK(H65),ISBLANK(K65),ISBLANK(M65),ISBLANK(N65),ISBLANK(G65)),0,MAX($Q$28:Q64)+1)","v":0},0,0,0,0,0,0,0,0,0,0,null,"","","","",{"$f":"IF(WW_Räume[[#This Row],[Raumnr.]]<>\"\",INDEX($Z$28:$Z$68,MATCH(AF65,$D$28:$D$68,0)),\"\")","v":""},{"$f":"IF(WW_Räume[[#This Row],[WW_Nr]]<>\"\",WW_Räume[[#This Row],[Raum]]&\", \"&WW_Räume[[#This Row],[Geschoß]],\"\")","v":""},{"$f":"IF(WW_Räume[[#This Row],[WW_Nr]]<>\"\",IF(INDEX($AA$28:$AA$68,MATCH(WW_Räume[[#This Row],[Raumnr.]],$D$28:$D$68,0)),1,0),\"\")","v":""}]
[null,null,{"$f":"IF(D66<=MAX(Raumliste_kompakt[Nummer]),INDEX(Raumliste_kompakt[Geschoß],D66),\"\")","v":""},{"$f":"IF(D65<MAX(Raumliste_kompakt[Nummer]),D65+1,\"\")","v":""},{"$f":"IF(D66<=MAX(Raumliste_kompakt[Nummer]),INDEX(Raumliste_kompakt[Raum],D66),\"\")","v":""},null,null,null,null,null,null,null,null,null,null,null,{"$f":"IF(AND(ISBLANK(J66),ISBLANK(H66),ISBLANK(K66),ISBLANK(M66),ISBLANK(N66),ISBLANK(G66)),0,MAX($Q$28:Q65)+1)","v":0},0,0,0,0,0,0,0,0,0,0,null,"","","","",{"$f":"IF(WW_Räume[[#This Row],[Raumnr.]]<>\"\",INDEX($Z$28:$Z$68,MATCH(AF66,$D$28:$D$68,0)),\"\")","v":""},{"$f":"IF(WW_Räume[[#This Row],[WW_Nr]]<>\"\",WW_Räume[[#This Row],[Raum]]&\", \"&WW_Räume[[#This Row],[Geschoß]],\"\")","v":""},{"$f":"IF(WW_Räume[[#This Row],[WW_Nr]]<>\"\",IF(INDEX($AA$28:$AA$68,MATCH(WW_Räume[[#This Row],[Raumnr.]],$D$28:$D$68,0)),1,0),\"\")","v":""}]
[null,null,{"$f":"IF(D67<=MAX(Raumliste_kompakt[Nummer]),INDEX(Raumliste_kompakt[Geschoß],D67),\"\")","v":""},{"$f":"IF(D66<MAX(Raumliste_kompakt[Nummer]),D66+1,\"\")","v":""},{"$f":"IF(D67<=MAX(Raumliste_kompakt[Nummer]),INDEX(Raumliste_kompakt[Raum],D67),\"\")","v":""},null,null,null,null,null,null,null,null,null,null,null,{"$f":"IF(AND(ISBLANK(J67),ISBLANK(H67),ISBLANK(K67),ISBLANK(M67),ISBLANK(N67),ISBLANK(G67)),0,MAX($Q$28:Q66)+1)","v":0},0,0,0,0,0,0,0,0,0,0,null,"","","","",{"$f":"IF(WW_Räume[[#This Row],[Raumnr.]]<>\"\",INDEX($Z$28:$Z$68,MATCH(AF67,$D$28:$D$68,0)),\"\")","v":""},{"$f":"IF(WW_Räume[[#This Row],[WW_Nr]]<>\"\",WW_Räume[[#This Row],[Raum]]&\", \"&WW_Räume[[#This Row],[Geschoß]],\"\")","v":""},{"$f":"IF(WW_Räume[[#This Row],[WW_Nr]]<>\"\",IF(INDEX($AA$28:$AA$68,MATCH(WW_Räume[[#This Row],[Raumnr.]],$D$28:$D$68,0)),1,0),\"\")","v":""}]
[null,null,{"$f":"IF(D68<=MAX(Raumliste_kompakt[Nummer]),INDEX(Raumliste_kompakt[Geschoß],D68),\"\")","v":""},{"$f":"IF(D67<MAX(Raumliste_kompakt[Nummer]),D67+1,\"\")","v":""},{"$f":"IF(D68<=MAX(Raumliste_kompakt[Nummer]),INDEX(Raumliste_kompakt[Raum],D68),\"\")","v":""},null,null,null,null,null,null,null,null,null,null,null,{"$f":"IF(AND(ISBLANK(J68),ISBLANK(H68),ISBLANK(K68),ISBLANK(M68),ISBLANK(N68),ISBLANK(G68)),0,MAX($Q$28:Q67)+1)","v":0},0,0,0,0,0,0,0,0,0,0,null,"","","","",{"$f":"IF(WW_Räume[[#This Row],[Raumnr.]]<>\"\",INDEX($Z$28:$Z$68,MATCH(AF68,$D$28:$D$68,0)),\"\")","v":""},{"$f":"IF(WW_Räume[[#This Row],[WW_Nr]]<>\"\",WW_Räume[[#This Row],[Raum]]&\", \"&WW_Räume[[#This Row],[Geschoß]],\"\")","v":""},{"$f":"IF(WW_Räume[[#This Row],[WW_Nr]]<>\"\",IF(INDEX($AA$28:$AA$68,MATCH(WW_Räume[[#This Row],[Raumnr.]],$D$28:$D$68,0)),1,0),\"\")","v":""}]
[null,null,null,null,null,null,null,null,null,null,null,null,null,null,null,null,null,null,null,null,null,null,null,null,null,null,null,null,"","","","",{"$f":"IF(WW_Räume[[#This Row],[Raumnr.]]<>\"\",INDEX($Z$28:$Z$68,MATCH(AF69,$D$28:$D$68,0)),\"\")","v":""},{"$f":"IF(WW_Räume[[#This Row],[WW_Nr]]<>\"\",WW_Räume[[#This Row],[Raum]]&\", \"&WW_Räume[[#This Row],[Geschoß]],\"\")","v":""},{"$f":"IF(WW_Räume[[#This Row],[WW_Nr]]<>\"\",IF(INDEX($AA$28:$AA$68,MATCH(WW_Räume[[#This Row],[Raumnr.]],$D$28:$D$68,0)),1,0),\"\")","v":""}]
[null,null,null,null,null,null,null,null,null,null,null,null,null,null,null,null,null,null,null,null,null,null,null,null,null,null,null,null,{"$f":"IF(AC69>=MAX($Q$28:$Q$68),\"\",AC69+1)","v":""},{"$f":"IF(AC70<>\"\",INDEX($C$28:$C$68,MATCH(AC70,$Q$28:$Q$68,0)),\"\")","v":""},{"$f":"IF(AC70<>\"\",INDEX($E$28:$E$68,MATCH(AC70,$Q$28:$Q$68,0)),\"\")","v":""},{"$f":"IF(AC70<>\"\",INDEX($D$28:$D$68,MATCH(AC70,$Q$28:$Q$68,0)),\"\")","v":""},{"$f":"IF(WW_Räume[[#This Row],[Raumnr.]]<>\"\",INDEX($Z$28:$Z$68,MATCH(AF70,$D$28:$D$68,0)),\"\")","v":""},{"$f":"IF(WW_Räume[[#This Row],[WW_Nr]]<>\"\",WW_Räume[[#This Row],[Raum]]&\", \"&WW_Räume[[#This Row],[Geschoß]],\"\")","v":""},{"$f":"IF(WW_Räume[[#This Row],[WW_Nr]]<>\"\",IF(INDEX($AA$28:$AA$68,MATCH(WW_Räume[[#This Row],[Raumnr.]],$D$28:$D$68,0)),1,0),\"\")","v":""}]

{"sheet":"Lüftung Bestand","index":6,"n_rows":22,"n_cols":18,"rows_kept":22,"cut":false,"hidden":false,"merged":[[1,1,1,6],[17,7,20,7],[15,4,15,5],[17,4,17,5],[18,4,18,5],[19,4,19,5],[11,2,11,4],[5,2,5,4],[20,4,20,5],[7,2,7,4],[8,2,8,4]]}
[]
[null,"LÜFTUNG IM BESTAND"]
[]
[null,null,"ALLGEMEINES"]
[]
[null,null,"Anzahl der Bewohner:",null,null,{"$f":"'WW Bestand'!K6","v":0}]
[]
[null,null,"Gibt es im Bestand Probleme mit Schimmel?"]
[null,null,"Gibt es im Bestand Probleme mit der Behaglichkeit / Luftqualität?"]
[]
[null,null,"Wann wurden die bestehenden Fenster eingebaut?"]
[null,null,"Beschlagen die Fenster häufig auf der Innenseite?"]
[]
[null,null,"SYSTEM"]
[]
[null,null,"Welches System wird im Moment verwendet?"]
[null,null,null,null,null,null,null,null,null,null,null,null,"Systeme",null,"Lüftungsarten Wohnraum","Lüftungsarten Ablufträume",null,"Abfrage"]
[null,null,"-  in Wohn-, Aufenthalts- und Schlafräume",null,null,null,null,null,{"$f":"IF(E16=Lüftung_Bestand_zentral?[[#This Row],[Systeme]],1,0)","v":0},null,null,null,"zentrale Lüftungsanlage",null,"Fensterlüftung","Fensterlüftung",null,"ja"]
[null,null,"-  in der Küche",null,null,null,null,null,null,null,null,null,"dezentrale Lüftung",null,"Abluftsystem","Abluftsystem",null,"nein"]
[null,null,"-  im Bad / in den Bädern",null,null,null,null,null,null,null,null,null,null,null,"Zuluftsystem","Zu- und Abluftanlage, ohne WRG"]
[null,null,"-  im WC / in den WCs",null,null,null,null,null,null,null,null,null,null,null,"Zu- und Abluftanlage, ohne WRG","Zu- und Abluftanlage, mit WRG"]
[null,null,null,null,null,null,null,null,null,null,null,null,null,null,"Zu- und Abluftanlage, mit WRG"]

{"sheet":"Sanierungsschritte","index":7,"n_rows":52,"n_cols":34,"rows_kept":52,"cut":false,"hidden":false,"merged":[[3,2,4,2],[1,1,1,23]]}
[null,null,null,1,2,3,4,5,6,7,8,9,10,11,12,13,14,15,16,17,18,19,20]
[null,"VERLAUF DER STUFENWEISEN SANIERUNG"]
[null,null,null,null,null,null,null,null,null,null,null,null,null,null,null,null,null,null,null,null,null,null,null,null,null,"PHPP_Varianten_Output_ORP"]
[null,null,"Sanierungsmaßnahmen",{"$f":"IF(INDEX(Sanierungsstufen_2[Sanierungsschritt],D1)=\"\",\"\",INDEX(Sanierungsstufen_2[Nummer],D1))","v":{"$error":"#REF!"}},{"$f":"IF(INDEX(Sanierungsstufen_2[Sanierungsschritt],E1)=\"\",\"\",INDEX(Sanierungsstufen_2[Nummer],E1))","v":{"$error":"#REF!"}},{"$f":"IF(INDEX(Sanierungsstufen_2[Sanierungsschritt],F1)=\"\",\"\",INDEX(Sanierungsstufen_2[Nummer],F1))","v":{"$error":"#REF!"}},{"$f":"IF(INDEX(Sanierungsstufen_2[Sanierungsschritt],G1)=\"\",\"\",INDEX(Sanierungsstufen_2[Nummer],G1))","v":{"$error":"#REF!"}},{"$f":"IF(INDEX(Sanierungsstufen_2[Sanierungsschritt],H1)=\"\",\"\",INDEX(Sanierungsstufen_2[Nummer],H1))","v":{"$error":"#REF!"}},{"$f":"IF(INDEX(Sanierungsstufen_2[Sanierungsschritt],I1)=\"\",\"\",INDEX(Sanierungsstufen_2[Nummer],I1))","v":{"$error":"#REF!"}},{"$f":"IF(INDEX(Sanierungsstufen_2[Sanierungsschritt],J1)=\"\",\"\",INDEX(Sanierungsstufen_2[Nummer],J1))","v":{"$error":"#REF!"}},{"$f":"IF(INDEX(Sanierungsstufen_2[Sanierungsschritt],K1)=\"\",\"\",INDEX(Sanierungsstufen_2[Nummer],K1))","v":{"$error":"#REF!"}},{"$f":"IF(INDEX(Sanierungsstufen_2[Sanierungsschritt],L1)=\"\",\"\",INDEX(Sanierungsstufen_2[Nummer],L1))","v":{"$error":"#REF!"}},{"$f":"IF(INDEX(Sanierungsstufen_2[Sanierungsschritt],M1)=\"\",\"\",INDEX(Sanierungsstufen_2[Nummer],M1))","v":{"$error":"#REF!"}},{"$f":"IF(INDEX(Sanierungsstufen_2[Sanierungsschritt],N1)=\"\",\"\",INDEX(Sanierungsstufen_2[Nummer],N1))","v":{"$error":"#REF!"}},{"$f":"IF(INDEX(Sanierungsstufen_2[Sanierungsschritt],O1)=\"\",\"\",INDEX(Sanierungsstufen_2[Nummer],O1))","v":{"$error":"#REF!"}},{"$f":"IF(INDEX(Sanierungsstufen_2[Sanierungsschritt],P1)=\"\",\"\",INDEX(Sanierungsstufen_2[Nummer],P1))","v":{"$error":"#REF!"}},{"$f":"IF(INDEX(Sanierungsstufen_2[Sanierungsschritt],Q1)=\"\",\"\",INDEX(Sanierungsstufen_2[Nummer],Q1))","v":{"$error":"#REF!"}},{"$f":"IF(INDEX(Sanierungsstufen_2[Sanierungsschritt],R1)=\"\",\"\",INDEX(Sanierungsstufen_2[Nummer],R1))","v":{"$error":"#REF!"}},{"$f":"IF(INDEX(Sanierungsstufen_2[Sanierungsschritt],S1)=\"\",\"\",INDEX(Sanierungsstufen_2[Nummer],S1))","v":{"$error":"#REF!"}},{"$f":"IF(INDEX(Sanierungsstufen_2[Sanierungsschritt],T1)=\"\",\"\",INDEX(Sanierungsstufen_2[Nummer],T1))","v":{"$error":"#REF!"}},{"$f":"IF(INDEX(Sanierungsstufen_2[Sanierungsschritt],U1)=\"\",\"\",INDEX(Sanierungsstufen_2[Nummer],U1))","v":{"$error":"#REF!"}},{"$f":"IF(INDEX(Sanierungsstufen_2[Sanierungsschritt],V1)=\"\",\"\",INDEX(Sanierungsstufen_2[Nummer],V1))","v":{"$error":"#REF!"}},{"$f":"IF(INDEX(Sanierungsstufen_2[Sanierungsschritt],W1)=\"\",\"\",INDEX(Sanierungsstufen_2[Nummer],W1))","v":{"$error":"#REF!"}},null,null,"PHPP_Varianten_Bezeichnung_Variante_mit_Nummer"]
[null,null,null,{"$f":"IF(INDEX(Sanierungsstufen_2[Sanierungsschritt],D1)=\"\",\"\",INDEX(Sanierungsstufen_2[Sanierungsschritt],D1))","v":{"$error":"#REF!"}},{"$f":"IF(INDEX(Sanierungsstufen_2[Sanierungsschritt],E1)=\"\",\"\",INDEX(Sanierungsstufen_2[Sanierungsschritt],E1))","v":{"$error":"#REF!"}},{"$f":"IF(INDEX(Sanierungsstufen_2[Sanierungsschritt],F1)=\"\",\"\",INDEX(Sanierungsstufen_2[Sanierungsschritt],F1))","v":{"$error":"#REF!"}},{"$f":"IF(INDEX(Sanierungsstufen_2[Sanierungsschritt],G1)=\"\",\"\",INDEX(Sanierungsstufen_2[Sanierungsschritt],G1))","v":{"$error":"#REF!"}},{"$f":"IF(INDEX(Sanierungsstufen_2[Sanierungsschritt],H1)=\"\",\"\",INDEX(Sanierungsstufen_2[Sanierungsschritt],H1))","v":{"$error":"#REF!"}},{"$f":"IF(INDEX(Sanierungsstufen_2[Sanierungsschritt],I1)=\"\",\"\",INDEX(Sanierungsstufen_2[Sanierungsschritt],I1))","v":{"$error":"#REF!"}},{"$f":"IF(INDEX(Sanierungsstufen_2[Sanierungsschritt],J1)=\"\",\"\",INDEX(Sanierungsstufen_2[Sanierungsschritt],J1))","v":{"$error":"#REF!"}},{"$f":"IF(INDEX(Sanierungsstufen_2[Sanierungsschritt],K1)=\"\",\"\",INDEX(Sanierungsstufen_2[Sanierungsschritt],K1))","v":{"$error":"#REF!"}},{"$f":"IF(INDEX(Sanierungsstufen_2[Sanierungsschritt],L1)=\"\",\"\",INDEX(Sanierungsstufen_2[Sanierungsschritt],L1))","v":{"$error":"#REF!"}},{"$f":"IF(INDEX(Sanierungsstufen_2[Sanierungsschritt],M1)=\"\",\"\",INDEX(Sanierungsstufen_2[Sanierungsschritt],M1))","v":{"$error":"#REF!"}},{"$f":"IF(INDEX(Sanierungsstufen_2[Sanierungsschritt],N1)=\"\",\"\",INDEX(Sanierungsstufen_2[Sanierungsschritt],N1))","v":{"$error":"#REF!"}},{"$f":"IF(INDEX(Sanierungsstufen_2[Sanierungsschritt],O1)=\"\",\"\",INDEX(Sanierungsstufen_2[Sanierungsschritt],O1))","v":{"$error":"#REF!"}},{"$f":"IF(INDEX(Sanierungsstufen_2[Sanierungsschritt],P1)=\"\",\"\",INDEX(Sanierungsstufen_2[Sanierungsschritt],P1))","v":{"$error":"#REF!"}},{"$f":"IF(INDEX(Sanierungsstufen_2[Sanierungsschritt],Q1)=\"\",\"\",INDEX(Sanierungsstufen_2[Sanierungsschritt],Q1))","v":{"$error":"#REF!"}},{"$f":"IF(INDEX(Sanierungsstufen_2[Sanierungsschritt],R1)=\"\",\"\",INDEX(Sanierungsstufen_2[Sanierungsschritt],R1))","v":{"$error":"#REF!"}},{"$f":"IF(INDEX(Sanierungsstufen_2[Sanierungsschritt],S1)=\"\",\"\",INDEX(Sanierungsstufen_2[Sanierungsschritt],S1))","v":{"$error":"#REF!"}},{"$f":"IF(INDEX(Sanierungsstufen_2[Sanierungsschritt],T1)=\"\",\"\",INDEX(Sanierungsstufen_2[Sanierungsschritt],T1))","v":{"$error":"#REF!"}},{"$f":"IF(INDEX(Sanierungsstufen_2[Sanierungsschritt],U1)=\"\",\"\",INDEX(Sanierungsstufen_2[Sanierungsschritt],U1))","v":{"$error":"#REF!"}},{"$f":"IF(INDEX(Sanierungsstufen_2[Sanierungsschritt],V1)=\"\",\"\",INDEX(Sanierungsstufen_2[Sanierungsschritt],V1))","v":{"$error":"#REF!"}},{"$f":"IF(INDEX(Sanierungsstufen_2[Sanierungsschritt],W1)=\"\",\"\",INDEX(Sanierungsstufen_2[Sanierungsschritt],W1))","v":{"$error":"#REF!"}},null,null,null,null,null,null,{"$f":"IF(Allgemeines!$E$4=\"\",\"\",IF(INDEX(INDIRECT(\"'\"&Allgemeines!$E$4&\"'\"&\"!\"&\"Varianten_Variantennamen\"),1,AD3)=0,\"\",INDEX(INDIRECT(\"'\"&Allgemeines!$E$4&\"'\"&\"!\"&\"Varianten_Variantennamen\"),1,AD3)))","v":{"$error":"#REF!"}}]
[null,null,"Zeitpunkt der Sanierung"]
[1,null,"Heizwärmebedarf [kWh/m²a]",{"$f":"IF(Allgemeines!$E$4=\"\",\"\",IF(INDEX(INDIRECT(\"'\"&Allgemeines!$E$4&\"'\"&\"!\"&$Z$3),$A7,D$1+4)=0,\"\",INDEX(INDIRECT(\"'\"&Allgemeines!$E$4&\"'\"&\"!\"&$Z$3),$A7,D$1+4)))","v":{"$error":"#REF!"}},{"$f":"IF(Allgemeines!$E$4=\"\",\"\",IF(INDEX(INDIRECT(\"'\"&Allgemeines!$E$4&\"'\"&\"!\"&$Z$3),$A7,E$1+4)=0,\"\",INDEX(INDIRECT(\"'\"&Allgemeines!$E$4&\"'\"&\"!\"&$Z$3),$A7,E$1+4)))","v":{"$error":"#REF!"}},{"$f":"IF(Allgemeines!$E$4=\"\",\"\",IF(INDEX(INDIRECT(\"'\"&Allgemeines!$E$4&\"'\"&\"!\"&$Z$3),$A7,F$1+4)=0,\"\",INDEX(INDIRECT(\"'\"&Allgemeines!$E$4&\"'\"&\"!\"&$Z$3),$A7,F$1+4)))","v":{"$error":"#REF!"}},{"$f":"IF(Allgemeines!$E$4=\"\",\"\",IF(INDEX(INDIRECT(\"'\"&Allgemeines!$E$4&\"'\"&\"!\"&$Z$3),$A7,G$1+4)=0,\"\",INDEX(INDIRECT(\"'\"&Allgemeines!$E$4&\"'\"&\"!\"&$Z$3),$A7,G$1+4)))","v":{"$error":"#REF!"}},{"$f":"IF(Allgemeines!$E$4=\"\",\"\",IF(INDEX(INDIRECT(\"'\"&Allgemeines!$E$4&\"'\"&\"!\"&$Z$3),$A7,H$1+4)=0,\"\",INDEX(INDIRECT(\"'\"&Allgemeines!$E$4&\"'\"&\"!\"&$Z$3),$A7,H$1+4)))","v":{"$error":"#REF!"}},{"$f":"IF(Allgemeines!$E$4=\"\",\"\",IF(INDEX(INDIRECT(\"'\"&Allgemeines!$E$4&\"'\"&\"!\"&$Z$3),$A7,I$1+4)=0,\"\",INDEX(INDIRECT(\"'\"&Allgemeines!$E$4&\"'\"&\"!\"&$Z$3),$A7,I$1+4)))","v":{"$error":"#REF!"}},{"$f":"IF(Allgemeines!$E$4=\"\",\"\",IF(INDEX(INDIRECT(\"'\"&Allgemeines!$E$4&\"'\"&\"!\"&$Z$3),$A7,J$1+4)=0,\"\",INDEX(INDIRECT(\"'\"&Allgemeines!$E$4&\"'\"&\"!\"&$Z$3),$A7,J$1+4)))","v":{"$error":"#REF!"}},{"$f":"IF(Allgemeines!$E$4=\"\",\"\",IF(INDEX(INDIRECT(\"'\"&Allgemeines!$E$4&\"'\"&\"!\"&$Z$3),$A7,K$1+4)=0,\"\",INDEX(INDIRECT(\"'\"&Allgemeines!$E$4&\"'\"&\"!\"&$Z$3),$A7,K$1+4)))","v":{"$error":"#REF!"}},{"$f":"IF(Allgemeines!$E$4=\"\",\"\",IF(INDEX(INDIRECT(\"'\"&Allgemeines!$E$4&\"'\"&\"!\"&$Z$3),$A7,L$1+4)=0,\"\",INDEX(INDIRECT(\"'\"&Allgemeines!$E$4&\"'\"&\"!\"&$Z$3),$A7,L$1+4)))","v":{"$error":"#REF!"}},{"$f":"IF(Allgemeines!$E$4=\"\",\"\",IF(INDEX(INDIRECT(\"'\"&Allgemeines!$E$4&\"'\"&\"!\"&$Z$3),$A7,M$1+4)=0,\"\",INDEX(INDIRECT(\"'\"&Allgemeines!$E$4&\"'\"&\"!\"&$Z$3),$A7,M$1+4)))","v":{"$error":"#REF!"}},{"$f":"IF(Allgemeines!$E$4=\"\",\"\",IF(INDEX(INDIRECT(\"'\"&Allgemeines!$E$4&\"'\"&\"!\"&$Z$3),$A7,N$1+4)=0,\"\",INDEX(INDIRECT(\"'\"&Allgemeines!$E$4&\"'\"&\"!\"&$Z$3),$A7,N$1+4)))","v":{"$error":"#REF!"}},{"$f":"IF(Allgemeines!$E$4=\"\",\"\",IF(INDEX(INDIRECT(\"'\"&Allgemeines!$E$4&\"'\"&\"!\"&$Z$3),$A7,O$1+4)=0,\"\",INDEX(INDIRECT(\"'\"&Allgemeines!$E$4&\"'\"&\"!\"&$Z$3),$A7,O$1+4)))","v":{"$error":"#REF!"}},{"$f":"IF(Allgemeines!$E$4=\"\",\"\",IF(INDEX(INDIRECT(\"'\"&Allgemeines!$E$4&\"'\"&\"!\"&$Z$3),$A7,P$1+4)=0,\"\",INDEX(INDIRECT(\"'\"&Allgemeines!$E$4&\"'\"&\"!\"&$Z$3),$A7,P$1+4)))","v":{"$error":"#REF!"}},{"$f":"IF(Allgemeines!$E$4=\"\",\"\",IF(INDEX(INDIRECT(\"'\"&Allgemeines!$E$4&\"'\"&\"!\"&$Z$3),$A7,Q$1+4)=0,\"\",INDEX(INDIRECT(\"'\"&Allgemeines!$E$4&\"'\"&\"!\"&$Z$3),$A7,Q$1+4)))","v":{"$error":"#REF!"}},{"$f":"IF(Allgemeines!$E$4=\"\",\"\",IF(INDEX(INDIRECT(\"'\"&Allgemeines!$E$4&\"'\"&\"!\"&$Z$3),$A7,R$1+4)=0,\"\",INDEX(INDIRECT(\"'\"&Allgemeines!$E$4&\"'\"&\"!\"&$Z$3),$A7,R$1+4)))","v":{"$error":"#REF!"}},{"$f":"IF(Allgemeines!$E$4=\"\",\"\",IF(INDEX(INDIRECT(\"'\"&Allgemeines!$E$4&\"'\"&\"!\"&$Z$3),$A7,S$1+4)=0,\"\",INDEX(INDIRECT(\"'\"&Allgemeines!$E$4&\"'\"&\"!\"&$Z$3),$A7,S$1+4)))","v":{"$error":"#REF!"}},{"$f":"IF(Allgemeines!$E$4=\"\",\"\",IF(INDEX(INDIRECT(\"'\"&Allgemeines!$E$4&\"'\"&\"!\"&$Z$3),$A7,T$1+4)=0,\"\",INDEX(INDIRECT(\"'\"&Allgemeines!$E$4&\"'\"&\"!\"&$Z$3),$A7,T$1+4)))","v":{"$error":"#REF!"}},{"$f":"IF(Allgemeines!$E$4=\"\",\"\",IF(INDEX(INDIRECT(\"'\"&Allgemeines!$E$4&\"'\"&\"!\"&$Z$3),$A7,U$1+4)=0,\"\",INDEX(INDIRECT(\"'\"&Allgemeines!$E$4&\"'\"&\"!\"&$Z$3),$A7,U$1+4)))","v":{"$error":"#REF!"}},{"$f":"IF(Allgemeines!$E$4=\"\",\"\",IF(INDEX(INDIRECT(\"'\"&Allgemeines!$E$4&\"'\"&\"!\"&$Z$3),$A7,V$1+4)=0,\"\",INDEX(INDIRECT(\"'\"&Allgemeines!$E$4&\"'\"&\"!\"&$Z$3),$A7,V$1+4)))","v":{"$error":"#REF!"}},{"$f":"IF(Allgemeines!$E$4=\"\",\"\",IF(INDEX(INDIRECT(\"'\"&Allgemeines!$E$4&\"'\"&\"!\"&$Z$3),$A7,W$1+4)=0,\"\",INDEX(INDIRECT(\"'\"&Allgemeines!$E$4&\"'\"&\"!\"&$Z$3),$A7,W$1+4)))","v":{"$error":"#REF!"}},null,null,null,null,null,null,null,"Nummer","Sanierungsschritt mit Nummer","Sanierungsschritt"]
[2,null,"Heizlast [W/m²]",{"$f":"IF(Allgemeines!$E$4=\"\",\"\",IF(INDEX(INDIRECT(\"'\"&Allgemeines!$E$4&\"'\"&\"!\"&$Z$3),$A8,D$1+4)=0,\"\",INDEX(INDIRECT(\"'\"&Allgemeines!$E$4&\"'\"&\"!\"&$Z$3),$A8,D$1+4)))","v":{"$error":"#REF!"}},{"$f":"IF(Allgemeines!$E$4=\"\",\"\",IF(INDEX(INDIRECT(\"'\"&Allgemeines!$E$4&\"'\"&\"!\"&$Z$3),$A8,E$1+4)=0,\"\",INDEX(INDIRECT(\"'\"&Allgemeines!$E$4&\"'\"&\"!\"&$Z$3),$A8,E$1+4)))","v":{"$error":"#REF!"}},{"$f":"IF(Allgemeines!$E$4=\"\",\"\",IF(INDEX(INDIRECT(\"'\"&Allgemeines!$E$4&\"'\"&\"!\"&$Z$3),$A8,F$1+4)=0,\"\",INDEX(INDIRECT(\"'\"&Allgemeines!$E$4&\"'\"&\"!\"&$Z$3),$A8,F$1+4)))","v":{"$error":"#REF!"}},{"$f":"IF(Allgemeines!$E$4=\"\",\"\",IF(INDEX(INDIRECT(\"'\"&Allgemeines!$E$4&\"'\"&\"!\"&$Z$3),$A8,G$1+4)=0,\"\",INDEX(INDIRECT(\"'\"&Allgemeines!$E$4&\"'\"&\"!\"&$Z$3),$A8,G$1+4)))","v":{"$error":"#REF!"}},{"$f":"IF(Allgemeines!$E$4=\"\",\"\",IF(INDEX(INDIRECT(\"'\"&Allgemeines!$E$4&\"'\"&\"!\"&$Z$3),$A8,H$1+4)=0,\"\",INDEX(INDIRECT(\"'\"&Allgemeines!$E$4&\"'\"&\"!\"&$Z$3),$A8,H$1+4)))","v":{"$error":"#REF!"}},{"$f":"IF(Allgemeines!$E$4=\"\",\"\",IF(INDEX(INDIRECT(\"'\"&Allgemeines!$E$4&\"'\"&\"!\"&$Z$3),$A8,I$1+4)=0,\"\",INDEX(INDIRECT(\"'\"&Allgemeines!$E$4&\"'\"&\"!\"&$Z$3),$A8,I$1+4)))","v":{"$error":"#REF!"}},{"$f":"IF(Allgemeines!$E$4=\"\",\"\",IF(INDEX(INDIRECT(\"'\"&Allgemeines!$E$4&\"'\"&\"!\"&$Z$3),$A8,J$1+4)=0,\"\",INDEX(INDIRECT(\"'\"&Allgemeines!$E$4&\"'\"&\"!\"&$Z$3),$A8,J$1+4)))","v":{"$error":"#REF!"}},{"$f":"IF(Allgemeines!$E$4=\"\",\"\",IF(INDEX(INDIRECT(\"'\"&Allgemeines!$E$4&\"'\"&\"!\"&$Z$3),$A8,K$1+4)=0,\"\",INDEX(INDIRECT(\"'\"&Allgemeines!$E$4&\"'\"&\"!\"&$Z$3),$A8,K$1+4)))","v":{"$error":"#REF!"}},{"$f":"IF(Allgemeines!$E$4=\"\",\"\",IF(INDEX(INDIRECT(\"'\"&Allgemeines!$E$4&\"'\"&\"!\"&$Z$3),$A8,L$1+4)=0,\"\",INDEX(INDIRECT(\"'\"&Allgemeines!$E$4&\"'\"&\"!\"&$Z$3),$A8,L$1+4)))","v":{"$error":"#REF!"}},{"$f":"IF(Allgemeines!$E$4=\"\",\"\",IF(INDEX(INDIRECT(\"'\"&Allgemeines!$E$4&\"'\"&\"!\"&$Z$3),$A8,M$1+4)=0,\"\",INDEX(INDIRECT(\"'\"&Allgemeines!$E$4&\"'\"&\"!\"&$Z$3),$A8,M$1+4)))","v":{"$error":"#REF!"}},{"$f":"IF(Allgemeines!$E$4=\"\",\"\",IF(INDEX(INDIRECT(\"'\"&Allgemeines!$E$4&\"'\"&\"!\"&$Z$3),$A8,N$1+4)=0,\"\",INDEX(INDIRECT(\"'\"&Allgemeines!$E$4&\"'\"&\"!\"&$Z$3),$A8,N$1+4)))","v":{"$error":"#REF!"}},{"$f":"IF(Allgemeines!$E$4=\"\",\"\",IF(INDEX(INDIRECT(\"'\"&Allgemeines!$E$4&\"'\"&\"!\"&$Z$3),$A8,O$1+4)=0,\"\",INDEX(INDIRECT(\"'\"&Allgemeines!$E$4&\"'\"&\"!\"&$Z$3),$A8,O$1+4)))","v":{"$error":"#REF!"}},{"$f":"IF(Allgemeines!$E$4=\"\",\"\",IF(INDEX(INDIRECT(\"'\"&Allgemeines!$E$4&\"'\"&\"!\"&$Z$3),$A8,P$1+4)=0,\"\",INDEX(INDIRECT(\"'\"&Allgemeines!$E$4&\"'\"&\"!\"&$Z$3),$A8,P$1+4)))","v":{"$error":"#REF!"}},{"$f":"IF(Allgemeines!$E$4=\"\",\"\",IF(INDEX(INDIRECT(\"'\"&Allgemeines!$E$4&\"'\"&\"!\"&$Z$3),$A8,Q$1+4)=0,\"\",INDEX(INDIRECT(\"'\"&Allgemeines!$E$4&\"'\"&\"!\"&$Z$3),$A8,Q$1+4)))","v":{"$error":"#REF!"}},{"$f":"IF(Allgemeines!$E$4=\"\",\"\",IF(INDEX(INDIRECT(\"'\"&Allgemeines!$E$4&\"'\"&\"!\"&$Z$3),$A8,R$1+4)=0,\"\",INDEX(INDIRECT(\"'\"&Allgemeines!$E$4&\"'\"&\"!\"&$Z$3),$A8,R$1+4)))","v":{"$error":"#REF!"}},{"$f":"IF(Allgemeines!$E$4=\"\",\"\",IF(INDEX(INDIRECT(\"'\"&Allgemeines!$E$4&\"'\"&\"!\"&$Z$3),$A8,S$1+4)=0,\"\",INDEX(INDIRECT(\"'\"&Allgemeines!$E$4&\"'\"&\"!\"&$Z$3),$A8,S$1+4)))","v":{"$error":"#REF!"}},{"$f":"IF(Allgemeines!$E$4=\"\",\"\",IF(INDEX(INDIRECT(\"'\"&Allgemeines!$E$4&\"'\"&\"!\"&$Z$3),$A8,T$1+4)=0,\"\",INDEX(INDIRECT(\"'\"&Allgemeines!$E$4&\"'\"&\"!\"&$Z$3),$A8,T$1+4)))","v":{"$error":"#REF!"}},{"$f":"IF(Allgemeines!$E$4=\"\",\"\",IF(INDEX(INDIRECT(\"'\"&Allgemeines!$E$4&\"'\"&\"!\"&$Z$3),$A8,U$1+4)=0,\"\",INDEX(INDIRECT(\"'\"&Allgemeines!$E$4&\"'\"&\"!\"&$Z$3),$A8,U$1+4)))","v":{"$error":"#REF!"}},{"$f":"IF(Allgemeines!$E$4=\"\",\"\",IF(INDEX(INDIRECT(\"'\"&Allgemeines!$E$4&\"'\"&\"!\"&$Z$3),$A8,V$1+4)=0,\"\",INDEX(INDIRECT(\"'\"&Allgemeines!$E$4&\"'\"&\"!\"&$Z$3),$A8,V$1+4)))","v":{"$error":"#REF!"}},{"$f":"IF(Allgemeines!$E$4=\"\",\"\",IF(INDEX(INDIRECT(\"'\"&Allgemeines!$E$4&\"'\"&\"!\"&$Z$3),$A8,W$1+4)=0,\"\",INDEX(INDIRECT(\"'\"&Allgemeines!$E$4&\"'\"&\"!\"&$Z$3),$A8,W$1+4)))","v":{"$error":"#REF!"}},null,null,null,null,null,null,null,1,{"$f":"IF(Allgemeines!$E$4=\"\",\"\",IF(INDEX(INDIRECT(\"'\"&Allgemeines!$E$4&\"'\"&\"!\"&$Z$4),AE8)=0,\"\",INDEX(INDIRECT(\"'\"&Allgemeines!$E$4&\"'\"&\"!\"&$Z$4),AE8)))","v":{"$error":"#REF!"}},{"$f":"RIGHT(Sanierungsstufen_2[[#This Row],[Sanierungsschritt mit Nummer]],LEN(Sanierungsstufen_2[[#This Row],[Sanierungsschritt mit Nummer]])-FIND(\"-\",Sanierungsstufen_2[[#This Row],[Sanierungsschritt mit Nummer]]))","v":{"$error":"#REF!"}}]
[3,null,"Kühl- + Entfeuchtungsbedarf",{"$f":"IF(Allgemeines!$E$4=\"\",\"\",IF(INDEX(INDIRECT(\"'\"&Allgemeines!$E$4&\"'\"&\"!\"&$Z$3),$A9,D$1+4)=0,\"\",INDEX(INDIRECT(\"'\"&Allgemeines!$E$4&\"'\"&\"!\"&$Z$3),$A9,D$1+4)))","v":{"$error":"#REF!"}},{"$f":"IF(Allgemeines!$E$4=\"\",\"\",IF(INDEX(INDIRECT(\"'\"&Allgemeines!$E$4&\"'\"&\"!\"&$Z$3),$A9,E$1+4)=0,\"\",INDEX(INDIRECT(\"'\"&Allgemeines!$E$4&\"'\"&\"!\"&$Z$3),$A9,E$1+4)))","v":{"$error":"#REF!"}},{"$f":"IF(Allgemeines!$E$4=\"\",\"\",IF(INDEX(INDIRECT(\"'\"&Allgemeines!$E$4&\"'\"&\"!\"&$Z$3),$A9,F$1+4)=0,\"\",INDEX(INDIRECT(\"'\"&Allgemeines!$E$4&\"'\"&\"!\"&$Z$3),$A9,F$1+4)))","v":{"$error":"#REF!"}},{"$f":"IF(Allgemeines!$E$4=\"\",\"\",IF(INDEX(INDIRECT(\"'\"&Allgemeines!$E$4&\"'\"&\"!\"&$Z$3),$A9,G$1+4)=0,\"\",INDEX(INDIRECT(\"'\"&Allgemeines!$E$4&\"'\"&\"!\"&$Z$3),$A9,G$1+4)))","v":{"$error":"#REF!"}},{"$f":"IF(Allgemeines!$E$4=\"\",\"\",IF(INDEX(INDIRECT(\"'\"&Allgemeines!$E$4&\"'\"&\"!\"&$Z$3),$A9,H$1+4)=0,\"\",INDEX(INDIRECT(\"'\"&Allgemeines!$E$4&\"'\"&\"!\"&$Z$3),$A9,H$1+4)))","v":{"$error":"#REF!"}},{"$f":"IF(Allgemeines!$E$4=\"\",\"\",IF(INDEX(INDIRECT(\"'\"&Allgemeines!$E$4&\"'\"&\"!\"&$Z$3),$A9,I$1+4)=0,\"\",INDEX(INDIRECT(\"'\"&Allgemeines!$E$4&\"'\"&\"!\"&$Z$3),$A9,I$1+4)))","v":{"$error":"#REF!"}},{"$f":"IF(Allgemeines!$E$4=\"\",\"\",IF(INDEX(INDIRECT(\"'\"&Allgemeines!$E$4&\"'\"&\"!\"&$Z$3),$A9,J$1+4)=0,\"\",INDEX(INDIRECT(\"'\"&Allgemeines!$E$4&\"'\"&\"!\"&$Z$3),$A9,J$1+4)))","v":{"$error":"#REF!"}},{"$f":"IF(Allgemeines!$E$4=\"\",\"\",IF(INDEX(INDIRECT(\"'\"&Allgemeines!$E$4&\"'\"&\"!\"&$Z$3),$A9,K$1+4)=0,\"\",INDEX(INDIRECT(\"'\"&Allgemeines!$E$4&\"'\"&\"!\"&$Z$3),$A9,K$1+4)))","v":{"$error":"#REF!"}},{"$f":"IF(Allgemeines!$E$4=\"\",\"\",IF(INDEX(INDIRECT(\"'\"&Allgemeines!$E$4&\"'\"&\"!\"&$Z$3),$A9,L$1+4)=0,\"\",INDEX(INDIRECT(\"'\"&Allgemeines!$E$4&\"'\"&\"!\"&$Z$3),$A9,L$1+4)))","v":{"$error":"#REF!"}},{"$f":"IF(Allgemeines!$E$4=\"\",\"\",IF(INDEX(INDIRECT(\"'\"&Allgemeines!$E$4&\"'\"&\"!\"&$Z$3),$A9,M$1+4)=0,\"\",INDEX(INDIRECT(\"'\"&Allgemeines!$E$4&\"'\"&\"!\"&$Z$3),$A9,M$1+4)))","v":{"$error":"#REF!"}},{"$f":"IF(Allgemeines!$E$4=\"\",\"\",IF(INDEX(INDIRECT(\"'\"&Allgemeines!$E$4&\"'\"&\"!\"&$Z$3),$A9,N$1+4)=0,\"\",INDEX(INDIRECT(\"'\"&Allgemeines!$E$4&\"'\"&\"!\"&$Z$3),$A9,N$1+4)))","v":{"$error":"#REF!"}},{"$f":"IF(Allgemeines!$E$4=\"\",\"\",IF(INDEX(INDIRECT(\"'\"&Allgemeines!$E$4&\"'\"&\"!\"&$Z$3),$A9,O$1+4)=0,\"\",INDEX(INDIRECT(\"'\"&Allgemeines!$E$4&\"'\"&\"!\"&$Z$3),$A9,O$1+4)))","v":{"$error":"#REF!"}},{"$f":"IF(Allgemeines!$E$4=\"\",\"\",IF(INDEX(INDIRECT(\"'\"&Allgemeines!$E$4&\"'\"&\"!\"&$Z$3),$A9,P$1+4)=0,\"\",INDEX(INDIRECT(\"'\"&Allgemeines!$E$4&\"'\"&\"!\"&$Z$3),$A9,P$1+4)))","v":{"$error":"#REF!"}},{"$f":"IF(Allgemeines!$E$4=\"\",\"\",IF(INDEX(INDIRECT(\"'\"&Allgemeines!$E$4&\"'\"&\"!\"&$Z$3),$A9,Q$1+4)=0,\"\",INDEX(INDIRECT(\"'\"&Allgemeines!$E$4&\"'\"&\"!\"&$Z$3),$A9,Q$1+4)))","v":{"$error":"#REF!"}},{"$f":"IF(Allgemeines!$E$4=\"\",\"\",IF(INDEX(INDIRECT(\"'\"&Allgemeines!$E$4&\"'\"&\"!\"&$Z$3),$A9,R$1+4)=0,\"\",INDEX(INDIRECT(\"'\"&Allgemeines!$E$4&\"'\"&\"!\"&$Z$3),$A9,R$1+4)))","v":{"$error":"#REF!"}},{"$f":"IF(Allgemeines!$E$4=\"\",\"\",IF(INDEX(INDIRECT(\"'\"&Allgemeines!$E$4&\"'\"&\"!\"&$Z$3),$A9,S$1+4)=0,\"\",INDEX(INDIRECT(\"'\"&Allgemeines!$E$4&\"'\"&\"!\"&$Z$3),$A9,S$1+4)))","v":{"$error":"#REF!"}},{"$f":"IF(Allgemeines!$E$4=\"\",\"\",IF(INDEX(INDIRECT(\"'\"&Allgemeines!$E$4&\"'\"&\"!\"&$Z$3),$A9,T$1+4)=0,\"\",INDEX(INDIRECT(\"'\"&Allgemeines!$E$4&\"'\"&\"!\"&$Z$3),$A9,T$1+4)))","v":{"$error":"#REF!"}},{"$f":"IF(Allgemeines!$E$4=\"\",\"\",IF(INDEX(INDIRECT(\"'\"&Allgemeines!$E$4&\"'\"&\"!\"&$Z$3),$A9,U$1+4)=0,\"\",INDEX(INDIRECT(\"'\"&Allgemeines!$E$4&\"'\"&\"!\"&$Z$3),$A9,U$1+4)))","v":{"$error":"#REF!"}},{"$f":"IF(Allgemeines!$E$4=\"\",\"\",IF(INDEX(INDIRECT(\"'\"&Allgemeines!$E$4&\"'\"&\"!\"&$Z$3),$A9,V$1+4)=0,\"\",INDEX(INDIRECT(\"'\"&Allgemeines!$E$4&\"'\"&\"!\"&$Z$3),$A9,V$1+4)))","v":{"$error":"#REF!"}},{"$f":"IF(Allgemeines!$E$4=\"\",\"\",IF(INDEX(INDIRECT(\"'\"&Allgemeines!$E$4&\"'\"&\"!\"&$Z$3),$A9,W$1+4)=0,\"\",INDEX(INDIRECT(\"'\"&Allgemeines!$E$4&\"'\"&\"!\"&$Z$3),$A9,W$1+4)))","v":{"$error":"#REF!"}},null,null,null,null,null,null,null,2,{"$f":"IF(Allgemeines!$E$4=\"\",\"\",IF(INDEX(INDIRECT(\"'\"&Allgemeines!$E$4&\"'\"&\"!\"&$Z$4),AE9)=0,\"\",INDEX(INDIRECT(\"'\"&Allgemeines!$E$4&\"'\"&\"!\"&$Z$4),AE9)))","v":{"$error":"#REF!"}},{"$f":"RIGHT(Sanierungsstufen_2[[#This Row],[Sanierungsschritt mit Nummer]],LEN(Sanierungsstufen_2[[#This Row],[Sanierungsschritt mit Nummer]])-FIND(\"-\",Sanierungsstufen_2[[#This Row],[Sanierungsschritt mit Nummer]]))","v":{"$error":"#REF!"}}]
[4,null,"Kühllast",{"$f":"IF(Allgemeines!$E$4=\"\",\"\",IF(INDEX(INDIRECT(\"'\"&Allgemeines!$E$4&\"'\"&\"!\"&$Z$3),$A10,D$1+4)=0,\"\",INDEX(INDIRECT(\"'\"&Allgemeines!$E$4&\"'\"&\"!\"&$Z$3),$A10,D$1+4)))","v":{"$error":"#REF!"}},{"$f":"IF(Allgemeines!$E$4=\"\",\"\",IF(INDEX(INDIRECT(\"'\"&Allgemeines!$E$4&\"'\"&\"!\"&$Z$3),$A10,E$1+4)=0,\"\",INDEX(INDIRECT(\"'\"&Allgemeines!$E$4&\"'\"&\"!\"&$Z$3),$A10,E$1+4)))","v":{"$error":"#REF!"}},{"$f":"IF(Allgemeines!$E$4=\"\",\"\",IF(INDEX(INDIRECT(\"'\"&Allgemeines!$E$4&\"'\"&\"!\"&$Z$3),$A10,F$1+4)=0,\"\",INDEX(INDIRECT(\"'\"&Allgemeines!$E$4&\"'\"&\"!\"&$Z$3),$A10,F$1+4)))","v":{"$error":"#REF!"}},{"$f":"IF(Allgemeines!$E$4=\"\",\"\",IF(INDEX(INDIRECT(\"'\"&Allgemeines!$E$4&\"'\"&\"!\"&$Z$3),$A10,G$1+4)=0,\"\",INDEX(INDIRECT(\"'\"&Allgemeines!$E$4&\"'\"&\"!\"&$Z$3),$A10,G$1+4)))","v":{"$error":"#REF!"}},{"$f":"IF(Allgemeines!$E$4=\"\",\"\",IF(INDEX(INDIRECT(\"'\"&Allgemeines!$E$4&\"'\"&\"!\"&$Z$3),$A10,H$1+4)=0,\"\",INDEX(INDIRECT(\"'\"&Allgemeines!$E$4&\"'\"&\"!\"&$Z$3),$A10,H$1+4)))","v":{"$error":"#REF!"}},{"$f":"IF(Allgemeines!$E$4=\"\",\"\",IF(INDEX(INDIRECT(\"'\"&Allgemeines!$E$4&\"'\"&\"!\"&$Z$3),$A10,I$1+4)=0,\"\",INDEX(INDIRECT(\"'\"&Allgemeines!$E$4&\"'\"&\"!\"&$Z$3),$A10,I$1+4)))","v":{"$error":"#REF!"}},{"$f":"IF(Allgemeines!$E$4=\"\",\"\",IF(INDEX(INDIRECT(\"'\"&Allgemeines!$E$4&\"'\"&\"!\"&$Z$3),$A10,J$1+4)=0,\"\",INDEX(INDIRECT(\"'\"&Allgemeines!$E$4&\"'\"&\"!\"&$Z$3),$A10,J$1+4)))","v":{"$error":"#REF!"}},{"$f":"IF(Allgemeines!$E$4=\"\",\"\",IF(INDEX(INDIRECT(\"'\"&Allgemeines!$E$4&\"'\"&\"!\"&$Z$3),$A10,K$1+4)=0,\"\",INDEX(INDIRECT(\"'\"&Allgemeines!$E$4&\"'\"&\"!\"&$Z$3),$A10,K$1+4)))","v":{"$error":"#REF!"}},{"$f":"IF(Allgemeines!$E$4=\"\",\"\",IF(INDEX(INDIRECT(\"'\"&Allgemeines!$E$4&\"'\"&\"!\"&$Z$3),$A10,L$1+4)=0,\"\",INDEX(INDIRECT(\"'\"&Allgemeines!$E$4&\"'\"&\"!\"&$Z$3),$A10,L$1+4)))","v":{"$error":"#REF!"}},{"$f":"IF(Allgemeines!$E$4=\"\",\"\",IF(INDEX(INDIRECT(\"'\"&Allgemeines!$E$4&\"'\"&\"!\"&$Z$3),$A10,M$1+4)=0,\"\",INDEX(INDIRECT(\"'\"&Allgemeines!$E$4&\"'\"&\"!\"&$Z$3),$A10,M$1+4)))","v":{"$error":"#REF!"}},{"$f":"IF(Allgemeines!$E$4=\"\",\"\",IF(INDEX(INDIRECT(\"'\"&Allgemeines!$E$4&\"'\"&\"!\"&$Z$3),$A10,N$1+4)=0,\"\",INDEX(INDIRECT(\"'\"&Allgemeines!$E$4&\"'\"&\"!\"&$Z$3),$A10,N$1+4)))","v":{"$error":"#REF!"}},{"$f":"IF(Allgemeines!$E$4=\"\",\"\",IF(INDEX(INDIRECT(\"'\"&Allgemeines!$E$4&\"'\"&\"!\"&$Z$3),$A10,O$1+4)=0,\"\",INDEX(INDIRECT(\"'\"&Allgemeines!$E$4&\"'\"&\"!\"&$Z$3),$A10,O$1+4)))","v":{"$error":"#REF!"}},{"$f":"IF(Allgemeines!$E$4=\"\",\"\",IF(INDEX(INDIRECT(\"'\"&Allgemeines!$E$4&\"'\"&\"!\"&$Z$3),$A10,P$1+4)=0,\"\",INDEX(INDIRECT(\"'\"&Allgemeines!$E$4&\"'\"&\"!\"&$Z$3),$A10,P$1+4)))","v":{"$error":"#REF!"}},{"$f":"IF(Allgemeines!$E$4=\"\",\"\",IF(INDEX(INDIRECT(\"'\"&Allgemeines!$E$4&\"'\"&\"!\"&$Z$3),$A10,Q$1+4)=0,\"\",INDEX(INDIRECT(\"'\"&Allgemeines!$E$4&\"'\"&\"!\"&$Z$3),$A10,Q$1+4)))","v":{"$error":"#REF!"}},{"$f":"IF(Allgemeines!$E$4=\"\",\"\",IF(INDEX(INDIRECT(\"'\"&Allgemeines!$E$4&\"'\"&\"!\"&$Z$3),$A10,R$1+4)=0,\"\",INDEX(INDIRECT(\"'\"&Allgemeines!$E$4&\"'\"&\"!\"&$Z$3),$A10,R$1+4)))","v":{"$error":"#REF!"}},{"$f":"IF(Allgemeines!$E$4=\"\",\"\",IF(INDEX(INDIRECT(\"'\"&Allgemeines!$E$4&\"'\"&\"!\"&$Z$3),$A10,S$1+4)=0,\"\",INDEX(INDIRECT(\"'\"&Allgemeines!$E$4&\"'\"&\"!\"&$Z$3),$A10,S$1+4)))","v":{"$error":"#REF!"}},{"$f":"IF(Allgemeines!$E$4=\"\",\"\",IF(INDEX(INDIRECT(\"'\"&Allgemeines!$E$4&\"'\"&\"!\"&$Z$3),$A10,T$1+4)=0,\"\",INDEX(INDIRECT(\"'\"&Allgemeines!$E$4&\"'\"&\"!\"&$Z$3),$A10,T$1+4)))","v":{"$error":"#REF!"}},{"$f":"IF(Allgemeines!$E$4=\"\",\"\",IF(INDEX(INDIRECT(\"'\"&Allgemeines!$E$4&\"'\"&\"!\"&$Z$3),$A10,U$1+4)=0,\"\",INDEX(INDIRECT(\"'\"&Allgemeines!$E$4&\"'\"&\"!\"&$Z$3),$A10,U$1+4)))","v":{"$error":"#REF!"}},{"$f":"IF(Allgemeines!$E$4=\"\",\"\",IF(INDEX(INDIRECT(\"'\"&Allgemeines!$E$4&\"'\"&\"!\"&$Z$3),$A10,V$1+4)=0,\"\",INDEX(INDIRECT(\"'\"&Allgemeines!$E$4&\"'\"&\"!\"&$Z$3),$A10,V$1+4)))","v":{"$error":"#REF!"}},{"$f":"IF(Allgemeines!$E$4=\"\",\"\",IF(INDEX(INDIRECT(\"'\"&Allgemeines!$E$4&\"'\"&\"!\"&$Z$3),$A10,W$1+4)=0,\"\",INDEX(INDIRECT(\"'\"&Allgemeines!$E$4&\"'\"&\"!\"&$Z$3),$A10,W$1+4)))","v":{"$error":"#REF!"}},null,null,null,null,null,null,null,3,{"$f":"IF(Allgemeines!$E$4=\"\",\"\",IF(INDEX(INDIRECT(\"'\"&Allgemeines!$E$4&\"'\"&\"!\"&$Z$4),AE10)=0,\"\",INDEX(INDIRECT(\"'\"&Allgemeines!$E$4&\"'\"&\"!\"&$Z$4),AE10)))","v":{"$error":"#REF!"}},{"$f":"RIGHT(Sanierungsstufen_2[[#This Row],[Sanierungsschritt mit Nummer]],LEN(Sanierungsstufen_2[[#This Row],[Sanierungsschritt mit Nummer]])-FIND(\"-\",Sanierungsstufen_2[[#This Row],[Sanierungsschritt mit Nummer]]))","v":{"$error":"#REF!"}}]
[5,null,"Übertemperaturhäufigkeit (>25°C) [%]",{"$f":"IF(Allgemeines!$E$4=\"\",\"\",IF(INDEX(INDIRECT(\"'\"&Allgemeines!$E$4&\"'\"&\"!\"&$Z$3),$A11,D$1+4)=0,\"\",INDEX(INDIRECT(\"'\"&Allgemeines!$E$4&\"'\"&\"!\"&$Z$3),$A11,D$1+4)))","v":{"$error":"#REF!"}},{"$f":"IF(Allgemeines!$E$4=\"\",\"\",IF(INDEX(INDIRECT(\"'\"&Allgemeines!$E$4&\"'\"&\"!\"&$Z$3),$A11,E$1+4)=0,\"\",INDEX(INDIRECT(\"'\"&Allgemeines!$E$4&\"'\"&\"!\"&$Z$3),$A11,E$1+4)))","v":{"$error":"#REF!"}},{"$f":"IF(Allgemeines!$E$4=\"\",\"\",IF(INDEX(INDIRECT(\"'\"&Allgemeines!$E$4&\"'\"&\"!\"&$Z$3),$A11,F$1+4)=0,\"\",INDEX(INDIRECT(\"'\"&Allgemeines!$E$4&\"'\"&\"!\"&$Z$3),$A11,F$1+4)))","v":{"$error":"#REF!"}},{"$f":"IF(Allgemeines!$E$4=\"\",\"\",IF(INDEX(INDIRECT(\"'\"&Allgemeines!$E$4&\"'\"&\"!\"&$Z$3),$A11,G$1+4)=0,\"\",INDEX(INDIRECT(\"'\"&Allgemeines!$E$4&\"'\"&\"!\"&$Z$3),$A11,G$1+4)))","v":{"$error":"#REF!"}},{"$f":"IF(Allgemeines!$E$4=\"\",\"\",IF(INDEX(INDIRECT(\"'\"&Allgemeines!$E$4&\"'\"&\"!\"&$Z$3),$A11,H$1+4)=0,\"\",INDEX(INDIRECT(\"'\"&Allgemeines!$E$4&\"'\"&\"!\"&$Z$3),$A11,H$1+4)))","v":{"$error":"#REF!"}},{"$f":"IF(Allgemeines!$E$4=\"\",\"\",IF(INDEX(INDIRECT(\"'\"&Allgemeines!$E$4&\"'\"&\"!\"&$Z$3),$A11,I$1+4)=0,\"\",INDEX(INDIRECT(\"'\"&Allgemeines!$E$4&\"'\"&\"!\"&$Z$3),$A11,I$1+4)))","v":{"$error":"#REF!"}},{"$f":"IF(Allgemeines!$E$4=\"\",\"\",IF(INDEX(INDIRECT(\"'\"&Allgemeines!$E$4&\"'\"&\"!\"&$Z$3),$A11,J$1+4)=0,\"\",INDEX(INDIRECT(\"'\"&Allgemeines!$E$4&\"'\"&\"!\"&$Z$3),$A11,J$1+4)))","v":{"$error":"#REF!"}},{"$f":"IF(Allgemeines!$E$4=\"\",\"\",IF(INDEX(INDIRECT(\"'\"&Allgemeines!$E$4&\"'\"&\"!\"&$Z$3),$A11,K$1+4)=0,\"\",INDEX(INDIRECT(\"'\"&Allgemeines!$E$4&\"'\"&\"!\"&$Z$3),$A11,K$1+4)))","v":{"$error":"#REF!"}},{"$f":"IF(Allgemeines!$E$4=\"\",\"\",IF(INDEX(INDIRECT(\"'\"&Allgemeines!$E$4&\"'\"&\"!\"&$Z$3),$A11,L$1+4)=0,\"\",INDEX(INDIRECT(\"'\"&Allgemeines!$E$4&\"'\"&\"!\"&$Z$3),$A11,L$1+4)))","v":{"$error":"#REF!"}},{"$f":"IF(Allgemeines!$E$4=\"\",\"\",IF(INDEX(INDIRECT(\"'\"&Allgemeines!$E$4&\"'\"&\"!\"&$Z$3),$A11,M$1+4)=0,\"\",INDEX(INDIRECT(\"'\"&Allgemeines!$E$4&\"'\"&\"!\"&$Z$3),$A11,M$1+4)))","v":{"$error":"#REF!"}},{"$f":"IF(Allgemeines!$E$4=\"\",\"\",IF(INDEX(INDIRECT(\"'\"&Allgemeines!$E$4&\"'\"&\"!\"&$Z$3),$A11,N$1+4)=0,\"\",INDEX(INDIRECT(\"'\"&Allgemeines!$E$4&\"'\"&\"!\"&$Z$3),$A11,N$1+4)))","v":{"$error":"#REF!"}},{"$f":"IF(Allgemeines!$E$4=\"\",\"\",IF(INDEX(INDIRECT(\"'\"&Allgemeines!$E$4&\"'\"&\"!\"&$Z$3),$A11,O$1+4)=0,\"\",INDEX(INDIRECT(\"'\"&Allgemeines!$E$4&\"'\"&\"!\"&$Z$3),$A11,O$1+4)))","v":{"$error":"#REF!"}},{"$f":"IF(Allgemeines!$E$4=\"\",\"\",IF(INDEX(INDIRECT(\"'\"&Allgemeines!$E$4&\"'\"&\"!\"&$Z$3),$A11,P$1+4)=0,\"\",INDEX(INDIRECT(\"'\"&Allgemeines!$E$4&\"'\"&\"!\"&$Z$3),$A11,P$1+4)))","v":{"$error":"#REF!"}},{"$f":"IF(Allgemeines!$E$4=\"\",\"\",IF(INDEX(INDIRECT(\"'\"&Allgemeines!$E$4&\"'\"&\"!\"&$Z$3),$A11,Q$1+4)=0,\"\",INDEX(INDIRECT(\"'\"&Allgemeines!$E$4&\"'\"&\"!\"&$Z$3),$A11,Q$1+4)))","v":{"$error":"#REF!"}},{"$f":"IF(Allgemeines!$E$4=\"\",\"\",IF(INDEX(INDIRECT(\"'\"&Allgemeines!$E$4&\"'\"&\"!\"&$Z$3),$A11,R$1+4)=0,\"\",INDEX(INDIRECT(\"'\"&Allgemeines!$E$4&\"'\"&\"!\"&$Z$3),$A11,R$1+4)))","v":{"$error":"#REF!"}},{"$f":"IF(Allgemeines!$E$4=\"\",\"\",IF(INDEX(INDIRECT(\"'\"&Allgemeines!$E$4&\"'\"&\"!\"&$Z$3),$A11,S$1+4)=0,\"\",INDEX(INDIRECT(\"'\"&Allgemeines!$E$4&\"'\"&\"!\"&$Z$3),$A11,S$1+4)))","v":{"$error":"#REF!"}},{"$f":"IF(Allgemeines!$E$4=\"\",\"\",IF(INDEX(INDIRECT(\"'\"&Allgemeines!$E$4&\"'\"&\"!\"&$Z$3),$A11,T$1+4)=0,\"\",INDEX(INDIRECT(\"'\"&Allgemeines!$E$4&\"'\"&\"!\"&$Z$3),$A11,T$1+4)))","v":{"$error":"#REF!"}},{"$f":"IF(Allgemeines!$E$4=\"\",\"\",IF(INDEX(INDIRECT(\"'\"&Allgemeines!$E$4&\"'\"&\"!\"&$Z$3),$A11,U$1+4)=0,\"\",INDEX(INDIRECT(\"'\"&Allgemeines!$E$4&\"'\"&\"!\"&$Z$3),$A11,U$1+4)))","v":{"$error":"#REF!"}},{"$f":"IF(Allgemeines!$E$4=\"\",\"\",IF(INDEX(INDIRECT(\"'\"&Allgemeines!$E$4&\"'\"&\"!\"&$Z$3),$A11,V$1+4)=0,\"\",INDEX(INDIRECT(\"'\"&Allgemeines!$E$4&\"'\"&\"!\"&$Z$3),$A11,V$1+4)))","v":{"$error":"#REF!"}},{"$f":"IF(Allgemeines!$E$4=\"\",\"\",IF(INDEX(INDIRECT(\"'\"&Allgemeines!$E$4&\"'\"&\"!\"&$Z$3),$A11,W$1+4)=0,\"\",INDEX(INDIRECT(\"'\"&Allgemeines!$E$4&\"'\"&\"!\"&$Z$3),$A11,W$1+4)))","v":{"$error":"#REF!"}},null,null,null,null,null,null,null,4,{"$f":"IF(Allgemeines!$E$4=\"\",\"\",IF(INDEX(INDIRECT(\"'\"&Allgemeines!$E$4&\"'\"&\"!\"&$Z$4),AE11)=0,\"\",INDEX(INDIRECT(\"'\"&Allgemeines!$E$4&\"'\"&\"!\"&$Z$4),AE11)))","v":{"$error":"#REF!"}},{"$f":"RIGHT(Sanierungsstufen_2[[#This Row],[Sanierungsschritt mit Nummer]],LEN(Sanierungsstufen_2[[#This Row],[Sanierungsschritt mit Nummer]])-FIND(\"-\",Sanierungsstufen_2[[#This Row],[Sanierungsschritt mit Nummer]]))","v":{"$error":"#REF!"}}]
[14,null,"PER-Bedarf [kWh/m²a]",{"$f":"IF(Allgemeines!$E$4=\"\",\"\",IF(INDEX(INDIRECT(\"'\"&Allgemeines!$E$4&\"'\"&\"!\"&$Z$3),$A12,D$1+4)=0,\"\",INDEX(INDIRECT(\"'\"&Allgemeines!$E$4&\"'\"&\"!\"&$Z$3),$A12,D$1+4)))","v":{"$error":"#REF!"}},{"$f":"IF(Allgemeines!$E$4=\"\",\"\",IF(INDEX(INDIRECT(\"'\"&Allgemeines!$E$4&\"'\"&\"!\"&$Z$3),$A12,E$1+4)=0,\"\",INDEX(INDIRECT(\"'\"&Allgemeines!$E$4&\"'\"&\"!\"&$Z$3),$A12,E$1+4)))","v":{"$error":"#REF!"}},{"$f":"IF(Allgemeines!$E$4=\"\",\"\",IF(INDEX(INDIRECT(\"'\"&Allgemeines!$E$4&\"'\"&\"!\"&$Z$3),$A12,F$1+4)=0,\"\",INDEX(INDIRECT(\"'\"&Allgemeines!$E$4&\"'\"&\"!\"&$Z$3),$A12,F$1+4)))","v":{"$error":"#REF!"}},{"$f":"IF(Allgemeines!$E$4=\"\",\"\",IF(INDEX(INDIRECT(\"'\"&Allgemeines!$E$4&\"'\"&\"!\"&$Z$3),$A12,G$1+4)=0,\"\",INDEX(INDIRECT(\"'\"&Allgemeines!$E$4&\"'\"&\"!\"&$Z$3),$A12,G$1+4)))","v":{"$error":"#REF!"}},{"$f":"IF(Allgemeines!$E$4=\"\",\"\",IF(INDEX(INDIRECT(\"'\"&Allgemeines!$E$4&\"'\"&\"!\"&$Z$3),$A12,H$1+4)=0,\"\",INDEX(INDIRECT(\"'\"&Allgemeines!$E$4&\"'\"&\"!\"&$Z$3),$A12,H$1+4)))","v":{"$error":"#REF!"}},{"$f":"IF(Allgemeines!$E$4=\"\",\"\",IF(INDEX(INDIRECT(\"'\"&Allgemeines!$E$4&\"'\"&\"!\"&$Z$3),$A12,I$1+4)=0,\"\",INDEX(INDIRECT(\"'\"&Allgemeines!$E$4&\"'\"&\"!\"&$Z$3),$A12,I$1+4)))","v":{"$error":"#REF!"}},{"$f":"IF(Allgemeines!$E$4=\"\",\"\",IF(INDEX(INDIRECT(\"'\"&Allgemeines!$E$4&\"'\"&\"!\"&$Z$3),$A12,J$1+4)=0,\"\",INDEX(INDIRECT(\"'\"&Allgemeines!$E$4&\"'\"&\"!\"&$Z$3),$A12,J$1+4)))","v":{"$error":"#REF!"}},{"$f":"IF(Allgemeines!$E$4=\"\",\"\",IF(INDEX(INDIRECT(\"'\"&Allgemeines!$E$4&\"'\"&\"!\"&$Z$3),$A12,K$1+4)=0,\"\",INDEX(INDIRECT(\"'\"&Allgemeines!$E$4&\"'\"&\"!\"&$Z$3),$A12,K$1+4)))","v":{"$error":"#REF!"}},{"$f":"IF(Allgemeines!$E$4=\"\",\"\",IF(INDEX(INDIRECT(\"'\"&Allgemeines!$E$4&\"'\"&\"!\"&$Z$3),$A12,L$1+4)=0,\"\",INDEX(INDIRECT(\"'\"&Allgemeines!$E$4&\"'\"&\"!\"&$Z$3),$A12,L$1+4)))","v":{"$error":"#REF!"}},{"$f":"IF(Allgemeines!$E$4=\"\",\"\",IF(INDEX(INDIRECT(\"'\"&Allgemeines!$E$4&\"'\"&\"!\"&$Z$3),$A12,M$1+4)=0,\"\",INDEX(INDIRECT(\"'\"&Allgemeines!$E$4&\"'\"&\"!\"&$Z$3),$A12,M$1+4)))","v":{"$error":"#REF!"}},{"$f":"IF(Allgemeines!$E$4=\"\",\"\",IF(INDEX(INDIRECT(\"'\"&Allgemeines!$E$4&\"'\"&\"!\"&$Z$3),$A12,N$1+4)=0,\"\",INDEX(INDIRECT(\"'\"&Allgemeines!$E$4&\"'\"&\"!\"&$Z$3),$A12,N$1+4)))","v":{"$error":"#REF!"}},{"$f":"IF(Allgemeines!$E$4=\"\",\"\",IF(INDEX(INDIRECT(\"'\"&Allgemeines!$E$4&\"'\"&\"!\"&$Z$3),$A12,O$1+4)=0,\"\",INDEX(INDIRECT(\"'\"&Allgemeines!$E$4&\"'\"&\"!\"&$Z$3),$A12,O$1+4)))","v":{"$error":"#REF!"}},{"$f":"IF(Allgemeines!$E$4=\"\",\"\",IF(INDEX(INDIRECT(\"'\"&Allgemeines!$E$4&\"'\"&\"!\"&$Z$3),$A12,P$1+4)=0,\"\",INDEX(INDIRECT(\"'\"&Allgemeines!$E$4&\"'\"&\"!\"&$Z$3),$A12,P$1+4)))","v":{"$error":"#REF!"}},{"$f":"IF(Allgemeines!$E$4=\"\",\"\",IF(INDEX(INDIRECT(\"'\"&Allgemeines!$E$4&\"'\"&\"!\"&$Z$3),$A12,Q$1+4)=0,\"\",INDEX(INDIRECT(\"'\"&Allgemeines!$E$4&\"'\"&\"!\"&$Z$3),$A12,Q$1+4)))","v":{"$error":"#REF!"}},{"$f":"IF(Allgemeines!$E$4=\"\",\"\",IF(INDEX(INDIRECT(\"'\"&Allgemeines!$E$4&\"'\"&\"!\"&$Z$3),$A12,R$1+4)=0,\"\",INDEX(INDIRECT(\"'\"&Allgemeines!$E$4&\"'\"&\"!\"&$Z$3),$A12,R$1+4)))","v":{"$error":"#REF!"}},{"$f":"IF(Allgemeines!$E$4=\"\",\"\",IF(INDEX(INDIRECT(\"'\"&Allgemeines!$E$4&\"'\"&\"!\"&$Z$3),$A12,S$1+4)=0,\"\",INDEX(INDIRECT(\"'\"&Allgemeines!$E$4&\"'\"&\"!\"&$Z$3),$A12,S$1+4)))","v":{"$error":"#REF!"}},{"$f":"IF(Allgemeines!$E$4=\"\",\"\",IF(INDEX(INDIRECT(\"'\"&Allgemeines!$E$4&\"'\"&\"!\"&$Z$3),$A12,T$1+4)=0,\"\",INDEX(INDIRECT(\"'\"&Allgemeines!$E$4&\"'\"&\"!\"&$Z$3),$A12,T$1+4)))","v":{"$error":"#REF!"}},{"$f":"IF(Allgemeines!$E$4=\"\",\"\",IF(INDEX(INDIRECT(\"'\"&Allgemeines!$E$4&\"'\"&\"!\"&$Z$3),$A12,U$1+4)=0,\"\",INDEX(INDIRECT(\"'\"&Allgemeines!$E$4&\"'\"&\"!\"&$Z$3),$A12,U$1+4)))","v":{"$error":"#REF!"}},{"$f":"IF(Allgemeines!$E$4=\"\",\"\",IF(INDEX(INDIRECT(\"'\"&Allgemeines!$E$4&\"'\"&\"!\"&$Z$3),$A12,V$1+4)=0,\"\",INDEX(INDIRECT(\"'\"&Allgemeines!$E$4&\"'\"&\"!\"&$Z$3),$A12,V$1+4)))","v":{"$error":"#REF!"}},{"$f":"IF(Allgemeines!$E$4=\"\",\"\",IF(INDEX(INDIRECT(\"'\"&Allgemeines!$E$4&\"'\"&\"!\"&$Z$3),$A12,W$1+4)=0,\"\",INDEX(INDIRECT(\"'\"&Allgemeines!$E$4&\"'\"&\"!\"&$Z$3),$A12,W$1+4)))","v":{"$error":"#REF!"}},null,null,null,null,null,null,null,5,{"$f":"IF(Allgemeines!$E$4=\"\",\"\",IF(INDEX(INDIRECT(\"'\"&Allgemeines!$E$4&\"'\"&\"!\"&$Z$4),AE12)=0,\"\",INDEX(INDIRECT(\"'\"&Allgemeines!$E$4&\"'\"&\"!\"&$Z$4),AE12)))","v":{"$error":"#REF!"}},{"$f":"RIGHT(Sanierungsstufen_2[[#This Row],[Sanierungsschritt mit Nummer]],LEN(Sanierungsstufen_2[[#This Row],[Sanierungsschritt mit Nummer]])-FIND(\"-\",Sanierungsstufen_2[[#This Row],[Sanierungsschritt mit Nummer]]))","v":{"$error":"#REF!"}}]
[8,null,"EnerPHit Classic",{"$f":"IF(Allgemeines!$E$4=\"\",\"\",IF(INDEX(INDIRECT(\"'\"&Allgemeines!$E$4&\"'\"&\"!\"&$Z$3),$A13,D$1+4)=0,\"\",INDEX(INDIRECT(\"'\"&Allgemeines!$E$4&\"'\"&\"!\"&$Z$3),$A13,D$1+4)))","v":{"$error":"#REF!"}},{"$f":"IF(Allgemeines!$E$4=\"\",\"\",IF(INDEX(INDIRECT(\"'\"&Allgemeines!$E$4&\"'\"&\"!\"&$Z$3),$A13,E$1+4)=0,\"\",INDEX(INDIRECT(\"'\"&Allgemeines!$E$4&\"'\"&\"!\"&$Z$3),$A13,E$1+4)))","v":{"$error":"#REF!"}},{"$f":"IF(Allgemeines!$E$4=\"\",\"\",IF(INDEX(INDIRECT(\"'\"&Allgemeines!$E$4&\"'\"&\"!\"&$Z$3),$A13,F$1+4)=0,\"\",INDEX(INDIRECT(\"'\"&Allgemeines!$E$4&\"'\"&\"!\"&$Z$3),$A13,F$1+4)))","v":{"$error":"#REF!"}},{"$f":"IF(Allgemeines!$E$4=\"\",\"\",IF(INDEX(INDIRECT(\"'\"&Allgemeines!$E$4&\"'\"&\"!\"&$Z$3),$A13,G$1+4)=0,\"\",INDEX(INDIRECT(\"'\"&Allgemeines!$E$4&\"'\"&\"!\"&$Z$3),$A13,G$1+4)))","v":{"$error":"#REF!"}},{"$f":"IF(Allgemeines!$E$4=\"\",\"\",IF(INDEX(INDIRECT(\"'\"&Allgemeines!$E$4&\"'\"&\"!\"&$Z$3),$A13,H$1+4)=0,\"\",INDEX(INDIRECT(\"'\"&Allgemeines!$E$4&\"'\"&\"!\"&$Z$3),$A13,H$1+4)))","v":{"$error":"#REF!"}},{"$f":"IF(Allgemeines!$E$4=\"\",\"\",IF(INDEX(INDIRECT(\"'\"&Allgemeines!$E$4&\"'\"&\"!\"&$Z$3),$A13,I$1+4)=0,\"\",INDEX(INDIRECT(\"'\"&Allgemeines!$E$4&\"'\"&\"!\"&$Z$3),$A13,I$1+4)))","v":{"$error":"#REF!"}},{"$f":"IF(Allgemeines!$E$4=\"\",\"\",IF(INDEX(INDIRECT(\"'\"&Allgemeines!$E$4&\"'\"&\"!\"&$Z$3),$A13,J$1+4)=0,\"\",INDEX(INDIRECT(\"'\"&Allgemeines!$E$4&\"'\"&\"!\"&$Z$3),$A13,J$1+4)))","v":{"$error":"#REF!"}},{"$f":"IF(Allgemeines!$E$4=\"\",\"\",IF(INDEX(INDIRECT(\"'\"&Allgemeines!$E$4&\"'\"&\"!\"&$Z$3),$A13,K$1+4)=0,\"\",INDEX(INDIRECT(\"'\"&Allgemeines!$E$4&\"'\"&\"!\"&$Z$3),$A13,K$1+4)))","v":{"$error":"#REF!"}},{"$f":"IF(Allgemeines!$E$4=\"\",\"\",IF(INDEX(INDIRECT(\"'\"&Allgemeines!$E$4&\"'\"&\"!\"&$Z$3),$A13,L$1+4)=0,\"\",INDEX(INDIRECT(\"'\"&Allgemeines!$E$4&\"'\"&\"!\"&$Z$3),$A13,L$1+4)))","v":{"$error":"#REF!"}},{"$f":"IF(Allgemeines!$E$4=\"\",\"\",IF(INDEX(INDIRECT(\"'\"&Allgemeines!$E$4&\"'\"&\"!\"&$Z$3),$A13,M$1+4)=0,\"\",INDEX(INDIRECT(\"'\"&Allgemeines!$E$4&\"'\"&\"!\"&$Z$3),$A13,M$1+4)))","v":{"$error":"#REF!"}},{"$f":"IF(Allgemeines!$E$4=\"\",\"\",IF(INDEX(INDIRECT(\"'\"&Allgemeines!$E$4&\"'\"&\"!\"&$Z$3),$A13,N$1+4)=0,\"\",INDEX(INDIRECT(\"'\"&Allgemeines!$E$4&\"'\"&\"!\"&$Z$3),$A13,N$1+4)))","v":{"$error":"#REF!"}},{"$f":"IF(Allgemeines!$E$4=\"\",\"\",IF(INDEX(INDIRECT(\"'\"&Allgemeines!$E$4&\"'\"&\"!\"&$Z$3),$A13,O$1+4)=0,\"\",INDEX(INDIRECT(\"'\"&Allgemeines!$E$4&\"'\"&\"!\"&$Z$3),$A13,O$1+4)))","v":{"$error":"#REF!"}},{"$f":"IF(Allgemeines!$E$4=\"\",\"\",IF(INDEX(INDIRECT(\"'\"&Allgemeines!$E$4&\"'\"&\"!\"&$Z$3),$A13,P$1+4)=0,\"\",INDEX(INDIRECT(\"'\"&Allgemeines!$E$4&\"'\"&\"!\"&$Z$3),$A13,P$1+4)))","v":{"$error":"#REF!"}},{"$f":"IF(Allgemeines!$E$4=\"\",\"\",IF(INDEX(INDIRECT(\"'\"&Allgemeines!$E$4&\"'\"&\"!\"&$Z$3),$A13,Q$1+4)=0,\"\",INDEX(INDIRECT(\"'\"&Allgemeines!$E$4&\"'\"&\"!\"&$Z$3),$A13,Q$1+4)))","v":{"$error":"#REF!"}},{"$f":"IF(Allgemeines!$E$4=\"\",\"\",IF(INDEX(INDIRECT(\"'\"&Allgemeines!$E$4&\"'\"&\"!\"&$Z$3),$A13,R$1+4)=0,\"\",INDEX(INDIRECT(\"'\"&Allgemeines!$E$4&\"'\"&\"!\"&$Z$3),$A13,R$1+4)))","v":{"$error":"#REF!"}},{"$f":"IF(Allgemeines!$E$4=\"\",\"\",IF(INDEX(INDIRECT(\"'\"&Allgemeines!$E$4&\"'\"&\"!\"&$Z$3),$A13,S$1+4)=0,\"\",INDEX(INDIRECT(\"'\"&Allgemeines!$E$4&\"'\"&\"!\"&$Z$3),$A13,S$1+4)))","v":{"$error":"#REF!"}},{"$f":"IF(Allgemeines!$E$4=\"\",\"\",IF(INDEX(INDIRECT(\"'\"&Allgemeines!$E$4&\"'\"&\"!\"&$Z$3),$A13,T$1+4)=0,\"\",INDEX(INDIRECT(\"'\"&Allgemeines!$E$4&\"'\"&\"!\"&$Z$3),$A13,T$1+4)))","v":{"$error":"#REF!"}},{"$f":"IF(Allgemeines!$E$4=\"\",\"\",IF(INDEX(INDIRECT(\"'\"&Allgemeines!$E$4&\"'\"&\"!\"&$Z$3),$A13,U$1+4)=0,\"\",INDEX(INDIRECT(\"'\"&Allgemeines!$E$4&\"'\"&\"!\"&$Z$3),$A13,U$1+4)))","v":{"$error":"#REF!"}},{"$f":"IF(Allgemeines!$E$4=\"\",\"\",IF(INDEX(INDIRECT(\"'\"&Allgemeines!$E$4&\"'\"&\"!\"&$Z$3),$A13,V$1+4)=0,\"\",INDEX(INDIRECT(\"'\"&Allgemeines!$E$4&\"'\"&\"!\"&$Z$3),$A13,V$1+4)))","v":{"$error":"#REF!"}},{"$f":"IF(Allgemeines!$E$4=\"\",\"\",IF(INDEX(INDIRECT(\"'\"&Allgemeines!$E$4&\"'\"&\"!\"&$Z$3),$A13,W$1+4)=0,\"\",INDEX(INDIRECT(\"'\"&Allgemeines!$E$4&\"'\"&\"!\"&$Z$3),$A13,W$1+4)))","v":{"$error":"#REF!"}},null,null,null,null,null,null,null,6,{"$f":"IF(Allgemeines!$E$4=\"\",\"\",IF(INDEX(INDIRECT(\"'\"&Allgemeines!$E$4&\"'\"&\"!\"&$Z$4),AE13)=0,\"\",INDEX(INDIRECT(\"'\"&Allgemeines!$E$4&\"'\"&\"!\"&$Z$4),AE13)))","v":{"$error":"#REF!"}},{"$f":"RIGHT(Sanierungsstufen_2[[#This Row],[Sanierungsschritt mit Nummer]],LEN(Sanierungsstufen_2[[#This Row],[Sanierungsschritt mit Nummer]])-FIND(\"-\",Sanierungsstufen_2[[#This Row],[Sanierungsschritt mit Nummer]]))","v":{"$error":"#REF!"}}]
[null,null,null,null,null,null,null,null,null,null,null,null,null,null,null,null,null,null,null,null,null,null,null,null,null,null,null,null,null,null,7,{"$f":"IF(Allgemeines!$E$4=\"\",\"\",IF(INDEX(INDIRECT(\"'\"&Allgemeines!$E$4&\"'\"&\"!\"&$Z$4),AE14)=0,\"\",INDEX(INDIRECT(\"'\"&Allgemeines!$E$4&\"'\"&\"!\"&$Z$4),AE14)))","v":{"$error":"#REF!"}},{"$f":"RIGHT(Sanierungsstufen_2[[#This Row],[Sanierungsschritt mit Nummer]],LEN(Sanierungsstufen_2[[#This Row],[Sanierungsschritt mit Nummer]])-FIND(\"-\",Sanierungsstufen_2[[#This Row],[Sanierungsschritt mit Nummer]]))","v":{"$error":"#REF!"}}]
[null,null,"Energiebezugsfläche",{"$f":"INDIRECT(\"'\"&Allgemeines!$E$4&\"'\"&\"!\"&\"Output_EBF\")","v":{"$error":"#REF!"}},null,null,null,null,null,null,null,null,null,null,null,null,null,null,null,null,null,null,null,null,null,null,null,null,null,null,8,{"$f":"IF(Allgemeines!$E$4=\"\",\"\",IF(INDEX(INDIRECT(\"'\"&Allgemeines!$E$4&\"'\"&\"!\"&$Z$4),AE15)=0,\"\",INDEX(INDIRECT(\"'\"&Allgemeines!$E$4&\"'\"&\"!\"&$Z$4),AE15)))","v":{"$error":"#REF!"}},{"$f":"RIGHT(Sanierungsstufen_2[[#This Row],[Sanierungsschritt mit Nummer]],LEN(Sanierungsstufen_2[[#This Row],[Sanierungsschritt mit Nummer]])-FIND(\"-\",Sanierungsstufen_2[[#This Row],[Sanierungsschritt mit Nummer]]))","v":{"$error":"#REF!"}}]
[null,null,null,null,null,null,null,null,null,null,null,null,null,null,null,null,null,null,null,null,null,null,null,null,null,null,null,null,null,null,9,{"$f":"IF(Allgemeines!$E$4=\"\",\"\",IF(INDEX(INDIRECT(\"'\"&Allgemeines!$E$4&\"'\"&\"!\"&$Z$4),AE16)=0,\"\",INDEX(INDIRECT(\"'\"&Allgemeines!$E$4&\"'\"&\"!\"&$Z$4),AE16)))","v":{"$error":"#REF!"}},{"$f":"RIGHT(Sanierungsstufen_2[[#This Row],[Sanierungsschritt mit Nummer]],LEN(Sanierungsstufen_2[[#This Row],[Sanierungsschritt mit Nummer]])-FIND(\"-\",Sanierungsstufen_2[[#This Row],[Sanierungsschritt mit Nummer]]))","v":{"$error":"#REF!"}}]
[null,null,null,null,null,null,null,null,null,null,null,null,null,null,null,null,null,null,null,null,null,null,null,null,null,null,null,null,null,null,10,{"$f":"IF(Allgemeines!$E$4=\"\",\"\",IF(INDEX(INDIRECT(\"'\"&Allgemeines!$E$4&\"'\"&\"!\"&$Z$4),AE17)=0,\"\",INDEX(INDIRECT(\"'\"&Allgemeines!$E$4&\"'\"&\"!\"&$Z$4),AE17)))","v":{"$error":"#REF!"}},{"$f":"RIGHT(Sanierungsstufen_2[[#This Row],[Sanierungsschritt mit Nummer]],LEN(Sanierungsstufen_2[[#This Row],[Sanierungsschritt mit Nummer]])-FIND(\"-\",Sanierungsstufen_2[[#This Row],[Sanierungsschritt mit Nummer]]))","v":{"$error":"#REF!"}}]
[null,null,"Einbau Heizwärmeerzeuger",{"$f":"'WE Bestand'!I6","v":0},null,null,null,null,null,null,null,null,null,null,null,null,null,null,null,null,null,null,null,null,null,null,null,null,null,null,11,{"$f":"IF(Allgemeines!$E$4=\"\",\"\",IF(INDEX(INDIRECT(\"'\"&Allgemeines!$E$4&\"'\"&\"!\"&$Z$4),AE18)=0,\"\",INDEX(INDIRECT(\"'\"&Allgemeines!$E$4&\"'\"&\"!\"&$Z$4),AE18)))","v":{"$error":"#REF!"}},{"$f":"RIGHT(Sanierungsstufen_2[[#This Row],[Sanierungsschritt mit Nummer]],LEN(Sanierungsstufen_2[[#This Row],[Sanierungsschritt mit Nummer]])-FIND(\"-\",Sanierungsstufen_2[[#This Row],[Sanierungsschritt mit Nummer]]))","v":{"$error":"#REF!"}}]
[null,null,"Erwartete Lebensdauer",null,null,null,null,null,null,null,null,null,null,null,null,null,null,null,null,null,null,null,null,null,null,null,null,null,null,null,12,{"$f":"IF(Allgemeines!$E$4=\"\",\"\",IF(INDEX(INDIRECT(\"'\"&Allgemeines!$E$4&\"'\"&\"!\"&$Z$4),AE19)=0,\"\",INDEX(INDIRECT(\"'\"&Allgemeines!$E$4&\"'\"&\"!\"&$Z$4),AE19)))","v":{"$error":"#REF!"}},{"$f":"RIGHT(Sanierungsstufen_2[[#This Row],[Sanierungsschritt mit Nummer]],LEN(Sanierungsstufen_2[[#This Row],[Sanierungsschritt mit Nummer]])-FIND(\"-\",Sanierungsstufen_2[[#This Row],[Sanierungsschritt mit Nummer]]))","v":{"$error":"#REF!"}}]
[null,null,"Leistung Bestandskessel",{"$f":"'WE Bestand'!E8","v":0},null,null,null,null,null,null,null,null,null,null,null,null,null,null,null,null,null,null,null,null,null,{"$f":"IF(OR('WE Bestand'!I32=\"nein\",D21<=D6),1,0)","v":1},"Wärmeerzeuger",null,null,null,13,{"$f":"IF(Allgemeines!$E$4=\"\",\"\",IF(INDEX(INDIRECT(\"'\"&Allgemeines!$E$4&\"'\"&\"!\"&$Z$4),AE20)=0,\"\",INDEX(INDIRECT(\"'\"&Allgemeines!$E$4&\"'\"&\"!\"&$Z$4),AE20)))","v":{"$error":"#REF!"}},{"$f":"RIGHT(Sanierungsstufen_2[[#This Row],[Sanierungsschritt mit Nummer]],LEN(Sanierungsstufen_2[[#This Row],[Sanierungsschritt mit Nummer]])-FIND(\"-\",Sanierungsstufen_2[[#This Row],[Sanierungsschritt mit Nummer]]))","v":{"$error":"#REF!"}}]
[null,null,"Spätester Austausch",{"$f":"IF('WE Bestand'!I32=\"ja\",MAX(D18+D19,D6),D6)","v":0},null,null,null,null,null,null,null,null,null,null,null,null,null,null,null,null,null,null,null,null,null,{"$f":"IF(D27<=D6,1,0)","v":1},"Fenster",null,null,null,14,{"$f":"IF(Allgemeines!$E$4=\"\",\"\",IF(INDEX(INDIRECT(\"'\"&Allgemeines!$E$4&\"'\"&\"!\"&$Z$4),AE21)=0,\"\",INDEX(INDIRECT(\"'\"&Allgemeines!$E$4&\"'\"&\"!\"&$Z$4),AE21)))","v":{"$error":"#REF!"}},{"$f":"RIGHT(Sanierungsstufen_2[[#This Row],[Sanierungsschritt mit Nummer]],LEN(Sanierungsstufen_2[[#This Row],[Sanierungsschritt mit Nummer]])-FIND(\"-\",Sanierungsstufen_2[[#This Row],[Sanierungsschritt mit Nummer]]))","v":{"$error":"#REF!"}}]
[null,null,"Erwartete Lebensdauer, neu",null,null,null,null,null,null,null,null,null,null,null,null,null,null,null,null,null,null,null,null,null,null,{"$f":"IF(D32<=D6,1,0)","v":1},"Wärmeübergabe",null,null,null,15,{"$f":"IF(Allgemeines!$E$4=\"\",\"\",IF(INDEX(INDIRECT(\"'\"&Allgemeines!$E$4&\"'\"&\"!\"&$Z$4),AE22)=0,\"\",INDEX(INDIRECT(\"'\"&Allgemeines!$E$4&\"'\"&\"!\"&$Z$4),AE22)))","v":{"$error":"#REF!"}},{"$f":"RIGHT(Sanierungsstufen_2[[#This Row],[Sanierungsschritt mit Nummer]],LEN(Sanierungsstufen_2[[#This Row],[Sanierungsschritt mit Nummer]])-FIND(\"-\",Sanierungsstufen_2[[#This Row],[Sanierungsschritt mit Nummer]]))","v":{"$error":"#REF!"}}]
[null,null,"Nächster Austausch",{"$f":"D21+D22","v":0},null,null,null,null,null,null,null,null,null,null,null,null,null,null,null,null,null,null,null,null,null,null,null,null,null,null,16,{"$f":"IF(Allgemeines!$E$4=\"\",\"\",IF(INDEX(INDIRECT(\"'\"&Allgemeines!$E$4&\"'\"&\"!\"&$Z$4),AE23)=0,\"\",INDEX(INDIRECT(\"'\"&Allgemeines!$E$4&\"'\"&\"!\"&$Z$4),AE23)))","v":{"$error":"#REF!"}},{"$f":"RIGHT(Sanierungsstufen_2[[#This Row],[Sanierungsschritt mit Nummer]],LEN(Sanierungsstufen_2[[#This Row],[Sanierungsschritt mit Nummer]])-FIND(\"-\",Sanierungsstufen_2[[#This Row],[Sanierungsschritt mit Nummer]]))","v":{"$error":"#REF!"}}]
[null,null,null,null,null,null,null,null,null,null,null,null,null,null,null,null,null,null,null,null,null,null,null,null,null,null,null,null,null,null,17,{"$f":"IF(Allgemeines!$E$4=\"\",\"\",IF(INDEX(INDIRECT(\"'\"&Allgemeines!$E$4&\"'\"&\"!\"&$Z$4),AE24)=0,\"\",INDEX(INDIRECT(\"'\"&Allgemeines!$E$4&\"'\"&\"!\"&$Z$4),AE24)))","v":{"$error":"#REF!"}},{"$f":"RIGHT(Sanierungsstufen_2[[#This Row],[Sanierungsschritt mit Nummer]],LEN(Sanierungsstufen_2[[#This Row],[Sanierungsschritt mit Nummer]])-FIND(\"-\",Sanierungsstufen_2[[#This Row],[Sanierungsschritt mit Nummer]]))","v":{"$error":"#REF!"}}]
[null,null,"Fenstereinbau",{"$f":"'Lüftung Bestand'!F11","v":0},null,null,null,null,null,null,null,null,null,null,null,null,null,null,null,null,null,null,null,null,null,null,null,null,null,null,18,{"$f":"IF(Allgemeines!$E$4=\"\",\"\",IF(INDEX(INDIRECT(\"'\"&Allgemeines!$E$4&\"'\"&\"!\"&$Z$4),AE25)=0,\"\",INDEX(INDIRECT(\"'\"&Allgemeines!$E$4&\"'\"&\"!\"&$Z$4),AE25)))","v":{"$error":"#REF!"}},{"$f":"RIGHT(Sanierungsstufen_2[[#This Row],[Sanierungsschritt mit Nummer]],LEN(Sanierungsstufen_2[[#This Row],[Sanierungsschritt mit Nummer]])-FIND(\"-\",Sanierungsstufen_2[[#This Row],[Sanierungsschritt mit Nummer]]))","v":{"$error":"#REF!"}}]
[null,null,"Erwartete Lebensdauer",null,null,null,null,null,null,null,null,null,null,null,null,null,null,null,null,null,null,null,null,null,null,null,null,null,null,null,19,{"$f":"IF(Allgemeines!$E$4=\"\",\"\",IF(INDEX(INDIRECT(\"'\"&Allgemeines!$E$4&\"'\"&\"!\"&$Z$4),AE26)=0,\"\",INDEX(INDIRECT(\"'\"&Allgemeines!$E$4&\"'\"&\"!\"&$Z$4),AE26)))","v":{"$error":"#REF!"}},{"$f":"RIGHT(Sanierungsstufen_2[[#This Row],[Sanierungsschritt mit Nummer]],LEN(Sanierungsstufen_2[[#This Row],[Sanierungsschritt mit Nummer]])-FIND(\"-\",Sanierungsstufen_2[[#This Row],[Sanierungsschritt mit Nummer]]))","v":{"$error":"#REF!"}}]
[null,null,"Spätester Austausch",{"$f":"MAX(D25+D26,D6)","v":0},null,null,null,null,null,null,null,null,null,null,null,null,null,null,null,null,null,null,null,null,null,0,null,null,null,null,20,{"$f":"IF(Allgemeines!$E$4=\"\",\"\",IF(INDEX(INDIRECT(\"'\"&Allgemeines!$E$4&\"'\"&\"!\"&$Z$4),AE27)=0,\"\",INDEX(INDIRECT(\"'\"&Allgemeines!$E$4&\"'\"&\"!\"&$Z$4),AE27)))","v":{"$error":"#REF!"}},{"$f":"RIGHT(Sanierungsstufen_2[[#This Row],[Sanierungsschritt mit Nummer]],LEN(Sanierungsstufen_2[[#This Row],[Sanierungsschritt mit Nummer]])-FIND(\"-\",Sanierungsstufen_2[[#This Row],[Sanierungsschritt mit Nummer]]))","v":{"$error":"#REF!"}}]
[null,null,"Vorgesehender Austausch"]
[]
[null,null,"Einbau des Wärmeübergabesystems",{"$f":"'WÜ Bestand'!G6","v":0}]
[null,null,"Erwartete Lebensdauer",{"$f":"'WÜ Bestand'!G7","v":0},null,null,null,null,null,null,null,null,null,null,null,null,null,null,null,null,null,null,null,null,null,null,6,null,{"$f":"AC32","v":""},{"$f":"AD32-5","v":0},"HWB/m²","HWB [kWh/a]","HL/m²","HL [kW]"]
[null,null,"Spätester Austausch",{"$f":"MAX(D30+D31,D6)","v":0},null,null,null,null,null,null,null,null,null,null,null,null,null,null,null,null,null,null,null,null,null,null,"D",{"$f":"IF((AA32&AA31)=\"\",\"\",INDIRECT(AA32&AA31))","v":0},{"$f":"IF(AB32=0,\"\",INDIRECT($AA32&$AA$31+1))","v":""},{"$f":"IF(AB32=0,MAX($AB$32:$AB$52)+5,AB32)","v":5},{"$f":"IF(AC32=0,MIN($AC32:$AC52),AC32)","v":""},{"$f":"AE32*EBF","v":{"$error":"#VALUE!"}},{"$f":"IF(AB32=0,\"\",INDIRECT($AA32&$AA$31+2))","v":""},{"$f":"AG32*EBF/1000","v":{"$error":"#VALUE!"}}]
[null,null,null,null,null,null,null,null,null,null,null,null,null,null,null,null,null,null,null,null,null,null,null,null,null,null,"D",{"$f":"IF((AA33&AA31)=\"\",\"\",INDIRECT(AA34&AA31))","v":0},{"$f":"IF(AB33=0,\"\",INDIRECT($AA33&$AA$31+1))","v":""},5,{"$f":"IF(AC33=\"\",AE32,AC33)","v":""},{"$error":"#VALUE!"},{"$f":"IF(AB33=0,AG32,INDIRECT($AA33&$AA$31+2))","v":""},{"$error":"#VALUE!"}]
[null,null,null,null,null,null,null,null,null,null,null,null,null,null,null,null,null,null,null,null,null,null,null,null,null,null,"E",{"$f":"IF((AA34&$AA$31)=\"\",\"\",INDIRECT(AA35&$AA$31))","v":0},{"$f":"IF(AB34=0,\"\",INDIRECT($AA34&($AA$31+1)))","v":""},5,{"$f":"IF(AC34=\"\",AE33,AC34)","v":""},{"$error":"#VALUE!"},"",{"$error":"#VALUE!"}]
[null,null,null,null,null,null,null,null,null,null,null,null,null,null,null,null,null,null,null,null,null,null,null,null,null,null,"E",0,"",5,"",{"$error":"#VALUE!"},"",{"$error":"#VALUE!"}]
[null,null,null,null,null,null,null,null,null,null,null,null,null,null,null,null,null,null,null,null,null,null,null,null,null,null,"F",0,"",5,"",{"$error":"#VALUE!"},"",{"$error":"#VALUE!"}]
[null,null,null,null,null,null,null,null,null,null,null,null,null,null,null,null,null,null,null,null,null,null,null,null,null,null,"F",0,"",5,"",{"$error":"#VALUE!"},"",{"$error":"#VALUE!"}]
[null,null,null,null,null,null,null,null,null,null,null,null,null,null,null,null,null,null,null,null,null,null,null,null,null,null,"G",0,"",5,"",{"$error":"#VALUE!"},"",{"$error":"#VALUE!"}]
[null,null,null,null,null,null,null,null,null,null,null,null,null,null,null,null,null,null,null,null,null,null,null,null,null,null,"G",0,"",5,"",{"$error":"#VALUE!"},"",{"$error":"#VALUE!"}]
[null,null,null,null,null,null,null,null,null,null,null,null,null,null,null,null,null,null,null,null,null,null,null,null,null,null,"H",0,"",5,"",{"$error":"#VALUE!"},"",{"$error":"#VALUE!"}]
[null,null,null,null,null,null,null,null,null,null,null,null,null,null,null,null,null,null,null,null,null,null,null,null,null,null,"H",0,"",5,"",{"$error":"#VALUE!"},"",{"$error":"#VALUE!"}]
[null,null,null,null,null,null,null,null,null,null,null,null,null,null,null,null,null,null,null,null,null,null,null,null,null,null,"I",0,"",5,"",{"$error":"#VALUE!"},"",{"$error":"#VALUE!"}]
[null,null,null,null,null,null,null,null,null,null,null,null,null,null,null,null,null,null,null,null,null,null,null,null,null,null,"I",0,"",5,"",{"$error":"#VALUE!"},"",{"$error":"#VALUE!"}]
[null,null,null,null,null,null,null,null,null,null,null,null,null,null,null,null,null,null,null,null,null,null,null,null,null,null,"J",0,"",5,{"$f":"IF(AC44=\"\",AE43,AC44)","v":""},{"$error":"#VALUE!"},{"$f":"IF(AB44=0,AG43,INDIRECT($AA44&$AA$31+2))","v":""},{"$f":"AG44*EBF/1000","v":{"$error":"#VALUE!"}}]
[null,null,null,null,null,null,null,null,null,null,null,null,null,null,null,null,null,null,null,null,null,null,null,null,null,null,"J",0,"",5,"",{"$error":"#VALUE!"},"",{"$error":"#VALUE!"}]
[null,null,null,null,null,null,null,null,null,null,null,null,null,null,null,null,null,null,null,null,null,null,null,null,null,null,"K",0,"",5,"",{"$error":"#VALUE!"},"",{"$error":"#VALUE!"}]
[null,null,null,null,null,null,null,null,null,null,null,null,null,null,null,null,null,null,null,null,null,null,null,null,null,null,"K",0,"",5,"",{"$error":"#VALUE!"},"",{"$error":"#VALUE!"}]
[null,null,null,null,null,null,null,null,null,null,null,null,null,null,null,null,null,null,null,null,null,null,null,null,null,null,"L",0,"",5,"",{"$error":"#VALUE!"},"",{"$error":"#VALUE!"}]
[null,null,null,null,null,null,null,null,null,null,null,null,null,null,null,null,null,null,null,null,null,null,null,null,null,null,"L",0,"",5,"",{"$error":"#VALUE!"},"",{"$error":"#VALUE!"}]
[null,null,null,null,null,null,null,null,null,null,null,null,null,null,null,null,null,null,null,null,null,null,null,null,null,null,"L",0,"",5,"",{"$error":"#VALUE!"},"",{"$error":"#VALUE!"}]
[null,null,null,null,null,null,null,null,null,null,null,null,null,null,null,null,null,null,null,null,null,null,null,null,null,null,"M",0,"",5,"",{"$error":"#VALUE!"},"",{"$error":"#VALUE!"}]
[null,null,null,null,null,null,null,null,null,null,null,null,null,null,null,null,null,null,null,null,null,null,null,null,null,null,"M",null,"",5,"",{"$error":"#VALUE!"},"",{"$error":"#VALUE!"}]

{"sheet":"WE Auswahl","index":8,"n_rows":182,"n_cols":23,"rows_kept":182,"cut":false,"hidden":false,"merged":[[17,2,17,9],[158,2,158,9],[110,5,110,6],[111,5,111,6],[113,5,113,6],[127,5,127,6],[123,2,123,9],[124,2,124,9],[117,5,117,6],[117,7,117,8],[119,6,119,7],[120,6,120,7],[121,6,121,7],[136,2,136,9],[39,2,39,3],[40,2,40,3],[7,3,7,7],[5,2,5,7],[3,2,3,7],[9,2,9,5],[11,3,11,7],[100,2,100,9],[101,2,101,9],[102,2,102,9],[34,4,34,9],[35,4,35,9],[36,4,36,9],[37,4,37,9],[55,6,55,7],[46,2,46,9],[80,6,80,7],[63,2,63,9],[65,2,65,9],[83,2,83,9],[56,6,56,7],[58,2,58,10],[97,2,97,9],[72,5,72,6],[60,6,60,7],[72,9,72,10],[74,6,74,7],[76,6,76,7],[75,6,75,7],[72,7,72,8],[35,20,40,20],[48,2,48,9],[50,2,50,9],[29,2,29,9],[39,4,39,9],[40,4,40,9],[42,2,42,4],[42,6,42,7],[38,4,38,9],[52,7,52,8],[52,9,52,10],[53,7,53,8],[53,9,53,10],[20,2,20,9],[52,2,52,3],[53,2,53,3],[44,2,44,9],[22,2,22,9],[24,2,24,9],[27,2,27,9],[26,2,26,9],[170,2,171,3],[170,4,171,11],[71,2,71,3],[71,5,71,6],[71,7,71,8],[71,9,71,10],[138,2,138,9],[142,2,142,9],[131,2,133,9],[72,2,72,3],[116,5,116,6],[116,7,116,8],[103,2,103,9],[105,2,105,9],[107,7,107,8],[107,5,107,6],[138,18,138,21],[125,2,125,11],[78,2,78,10],[15,3,15,7],[1,1,1,12],[69,2,69,9],[67,2,67,9],[108,5,108,6],[108,7,108,8],[18,2,18,9],[52,15,53,15],[52,16,53,16],[52,17,53,17],[51,16,51,17],[52,5,52,6],[53,5,53,6]]}
[]
[null,"AUSWAHL DES NEUEN WÄRMEERZEUGERS"]
[]
[null,null,"EMPFEHLUNGEN"]
[null,null,null,null,null,null,null,null,null,null,null,null,null,null,null,null,null,null,null,null,null,"Eigenschaften","Energieträger"]
[null,null,"Gibt es aus irgendeinem Grund klare Präferenzen für einen bestimmten Energieträger?",null,null,null,null,null,null,null,null,null,null,null,null,null,null,null,null,null,null,"Niedrige Investitionskosten","Wärmepumpe"]
[null,null,null,null,null,null,null,null,null,null,null,null,null,null,null,null,null,null,null,null,null,"Niedrige Betriebskosten ","Holz"]
[null,null,null,null,null,null,null,null,null,null,null,null,null,null,{"$f":"MATCH(D8,WE_Präferenzen_Energieträger[Energieträger],0)","v":{"$error":"#N/A"}},{"$f":"Sanierungsschritte!D21","v":0},{"$f":"INDEX('WE Leistung'!H10:H21,MATCH(P8,'WE Leistung'!K10:K21,1))","v":{"$error":"#N/A"}},null,null,null,null,"Nutzung erneuerbarer Energien","Fernwärme"]
[null,null,null,null,null,null,null,null,null,null,null,null,null,null,null,null,null,null,null,null,null,"keine klaren Präferenzen","Gas"]
[null,null,"Ist Ihnen eine der drei folgenden Eigenschaften besonders wichtig?",null,null,null,null,null,null,null,null,null,null,null,null,null,null,null,null,null,null,null,"Heizöl"]
[null,null,null,null,null,null,null,null,null,null,null,null,null,null,null,null,null,null,null,null,null,null,"keine klaren Präferenzen"]
[null,null,null,null,null,null,null,null,null,null,null,null,null,null,{"$f":"MATCH(D12,WE_Präferenzen[Eigenschaften],0)","v":{"$error":"#N/A"}},null,"Niedrigstenergiehaus (A)     < 25 kWh/m²a"]
[null,null,null,null,null,null,null,null,null,null,null,null,null,null,null,null,"Niedrigenergiehaus (B)     < 50 kWh/m²a"]
[null,null,{"$f":"IF('WE Bestand'!I32=\"ja\",\"Gebäudestandard gemäß Energieausweis beim voraussichtlichen Ausfall des Wärmeerzeugers (\"&P8&\"):\",\"Aktueller Gebäudestandard gemäß Energieausweis - Heizwärmeerzeuger nicht mehr funktionsfähig:\")","v":"Aktueller Gebäudestandard gemäß Energieausweis - Heizwärmeerzeuger nicht mehr funktionsfähig:"},null,null,null,null,null,null,null,null,null,null,null,null,null,"Altbau (C)     < 100 kWh/m²a"]
[null,null,null,null,null,null,null,null,null,null,null,null,null,null,null,null,"Altbau (D)     > 100 kWh/m²a"]
[null,null,null,{"$f":"IF($Q$8<25,$Q$12,IF($Q$8<50,$Q$13,IF($Q$8<100,Q14,Q15)))","v":{"$error":"#N/A"}},null,null,null,null,null,null,null,null,null,null,{"$f":"MATCH(D16,Q12:Q15,0)","v":{"$error":"#N/A"}}]
[]
[null,null,"Empfehlung:"]
[null,null,{"$f":"INDEX(IF(OR($O$16=3,$O$16=4),'WE Matrix'!$C$4:$F$9,IF($O$16=2,'WE Matrix'!G4:J9,'WE Matrix'!K4:N9)),'WE Auswahl'!O8,'WE Auswahl'!O12)","v":{"$error":"#N/A"}}]
[]
[null,null,"Diese Empfehlung soll einen ersten Anhaltspunkt bieten. Im Folgenden können weitere Kriterien für die jeweiligen Heizwärmeerzeuger im Detail überprüft und verschiedene Energieträger miteinander verglichen werden.",null,null,null,null,null,null,null,null,null,null,null,"Präferenz\nEnergietr.","keine klare Präf.","Einfärben ja/nein"]
[]
[null,null,"WÄRMEPUMPEN",null,null,null,null,null,null,null,null,null,null,1,{"$f":"IF($D$8=INDEX(WE_Präferenzen_Energieträger[Energieträger],N23),1,0)","v":0},{"$f":"IF(OR(AND(O8=6,O12=2),AND(O8=6,OR(O12=3,O12=4),OR(O16=1,O16=2))),1,0)","v":{"$error":"#N/A"}},{"$f":"IF($O$8=6,P23,O23)","v":{"$error":"#N/A"}}]
[]
[null,null,"Grundsätzlich sind bei Wärmepumpen in Einfamilienhäusern drei Wärmequellen gängig:"]
[null,null,"Grundwasser","Erdreich","Außenluft"]
[null,null,"Als Wärmesenke im Gebäude kommt für sanierte Gebäude praktisch gesehen nur Wasser in Frage, da die energetischen Anforderungen für eine reine Luftheizung in sanierten Gebäuden zu hoch sind. "]
[null,null,"Für die Nutzung von Grundwasser oder dem Erdreich bedarf es geeigneter Randbedingungen. Der Betrieb erfogt üblicherweise monovalent. Die Nutzung der Außenluft ist hingegen nahezu uneingeschränkt möglich (Im Außenbereich ist auf den Schallpegel der Anlage zu achten) Der Betrieb erfolgt sinnvollerweise bivalent."]
[]
[null,null,"Wasser-Wasser-Wärmepumpe - Wärmequelle Grundwasser"]
[null,null,null,null,null,null,null,null,null,null,null,null,null,null,null,"ja"]
[null,null,"Die Anlage besteht grundsätzlich aus der Wärmepumpe, einem Förder- und einem Schluckbrunnen",null,null,null,null,null,null,null,null,null,null,null,null,"nein"]
[]
[null,null,"Voraussetzungen und zu klärende Fragen:"]
[null,null,null,null,"Auswirkungen"]
[null,null,"In welcher Tiefe liegt der Grundwasserspiegel?",null,"Nötige Brunnentiefe, Investitionskosten",null,null,null,null,null,null,null,null,null,null,null,null,null,null,null,"Quellenangaben?\n\"Waermeerzeuger_e1\""]
[null,null,"Wie ist der geotechnische Bodenaufbau? ",null,"Aufwand und Kosten des Brunnenbaus"]
[null,null,"Gibt es Grundwasserstockwerke?",null,"Folgen eines errichteten Brunnens wären dann mitunter schwer oder kaum absehbar"]
[null,null,"Weist der Boden eine ausreichende Durchlässigkeit auf?",null,"Besonders für den Förderbrunnen und in weiterer Folge die Effizienz der Wärmepumpe von Bedeutung.\nEine Probebohrung und ein Pumpversuch sind äußerst empfehlenswert."]
[null,null,"Gibt es eventuell behördliche Vorbehalte?",null,"Bei unsachgemäßer Ausführung kann das Grundwasser negativ beeinflusst werden z.B. Verockerung des Bodens bei eindringendem Luftsauerstoff. \nGrundsätzlich ist eine wasserrechtliche Bewilligung erforderlich, die auch oft nur befristet ausgestellt wird!"]
[null,null,"Wie ist die chemische Zusammensetzung des Grundwassers?",null,"Es ist unbedingt eine Wasseranalyse durchzuführen! Bei einem zu hohen Eisen- bzw. Mangangehalt besteht die Gefahr der aggressiven Korrosion im Wärmetauscher. Auch ein zu hoher pH-Wert ist problematisch."]
[]
[null,null,"Sind diese Voraussetzungen für die Verwendung einer Wasser-Wasser-Wärmepumpe erfüllt?"]
[]
[null,null,"Wasser-Wasser-Wärmepumpe - Wärmequelle Oberflächenwässer"]
[]
[null,null,"Grundsätzlich ist es auch möglich, Bach-, Fluss- oder Seewasser als Wärmequelle zu verwenden. Die Wassertemperatur schwankt dabei im Vergleich zum Grundwasser besonders bei kleinen, seichten Gewässern jedoch deutlich stärker. Ganz speziell muss dabei auf die Vereisungsgefahr Rücksicht genommen werden"]
[]
[null,null,"Wasser-Sole-Wärmepumpe - Erdkollektor"]
[]
[null,null,"Die Anlage besteht grundsätzlich aus der Wärmpumpe und einem Erdkollektor. Voraussetzung hierfür ist, dass eine ausreichend große Fläche zur Verfügung steht. Diese soll nun kurz abgeschätzt werden:"]
[null,null,null,null,null,null,null,null,null,null,null,null,null,null,null,null,"Vermutlich deutlich höhere Entnahmedauern"]
[null,null,"Bodenart",null,"Entahmeleistung \nbei 2400 h/a","Gewählte spezifische Leistung",null,"Vorrausichtlicher\nKesseltausch",null,"Betrachteter Zeitpunkt",null,"Heizlast",null,null,null,"Bodenart","Entzugsleistung bei \n1800 h/a    [W/m²]","Entzugsleistung bei \n2400 h/a    [W/m²]"]
[null,null,null,null,{"$f":"INDEX(R55:R59,MATCH(C54,P55:P59,0))","v":{"$error":"#N/A"}},null,null,{"$f":"Sanierungsschritte!D21","v":0},null,null,null,{"$f":"INDEX('WE Leistung'!J10:J21,MATCH('WE Auswahl'!J54,'WE Leistung'!K10:K21,1))","v":{"$error":"#N/A"}}]
[null,null,null,null,null,null,null,null,null,null,null,null,null,null,null,"trockener Sand, Kies","8 - 12 W/m²","6 -10  W/m²"]
[null,null,"Daraus ergibt sich eine erforderliche Kollektorfläche von:",null,null,null,{"$f":"L54*1000/F54","v":{"$error":"#N/A"}},null,null,null,null,null,null,null,null,"feuchter Sand, Kies","15 - 20 W/m²","12 -16 W/m²"]
[null,null,"Dieser Fläche steht theoretisch folgende Gartenfläche gegenüber: ",null,null,null,{"$f":"Beschreibung!F6","v":0},null,{"$f":"IF(G57<G56,\"Die Gartenfläche ist zu klein!\",\"\")","v":{"$error":"#N/A"}},null,null,null,null,null,null,"trockener Ton, Lehm","20 - 25 W/m²","15 - 20 W/m²"]
[null,null,null,null,null,null,null,null,null,null,null,null,null,null,null,"feuchter Ton, Lehm","25 - 30 W/m²","20 - 24 W/m²"]
[null,null,"Nun gilt es zu klären, ob die praktisch verfügbare Gartenfläche dafür ausreicht. Dafür ausschlaggebend ist die größte sinnvoll unterbringbare, zusammenhängende Fläche die frei von Sträuchern, Bäumen und Bebauungen ist.",null,null,null,null,null,null,null,null,null,null,null,null,"Wasser führende Böden","30 - 40 W/m²","25 - 32 W/m²"]
[]
[null,null,"Lässt sich die erforderliche Kollektorfläche im Garten unterbringen?"]
[]
[]
[null,null,"Wasser-Sole-Wärmepumpe - Erdsonden"]
[]
[null,null,"Die Anlage besteht aus der Wärmpumpe und einer Reihe von Erdsonden. Im Gegensatz zum Erdkollektor ist der benötigte Platzbedarf relativ gering. Die Entscheidung für bzw. gegen die Wärmepumpe mit Erdsonden ist somit in erster Linie von der Bodenbeschaffenheit und damit der möglichen Entnahmeleistung und den Investionskosten abhängig.\n\nFür eine Abschätzung dieser Kosten wenden Sie sich am besten direkt an einen geeigneten Brunnenbauer. Achten Sie dabei darauf, dass dieser nach Zertifizierung DVGW W120 zu diesen Arbeiten berechtigt ist."]
[]
[null,null,"Wasser-Sole-Wärmepumpe - Energiekörbe"]
[]
[null,null,"Energiekörbe sind gewissermaßen eine Mischung zwischen Erdkollektor und Erdsonden. Sie werden wie Erdkollektoren oberflächennah eingebaut, brauchen jedoch weniger Platz (mindestens 10 m² je Korb, mindestens 4 m zwischen den Körben). Die Herstellung ist aufgrund der aufwändigeren Erdarbeiten teuerer als die von Erdkollektoren und günstiger als die von Erdsonden."]
[null,null,null,null,null,null,null,null,null,null,null,null,null,null,null,"Bodenart","Entzugsleistung "]
[null,null,"Bodenart",null,"Entahmeleistung je Korb","Gewählte spezifische Leistung",null,"Vorrausichtlicher\nKesseltausch",null,"Betrachteter Zeitpunkt",null,"Heizlast",null,null,null,"trockener Sand, Kies","120 - 180 W/Korb"]
[null,null,null,null,{"$f":"INDEX(Q72:Q76,MATCH(C73,P72:P76,0))","v":{"$error":"#N/A"}},null,null,{"$f":"Sanierungsschritte!D21","v":0},null,null,null,{"$f":"INDEX('WE Leistung'!J10:J21,MATCH('WE Auswahl'!J73,'WE Leistung'!K10:K21,1))","v":{"$error":"#N/A"}},null,null,null,"feuchter Sand, Kies","190 - 240 W/Korb"]
[null,null,null,null,null,null,null,null,null,null,null,null,null,null,null,"trockener Ton, Lehm","240 - 310 W/Korb"]
[null,null,"Somit erforderliche Anzahl von Energiekörben:",null,null,null,{"$f":"ROUNDUP(L73*1000/F73,0)","v":{"$error":"#N/A"}},null,null,null,null,null,null,null,null,"feuchter Ton, Lehm","310 - 380 W/Korb"]
[null,null,"Daraus ergibt sich eine erforderliche Kollektorfläche von:",null,null,null,{"$f":"G75*10","v":{"$error":"#N/A"}},null,null,null,null,null,null,null,null,"Wasser führende Böden","390 - 490 W/Korb"]
[null,null,"Dieser Fläche steht theoretisch folgende Gartenfläche gegenüber: ",null,null,null,{"$f":"Beschreibung!F6","v":0},null,null,{"$f":"IF(G77<G75,\"Gartenfläche zu klein!\",\"\")","v":{"$error":"#N/A"}}]
[]
[null,null,"Nun gilt es zu klären, ob die praktisch verfügbare Gartenfläche dafür ausreicht. Dafür ausschlaggebend ist die größte sinnvoll unterbringbare, zusammenhängende Fläche die frei von Sträuchern, Bäumen und Bebauungen ist."]
[]
[null,null,"Lässt sich diese zum Einbau der Energiekörbe erforderliche Fläche im Garten unterbringen?"]
[]
[]
[null,null,"Gegenüberstelllung von Wärmepumpen"]
[]
[null,null,"Wasser-Wasser","Sole-Wasser","Luft-Wasser"]
[null,null,"bester Wirkungsgrad\ngeringste Betriebskosten","sehr guter Wirkungsgrad\ngeringe Betriebskosten","geringerer Wirkungsgrad\nhöhere Betriebskosten"]
[null,null,"günstige Erschließung der Wärmequelle (Brunnen)","hohe Kosten für Erdsonden, bei Erdkollektoren geringer","keine Kosten für die Erschließung der Wärmequelle"]
[null,null,"Wärmepumpe kostengünstig","Wärmepumpe kostengünstig","hohe Wärmepumpenkosten"]
[null,null,"hoher Planungsaufwand","hoher Planungsaufwand","geringer Planungsaufwand"]
[null,null,"begrenzte Lebensdauer der Brunnen","sehr lange Lebensdauer der Erdsonden und Erdkolletoren"]
[null,null,"monovalenter Betrieb möglich","monovalenter Betrieb möglich","kein monovalenter Betrieb möglich"]
[null,null,"geringer Platzbedarf im Gebäude","geringer Platzbedarf im Gebäude, bei Erdkollektoren sehr großer Platzbedarf außen","höherer Platzbedarf im Gebäude"]
[null,null,"geringe Vereisungsgefahr","sehr hohe Betriebssicherheit","hohe Betriebssicherheit"]
[null,null,"in der Regel recht leise","in der Regel recht leise","Geräuschbildung bei Abtaubetrieb"]
[]
[]
[null,null,"HOLZ",null,null,null,null,null,null,null,null,null,null,2,{"$f":"IF($D$8=INDEX(WE_Präferenzen_Energieträger[Energieträger],N98),1,0)","v":0},1,{"$f":"IF($O$8=6,P98,O98)","v":{"$error":"#N/A"}}]
[]
[null,null,"Für Einfamilienhäuser kommen grundsätzlich Holzvergaserkessel oder Pelletsheizungen in Frage."]
[null,null,"Holzvergaserkessel sind zwar in der Anschaffung günstiger als eine Pelletsheizung allerdings gibt es dabei ganz besonders zwei Dinge zu beachten: "]
[null,null,"      - Komfortgewinn bei Einsatz einer automatisch arbeitenden Pelletsheizung im Gegensatz zur händischen Beschickung eines Holzvergaserkessels "]
[null,null,"      - Größe der Anlage. Pelletsheizungen sind inzwischen auch schon modulierbar mit kleinen Leistungen erhältlich. Dies ist bei Holzvergaserkesseln  \n         systembedingt kaum bzw. nicht möglich was speziell bei gut sanierten Gebäuden sehr große Pufferspeicher erforderlich macht."]
[null,null,"Für einen Holzvergaserkessel kann ein guter Zugang zu Brennholz sprechen (z.B. eigener Wald)"]
[]
[null,null,"Grundvoraussetzung für Holz als Brennstoff ist die Möglichkeit der Lagerung:"]
[null,null,"Holzvergaserkessel"]
[null,null,"Holzart","Heizwert\n[kWh/rm]","Voraussichtlicher \nKesseltausch","Betrachteter Zeitpunkt",null,"Heizwärmebedarf pro Jahr\n[kWh/a]",null,null,null,null,null,null,null,"Holzart","Heizwert\n[kWh/Rm]"]
[null,null,null,{"$f":"INDEX(Q109:Q110,MATCH(C109,P109:P110,0))","v":{"$error":"#N/A"}},{"$f":"Sanierungsschritte!D21","v":0},null,null,{"$f":"INDEX('WE Leistung'!H10:H15,(MATCH('WE Auswahl'!F109,'WE Leistung'!K10:K21,1)))*EBF","v":{"$error":"#N/A"}},null,null,null,null,null,null,null,"Fichte",1400]
[null,null,null,null,null,null,null,null,null,null,null,null,null,null,null,"Buche",2000]
[null,null,"Daraus ergibt sich ein erforderlicher Lagerraum von ",null,null,{"$f":"H109/D109","v":{"$error":"#N/A"}}]
[null,null,"Steht dieser Lagerraum zu Verfügung (auch aufgeteilt auf mehrere Stellen und im Freien)?"]
[]
[null,null,"Wenn nein, kann dies kompensiert werden durch Auffüllen des Lagers während dem Jahr?",null,null,null,null,null,null,null,null,null,null,null,{"$f":"IF(F112=\"ja\",1,0)","v":0}]
[null,null,null,null,null,null,null,null,null,null,null,null,null,null,{"$f":"IF(F112=\"ja\",1,IF(F114=\"ja\",1,0))","v":0}]
[null,null,"Pelletskessel"]
[null,null,"Energiegehalt\n[kWh/kg]","Schüttdichte\n[kg/m³]","Voraussichtlicher \nKesseltausch","Betrachteter Zeitpunkt",null,"Heizwärmebedarf pro Jahr\n[kWh/a]",null,null,null,null,null,null,null,"Faustwert lt."]
[null,null,5,650,{"$f":"Sanierungsschritte!D21","v":0},null,null,{"$f":"INDEX('WE Leistung'!H10:H15,(MATCH('WE Auswahl'!F118,'WE Leistung'!K10:K21,1)))*Sanierungsschritte!D15","v":{"$error":"#N/A"}},null,null,null,null,null,null,null,"http://www.pelletsheizung.at/de/lager/"]
[null,null,null,null,null,null,null,null,null,null,null,null,null,null,null,"0,9 m³/kW Heizlast"]
[null,null,"Erforderlicher Lagervolumen",null,null,null,{"$f":"H118/(C118*D118)","v":{"$error":"#N/A"}}]
[null,null,"Erforderliches Lagervolumen unter Berücksichtigung der Leerräume",null,null,null,{"$f":"G120/2*3","v":{"$error":"#N/A"}}]
[null,null,"Dafür erforderliche Raumfläche",null,null,null,{"$f":"G121/IF(Beschreibung!F13=\"ja\",Beschreibung!D22,Beschreibung!H22)","v":{"$error":"#N/A"}}]
[]
[null,null,{"$f":"IF(AND('WE Bestand'!M17=0,'WE Bestand'!I15=\"ja\",G122<='WE Bestand'!I17),\"Aufgrund der Größe des bestehenden Lagerraumes sollte die Lagerung der Pellets somit kein Problem darstellen\",IF(AND('WE Bestand'!M17=0,'WE Bestand'!I15=\"ja\",G122>'WE Bestand'!I17),\"Das bestehende Lager ist zu klein. Es gibt daher zwei Optionen:\",\"Im bestehenden Gebäude gab es bisher keinen eigenen Lagerraum. Mögliche Abhilfe:\"))","v":{"$error":"#N/A"}}]
[null,{"$f":"IF(C125=\"\",\"\",\"1.)\")","v":{"$error":"#N/A"}},{"$f":"IF(AND('WE Bestand'!M17=0,'WE Bestand'!I15=\"ja\",G122>'WE Bestand'!I17),\"Häufigeres Befüllen des Lagers (öfter als einmal pro Jahr)\",\"\")","v":{"$error":"#N/A"}}]
[null,{"$f":"IF(C125=\"\",\"\",\"2.)\")","v":{"$error":"#N/A"}},"Schaffung eines Lagerraumes, ev. auch durch Abtrennen von einem bestehenden Raum. Ein länglicher Lagerraum mit einer Breite von weniger als 2 Metern ist dafür günstig.",null,null,null,null,null,null,null,null,null,null,null,{"$f":"IF(AND('WE Bestand'!L17=0,'WE Bestand'!M17=0,'WE Bestand'!I17>='WE Auswahl'!G122),1,0)","v":{"$error":"#N/A"}}]
[]
[null,null,"Scheint Ihnen dies praktikabel?",null,null,null,null,null," ",null,null,null,null,null,{"$f":"IF(O126=1,1,IF(F128=\"ja\",1,0))","v":{"$error":"#N/A"}},"Voraussetzungen erfüllt?"]
[]
[null,null,"Hackschnitzelanlage"]
[]
[null,null,"Hackschnitzelanlagen bieten zwar verhältnismäßig hohen Komfort und sehr geringe Brennstoffkosten sind in der Anschaffung  aber erheblich teurer als Holzvergaser- oder Pelletskessel. Aus diesem Grund ist der Einbau einer Hackschnitzelanlage erst bei relativ großen Leistungen und Energieverbräuchen (z.B. bei Mehrfamilienhäusern) wirtschaftlich. Bei hochwertig sanierten Einfamilienhäusern wird empfohlen einen anderen Heizwärmeereuger zu wählen."]
[]
[]
[]
[]
[null,null,"FERNWÄRME",null,null,null,null,null,null,null,null,null,null,3,{"$f":"IF($D$8=INDEX(WE_Präferenzen_Energieträger[Energieträger],N137),1,0)","v":0},{"$f":"IF(O12<>2,1,0)","v":{"$error":"#N/A"}},{"$f":"IF(AND($O$8=6,'WE Matrix'!D12=\"ja\"),P137,O137)","v":{"$error":"#N/A"}}]
[]
[null,null,{"$f":"IF('WE Matrix'!D12=\"ja\",'WE Auswahl'!S139:V139,'WE Auswahl'!R139)","v":"Im vorliegenden Fall gibt es weder einen Anschluss an ein Fernwärmenetz noch die Möglichkeit eines solchen. Die Nutzung von Fernwärme ist somit nicht möglich."},null,null,null,null,null,null,null,null,null,null,null,null,null,null,"Im vorliegenden Fall gibt es weder einen Anschluss an ein Fernwärmenetz noch die Möglichkeit eines solchen. Die Nutzung von Fernwärme ist somit nicht möglich.","Um Fernwärme nutzen zu können braucht es einerseits einen Anschluss an ein Fernwärmenetz und andererseits eine Übergabestation im Haus. Die Kosten für den Anschluss und die Kosten pro kWh Heizwärme sind von Netz zu Netz unterschiedlich. Allgemein lässt sich jedoch sagen, dass Fernwärme umso wirtschaftlicher ist, je mehr Abnehmer sich im Netz befinden und je dichter die Abnehmer beieinander liegen.\n\nKontaktieren Sie für nähere Informationen den Betreiber des in Frage kommenden Fernwärmenetzes."]
[]
[]
[]
[null,null,"GAS",null,null,null,null,null,null,null,null,null,null,4,{"$f":"IF($D$8=INDEX(WE_Präferenzen_Energieträger[Energieträger],N143),1,0)","v":0},{"$f":"IF(O12=1,1,0)","v":{"$error":"#N/A"}},{"$f":"IF(AND($O$8=6,'WE Matrix'!F12=\"ja\"),P143,O143)","v":{"$error":"#N/A"}}]
[]
[null,null,"Für einen Gaskessel spricht"]
[null,null,"     - Vergleichsweise niedrige Investitionskosten"]
[null,null,"     - kein Lagerraum erforderlich"]
[null,null,"     - Energieabgabe gut regelbar"]
[null,null,"     - Warmwasserbereitung ohne Speicher möglich"]
[]
[null,null,"Gegen einen Gaskessel spricht"]
[null,null,"     - Fossiler Energieträger, Umweltauswirkungen"]
[null,null,"     - Abhängigkeit von Importen"]
[null,null,"     - Unklare Preisentwicklung"]
[null,null,"     - Schornstein erforderlich"]
[null,null,"     - Anforderungen an Heizraum"]
[]
[]
[null,null,"HEIZÖL",null,null,null,null,null,null,null,null,null,null,5,{"$f":"IF($D$8=INDEX(WE_Präferenzen_Energieträger[Energieträger],N159),1,0)","v":0},0,{"$f":"IF($O$8=6,P159,O159)","v":{"$error":"#N/A"}}]
[]
[null,null,"Gegen einen Heizölkessel spricht"]
[null,null,"     - Fossiler Energieträger, Umweltauswirkungen"]
[null,null,"     - Abhängigkeit von Importen"]
[null,null,"     - Unklare Preisentwicklung"]
[null,null,"     - Öllager erforderlich"]
[null,null,"     - Schornstein erforderlich"]
[null,null,"     - Anforderungen an Heizraum"]
[]
[]
[]
[null,null,"Gewählter Heizwärmeerzeuger:",null,null,null,null,null,null,null,null,null,null,null,null,null,"Heizwärmeerzeuger","Temperatur"]
[null,null,null,null,null,null,null,null,null,null,null,null,null,null,null,null,"Luft-Wasser-Wärmepumpe","niedrig"]
[null,null,null,null,null,null,null,null,null,null,null,null,null,null,null,null,"Sole-Wasser-Wärmepumpe mit Erdkollektor","niedrig"]
[null,null,null,null,null,null,null,null,null,null,null,null,null,null,null,null,"Sole-Wasser-Wärmepumpe mit Erdsonden","niedrig"]
[null,null,null,null,null,null,null,null,null,null,null,null,null,null,null,null,"Sole-Wasser-Wärmepumpe mit Energiekörben","niedrig"]
[null,null,null,null,"Voraussetzungen erfüllt?",null,{"$f":"IF(AND(E171=Q173,G61=\"ja\"),\"ja\",IF(AND(E171=Q175,G81=\"ja\"),\"ja\",IF(AND(E171=Q177,O128=1),\"ja\",IF(AND(E171=Q176,G43=\"ja\"),\"ja\",IF(AND(E171=Q178,O115=1),\"ja\",IF(AND(E171=Q180,'WE Matrix'!D12=\"ja\"),\"ja\",IF(AND(E171=Q181,'WE Matrix'!F12=\"ja\"),\"ja\",IF(OR(E171='WE Auswahl'!Q172,E171='WE Auswahl'!Q179,E171='WE Auswahl'!Q182,Q174=E171),\"keine Voraussetzungen abgefragt\",\"nein\"))))))))","v":{"$error":"#N/A"}},null,null,null,{"$f":"IF(G176=\"nein\",1,0)","v":{"$error":"#N/A"}},null,null,null,null,null,"Wasser-Wasser-Wärmepumpe","niedrig"]
[null,null,null,null,null,null,null,null,null,null,null,null,null,null,null,null,"Pelletkessel","hoch"]
[null,null,null,null,null,null,"Die diesbezüglich abgefragten Voraussetzungen sind erfüllt.",null,null,null,null,null,null,null,null,null,"Holzvergaserkessel","hoch"]
[null,null,null,null,null,null,"Die diesbezüglich abgefragten Voraussetzungen sind nicht erfüllt; Bitte überprüfen Sie diese nochmals!",null,null,null,null,null,null,null," ",null,"Hackschnitzelanlage","hoch"]
[null,null,null,null,null,null,null,null,null,null,null,null,null,null,null,null,"Fernwärme","hoch"]
[null,null,null,null,null,null,null,null,null,null,null,null,null,null,null,null,"Gasbrennwertkessel","hoch"]
[null,null,null,null,null,null,null,null,null,null,null,null,null,null,null,null,"Ölbrennwertkessel","hoch"]

{"sheet":"WE Matrix","index":9,"n_rows":33,"n_cols":14,"rows_kept":33,"cut":false,"hidden":true,"merged":[[0,6,0,9],[0,10,0,13],[0,2,0,5],[27,0,27,6]]}
[null,null,"C - Altbau         < 100 kWh/m²a",null,null,null,"B - Niedrigenergiehaus          < 50 kWh/m²a ",null,null,null,"A - Niedrigstenergiehaus          < 25 kWh/m²a "]
[null,null,1,2,3,4,1,2,3,4,1,2,3,4]
[null,null,{"$f":"IF(INDEX(WE_Präferenzen[Eigenschaften],C2)<>0,INDEX(WE_Präferenzen[Eigenschaften],C2),\"\")","v":"Niedrige Investitionskosten"},{"$f":"IF(INDEX(WE_Präferenzen[Eigenschaften],D2)<>0,INDEX(WE_Präferenzen[Eigenschaften],D2),\"\")","v":"Niedrige Betriebskosten "},{"$f":"IF(INDEX(WE_Präferenzen[Eigenschaften],E2)<>0,INDEX(WE_Präferenzen[Eigenschaften],E2),\"\")","v":"Nutzung erneuerbarer Energien"},{"$f":"IF(INDEX(WE_Präferenzen[Eigenschaften],F2)<>0,INDEX(WE_Präferenzen[Eigenschaften],F2),\"\")","v":"keine klaren Präferenzen"},{"$f":"IF(INDEX(WE_Präferenzen[Eigenschaften],G2)<>0,INDEX(WE_Präferenzen[Eigenschaften],G2),\"\")","v":"Niedrige Investitionskosten"},{"$f":"IF(INDEX(WE_Präferenzen[Eigenschaften],H2)<>0,INDEX(WE_Präferenzen[Eigenschaften],H2),\"\")","v":"Niedrige Betriebskosten "},{"$f":"IF(INDEX(WE_Präferenzen[Eigenschaften],I2)<>0,INDEX(WE_Präferenzen[Eigenschaften],I2),\"\")","v":"Nutzung erneuerbarer Energien"},{"$f":"IF(INDEX(WE_Präferenzen[Eigenschaften],J2)<>0,INDEX(WE_Präferenzen[Eigenschaften],J2),\"\")","v":"keine klaren Präferenzen"},{"$f":"IF(INDEX(WE_Präferenzen[Eigenschaften],K2)<>0,INDEX(WE_Präferenzen[Eigenschaften],K2),\"\")","v":"Niedrige Investitionskosten"},{"$f":"IF(INDEX(WE_Präferenzen[Eigenschaften],L2)<>0,INDEX(WE_Präferenzen[Eigenschaften],L2),\"\")","v":"Niedrige Betriebskosten "},{"$f":"IF(INDEX(WE_Präferenzen[Eigenschaften],M2)<>0,INDEX(WE_Präferenzen[Eigenschaften],M2),\"\")","v":"Nutzung erneuerbarer Energien"},{"$f":"IF(INDEX(WE_Präferenzen[Eigenschaften],N2)<>0,INDEX(WE_Präferenzen[Eigenschaften],N2),\"\")","v":"keine klaren Präferenzen"}]
[1,{"$f":"INDEX(WE_Präferenzen_Energieträger[Energieträger],A4)","v":"Wärmepumpe"},"Eine Luft-Wasser-Wärmepumpe hat verglichen mit Sole-Wasser- bzw. Wasser-Wasser-Wärmepumpen die geringsten Investionskosten da die Außenluft als Wärmequelle sehr einfach genutzt werden kann.\n\nBeim gegebenen Stand der Sanierung sei jedoch darauf hingewiesen, dass die verhältnismäßig große erforderliche Leistung der Wärmepumpe sich nachteilig auf die Geräuschentwicklung im Außenbereich auswirkt. Weiters sollte unbedingt Flächenheizsysteme verwendet werden, da sonst die Wärmepumpe besonders im Winter aufgrund der hohen Vorlauftemperaturen äußerst ineffizient arbeitet.\n\nAus diesen Gründen ist eine Luft-Wasser-Wärmepumpe zu diesem Zeitpunkt der Sanierung nur bedingt empfehlenswert.","Es empfiehlt sich der Einsatz einer Sole-Wasser- oder einer Wasser-Wasser-Wärmepumpe.\nDiese haben zwar verglichen mit Luft-Wasser-Wärmepumpen höhere Investitionskosten, arbeiten jedoch speziell im Winter deutlich effizienter. Hierbei ist wichtig zu überprüfen, ob die örtlichen Gegebenheiten einen Einsatz zulassen.\n\nOb der Einsatz einer Wärmepumpe zu diesem Stand der Sanierung sinnvoll ist, hängt maßgeblich vom Wärmeübergabesystem ab. Hierbei sollten jedenfalls Flächeheizsysteme mit niedriger Vorlauftemperatur eingesetzt werden, damit die Wärmepumpe möglichst effizient arbeitet.","Es empfiehlt sich der Einsatz einer Sole-Wasser- oder einer Wasser-Wasser-Wärmepumpe.\nDiese haben zwar verglichen mit Luft-Wasser-Wärmepumpen höhere Investitionskosten, arbeiten jedoch speziell im Winter deutlich effizienter. Hierbei ist wichtig zu überprüfen, ob die örtlichen Gegebenheiten einen Einsatz zulassen.\n\nOb der Einsatz einer Wärmepumpe zu diesem Stand der Sanierung sinnvoll ist, hängt maßgeblich vom Wärmeübergabesystem ab. Hierbei sollten jedenfalls Flächeheizsysteme mit niedriger Vorlauftemperatur eingesetzt werden, damit die Wärmepumpe möglichst effizient arbeitet.","Es empfiehlt sich der Einsatz einer Sole-Wasser- oder einer Wasser-Wasser-Wärmepumpe.\nDiese haben zwar verglichen mit Luft-Wasser-Wärmepumpen höhere Investitionskosten, arbeiten jedoch speziell im Winter deutlich effizienter. Hierbei ist wichtig zu überprüfen, ob die örtlichen Gegebenheiten einen Einsatz zulassen.\n\nOb der Einsatz einer Wärmepumpe zu diesem Stand der Sanierung sinnvoll ist, hängt maßgeblich vom Wärmeübergabesystem ab. Hierbei sollten jedenfalls Flächeheizsysteme mit niedriger Vorlauftemperatur eingesetzt werden, damit die Wärmepumpe möglichst effizient arbeitet.","Es empfiehlt sich der Einsatz einer Luft-Wasser-Wärmepumpe. \nDiese hat verglichen mit Sole-Wasser- bzw. Wasser-Wasser-Wärmepumpen die geringsten Investionskosten da die Außenluft als Wärmequelle sehr einfach genutzt werden kann.\n\nUm Probleme mit Nachbarn zu vermeiden, sollte bei der Planung besonderes Augenmerk auf die Geräuschentwicklung im Außenbereich geachtet werden . Weiters sollte unbedingt Flächenheizsysteme verwendet werden, da sonst die Wärmepumpe besonders im Winter aufgrund der hohen Vorlauftemperaturen äußerst ineffizient arbeitet.","Es empfiehlt sich der Einsatz einer Sole-Wasser- oder einer Wasser-Wasser-Wärmepumpe.\nDiese haben zwar verglichen mit Luft-Wasser-Wärmepumpen höhere Investitionskosten, arbeiten jedoch speziell im Winter deutlich effizienter. Hierbei ist wichtig zu überprüfen, ob die örtlichen Gegebenheiten einen Einsatz zulassen.\n\nBeim Einsatz von Wärmepumpen zur Wärmeerzeugung sollten Flächenheizsysteme mit niedrigen Vorlauftemperaturen zur Wärmeübergabe in den Räumen verwendet werden.","Es empfiehlt sich der Einsatz einer Sole-Wasser- oder einer Wasser-Wasser-Wärmepumpe.\nDiese haben zwar verglichen mit Luft-Wasser-Wärmepumpen höhere Investitionskosten, arbeiten jedoch speziell im Winter deutlich effizienter. Hierbei ist wichtig zu überprüfen, ob die örtlichen Gegebenheiten einen Einsatz zulassen.\n\nBeim Einsatz von Wärmepumpen zur Wärmeerzeugung sollten Flächenheizsysteme mit niedrigen Vorlauftemperaturen zur Wärmeübergabe in den Räumen verwendet werden.","Es empfiehlt sich der Einsatz einer Sole-Wasser- oder einer Wasser-Wasser-Wärmepumpe.\nDiese haben zwar verglichen mit Luft-Wasser-Wärmepumpen höhere Investitionskosten, arbeiten jedoch speziell im Winter deutlich effizienter. Hierbei ist wichtig zu überprüfen, ob die örtlichen Gegebenheiten einen Einsatz zulassen.\n\nBeim Einsatz von Wärmepumpen zur Wärmeerzeugung sollten Flächenheizsysteme mit niedrigen Vorlauftemperaturen zur Wärmeübergabe in den Räumen verwendet werden.","Es empfiehlt sich der Einsatz einer Luft-Wasser-Wärmepumpe. \nDiese hat verglichen mit Sole-Wasser- bzw. Wasser-Wasser-Wärmepumpen die geringsten Investionskosten da die Außenluft als Wärmequelle sehr einfach genutzt werden kann.\n\nUm Probleme mit Nachbarn zu vermeiden, sollte bei der Planung besonderes Augenmerk auf die Geräuschentwicklung im Außenbereich geachtet werden . Weiters sollte unbedingt Flächenheizsysteme verwendet werden, da sonst die Wärmepumpe besonders im Winter aufgrund der hohen Vorlauftemperaturen äußerst ineffizient arbeitet.","Es empfiehlt sich der Einsatz einer Sole-Wasser- oder einer Wasser-Wasser-Wärmepumpe.\nDiese haben zwar verglichen mit Luft-Wasser-Wärmepumpen höhere Investitionskosten, arbeiten jedoch speziell im Winter deutlich effizienter. Hierbei ist wichtig zu überprüfen, ob die örtlichen Gegebenheiten einen Einsatz zulassen.\n\nBeim Einsatz von Wärmepumpen zur Wärmeerzeugung sollten Flächenheizsysteme mit niedrigen Vorlauftemperaturen zur Wärmeübergabe in den Räumen verwendet werden.","Es empfiehlt sich der Einsatz einer Sole-Wasser- oder einer Wasser-Wasser-Wärmepumpe.\nDiese haben zwar verglichen mit Luft-Wasser-Wärmepumpen höhere Investitionskosten, arbeiten jedoch speziell im Winter deutlich effizienter. Hierbei ist wichtig zu überprüfen, ob die örtlichen Gegebenheiten einen Einsatz zulassen.\n\nBeim Einsatz von Wärmepumpen zur Wärmeerzeugung sollten Flächenheizsysteme mit niedrigen Vorlauftemperaturen zur Wärmeübergabe in den Räumen verwendet werden.","Es empfiehlt sich der Einsatz einer Sole-Wasser- oder einer Wasser-Wasser-Wärmepumpe.\nDiese haben zwar verglichen mit Luft-Wasser-Wärmepumpen höhere Investitionskosten, arbeiten jedoch speziell im Winter deutlich effizienter. Hierbei ist wichtig zu überprüfen, ob die örtlichen Gegebenheiten einen Einsatz zulassen.\n\nBeim Einsatz von Wärmepumpen zur Wärmeerzeugung sollten Flächenheizsysteme mit niedrigen Vorlauftemperaturen zur Wärmeübergabe in den Räumen verwendet werden."]
[2,{"$f":"INDEX(WE_Präferenzen_Energieträger[Energieträger],A5)","v":"Holz"},"Holzvergaserkessel sind zwar in der Anschaffung günstiger als eine Pelletsheizung allerdings gibt es dabei ganz besonders zwei Dinge zu beachten. \nEinerseits den Komfortgewinn bei Einsatz einer automatisch arbeitenden Pelletsheizung und andererseits die Größe der Anlage. Pelletsheizungen sind inzwischen auch schon modulierbar mit kleinen Leistungen erhältlich. Dies ist bei Holzvergaserkesseln systembeding kaum/nicht möglich was speziell bei gut sanierten Gebäuden recht große Pufferspeicher erforderlich macht. Allgemein ist der Komfort bei einem Holzvergaserkessel stark abhängig von der Pufferspeichergröße und der daraus resuliterenden Zeit bis wieder nachgeheizt werden muss. (Als Anhaltpunkt: siehe \"WE Puffer\")\n\nBei der aktuellen Sanierungsstufe ist bei Nutzung eines Holzvergaserkessels mit deutlichen Komforteinbußen zu rechnen.","Holzvergaserkessel sind zwar in der Anschaffung günstiger als eine Pelletsheizung allerdings gibt es dabei ganz besonders zwei Dinge zu beachten. \nEinerseits den Komfortgewinn bei Einsatz einer automatisch arbeitenden Pelletsheizung und andererseits die Größe der Anlage. Pelletsheizungen sind inzwischen auch schon modulierbar mit kleinen Leistungen erhältlich. Dies ist bei Holzvergaserkesseln systembeding kaum/nicht möglich was speziell bei gut sanierten Gebäuden recht große Pufferspeicher erforderlich macht. Allgemein ist der Komfort bei einem Holzvergaserkessel stark abhängig von der Pufferspeichergröße und der daraus resuliterenden Zeit bis wieder nachgeheizt werden muss. (Als Anhaltpunkt: siehe \"WE Puffer\")\nBei der aktuellen Sanierungsstufe ist bei Nutzung eines Holzvergaserkessels mit deutlichen Komforteinbußen zu rechnen.\n\nHackschnitzelheizungen sind in der Anschaffung recht teuer, bieten danach jedoch sehr geringe Betriebskosten. Im Hinblick auf weitere Sanierungsschritte und zukünftig hoffentlich geringen Energieverbräuchen sollte die Anschaffung einer solchen Anlage gut überlegt sein da Hackschnitzelanlagen systembedingt erst bei verhältnismäßig großen Energieverbräuchen wirtschaftlich sind.","Holzvergaserkessel sind zwar in der Anschaffung günstiger als eine Pelletsheizung allerdings gibt es dabei ganz besonders zwei Dinge zu beachten. \nEinerseits den Komfortgewinn bei Einsatz einer automatisch arbeitenden Pelletsheizung und andererseits die Größe der Anlage. Pelletsheizungen sind inzwischen auch schon modulierbar mit kleinen Leistungen erhältlich. Dies ist bei Holzvergaserkesseln systembeding kaum/nicht möglich was speziell bei gut sanierten Gebäuden recht große Pufferspeicher erforderlich macht. Allgemein ist der Komfort bei einem Holzvergaserkessel stark abhängig von der Pufferspeichergröße und der daraus resuliterenden Zeit bis wieder nachgeheizt werden muss. (Als Anhaltpunkt: siehe \"WE Puffer\")\nBei der aktuellen Sanierungsstufe ist bei Nutzung eines Holzvergaserkessels mit deutlichen Komforteinbußen zu rechnen.\n\nHackschnitzelheizungen sind in der Anschaffung recht teuer, bieten danach jedoch sehr geringe Betriebskosten. Im Hinblick auf weitere Sanierungsschritte und zukünftig hoffentlich geringen Energieverbräuchen sollte die Anschaffung einer solchen Anlage gut überlegt sein da Hackschnitzelanlagen systembedingt erst bei verhältnismäßig großen Energieverbräuchen wirtschaftlich sind.","Holzvergaserkessel sind zwar in der Anschaffung günstiger als eine Pelletsheizung allerdings gibt es dabei ganz besonders zwei Dinge zu beachten. \nEinerseits den Komfortgewinn bei Einsatz einer automatisch arbeitenden Pelletsheizung und andererseits die Größe der Anlage. Pelletsheizungen sind inzwischen auch schon modulierbar mit kleinen Leistungen erhältlich. Dies ist bei Holzvergaserkesseln systembeding kaum/nicht möglich was speziell bei gut sanierten Gebäuden recht große Pufferspeicher erforderlich macht. Allgemein ist der Komfort bei einem Holzvergaserkessel stark abhängig von der Pufferspeichergröße und der daraus resuliterenden Zeit bis wieder nachgeheizt werden muss. (Als Anhaltpunkt: siehe \"WE Puffer\")\nBei der aktuellen Sanierungsstufe ist bei Nutzung eines Holzvergaserkessels mit deutlichen Komforteinbußen zu rechnen.\n\nHackschnitzelheizungen sind in der Anschaffung recht teuer, bieten danach jedoch sehr geringe Betriebskosten. Im Hinblick auf weitere Sanierungsschritte und zukünftig hoffentlich geringen Energieverbräuchen sollte die Anschaffung einer solchen Anlage gut überlegt sein da Hackschnitzelanlagen systembedingt erst bei verhältnismäßig großen Energieverbräuchen wirtschaftlich sind.","Holzvergaserkessel sind zwar in der Anschaffung günstiger als eine Pelletsheizung allerdings gibt es dabei ganz besonders zwei Dinge zu beachten. \nEinerseits den Komfortgewinn bei Einsatz einer automatisch arbeitenden Pelletsheizung und andererseits die Größe der Anlage. Pelletsheizungen sind inzwischen auch schon modulierbar mit kleinen Leistungen erhältlich. Dies ist bei Holzvergaserkesseln systembeding kaum/nicht möglich was speziell bei gut sanierten Gebäuden recht große Pufferspeicher erforderlich macht. Allgemein ist der Komfort bei einem Holzvergaserkessel stark abhängig von der Pufferspeichergröße und der daraus resuliterenden Zeit bis wieder nachgeheizt werden muss. (Als Anhaltpunkt: siehe \"WE Puffer\")\n\nBei der aktuellen Sanierungsstufe ist bei Nutzung eines Holzvergaserkessels mit gewissen Komforteinbußen zu rechnen.","Holzvergaserkessel sind zwar in der Anschaffung günstiger als eine Pelletsheizung allerdings gibt es dabei ganz besonders zwei Dinge zu beachten. \nEinerseits den Komfortgewinn bei Einsatz einer automatisch arbeitenden Pelletsheizung und andererseits die Größe der Anlage. Pelletsheizungen sind inzwischen auch schon modulierbar mit kleinen Leistungen erhältlich. Dies ist bei Holzvergaserkesseln systembeding kaum/nicht möglich was speziell bei gut sanierten Gebäuden recht große Pufferspeicher erforderlich macht. Allgemein ist der Komfort bei einem Holzvergaserkessel stark abhängig von der Pufferspeichergröße und der daraus resuliterenden Zeit bis wieder nachgeheizt werden muss. (Als Anhaltpunkt: siehe \"WE Puffer\")\nBei der aktuellen Sanierungsstufe ist bei Nutzung eines Holzvergaserkessels mit gewissen Komforteinbußen zu rechnen.\n\nHackschnitzelheizungen sind in der Anschaffung recht teuer, bieten danach jedoch sehr geringe Betriebskosten. Im Hinblick auf weitere Sanierungsschritte und zukünftig hoffentlich geringen Energieverbräuchen sollte die Anschaffung einer solchen Anlage gut überlegt sein da Hackschnitzelanlagen systembedingt erst bei verhältnismäßig großen Energieverbräuchen wirtschaftlich sind.","Holzvergaserkessel sind zwar in der Anschaffung günstiger als eine Pelletsheizung allerdings gibt es dabei ganz besonders zwei Dinge zu beachten. \nEinerseits den Komfortgewinn bei Einsatz einer automatisch arbeitenden Pelletsheizung und andererseits die Größe der Anlage. Pelletsheizungen sind inzwischen auch schon modulierbar mit kleinen Leistungen erhältlich. Dies ist bei Holzvergaserkesseln systembeding kaum/nicht möglich was speziell bei gut sanierten Gebäuden recht große Pufferspeicher erforderlich macht. Allgemein ist der Komfort bei einem Holzvergaserkessel stark abhängig von der Pufferspeichergröße und der daraus resuliterenden Zeit bis wieder nachgeheizt werden muss. (Als Anhaltpunkt: siehe \"WE Puffer\")\nBei der aktuellen Sanierungsstufe ist bei Nutzung eines Holzvergaserkessels mit gewissen Komforteinbußen zu rechnen.\n\nHackschnitzelheizungen sind in der Anschaffung recht teuer, bieten danach jedoch sehr geringe Betriebskosten. Im Hinblick auf weitere Sanierungsschritte und zukünftig hoffentlich geringen Energieverbräuchen sollte die Anschaffung einer solchen Anlage gut überlegt sein da Hackschnitzelanlagen systembedingt erst bei verhältnismäßig großen Energieverbräuchen wirtschaftlich sind.","Holzvergaserkessel sind zwar in der Anschaffung günstiger als eine Pelletsheizung allerdings gibt es dabei ganz besonders zwei Dinge zu beachten. \nEinerseits den Komfortgewinn bei Einsatz einer automatisch arbeitenden Pelletsheizung und andererseits die Größe der Anlage. Pelletsheizungen sind inzwischen auch schon modulierbar mit kleinen Leistungen erhältlich. Dies ist bei Holzvergaserkesseln systembeding kaum/nicht möglich was speziell bei gut sanierten Gebäuden recht große Pufferspeicher erforderlich macht. Allgemein ist der Komfort bei einem Holzvergaserkessel stark abhängig von der Pufferspeichergröße und der daraus resuliterenden Zeit bis wieder nachgeheizt werden muss. (Als Anhaltpunkt: siehe \"WE Puffer\")\nBei der aktuellen Sanierungsstufe ist bei Nutzung eines Holzvergaserkessels mit gewissen Komforteinbußen zu rechnen.\n\nHackschnitzelheizungen sind in der Anschaffung recht teuer, bieten danach jedoch sehr geringe Betriebskosten. Im Hinblick auf weitere Sanierungsschritte und zukünftig hoffentlich geringen Energieverbräuchen sollte die Anschaffung einer solchen Anlage gut überlegt sein da Hackschnitzelanlagen systembedingt erst bei verhältnismäßig großen Energieverbräuchen wirtschaftlich sind.","Holzvergaserkessel sind zwar in der Anschaffung günstiger als eine Pelletsheizung allerdings gibt es dabei ganz besonders zwei Dinge zu beachten. \nEinerseits den Komfortgewinn bei Einsatz einer automatisch arbeitenden Pelletsheizung und andererseits die Größe der Anlage. Pelletsheizungen sind inzwischen auch schon modulierbar mit kleinen Leistungen erhältlich. Dies ist bei Holzvergaserkesseln systembeding kaum/nicht möglich was speziell bei gut sanierten Gebäuden recht große Pufferspeicher erforderlich macht. Allgemein ist der Komfort bei einem Holzvergaserkessel stark abhängig von der Pufferspeichergröße und der daraus resuliterenden Zeit bis wieder nachgeheizt werden muss. (Als Anhaltpunkt: siehe \"WE Puffer\")\n\nBei der aktuellen Sanierungsstufe ist mit einem großen Pufferspeicher auch die Nutzung eines Holzvergaserkessels schon recht komfortabel.","Holzvergaserkessel sind zwar in der Anschaffung günstiger als eine Pelletsheizung allerdings gibt es dabei ganz besonders zwei Dinge zu beachten. \nEinerseits den Komfortgewinn bei Einsatz einer automatisch arbeitenden Pelletsheizung und andererseits die Größe der Anlage. Pelletsheizungen sind inzwischen auch schon modulierbar mit kleinen Leistungen erhältlich. Dies ist bei Holzvergaserkesseln systembeding kaum/nicht möglich was speziell bei gut sanierten Gebäuden recht große Pufferspeicher erforderlich macht. Allgemein ist der Komfort bei einem Holzvergaserkessel stark abhängig von der Pufferspeichergröße und der daraus resuliterenden Zeit bis wieder nachgeheizt werden muss. (Als Anhaltpunkt: siehe \"WE Puffer\")\n\nBei der aktuellen Sanierungsstufe ist mit einem großen Pufferspeicher auch die Nutzung eines Holzvergaserkessels schon recht komfortabel.\n\nDa Hackschnitzelanlagen systembedingt erst bei relativ großen Energieverbräuchen wirtschaftlich sind, sind sie für den erreichten Gebäudestandard nicht mehr empfehlenswert.","Holzvergaserkessel sind zwar in der Anschaffung günstiger als eine Pelletsheizung allerdings gibt es dabei ganz besonders zwei Dinge zu beachten. \nEinerseits den Komfortgewinn bei Einsatz einer automatisch arbeitenden Pelletsheizung und andererseits die Größe der Anlage. Pelletsheizungen sind inzwischen auch schon modulierbar mit kleinen Leistungen erhältlich. Dies ist bei Holzvergaserkesseln systembeding kaum/nicht möglich was speziell bei gut sanierten Gebäuden recht große Pufferspeicher erforderlich macht. Allgemein ist der Komfort bei einem Holzvergaserkessel stark abhängig von der Pufferspeichergröße und der daraus resuliterenden Zeit bis wieder nachgeheizt werden muss. (Als Anhaltpunkt: siehe \"WE Puffer\")\n\nBei der aktuellen Sanierungsstufe ist mit einem großen Pufferspeicher auch die Nutzung eines Holzvergaserkessels schon recht komfortabel.\n\nDa Hackschnitzelanlagen systembedingt erst bei relativ großen Energieverbräuchen wirtschaftlich sind, sind sie für den erreichten Gebäudestandard nicht mehr empfehlenswert.","Holzvergaserkessel sind zwar in der Anschaffung günstiger als eine Pelletsheizung allerdings gibt es dabei ganz besonders zwei Dinge zu beachten. \nEinerseits den Komfortgewinn bei Einsatz einer automatisch arbeitenden Pelletsheizung und andererseits die Größe der Anlage. Pelletsheizungen sind inzwischen auch schon modulierbar mit kleinen Leistungen erhältlich. Dies ist bei Holzvergaserkesseln systembeding kaum/nicht möglich was speziell bei gut sanierten Gebäuden recht große Pufferspeicher erforderlich macht. Allgemein ist der Komfort bei einem Holzvergaserkessel stark abhängig von der Pufferspeichergröße und der daraus resuliterenden Zeit bis wieder nachgeheizt werden muss. (Als Anhaltpunkt: siehe \"WE Puffer\")\n\nBei der aktuellen Sanierungsstufe ist mit einem großen Pufferspeicher auch die Nutzung eines Holzvergaserkessels schon recht komfortabel.\n\nDa Hackschnitzelanlagen systembedingt erst bei relativ großen Energieverbräuchen wirtschaftlich sind, sind sie für den erreichten Gebäudestandard nicht mehr empfehlenswert."]
[3,{"$f":"INDEX(WE_Präferenzen_Energieträger[Energieträger],A6)","v":"Fernwärme"},{"$f":"IF(AND('WE Bestand'!I26=\"nein\",'WE Bestand'!I28=\"nein\"),\"Voraussetzung für die Nutzung von Fernwärme ist ein örtliches Fernwärmenetz. \nWenn dieses nicht verfügbar bzw. der Anschluss an ein solches nicht möglich ist, ist die Nutzung von Fernwärme als Energieträger leider keine Option.\",\"Da bereits ein Anschluss an das Fernwärmenetz besteht bzw. möglich ist, kann das Gebäude mit Fernwärme beheizt werden.\")","v":"Da bereits ein Anschluss an das Fernwärmenetz besteht bzw. möglich ist, kann das Gebäude mit Fernwärme beheizt werden."},{"$f":"IF(AND('WE Bestand'!J26=\"nein\",'WE Bestand'!J28=\"nein\"),\"Voraussetzung für die Nutzung von Fernwärme ist ein örtliches Fernwärmenetz. \nWenn dieses nicht verfügbar bzw. der Anschluss an ein solches nicht möglich ist, ist die Nutzung von Fernwärme als Energieträger leider keine Option.\",\"Da bereits ein Anschluss an das Fernwärmenetz besteht bzw. möglich ist, kann das Gebäude mit Fernwärme beheizt werden.\")","v":"Da bereits ein Anschluss an das Fernwärmenetz besteht bzw. möglich ist, kann das Gebäude mit Fernwärme beheizt werden."},{"$f":"IF(AND('WE Bestand'!I26=\"nein\",'WE Bestand'!I28=\"nein\"),\"Voraussetzung für die Nutzung von Fernwärme ist ein örtliches Fernwärmenetz. \nWenn dieses nicht verfügbar bzw. der Anschluss an ein solches nicht möglich ist, ist die Nutzung von Fernwärme als Energieträger leider keine Option.\",$E$16)","v":"Wie sehr bei Fernwärme erneuerbare Energien zum Einsatz kommen hängt ausschließlich von der Anlage ab die das Netz mit Wärme versorgt. (Abwärme aus der Industrie, Biomasse oder fossile Energieträger). Kontaktieren Sie für nähere Informationen den in Frage kommenden Fernwärmenetzbetreiber."},{"$f":"IF(AND('WE Bestand'!J26=\"nein\",'WE Bestand'!J28=\"nein\"),\"Voraussetzung für die Nutzung von Fernwärme ist ein örtliches Fernwärmenetz. \nWenn dieses nicht verfügbar bzw. der Anschluss an ein solches nicht möglich ist, ist die Nutzung von Fernwärme als Energieträger leider keine Option.\",\"Da bereits ein Anschluss an das Fernwärmenetz besteht bzw. möglich ist, kann das Gebäude mit Fernwärme beheizt werden.\")","v":"Da bereits ein Anschluss an das Fernwärmenetz besteht bzw. möglich ist, kann das Gebäude mit Fernwärme beheizt werden."},{"$f":"IF(AND('WE Bestand'!$I$26=\"nein\",'WE Bestand'!$I$28=\"nein\"),\"Voraussetzung für die Nutzung von Fernwärme ist ein örtliches Fernwärmenetz. \nWenn dieses nicht verfügbar bzw. der Anschluss an ein solches nicht möglich ist, ist die Nutzung von Fernwärme als Energieträger leider keine Option.\",\"Da bereits ein Anschluss an das Fernwärmenetz besteht bzw. möglich ist, kann das Gebäude mit Fernwärme beheizt werden.\")","v":"Da bereits ein Anschluss an das Fernwärmenetz besteht bzw. möglich ist, kann das Gebäude mit Fernwärme beheizt werden."},{"$f":"IF(AND('WE Bestand'!$I$26=\"nein\",'WE Bestand'!$I$28=\"nein\"),\"Voraussetzung für die Nutzung von Fernwärme ist ein örtliches Fernwärmenetz. \nWenn dieses nicht verfügbar bzw. der Anschluss an ein solches nicht möglich ist, ist die Nutzung von Fernwärme als Energieträger leider keine Option.\",\"Da bereits ein Anschluss an das Fernwärmenetz besteht bzw. möglich ist, kann das Gebäude mit Fernwärme beheizt werden.\")","v":"Da bereits ein Anschluss an das Fernwärmenetz besteht bzw. möglich ist, kann das Gebäude mit Fernwärme beheizt werden."},{"$f":"IF(AND('WE Bestand'!$I$26=\"nein\",'WE Bestand'!$I$28=\"nein\"),\"Voraussetzung für die Nutzung von Fernwärme ist ein örtliches Fernwärmenetz. \nWenn dieses nicht verfügbar bzw. der Anschluss an ein solches nicht möglich ist, ist die Nutzung von Fernwärme als Energieträger leider keine Option.\",$E$16)","v":"Wie sehr bei Fernwärme erneuerbare Energien zum Einsatz kommen hängt ausschließlich von der Anlage ab die das Netz mit Wärme versorgt. (Abwärme aus der Industrie, Biomasse oder fossile Energieträger). Kontaktieren Sie für nähere Informationen den in Frage kommenden Fernwärmenetzbetreiber."},{"$f":"IF(AND('WE Bestand'!$I$26=\"nein\",'WE Bestand'!$I$28=\"nein\"),\"Voraussetzung für die Nutzung von Fernwärme ist ein örtliches Fernwärmenetz. \nWenn dieses nicht verfügbar bzw. der Anschluss an ein solches nicht möglich ist, ist die Nutzung von Fernwärme als Energieträger leider keine Option.\",\"Da bereits ein Anschluss an das Fernwärmenetz besteht bzw. möglich ist, kann das Gebäude mit Fernwärme beheizt werden.\")","v":"Da bereits ein Anschluss an das Fernwärmenetz besteht bzw. möglich ist, kann das Gebäude mit Fernwärme beheizt werden."},{"$f":"IF(AND('WE Bestand'!$I$26=\"nein\",'WE Bestand'!$I$28=\"nein\"),\"Voraussetzung für die Nutzung von Fernwärme ist ein örtliches Fernwärmenetz. \nWenn dieses nicht verfügbar bzw. der Anschluss an ein solches nicht möglich ist, ist die Nutzung von Fernwärme als Energieträger leider keine Option.\",\"Da bereits ein Anschluss an das Fernwärmenetz besteht bzw. möglich ist, kann das Gebäude mit Fernwärme beheizt werden.\")","v":"Da bereits ein Anschluss an das Fernwärmenetz besteht bzw. möglich ist, kann das Gebäude mit Fernwärme beheizt werden."},{"$f":"IF(AND('WE Bestand'!$I$26=\"nein\",'WE Bestand'!$I$28=\"nein\"),\"Voraussetzung für die Nutzung von Fernwärme ist ein örtliches Fernwärmenetz. \nWenn dieses nicht verfügbar bzw. der Anschluss an ein solches nicht möglich ist, ist die Nutzung von Fernwärme als Energieträger leider keine Option.\",\"Da bereits ein Anschluss an das Fernwärmenetz besteht bzw. möglich ist, kann das Gebäude mit Fernwärme beheizt werden.\")","v":"Da bereits ein Anschluss an das Fernwärmenetz besteht bzw. möglich ist, kann das Gebäude mit Fernwärme beheizt werden."},{"$f":"IF(AND('WE Bestand'!$I$26=\"nein\",'WE Bestand'!$I$28=\"nein\"),\"Voraussetzung für die Nutzung von Fernwärme ist ein örtliches Fernwärmenetz. \nWenn dieses nicht verfügbar bzw. der Anschluss an ein solches nicht möglich ist, ist die Nutzung von Fernwärme als Energieträger leider keine Option.\",$E$16)","v":"Wie sehr bei Fernwärme erneuerbare Energien zum Einsatz kommen hängt ausschließlich von der Anlage ab die das Netz mit Wärme versorgt. (Abwärme aus der Industrie, Biomasse oder fossile Energieträger). Kontaktieren Sie für nähere Informationen den in Frage kommenden Fernwärmenetzbetreiber."},{"$f":"IF(AND('WE Bestand'!$I$26=\"nein\",'WE Bestand'!$I$28=\"nein\"),\"Voraussetzung für die Nutzung von Fernwärme ist ein örtliches Fernwärmenetz. \nWenn dieses nicht verfügbar bzw. der Anschluss an ein solches nicht möglich ist, ist die Nutzung von Fernwärme als Energieträger leider keine Option.\",\"Da bereits ein Anschluss an das Fernwärmenetz besteht bzw. möglich ist, kann das Gebäude mit Fernwärme beheizt werden.\")","v":"Da bereits ein Anschluss an das Fernwärmenetz besteht bzw. möglich ist, kann das Gebäude mit Fernwärme beheizt werden."}]
[4,{"$f":"INDEX(WE_Präferenzen_Energieträger[Energieträger],A7)","v":"Gas"},"Beim Einsatz eines Gaskessels sollte größtes Augenmerk auf die Effizienz gelegt werden.\nDies bedingt praktisch den Einbau eines Gasbrennwertgerätes, da diese deutlich effizienter arbeiten als Niedertemperaturkessel.","Beim Einsatz eines Gaskessels sollte größtes Augenmerk auf die Effizienz gelegt werden.\nDies bedingt praktisch den Einbau eines Gasbrennwertgerätes, da diese deutlich effizienter arbeiten als Niedertemperaturkessel.","Die Nutzung eines Gaskessels steht im Kontrast zu der Nutzung erneuerbarer Energien.\nBeim Einsatz eines Gaskessels sollte größtes Augenmerk auf die Effizienz gelegt werden.\nDies bedingt praktisch den Einbau eines Gasbrennwertgerätes, da diese deutlich effizienter arbeiten als Niedertemperaturkessel.","Beim Einsatz eines Gaskessels sollte größtes Augenmerk auf die Effizienz gelegt werden.\nDies bedingt praktisch den Einbau eines Gasbrennwertgerätes, da diese deutlich effizienter arbeiten als Niedertemperaturkessel.","Beim Einsatz eines Gaskessels sollte größtes Augenmerk auf die Effizienz gelegt werden.\nDies bedingt praktisch den Einbau eines Gasbrennwertgerätes, da diese deutlich effizienter arbeiten als Niedertemperaturkessel.","Beim Einsatz eines Gaskessels sollte größtes Augenmerk auf die Effizienz gelegt werden.\nDies bedingt praktisch den Einbau eines Gasbrennwertgerätes, da diese deutlich effizienter arbeiten als Niedertemperaturkessel.","Die Nutzung eines Gaskessels steht im Kontrast zu der Nutzung erneuerbarer Energien.\nBeim Einsatz eines Gaskessels sollte größtes Augenmerk auf die Effizienz gelegt werden.\nDies bedingt praktisch den Einbau eines Gasbrennwertgerätes, da diese deutlich effizienter arbeiten als Niedertemperaturkessel.","Beim Einsatz eines Gaskessels sollte größtes Augenmerk auf die Effizienz gelegt werden.\nDies bedingt praktisch den Einbau eines Gasbrennwertgerätes, da diese deutlich effizienter arbeiten als Niedertemperaturkessel.","Beim Einsatz eines Gaskessels sollte größtes Augenmerk auf die Effizienz gelegt werden.\nDies bedingt praktisch den Einbau eines Gasbrennwertgerätes, da diese deutlich effizienter arbeiten als Niedertemperaturkessel.","Beim Einsatz eines Gaskessels sollte größtes Augenmerk auf die Effizienz gelegt werden.\nDies bedingt praktisch den Einbau eines Gasbrennwertgerätes, da diese deutlich effizienter arbeiten als Niedertemperaturkessel.","Die Nutzung eines Gaskessels steht im Kontrast zu der Nutzung erneuerbarer Energien.\nBeim Einsatz eines Gaskessels sollte größtes Augenmerk auf die Effizienz gelegt werden.\nDies bedingt praktisch den Einbau eines Gasbrennwertgerätes, da diese deutlich effizienter arbeiten als Niedertemperaturkessel.","Beim Einsatz eines Gaskessels sollte größtes Augenmerk auf die Effizienz gelegt werden.\nDies bedingt praktisch den Einbau eines Gasbrennwertgerätes, da diese deutlich effizienter arbeiten als Niedertemperaturkessel."]
[5,{"$f":"INDEX(WE_Präferenzen_Energieträger[Energieträger],A8)","v":"Heizöl"},"Der Einbau eines Ölheizkessels ist nicht ratsam. \nDie Nutzung einer endlichen Ressource sowie die, verglichen mit Gas, unsauberere Verbrennung legen die Nutzung eines anderen Energieträgers nahe.","Der Einbau eines Ölheizkessels ist nicht ratsam. \nDie Nutzung einer endlichen Ressource sowie die, verglichen mit Gas, unsauberere Verbrennung legen die Nutzung eines anderen Energieträgers nahe.","Die Nutzung eines Heizölkessels steht im starken Gegensatz zu dern Nutzung erneuerbarer Energien.\nDer Einbau eines Ölheizkessels ist nicht ratsam. \nDie Nutzung einer endlichen Ressource sowie die, verglichen mit Gas, unsauberere Verbrennung legen die Nutzung eines anderen Energieträgers nahe.","Der Einbau eines Ölheizkessels ist nicht ratsam. \nDie Nutzung einer endlichen Ressource sowie die, verglichen mit Gas, unsauberere Verbrennung legen die Nutzung eines anderen Energieträgers nahe.","Der Einbau eines Ölheizkessels ist nicht ratsam. \nDie Nutzung einer endlichen Ressource sowie die, verglichen mit Gas, unsauberere Verbrennung legen die Nutzung eines anderen Energieträgers nahe.","Der Einbau eines Ölheizkessels ist nicht ratsam. \nDie Nutzung einer endlichen Ressource sowie die, verglichen mit Gas, unsauberere Verbrennung legen die Nutzung eines anderen Energieträgers nahe.","Die Nutzung eines Heizölkessels steht im starken Gegensatz zu dern Nutzung erneuerbarer Energien.\nDer Einbau eines Ölheizkessels ist nicht ratsam. \nDie Nutzung einer endlichen Ressource sowie die, verglichen mit Gas, unsauberere Verbrennung legen die Nutzung eines anderen Energieträgers nahe.","Der Einbau eines Ölheizkessels ist nicht ratsam. \nDie Nutzung einer endlichen Ressource sowie die, verglichen mit Gas, unsauberere Verbrennung legen die Nutzung eines anderen Energieträgers nahe.","Der Einbau eines Ölheizkessels ist nicht ratsam. \nDie Nutzung einer endlichen Ressource sowie die, verglichen mit Gas, unsauberere Verbrennung legen die Nutzung eines anderen Energieträgers nahe.","Der Einbau eines Ölheizkessels ist nicht ratsam. \nDie Nutzung einer endlichen Ressource sowie die, verglichen mit Gas, unsauberere Verbrennung legen die Nutzung eines anderen Energieträgers nahe.","Die Nutzung eines Heizölkessels steht im starken Gegensatz zu dern Nutzung erneuerbarer Energien.\nDer Einbau eines Ölheizkessels ist nicht ratsam. \nDie Nutzung einer endlichen Ressource sowie die, verglichen mit Gas, unsauberere Verbrennung legen die Nutzung eines anderen Energieträgers nahe.","Der Einbau eines Ölheizkessels ist nicht ratsam. \nDie Nutzung einer endlichen Ressource sowie die, verglichen mit Gas, unsauberere Verbrennung legen die Nutzung eines anderen Energieträgers nahe."]
[6,{"$f":"INDEX(WE_Präferenzen_Energieträger[Energieträger],A9)","v":"keine klaren Präferenzen"},{"$f":"IF(AND($F$12=\"nein\",$D$12=\"nein\"),$C$19,IF($F$12=\"nein\",$C$17,IF($D$12=\"nein\",$C$16,$C$18)))","v":"Unter Berücksichtigung der nicht vorhanden bzw. möglichen Anschlüsse an ein Gas- oder Fernwärmenetz und dem Gebäudestandard zum betreffenden Zeitpunkt ist der Einbau eines Holzvergaserkessels empfehlenswert. Zu diesem sollte ein recht großer Pufferspeicher eingebaut werden um die Komforteinbußen möglichst gering zu halten."},{"$f":"IF($D$12=\"nein\",'WE Matrix'!E19,'WE Matrix'!E18)","v":"Unter Berücksichtigung des Gebäudestandards zum betreffenden Zeitpunkt empfiehlt sich die Nutzung von Holz als Ernergieträger. Dabei kommt der Einbau eines Pelletkessels oder eines Holzvergaserkessels in Frage. Bei letzterem sind gewisse Komforteinbußen zu erwarten. \nIm Hinblick auf weitere Sanierungsschritte und zukünftig hoffentlich geringen Energieverbräuchen sollte die Anschaffung einer Hackschnitzelanlage gut überlegt sein, da diese systembedingt erst bei verhältnismäßig großen Energieverbräuchen wirtschaftlich sind."},{"$f":"IF($D$12=\"nein\",'WE Matrix'!E19,'WE Matrix'!E18)","v":"Unter Berücksichtigung des Gebäudestandards zum betreffenden Zeitpunkt empfiehlt sich die Nutzung von Holz als Ernergieträger. Dabei kommt der Einbau eines Pelletkessels oder eines Holzvergaserkessels in Frage. Bei letzterem sind gewisse Komforteinbußen zu erwarten. \nIm Hinblick auf weitere Sanierungsschritte und zukünftig hoffentlich geringen Energieverbräuchen sollte die Anschaffung einer Hackschnitzelanlage gut überlegt sein, da diese systembedingt erst bei verhältnismäßig großen Energieverbräuchen wirtschaftlich sind."},{"$f":"IF($D$12=\"nein\",'WE Matrix'!E19,'WE Matrix'!E18)","v":"Unter Berücksichtigung des Gebäudestandards zum betreffenden Zeitpunkt empfiehlt sich die Nutzung von Holz als Ernergieträger. Dabei kommt der Einbau eines Pelletkessels oder eines Holzvergaserkessels in Frage. Bei letzterem sind gewisse Komforteinbußen zu erwarten. \nIm Hinblick auf weitere Sanierungsschritte und zukünftig hoffentlich geringen Energieverbräuchen sollte die Anschaffung einer Hackschnitzelanlage gut überlegt sein, da diese systembedingt erst bei verhältnismäßig großen Energieverbräuchen wirtschaftlich sind."},{"$f":"IF(AND($F$12=\"nein\",$D$12=\"nein\"),$C$19,IF($F$12=\"nein\",$C$17,IF($D$12=\"nein\",$C$16,$C$18)))","v":"Unter Berücksichtigung der nicht vorhanden bzw. möglichen Anschlüsse an ein Gas- oder Fernwärmenetz und dem Gebäudestandard zum betreffenden Zeitpunkt ist der Einbau eines Holzvergaserkessels empfehlenswert. Zu diesem sollte ein recht großer Pufferspeicher eingebaut werden um die Komforteinbußen möglichst gering zu halten."},{"$f":"IF($D$12=\"nein\",'WE Matrix'!F19,'WE Matrix'!F18)","v":"Es empfiehlt sich der Einsatz einer Sole-Wasser- oder einer Wasser-Wasser-Wärmepumpe.\nDiese haben zwar verglichen mit Luft-Wasser-Wärmepumpen höhere Investitionskosten, arbeiten jedoch speziell im Winter deutlich effizienter. Hierbei ist wichtig zu überprüfen, ob die örtlichen Gegebenheiten einen Einsatz zulassen.\n\nBeim Einsatz von Wärmepumpen zur Wärmeerzeugung sollten Flächenheizsysteme mit niedrigen Vorlauftemperaturen zur Wärmeübergabe in den Räumen verwendet werden.\n\nAuch Holz kann als Energieträger angedacht werden."},{"$f":"IF($D$12=\"nein\",'WE Matrix'!F19,'WE Matrix'!F18)","v":"Es empfiehlt sich der Einsatz einer Sole-Wasser- oder einer Wasser-Wasser-Wärmepumpe.\nDiese haben zwar verglichen mit Luft-Wasser-Wärmepumpen höhere Investitionskosten, arbeiten jedoch speziell im Winter deutlich effizienter. Hierbei ist wichtig zu überprüfen, ob die örtlichen Gegebenheiten einen Einsatz zulassen.\n\nBeim Einsatz von Wärmepumpen zur Wärmeerzeugung sollten Flächenheizsysteme mit niedrigen Vorlauftemperaturen zur Wärmeübergabe in den Räumen verwendet werden.\n\nAuch Holz kann als Energieträger angedacht werden."},{"$f":"IF($D$12=\"nein\",'WE Matrix'!F19,'WE Matrix'!F18)","v":"Es empfiehlt sich der Einsatz einer Sole-Wasser- oder einer Wasser-Wasser-Wärmepumpe.\nDiese haben zwar verglichen mit Luft-Wasser-Wärmepumpen höhere Investitionskosten, arbeiten jedoch speziell im Winter deutlich effizienter. Hierbei ist wichtig zu überprüfen, ob die örtlichen Gegebenheiten einen Einsatz zulassen.\n\nBeim Einsatz von Wärmepumpen zur Wärmeerzeugung sollten Flächenheizsysteme mit niedrigen Vorlauftemperaturen zur Wärmeübergabe in den Räumen verwendet werden.\n\nAuch Holz kann als Energieträger angedacht werden."},{"$f":"IF(AND($F$12=\"nein\",$D$12=\"nein\"),$C$19,IF($F$12=\"nein\",$C$17,IF($D$12=\"nein\",$C$16,$C$18)))","v":"Unter Berücksichtigung der nicht vorhanden bzw. möglichen Anschlüsse an ein Gas- oder Fernwärmenetz und dem Gebäudestandard zum betreffenden Zeitpunkt ist der Einbau eines Holzvergaserkessels empfehlenswert. Zu diesem sollte ein recht großer Pufferspeicher eingebaut werden um die Komforteinbußen möglichst gering zu halten."},{"$f":"IF($D$12=\"nein\",'WE Matrix'!G19,'WE Matrix'!G18)","v":"Es empfiehlt sich der Einsatz einer Sole-Wasser- oder einer Wasser-Wasser-Wärmepumpe.\nDiese haben zwar verglichen mit Luft-Wasser-Wärmepumpen höhere Investitionskosten, arbeiten jedoch speziell im Winter deutlich effizienter. Hierbei ist wichtig zu überprüfen, ob die örtlichen Gegebenheiten einen Einsatz zulassen.\n\nBeim Einsatz von Wärmepumpen zur Wärmeerzeugung sollten Flächenheizsysteme mit niedrigen Vorlauftemperaturen zur Wärmeübergabe in den Räumen verwendet werden.\n\nAuch Holz kann als Energieträger angedacht werden."},{"$f":"IF($D$12=\"nein\",'WE Matrix'!G19,'WE Matrix'!G18)","v":"Es empfiehlt sich der Einsatz einer Sole-Wasser- oder einer Wasser-Wasser-Wärmepumpe.\nDiese haben zwar verglichen mit Luft-Wasser-Wärmepumpen höhere Investitionskosten, arbeiten jedoch speziell im Winter deutlich effizienter. Hierbei ist wichtig zu überprüfen, ob die örtlichen Gegebenheiten einen Einsatz zulassen.\n\nBeim Einsatz von Wärmepumpen zur Wärmeerzeugung sollten Flächenheizsysteme mit niedrigen Vorlauftemperaturen zur Wärmeübergabe in den Räumen verwendet werden.\n\nAuch Holz kann als Energieträger angedacht werden."},{"$f":"IF($D$12=\"nein\",'WE Matrix'!G19,'WE Matrix'!G18)","v":"Es empfiehlt sich der Einsatz einer Sole-Wasser- oder einer Wasser-Wasser-Wärmepumpe.\nDiese haben zwar verglichen mit Luft-Wasser-Wärmepumpen höhere Investitionskosten, arbeiten jedoch speziell im Winter deutlich effizienter. Hierbei ist wichtig zu überprüfen, ob die örtlichen Gegebenheiten einen Einsatz zulassen.\n\nBeim Einsatz von Wärmepumpen zur Wärmeerzeugung sollten Flächenheizsysteme mit niedrigen Vorlauftemperaturen zur Wärmeübergabe in den Räumen verwendet werden.\n\nAuch Holz kann als Energieträger angedacht werden."}]
[]
[]
[null,null,"Fernwärme:",{"$f":"IF(OR('WE Bestand'!I26=\"ja\",'WE Bestand'!I28=\"ja\"),\"ja\",\"nein\")","v":"nein"},"Gas:",{"$f":"IF(OR('WE Bestand'!I22=\"ja\",'WE Bestand'!I24=\"ja\"),\"ja\",\"nein\")","v":"nein"}]
[]
[null,null,"https://www.energieheld.de/heizung/holzheizung/kosten"]
[]
["nur Gasanschluss",null,"Unter Berücksichtigung der vorhandenen bzw. möglichen Anschlüsse ist ein Gasbrennwertgeräts das Heizsystem mit den geringsten Investitionskosten. Alternativ sollte jedoch auch über einen Holzvergaserkessel nachgedacht werden, welcher ebenfalls relativ geringe Investitionskosten verursacht.","http://www.fernwaerme-info.com/was-ist-fernwaerme/fragen-und-antworten/","Wie sehr bei Fernwärme erneuerbare Energien zum Einsatz kommen hängt ausschließlich von der Anlage ab die das Netz mit Wärme versorgt. (Abwärme aus der Industrie, Biomasse oder fossile Energieträger). Kontaktieren Sie für nähere Informationen den in Frage kommenden Fernwärmenetzbetreiber.",null,"http://www.energieinstitut.at/tools/matrixweb/"]
["nur Fernwärmeanschluss",null,"Unter Berücksichtigung der vorhandenen bzw. möglichen Anschlüsse ist die Nutzung von Fernwärme die günstigste Möglichkeit zur Wärmeversorgung. Die tatsächlichen Anschluss- und Betriebskosten hängen dabei vom jeweiligen Betreiber ab","http://www.biofernwaerme.at/DE/kosten_biofernwaerme_9_DE.html\n\nFür EFH beispielhaft:     Anschlusskosten 2000 €,  Übergabestation 3700€     Förderungen möglich (2000€)    → am günstigsten"]
["beide Anschlüsse",null,"Abhängig vom Geschäftsmodell des Fernwärmebereitstellers ist entweder die Nutzung  von Fernwärme oder der Einbau eines Gaskessels die Variante mit den niedrigsten Investionskosten. Dabei sollte jedenfalls ein Gasbrennwertgerät eingebaut werden.\nAlternativ dazu kann auch über einen Holzvergaserkessel nachgedacht werden, welcher ebenfalls relativ geringe Investitionskosten verursacht.","Fernwärme","Unter Berücksichtigung des Gebäudestandards zum betreffenden Zeitpunkt empfiehlt sich die Nutzung von Holz als Ernergieträger. Dabei kommt der Einbau eines Pelletkessels oder eines Holzvergaserkessels in Frage. Bei letzterem sind gewisse Komforteinbußen zu erwarten. \nIm Hinblick auf weitere Sanierungsschritte und zukünftig hoffentlich geringen Energieverbräuchen sollte die Anschaffung einer Hackschnitzelanlage gut überlegt sein, da diese systembedingt erst bei verhältnismäßig großen Energieverbräuchen wirtschaftlich sind.\n\nAbhängig vom Energieträger des Fernwärmeanbieters kann auch die Nutzung von Fernwärme eine äußerst umweltfreundliche Energieform sein.","Es empfiehlt sich der Einsatz einer Sole-Wasser- oder einer Wasser-Wasser-Wärmepumpe.\nDiese haben zwar verglichen mit Luft-Wasser-Wärmepumpen höhere Investitionskosten, arbeiten jedoch speziell im Winter deutlich effizienter. Hierbei ist wichtig zu überprüfen, ob die örtlichen Gegebenheiten einen Einsatz zulassen.\n\nBeim Einsatz von Wärmepumpen zur Wärmeerzeugung sollten Flächenheizsysteme mit niedrigen Vorlauftemperaturen zur Wärmeübergabe in den Räumen verwendet werden.\n\nAuch Holz kann als Energieträger angedacht werden.\n\nAbhängig vom Energieträger des Fernwärmeanbieters kann auch die Nutzung von Fernwärme eine äußerst umweltfreundliche Energieform sein.","Es empfiehlt sich der Einsatz einer Sole-Wasser- oder einer Wasser-Wasser-Wärmepumpe.\nDiese haben zwar verglichen mit Luft-Wasser-Wärmepumpen höhere Investitionskosten, arbeiten jedoch speziell im Winter deutlich effizienter. Hierbei ist wichtig zu überprüfen, ob die örtlichen Gegebenheiten einen Einsatz zulassen.\n\nBeim Einsatz von Wärmepumpen zur Wärmeerzeugung sollten Flächenheizsysteme mit niedrigen Vorlauftemperaturen zur Wärmeübergabe in den Räumen verwendet werden.\n\nAuch Holz kann als Energieträger angedacht werden.\n\nAbhängig vom Energieträger des Fernwärmeanbieters kann auch die Nutzung von Fernwärme eine äußerst umweltfreundliche Energieform sein. Bei sehr kleinen Verbräuchen steigen jedoch die Verluste im Netz im Verhältnis zur vom Gebäude bezogenen Wärme."]
["kein Anschluss",null,"Unter Berücksichtigung der nicht vorhanden bzw. möglichen Anschlüsse an ein Gas- oder Fernwärmenetz und dem Gebäudestandard zum betreffenden Zeitpunkt ist der Einbau eines Holzvergaserkessels empfehlenswert. Zu diesem sollte ein recht großer Pufferspeicher eingebaut werden um die Komforteinbußen möglichst gering zu halten.","keine Fernwärme","Unter Berücksichtigung des Gebäudestandards zum betreffenden Zeitpunkt empfiehlt sich die Nutzung von Holz als Ernergieträger. Dabei kommt der Einbau eines Pelletkessels oder eines Holzvergaserkessels in Frage. Bei letzterem sind gewisse Komforteinbußen zu erwarten. \nIm Hinblick auf weitere Sanierungsschritte und zukünftig hoffentlich geringen Energieverbräuchen sollte die Anschaffung einer Hackschnitzelanlage gut überlegt sein, da diese systembedingt erst bei verhältnismäßig großen Energieverbräuchen wirtschaftlich sind.","Es empfiehlt sich der Einsatz einer Sole-Wasser- oder einer Wasser-Wasser-Wärmepumpe.\nDiese haben zwar verglichen mit Luft-Wasser-Wärmepumpen höhere Investitionskosten, arbeiten jedoch speziell im Winter deutlich effizienter. Hierbei ist wichtig zu überprüfen, ob die örtlichen Gegebenheiten einen Einsatz zulassen.\n\nBeim Einsatz von Wärmepumpen zur Wärmeerzeugung sollten Flächenheizsysteme mit niedrigen Vorlauftemperaturen zur Wärmeübergabe in den Räumen verwendet werden.\n\nAuch Holz kann als Energieträger angedacht werden.","Es empfiehlt sich der Einsatz einer Sole-Wasser- oder einer Wasser-Wasser-Wärmepumpe.\nDiese haben zwar verglichen mit Luft-Wasser-Wärmepumpen höhere Investitionskosten, arbeiten jedoch speziell im Winter deutlich effizienter. Hierbei ist wichtig zu überprüfen, ob die örtlichen Gegebenheiten einen Einsatz zulassen.\n\nBeim Einsatz von Wärmepumpen zur Wärmeerzeugung sollten Flächenheizsysteme mit niedrigen Vorlauftemperaturen zur Wärmeübergabe in den Räumen verwendet werden.\n\nAuch Holz kann als Energieträger angedacht werden."]
[]
[]
[]
[]
[]
[]
[]
[]
["HILFSTABELLE FÜR ERLÄUTERUNGEN "]
[]
[]
[null,null,"Niedrige Investitionskosten","Niedrige Betriebskosten ","Nutzung erneuerbarer Energien","keine klaren Präferenzen"]
[null,"Wärmepumpe","Luft-Wasser-Wärmepumpe","Sole-Wasser- oder Wasser-Wassser-Wärmepumpe","Sole-Wasser- oder Wasser-Wassser-Wärmepumpe","Sole-Wasser- oder Wasser-Wassser-Wärmepumpe"]
[null,"Holz","Holzvergaserkessel*","Holzvergaserkessel*","Holzvergaserkessel*","Holzvergaserkessel*"]

{"sheet":"WE Leistung","index":10,"n_rows":141,"n_cols":45,"rows_kept":141,"cut":false,"hidden":false,"merged":[[95,15,95,18],[9,39,9,41],[46,24,46,25],[62,7,62,12],[65,24,65,27],[91,3,91,13],[93,5,93,8],[7,14,7,20],[73,5,73,8],[80,6,80,8],[45,11,45,13],[46,11,46,13],[73,9,73,12],[77,7,77,9],[78,8,78,12],[65,5,65,8],[75,7,75,11],[76,7,76,9],[75,5,78,5],[72,9,72,10],[67,11,67,12],[68,11,68,12],[69,11,69,12],[70,11,70,12],[87,3,87,7],[83,5,83,8],[87,11,87,12],[67,9,67,10],[68,9,68,10],[69,9,69,10],[70,9,70,10],[71,9,71,10],[67,5,67,6],[68,5,68,6],[69,5,69,6],[70,5,70,6],[84,5,84,8],[82,3,82,12],[86,3,86,7],[71,11,71,12],[72,11,72,12],[71,5,71,6],[72,5,72,6],[71,7,71,8],[72,7,72,8],[70,7,70,8],[69,7,69,8],[11,15,11,16],[11,19,11,20],[12,15,12,16],[12,19,12,20],[18,15,18,16],[18,19,18,20],[17,15,17,16],[17,19,17,20],[15,15,15,16],[15,19,15,20],[11,2,11,6],[12,2,12,6],[13,2,13,6],[19,2,19,6],[20,2,20,6],[14,2,14,6],[95,3,95,6],[41,2,42,13],[40,2,40,13],[26,2,26,13],[33,2,33,13],[65,9,65,12],[66,9,66,10],[66,11,66,12],[47,3,47,6],[47,10,47,13],[45,4,45,6],[46,4,46,6],[44,2,44,6],[44,9,44,13],[65,3,65,4],[66,7,66,8],[67,7,67,8],[68,7,68,8],[20,14,21,20],[31,8,32,14],[15,2,15,6],[16,2,16,6],[17,2,17,6],[18,2,18,6],[1,1,1,21],[66,24,66,25],[66,26,66,27],[8,24,8,28],[8,14,8,15],[9,14,9,16],[9,18,9,20],[8,18,8,19],[14,15,14,16],[14,19,14,20],[8,2,8,6],[22,5,22,11],[22,2,22,4],[66,5,66,6],[25,2,25,3],[32,5,32,6],[9,2,9,6],[10,2,10,6]]}
[]
[null,"LEISTUNG DES NEUEN WÄRMEERZEUGERS"]
[]
[null,null,"Innentemperatur:",null,{"$f":"INDIRECT(\"'\"&Allgemeines!$E$4&\"'\"&\"!\"&\"Nachweis_Innentemperatur\")","v":{"$error":"#REF!"}},null,null,"Energiebezugsfläche:",null,{"$f":"INDIRECT(\"'\"&Allgemeines!$E$4&\"'\"&\"!\"&\"Output_EBF\")","v":{"$error":"#REF!"}},null,null,null,null,null,null,null,null,null,null,null,null,null,0]
[null,null,"Außentemperatur:",null,{"$f":"INDIRECT(ADDRESS(24,17,,,\"[\"&Allgemeines!$E$4&\"]Klima\"))","v":{"$error":"#REF!"}},null,null,null,null,null,null,null,null,null,null,null,null,null,null,null,null,null,null,null,null,null,null,null,null,null,null,null,null,null,{"$f":"MATCH(O10,C10:C21,0)","v":{"$error":"#N/A"}}]
[null,null,null,null,null,null,null,null,null,null,null,null,null,null,null,null,null,null,null,null,null,null,null,null,null,null,null,null,null,null,null,null,null,null,{"$f":"MATCH(S10,C10:C21,0)","v":{"$error":"#N/A"}}]
[]
[null,null,null,null,null,null,null,null,null,null,null,null,null,null,{"$f":"IF(O10=\"\",\"Bitte wählen Sie einen Sanierungsschritt aus\",\"\")","v":"Bitte wählen Sie einen Sanierungsschritt aus"}]
[null,null,"Sanierungsschritt",null,null,null,null,"HWB\n[kWh/m²a]","HL\n[W/m²]","HL\n[kW]","Jahr","Dauer\n[a]",null,null,"Sanierungsschritt A:",null,null,null,"Sanierungsschritt B:",null,null,null,null,null,"Geradengleichungen:"]
[null,null,{"$f":"IF(Sanierungsschritte!$D$5=\"\",\"\",Sanierungsschritte!$D$5)","v":{"$error":"#REF!"}},null,null,null,null,{"$f":"IF(Sanierungsschritte!D$7=\"\",\"\",Sanierungsschritte!D$7)","v":{"$error":"#REF!"}},{"$f":"IF(Sanierungsschritte!D$8=\"\",\"\",Sanierungsschritte!D$8)","v":{"$error":"#REF!"}},{"$f":"IF(H10=\"\",\"\",I10*$J$4/1000)","v":{"$error":"#REF!"}},{"$f":"IF(I10=\"\",\"\",Sanierungsschritte!D$6)","v":{"$error":"#REF!"}},{"$f":"IF(K11=\"\",\"\",K11-K10)","v":{"$error":"#REF!"}},null,null,null,null,null,null,{"$f":"INDEX(C10:C21,MATCH(1,AG10:AG21,0))","v":{"$error":"#N/A"}},null,null,null,null,null,null,null,null,"k","d",null,{"$f":"IF(K10=\"\",\"\",IF(K10>INDEX($K$10:$K$21,MATCH($O$10,$C$10:$C$21,0)),1,0))","v":{"$error":"#REF!"}},{"$f":"IF(L10=\"\",\"\",IF(L10=0,0,1))","v":{"$error":"#REF!"}},{"$f":"IF(AE10=\"\",\"\",IF(AND(AE10=1,AF10=1),1,0))","v":{"$error":"#REF!"}},null,{"$f":"IF(OR(C10=$O$10,C10=$S$10),1,0)","v":{"$error":"#REF!"}},null,null,null,null,"Für Darstellung imTabellenblatt \"Zusammenfassung\""]
[null,null,{"$f":"IF(Sanierungsschritte!$E$5=\"\",\"\",Sanierungsschritte!$E$5)","v":{"$error":"#REF!"}},null,null,null,null,{"$f":"IF(Sanierungsschritte!E$7=\"\",\"\",Sanierungsschritte!E$7)","v":{"$error":"#REF!"}},{"$f":"IF(Sanierungsschritte!E$8=\"\",\"\",Sanierungsschritte!E$8)","v":{"$error":"#REF!"}},{"$error":"#REF!"},{"$f":"IF(I11=\"\",\"\",Sanierungsschritte!E$6)","v":{"$error":"#REF!"}},{"$f":"IF(AND(K12=\"\",K11=\"\"),\"\",IF(AND(K12=\"\",K11<>\"\"),20,K12-K11))","v":{"$error":"#REF!"}},null,null,null,null,null,null,null,null,null,null,null,8760,"Stufe 1",null,null,{"$f":"P16/(C52-$E$4)","v":{"$error":"#N/A"}},{"$f":"-$E$4*AB11","v":{"$error":"#REF!"}},null,{"$f":"IF(K11=\"\",\"\",IF(K11>INDEX($K$10:$K$21,MATCH($O$10,$C$10:$C$21,0)),1,0))","v":{"$error":"#REF!"}},{"$f":"IF(L11=\"\",\"\",IF(L11=0,0,1))","v":{"$error":"#REF!"}},{"$f":"IF(AE11=\"\",\"\",IF(AND(AE11=1,AF11=1),MAX(AG10)+1,0))","v":{"$error":"#REF!"}},null,{"$error":"#REF!"},null,null,null,null,"Austauschzeitpunkt:",{"$f":"IF('WE Auswahl'!E171='WE Auswahl'!Q172,'WE Leistung'!L96,H30)","v":0},{"$f":"Sanierungsschritte!AD52","v":5}]
[null,null,{"$f":"IF(Sanierungsschritte!$F$5=\"\",\"\",Sanierungsschritte!$F$5)","v":{"$error":"#REF!"}},null,null,null,null,{"$f":"IF(Sanierungsschritte!F$7=\"\",\"\",Sanierungsschritte!F$7)","v":{"$error":"#REF!"}},{"$f":"IF(Sanierungsschritte!F$8=\"\",\"\",Sanierungsschritte!F$8)","v":{"$error":"#REF!"}},{"$error":"#REF!"},{"$f":"IF(I12=\"\",\"\",Sanierungsschritte!F$6)","v":{"$error":"#REF!"}},{"$error":"#REF!"},null,null,"Bezog. HWB",{"$f":"INDEX(H10:H21,MATCH(O10,C10:C21,0))","v":{"$error":"#N/A"}},null,null,"Bezog. HWB",{"$f":"INDEX(H10:H21,MATCH(S10,C10:C21,0))","v":{"$error":"#N/A"}},null,null,null,0,"Stufe 2",null,null,{"$f":"T16/(C52-$E$4)","v":{"$error":"#N/A"}},{"$f":"-$E$4*AB12","v":{"$error":"#REF!"}},null,{"$error":"#REF!"},{"$error":"#REF!"},{"$f":"IF(AE12=\"\",\"\",IF(AND(AE12=1,AF12=1),MAX($AG$10:AG11)+1,0))","v":{"$error":"#REF!"}},null,{"$error":"#REF!"},null,null,null,null,"Kesselleistung vor Austausch",{"$f":"Sanierungsschritte!D20","v":0},{"$f":"X29-5","v":{"$error":"#REF!"}},{"$f":"Sanierungsschritte!D6","v":0}]
[null,null,{"$f":"IF(Sanierungsschritte!$G$5=\"\",\"\",Sanierungsschritte!$G$5)","v":{"$error":"#REF!"}},null,null,null,null,{"$f":"IF(Sanierungsschritte!G$7=\"\",\"\",Sanierungsschritte!G$7)","v":{"$error":"#REF!"}},{"$f":"IF(Sanierungsschritte!G$8=\"\",\"\",Sanierungsschritte!G$8)","v":{"$error":"#REF!"}},{"$error":"#REF!"},{"$f":"IF(I13=\"\",\"\",Sanierungsschritte!G$6)","v":{"$error":"#REF!"}},{"$error":"#REF!"},null,null,"Bezog. Heizlast",{"$f":"INDEX(I10:I21,MATCH(O10,C10:C21,0))","v":{"$error":"#N/A"}},null,null,"Bezog. Heizlast",{"$f":"INDEX(I10:I21,MATCH(S10,C10:C21,0))","v":{"$error":"#N/A"}},null,null,null,null,null,null,null,null,null,null,{"$error":"#REF!"},{"$error":"#REF!"},{"$f":"IF(AE13=\"\",\"\",IF(AND(AE13=1,AF13=1),MAX($AG$10:AG12)+1,0))","v":{"$error":"#REF!"}},null,{"$error":"#REF!"},null,null,null,null,"Kesselleistung nach Austausch",{"$f":"IF('WE Auswahl'!E171='WE Auswahl'!Q172,'WE Leistung'!X92,'WE Leistung'!E36)","v":0},0]
[null,null,{"$f":"IF(Sanierungsschritte!$H$5=\"\",\"\",Sanierungsschritte!$H$5)","v":{"$error":"#REF!"}},null,null,null,null,{"$f":"IF(Sanierungsschritte!H$7=\"\",\"\",Sanierungsschritte!H$7)","v":{"$error":"#REF!"}},{"$f":"IF(Sanierungsschritte!H$8=\"\",\"\",Sanierungsschritte!H$8)","v":{"$error":"#REF!"}},{"$error":"#REF!"},{"$f":"IF(I14=\"\",\"\",Sanierungsschritte!H$6)","v":{"$error":"#REF!"}},{"$error":"#REF!"},null,null,null,null,null,null,null,null,null,null,null,null,null,"k_Strom","d_Strom","k_COP","d_COP",null,{"$error":"#REF!"},{"$error":"#REF!"},{"$f":"IF(AE14=\"\",\"\",IF(AND(AE14=1,AF14=1),MAX($AG$10:AG13)+1,0))","v":{"$error":"#REF!"}},null,{"$error":"#REF!"}]
[null,null,{"$f":"IF(Sanierungsschritte!$I$5=\"\",\"\",Sanierungsschritte!$I$5)","v":{"$error":"#REF!"}},null,null,null,null,{"$f":"IF(Sanierungsschritte!I$7=\"\",\"\",Sanierungsschritte!I$7)","v":{"$error":"#REF!"}},{"$f":"IF(Sanierungsschritte!I$8=\"\",\"\",Sanierungsschritte!I$8)","v":{"$error":"#REF!"}},{"$error":"#REF!"},{"$f":"IF(I15=\"\",\"\",Sanierungsschritte!I$6)","v":{"$error":"#REF!"}},{"$f":"IF(AND(K16=\"\",K15=\"\"),\"\",IF(AND(K16=\"\",K15<>\"\"),20,K16-K15))","v":{"$error":"#REF!"}},null,null,"Heizwärmebedarf",{"$f":"IF(P12=\"\",\"\",P12*$J$4)","v":{"$error":"#N/A"}},null,null,"Heizwärmebedarf",{"$f":"IF(T12=\"\",\"\",T12*$J$4)","v":{"$error":"#N/A"}},null,null,null,null,"WP 1-1",{"$f":"(F55-F54)/($C55-$C54)","v":{"$error":"#N/A"}},{"$f":"F54-C54*Z15","v":{"$error":"#N/A"}},{"$f":"(G55-G54)/($C55-$C54)","v":{"$error":"#N/A"}},{"$f":"G54-C54*AB15","v":{"$error":"#N/A"}},null,{"$error":"#REF!"},{"$error":"#REF!"},{"$f":"IF(AE15=\"\",\"\",IF(AND(AE15=1,AF15=1),MAX($AG$10:AG14)+1,0))","v":{"$error":"#REF!"}},null,{"$error":"#REF!"}]
[null,null,{"$f":"IF(Sanierungsschritte!$I$5=\"\",\"\",Sanierungsschritte!$J$5)","v":{"$error":"#REF!"}},null,null,null,null,{"$f":"IF(Sanierungsschritte!I$7=\"\",\"\",Sanierungsschritte!J$7)","v":{"$error":"#REF!"}},{"$f":"IF(Sanierungsschritte!I$8=\"\",\"\",Sanierungsschritte!J$8)","v":{"$error":"#REF!"}},{"$f":"IF(H16=\"\",\"\",I16*$J$4/1000)","v":{"$error":"#REF!"}},{"$f":"IF(I16=\"\",\"\",Sanierungsschritte!J$6)","v":{"$error":"#REF!"}},{"$error":"#REF!"},null,null,"Heizlast",{"$f":"IF(P13=\"\",\"\",P13*$J$4/1000)","v":{"$error":"#N/A"}},null,null,"Heizlast",{"$f":"IF(T13=\"\",\"\",T13*$J$4/1000)","v":{"$error":"#N/A"}},null,null,null,null,"WP 1-2",{"$f":"(F56-F55)/($C56-$C55)","v":{"$error":"#N/A"}},{"$f":"F55-C55*Z16","v":{"$error":"#N/A"}},{"$f":"(G56-G55)/($C56-$C55)","v":{"$error":"#N/A"}},{"$f":"G55-C55*AB16","v":{"$error":"#N/A"}},null,{"$error":"#REF!"},{"$error":"#REF!"},{"$f":"IF(AE16=\"\",\"\",IF(AND(AE16=1,AF16=1),MAX($AG$10:AG15)+1,0))","v":{"$error":"#REF!"}},null,{"$error":"#REF!"}]
[null,null,{"$f":"IF(Sanierungsschritte!$I$5=\"\",\"\",Sanierungsschritte!$K$5)","v":{"$error":"#REF!"}},null,null,null,null,{"$f":"IF(Sanierungsschritte!I$7=\"\",\"\",Sanierungsschritte!K$7)","v":{"$error":"#REF!"}},{"$f":"IF(Sanierungsschritte!I$8=\"\",\"\",Sanierungsschritte!K$8)","v":{"$error":"#REF!"}},{"$error":"#REF!"},{"$f":"IF(I17=\"\",\"\",Sanierungsschritte!K$6)","v":{"$error":"#REF!"}},{"$error":"#REF!"},null,null,null,null,null,null,null,null,null,null,null,null,"WP 1-3",{"$f":"(F57-F56)/($C57-$C56)","v":{"$error":"#N/A"}},{"$f":"F56-C56*Z17","v":{"$error":"#N/A"}},{"$f":"(G57-G56)/($C57-$C56)","v":{"$error":"#N/A"}},{"$f":"G56-C56*AB17","v":{"$error":"#N/A"}},null,{"$error":"#REF!"},{"$error":"#REF!"},{"$f":"IF(AE17=\"\",\"\",IF(AND(AE17=1,AF17=1),MAX($AG$10:AG16)+1,0))","v":{"$error":"#REF!"}},null,{"$error":"#REF!"}]
[null,null,{"$f":"IF(Sanierungsschritte!$I$5=\"\",\"\",Sanierungsschritte!$L$5)","v":{"$error":"#REF!"}},null,null,null,null,{"$f":"IF(Sanierungsschritte!I$7=\"\",\"\",Sanierungsschritte!L$7)","v":{"$error":"#REF!"}},{"$f":"IF(Sanierungsschritte!I$8=\"\",\"\",Sanierungsschritte!L$8)","v":{"$error":"#REF!"}},{"$error":"#REF!"},null,"",null,null,"Heizdauer",{"$f":"IF(P15=\"\",\"\",P15*2/P16)","v":{"$error":"#N/A"}},null,null,"Heizdauer",{"$f":"IF(T15=\"\",\"\",T15*2/T16)","v":{"$error":"#N/A"}},null,null,null,{"$f":"IF(P18=\"\",\"\",P18/24)","v":{"$error":"#N/A"}},null,null,null,null,null,null,"","",{"$f":"IF(AE18=\"\",\"\",IF(AND(AE18=1,AF18=1),MAX($AG$10:AG17)+1,0))","v":""},null,{"$error":"#REF!"}]
[null,null,{"$f":"IF(Sanierungsschritte!$I$5=\"\",\"\",Sanierungsschritte!$M$5)","v":{"$error":"#REF!"}},null,null,null,null,{"$f":"IF(Sanierungsschritte!I$7=\"\",\"\",Sanierungsschritte!M$7)","v":{"$error":"#REF!"}},{"$f":"IF(Sanierungsschritte!I$8=\"\",\"\",Sanierungsschritte!M$8)","v":{"$error":"#REF!"}},{"$error":"#REF!"},null,{"$error":"#REF!"},null,null,"Dauer der Stufe",{"$f":"INDEX(K10:K21,MATCH(S10,C10:C21,0))-INDEX(K10:K21,MATCH(O10,C10:C21,0))","v":{"$error":"#N/A"}},null,null,"Dauer der Stufe",{"$f":"INDEX(L10:L21,MATCH(S10,C10:C21,0))","v":{"$error":"#N/A"}},null,null,null,{"$f":"IF(T18=\"\",\"\",T18/24)","v":{"$error":"#N/A"}},null,null,null,null,null,null,"",{"$error":"#REF!"},{"$f":"IF(AE19=\"\",\"\",IF(AND(AE19=1,AF19=1),MAX($AG$10:AG18)+1,0))","v":""},null,{"$error":"#REF!"}]
[null,null,{"$f":"IF(Sanierungsschritte!$I$5=\"\",\"\",Sanierungsschritte!$N$5)","v":{"$error":"#REF!"}},null,null,null,null,{"$f":"IF(Sanierungsschritte!I$7=\"\",\"\",Sanierungsschritte!N$7)","v":{"$error":"#REF!"}},{"$f":"IF(Sanierungsschritte!I$8=\"\",\"\",Sanierungsschritte!N$8)","v":{"$error":"#REF!"}},{"$error":"#REF!"},{"$f":"IF(I20=\"\",\"\",Sanierungsschritte!L$6)","v":{"$error":"#REF!"}},{"$error":"#REF!"},null,null,null,null,null,null,null,null,null,null,null,null,"WP 1-4",{"$f":"(F58-F57)/($C58-$C57)","v":{"$error":"#N/A"}},{"$f":"F57-C57*Z20","v":{"$error":"#N/A"}},{"$f":"(G58-G57)/($C58-$C57)","v":{"$error":"#N/A"}},{"$f":"G57-C57*AB20","v":{"$error":"#N/A"}},null,{"$error":"#REF!"},{"$error":"#REF!"},{"$f":"IF(AE20=\"\",\"\",IF(AND(AE20=1,AF20=1),MAX($AG$10:AG19)+1,0))","v":{"$error":"#REF!"}},null,{"$error":"#REF!"}]
[null,null,{"$f":"IF(Sanierungsschritte!$I$5=\"\",\"\",Sanierungsschritte!$O$5)","v":{"$error":"#REF!"}},null,null,null,null,{"$f":"IF(Sanierungsschritte!I$7=\"\",\"\",Sanierungsschritte!O$7)","v":{"$error":"#REF!"}},{"$f":"IF(Sanierungsschritte!I$8=\"\",\"\",Sanierungsschritte!O$8)","v":{"$error":"#REF!"}},{"$error":"#REF!"},{"$f":"IF(I21=\"\",\"\",Sanierungsschritte!M$6)","v":{"$error":"#REF!"}},{"$error":"#REF!"},null,null,{"$f":"IF(X21=1,AE23,\"\")","v":{"$error":"#N/A"}},null,null,null,null,null,null,null,null,{"$f":"IF((INDEX(K10:K21,MATCH(O10,C10:C21,0))=MAX(K10:K21)),1,0)","v":{"$error":"#N/A"}},null,null,null,null,null,null,{"$error":"#REF!"},{"$error":"#REF!"},{"$f":"IF(AE21=\"\",\"\",IF(AND(AE21=1,AF21=1),MAX($AG$10:AG20)+1,0))","v":{"$error":"#REF!"}},null,{"$error":"#REF!"}]
[null,null,null,null,null,null,null,null,null,null,null,null,null,null,null,null,null,null,null,null,null,null,null,null,"WP 2-1",{"$f":"(M55-M54)/($J55-$J54)","v":{"$error":"#N/A"}},{"$f":"M54-J54*Z22","v":{"$error":"#N/A"}},{"$f":"(N55-N54)/($J55-$J54)","v":{"$error":"#N/A"}},{"$f":"N54-J54*AB22","v":{"$error":"#N/A"}}]
[null,null,"Gewählter Wärmeerzeuger:",null,null,{"$f":"'WE Auswahl'!E171","v":0},null,null,null,null,null,null,null,null,null,null,null,null,null,null,null,null,null,{"$f":"IF(F23=\"Luft-Wasser-Wärmepumpe\",1,0)","v":0},"WP 2-2",{"$f":"(M56-M55)/($J56-$J55)","v":{"$error":"#N/A"}},{"$f":"M55-J55*Z23","v":{"$error":"#N/A"}},{"$f":"(N56-N55)/($J56-$J55)","v":{"$error":"#N/A"}},{"$f":"N55-J55*AB23","v":{"$error":"#N/A"}},null,"Wenn dies möglich ist, ist der Einbau des Wärmeerzeugers am Ende der Sanierung äußerst günstig. Die Dimensionierung kann dann genau für den Endzustand erfolgen, was sich günstig auf Größe und Effizienz des Wärmeerzeugers auswirkt.",null,null,null,null," "]
[]
[null,null,"ALLE ANDEREN HEIZWÄRMEERZEUGER",null,null,null,null,null,null,null,null,null,null,null,null,null,null,null,null,null,null,null,null,"Betrachtungszeitraum","WP 2-3",{"$f":"(M57-M56)/($J57-$J56)","v":{"$error":"#N/A"}},{"$f":"M56-J56*Z25","v":{"$error":"#N/A"}},{"$f":"(N57-N56)/($J57-$J56)","v":{"$error":"#N/A"}},{"$f":"N56-J56*AB25","v":{"$error":"#N/A"}},null,"Zu diesem Zeitpunkt lässt sich nicht genau sagen, wann die Lebensdauer des Heizwärmeerzeugers erreicht ist. Da sich die Anforderungen an diesen jedoch im Laufe der Sanierung weiter und weiter verringern, ist es sinnvoll den Austausch so spät wie möglich durchzuführen sodass der Wärmeerzeuger bestmöglich an den Endzustand der Sanierung angepasst ist.",null,null,null,null," "]
[null,null,null,null,null,null,null,null,null,null,null,null,null,null,null,null,null,null,null,null,null,null,null,{"$f":"INDEX(K10:K21,MATCH(O10,C10:C21,0))","v":{"$error":"#N/A"}},"WP 2-4",{"$f":"(M58-M57)/($J58-$J57)","v":{"$error":"#N/A"}},{"$f":"M57-J57*Z26","v":{"$error":"#N/A"}},{"$f":"(N58-N57)/($J58-$J57)","v":{"$error":"#N/A"}},{"$f":"N57-J57*AB26","v":{"$error":"#N/A"}},null,"Da Luft-Wasser-Wärmepumpen üblicherweise bivalent betrieben werden, können Sie in diesem Abschnitt für zwei Wärmepumpen die Bivalenzpunkte berechnen und diese anschließend miteinander vergleichen.",null,null,null,null," "]
[null,null,"Zu diesem Zeitpunkt lässt sich nicht genau sagen, wann die Lebensdauer des Heizwärmeerzeugers erreicht ist. Da sich die Anforderungen an diesen jedoch im Laufe der Sanierung weiter und weiter verringern, ist es sinnvoll den Austausch so spät wie möglich durchzuführen sodass der Wärmeerzeuger bestmöglich an den Endzustand der Sanierung angepasst ist.",null,null,null,null,null,null,null,null,null,null,null,null,null,null,null,null,null,null,null,null,{"$f":"INDEX(K10:K21,MATCH(S10,C10:C21,0))+T19","v":{"$error":"#N/A"}}]
[]
[null,null,"Voraussichtlicher Austausch des bestehenden Heizwärmeerzeugers:",null,null,null,null,{"$f":"Sanierungsschritte!D21","v":0},null,null,null,null,null,null,null,null,null,null,null,null,null,null,null,{"$f":"K10","v":{"$error":"#REF!"}}]
[null,null,"Betrachteter Zeitpunkt"]
[null,null,null,null,null,null,null,null,null,null,null,null,null,null,null,null,null,null,null,null,null,null,null,"Anlagengröße"]
[null,null,"Heizlast des Gebäudes zum betrachteten Zeitpunkt",null,null,null,null,{"$f":"INDEX(J10:J21,MATCH(H30,K10:K21,1))","v":{"$error":"#N/A"}},"Diese Heizlast muss der neue Wärmeerzeuger mindestens abdecken. Wenn die Sanierung noch nicht abgeschlossen ist, ist es besonders sinnvoll einen modulierbaren Wärmeerzeuger einzubauen.",null,null,null,null,null,null,null,null,null,null,null,null,null,null,{"$f":"IF(E36=\"\",H32,E36)","v":{"$error":"#N/A"}},"Funktion WP 1:",null,{"$f":"IF($F$68<$C$55,($Z$15*$F$68+$AA$15)*($AB$15*$F$68+$AC$15),IF($F$68<$C$56,($Z$16*$F$68+$AA$16)*($AB$16*$F$68+$AC$16),IF($F$68<$C$57,($Z$17*$F$68+$AA$17)*($AB$17*$F$68+$AC$17),($Z$20*$F$68+$AA$20)*($AB$20*$F$68+$AC$20))))","v":{"$error":"#N/A"}},{"$f":"AA32-AA33","v":{"$error":"#N/A"}},null,"Funktion WP 1:",null,{"$f":"IF($J$68<$C$55,($Z$15*$J$68+$AA$15)*($AB$15*$J$68+$AC$15),IF($J$68<$C$56,($Z$16*$J$68+$AA$16)*($AB$16*$J$68+$AC$16),IF($J$68<$C$57,($Z$17*$J$68+$AA$17)*($AB$17*$J$68+$AC$17),($Z$20*$J$68+$AA$20)*($AB$20*$J$68+$AC$20))))","v":{"$error":"#N/A"}},{"$f":"AF32-AF33","v":{"$error":"#N/A"}}]
[null,null,null,null,null,null,null,null,null,null,null,null,null,null,null,null,null,null,null,null,null,null,null,null,"Stufe 1:",null,{"$f":"AB11*$F$68+AC11","v":{"$error":"#N/A"}},null,null,"Stufe 2:",null,{"$f":"AB12*$J$68+AC12","v":{"$error":"#N/A"}}]
[null,null,{"$f":"IF(F23=\"Holzvergaserkessel\",X37,IF(F23=\"Hackschnitzelanlage\",X38,\"\"))","v":""},null,null,null,null,null,null,null,null,null,null,null,null,null,null,null,null,null,null,null,null,null,"Funktion WP 2:",null,{"$f":"IF($H$68<$J$55,($Z$22*$H$68+$AA$22)*($AB$22*$H$68+$AC$22),IF($H$68<$J$56,($Z$23*$H$68+$AA$23)*($AB$23*$H$68+$AC$23),IF($H$68<$J$57,($Z$25*$H$68+$AA$25)*($AB$25*$H$68+$AC$25),($Z$26*$H$68+$AA$26)*($AB$26*$H$68+$AC$26))))","v":{"$error":"#N/A"}},{"$f":"AA34-AA35","v":{"$error":"#N/A"}},null,"Funktion WP 2:",null,{"$f":"IF($L$68<$J$55,($Z$22*$L$68+$AA$22)*($AB$22*$L$68+$AC$22),IF($L$68<$J$56,($Z$23*$L$68+$AA$23)*($AB$23*$L$68+$AC$23),IF($L$68<$J$57,($Z$25*$L$68+$AA$25)*($AB$25*$L$68+$AC$25),($Z$26*$L$68+$AA$26)*($AB$26*$L$68+$AC$26))))","v":{"$error":"#N/A"}},{"$f":"AF34-AF35","v":{"$error":"#N/A"}}," "]
[null,null,null,null,null,null,null,null,null,null,null,null,null,null,null,null,null,null,null,null,null,null,null,null,"Stufe 1:",null,{"$f":"$AB$11*$H$68+$AC$11","v":{"$error":"#N/A"}},null,null,"Stufe 2:",null,{"$f":"$AB$12*$L$68+$AC$12","v":{"$error":"#N/A"}},null," "]
[null,null,"Gewählte Anlagengröße"]
[null,null,null,null,null,null,null,null,null,null,null,null,null,null,null,null,null,null,null,null,null,null,null,"Beim Einbau eines Holzvergaserkessels ist zu beachten, dass systembedingt die Anlagengröße nicht beliebig klein gewählt werden kann. Aus diesem Grund sollte vor der Festlegung der Kesselgröße mehrere Produkte verglichen werden. Außerdem ist die Wechselwirkung mit der Pufferspeichergröße in diesem Fall besonders wichtig (siehe WE Puffer). Bei Holzvergaserkesseln sollte bei der Wahl der Anlagengröße auch die erforderliche Zeit zum Beladen des Pufferspeichers geachtet werden. Ist diese Zeit zu groß wirkt sich dies negativ auf den Komfort aus (ständiges Nachlegen von Brennholz nötig) ",null,null,null,null,null,null,null,null,null," ",null,null,"Hinweis:"]
[null,null,null,null,null,null,null,null,null,null,null,null,null,null,null,null,null,null,null,null,null,null,null,"Beim Einbau einer Hackschnitzelanlage ist zu beachten, dass systembedingt die Anlagengröße nicht beliebig klein gewählt werden kann. Aus diesem Grund sollte vor der Festlegung der Kesselgröße mehrere Produkte verglichen werden. Außerdem ist die Wechselwirkung mit der Pufferspeichergröße in diesem Fall besonders wichtig (siehe WE Puffer)",null,null,null,null,null,null,null,null,null," ",null,null,"Der von Ihnen gewählte Betrachtungszeitpunkt für die Ermittlung der Leistung des Wärmeerzeugers stimmt nicht diesem Zeitpunkt überein. Dies kann durchaus sinnvoll sein (z.B. aufgrund des Zustandes des Bestandskessels) sollte jedoch begründet werden können.",null,null,null,null,null,null,null," "]
[null,null,"LUFT-WASSER-WÄRMEPUMPE"]
[]
[null,null,{"$f":"IF(X21=0,AE25,AE26)","v":{"$error":"#N/A"}}]
[null,null,"Luft-Wasser-Wärmepumpen werden meist bivalent betrieben. Aus diesem Grund kann es sinnvoll sein, eine etwas zu kleine Wärmepumpe mit geringeren Investitionskosten einzubauen und für die Zeit bis zum nächsten Sanierungsschritt etwas höherere Betriebskosten in Kauf zu nehmen.\n\nOb dies im vorliegenden Fall sinnvoll ist, wird nun ermittelt. Dazu wählen Sie bitte oben die Sanierungsstufe während der Heizwärmeerzeuger voraussichtich ausfallen wird. Sie können hierbei einige Szenarien durchspielen (Kessel fällt früher aus, Kessel fällt später aus)\n\nIm nächsten Schritt können Sie zwei Wärmepumpen auswählen die Sie miteinander vergleichen wollen."]
[]
[]
[null,null,"Wärmeerzeuger 1   (kleinere Leistung)",null,null,null,null,null,null,"Wärmeerzeuger 2   (größere Leistung)"]
[null,null,"Wärmequelle:",null,"Luft",null,null,null,null,"Wärmequelle:",null,"Luft"]
[null,null,"Wärmesenke:",null,"Wasser",null,null,null,null,"Wärmesenke:",null,"Wasser",null,null,null,null,null,null,null,null,null,null,null,null,"Gewählte Geräte"]
[null,null,"Gerät:",null,null,null,null,null,null,"Gerät:",null,null,null,null,null,null,null,null,null,null,null,null,null,null,{"$f":"MATCH(D48,WP_Luft_Wasser[Modell],0)","v":{"$error":"#N/A"}},{"$f":"MATCH(K48,WP_Luft_Wasser[Modell],0)","v":{"$error":"#N/A"}}]
[]
[null,null,"Luft","Wasser","Leistung","Input Strom","COP",null,null,"Luft","Wasser","Leistung","Input Strom","COP"]
[]
[null,null,{"$f":"$E$5","v":{"$error":"#REF!"}},{"$f":"D54","v":{"$error":"#N/A"}},{"$f":"G52*F52","v":{"$error":"#N/A"}},{"$f":"IF($C54=$C55,(F56-F55)/($C56-$C55)*($C52-$C55)+F55,(F55-F54)/($C55-$C54)*($C52-$C54)+F54)","v":{"$error":"#N/A"}},{"$f":"IF($C54=$C55,(G56-G55)/($C56-$C55)*($C52-$C55)+G55,(G55-G54)/($C55-$C54)*($C52-$C54)+G54)","v":{"$error":"#N/A"}},null,null,{"$f":"$E$5","v":{"$error":"#REF!"}},{"$f":"K54","v":{"$error":"#N/A"}},{"$f":"N52*M52","v":{"$error":"#N/A"}},{"$f":"IF($J54=$J55,(M56-M55)/($J56-$J55)*($J52-$J55)+M55,(M55-M54)/($J55-$J54)*($J52-$J54)+M54)","v":{"$error":"#N/A"}},{"$f":"IF($J54=$J55,(N56-N55)/($J56-$J55)*($J52-$J55)+N55,(N55-N54)/($J55-$J54)*($J52-$J54)+N54)","v":{"$error":"#N/A"}}]
[]
[null,null,{"$f":"IF(INDEX(WP_Luft_Wasser[],'WE Leistung'!Y48,3)=\"\",-15,INDEX(WP_Luft_Wasser[],'WE Leistung'!Y48,3))","v":{"$error":"#N/A"}},{"$f":"INDEX(WP_Luft_Wasser[],'WE Leistung'!Y48,2)","v":{"$error":"#N/A"}},{"$f":"IF(INDEX(WP_Luft_Wasser[],'WE Leistung'!Y48,8)=\"\",G54*F54,INDEX(WP_Luft_Wasser[],'WE Leistung'!Y48,8))","v":{"$error":"#N/A"}},{"$f":"IF(INDEX(WP_Luft_Wasser[],'WE Leistung'!Y48,13)=\"\",F55,INDEX(WP_Luft_Wasser[],'WE Leistung'!Y48,13))","v":{"$error":"#N/A"}},{"$f":"IF(INDEX(WP_Luft_Wasser[],'WE Leistung'!Y48,8)=\"\",((G56-G55)/(C56-C55)*(C54-C55)+G55),E54/F54)","v":{"$error":"#N/A"}},{"$f":"IF(INDEX(WP_Luft_Wasser[],'WE Leistung'!Y48,8)=\"\",\"Zeile extrapoliert\",\"\")","v":{"$error":"#N/A"}},null,{"$f":"IF(INDEX(WP_Luft_Wasser[],'WE Leistung'!Z48,3)=\"\",-15,INDEX(WP_Luft_Wasser[],'WE Leistung'!Z48,3))","v":{"$error":"#N/A"}},{"$f":"INDEX(WP_Luft_Wasser[],'WE Leistung'!Z48,2)","v":{"$error":"#N/A"}},{"$f":"IF(INDEX(WP_Luft_Wasser[],'WE Leistung'!Z48,8)=\"\",N54*M54,INDEX(WP_Luft_Wasser[],'WE Leistung'!Z48,8))","v":{"$error":"#N/A"}},{"$f":"IF(INDEX(WP_Luft_Wasser[],'WE Leistung'!Z48,13)=\"\",M55,INDEX(WP_Luft_Wasser[],'WE Leistung'!Z48,13))","v":{"$error":"#N/A"}},{"$f":"IF(INDEX(WP_Luft_Wasser[],'WE Leistung'!Z48,8)=\"\",((N56-N55)/(J56-J55)*(J54-J55)+N55),L54/M54)","v":{"$error":"#N/A"}},{"$f":"IF(INDEX(WP_Luft_Wasser[],'WE Leistung'!Z48,8)=\"\",\"Zeile extrapoliert\",\"\")","v":{"$error":"#N/A"}},null,null,null,null,null,null,null,null,null,"Wenn Makros deaktiviert, händische ermittlung kurz anleiten - Hinweis Bivalenzpunkte neu ermitteln ignorieren"]
[null,null,{"$f":"INDEX(WP_Luft_Wasser[],'WE Leistung'!Y48,4)","v":{"$error":"#N/A"}},{"$f":"INDEX(WP_Luft_Wasser[],'WE Leistung'!Y48,2)","v":{"$error":"#N/A"}},{"$f":"INDEX(WP_Luft_Wasser[],'WE Leistung'!Y48,9)","v":{"$error":"#N/A"}},{"$f":"INDEX(WP_Luft_Wasser[],'WE Leistung'!Y48,14)","v":{"$error":"#N/A"}},{"$f":"E55/F55","v":{"$error":"#N/A"}},null,null,{"$f":"INDEX(WP_Luft_Wasser[],'WE Leistung'!Z48,4)","v":{"$error":"#N/A"}},{"$f":"INDEX(WP_Luft_Wasser[],'WE Leistung'!Z48,2)","v":{"$error":"#N/A"}},{"$f":"INDEX(WP_Luft_Wasser[],'WE Leistung'!Z48,9)","v":{"$error":"#N/A"}},{"$f":"INDEX(WP_Luft_Wasser[],'WE Leistung'!Z48,14)","v":{"$error":"#N/A"}},{"$f":"L55/M55","v":{"$error":"#N/A"}}]
[null,null,{"$f":"INDEX(WP_Luft_Wasser[],'WE Leistung'!Y48,5)","v":{"$error":"#N/A"}},{"$f":"INDEX(WP_Luft_Wasser[],'WE Leistung'!Y48,2)","v":{"$error":"#N/A"}},{"$f":"INDEX(WP_Luft_Wasser[],'WE Leistung'!Y48,10)","v":{"$error":"#N/A"}},{"$f":"INDEX(WP_Luft_Wasser[],'WE Leistung'!Y48,15)","v":{"$error":"#N/A"}},{"$f":"E56/F56","v":{"$error":"#N/A"}},null,null,{"$f":"INDEX(WP_Luft_Wasser[],'WE Leistung'!Z48,5)","v":{"$error":"#N/A"}},{"$f":"INDEX(WP_Luft_Wasser[],'WE Leistung'!Z48,2)","v":{"$error":"#N/A"}},{"$f":"INDEX(WP_Luft_Wasser[],'WE Leistung'!Z48,10)","v":{"$error":"#N/A"}},{"$f":"INDEX(WP_Luft_Wasser[],'WE Leistung'!Z48,15)","v":{"$error":"#N/A"}},{"$f":"L56/M56","v":{"$error":"#N/A"}},null,null," "]
[null,null,{"$f":"INDEX(WP_Luft_Wasser[],'WE Leistung'!Y48,6)","v":{"$error":"#N/A"}},{"$f":"INDEX(WP_Luft_Wasser[],'WE Leistung'!Y48,2)","v":{"$error":"#N/A"}},{"$f":"INDEX(WP_Luft_Wasser[],'WE Leistung'!Y48,11)","v":{"$error":"#N/A"}},{"$f":"INDEX(WP_Luft_Wasser[],'WE Leistung'!Y48,16)","v":{"$error":"#N/A"}},{"$f":"E57/F57","v":{"$error":"#N/A"}},null,null,{"$f":"INDEX(WP_Luft_Wasser[],'WE Leistung'!Z48,6)","v":{"$error":"#N/A"}},{"$f":"INDEX(WP_Luft_Wasser[],'WE Leistung'!Z48,2)","v":{"$error":"#N/A"}},{"$f":"INDEX(WP_Luft_Wasser[],'WE Leistung'!Z48,11)","v":{"$error":"#N/A"}},{"$f":"INDEX(WP_Luft_Wasser[],'WE Leistung'!Z48,16)","v":{"$error":"#N/A"}},{"$f":"L57/M57","v":{"$error":"#N/A"}},null,null,null,null,null,null,null,null,null,null,"Ochsner, GMLW 5 plus ( 3,0 kW)"]
[null,null,{"$f":"INDEX(WP_Luft_Wasser[],'WE Leistung'!Y48,7)","v":{"$error":"#N/A"}},{"$f":"INDEX(WP_Luft_Wasser[],'WE Leistung'!Y48,2)","v":{"$error":"#N/A"}},{"$f":"INDEX(WP_Luft_Wasser[],'WE Leistung'!Y48,12)","v":{"$error":"#N/A"}},{"$f":"INDEX(WP_Luft_Wasser[],'WE Leistung'!Y48,17)","v":{"$error":"#N/A"}},{"$f":"E58/F58","v":{"$error":"#N/A"}},null,null,{"$f":"INDEX(WP_Luft_Wasser[],'WE Leistung'!Z48,7)","v":{"$error":"#N/A"}},{"$f":"INDEX(WP_Luft_Wasser[],'WE Leistung'!Z48,2)","v":{"$error":"#N/A"}},{"$f":"INDEX(WP_Luft_Wasser[],'WE Leistung'!Z48,12)","v":{"$error":"#N/A"}},{"$f":"INDEX(WP_Luft_Wasser[],'WE Leistung'!Z48,17)","v":{"$error":"#N/A"}},{"$f":"L58/M58","v":{"$error":"#N/A"}},null,null,null,null,null,null,null,null,null,null,"Elcotherm; Aerotop S07M-CR (6,8 kW)"]
[null,null,null,null,null,null,null,null,null,null,null,null,null,null,null,null,null,null,null,null,null,null,null,null,{"$f":"D48","v":0}]
[null,null,null,null,null,null,null,null,null,null,null,null,null,null,null,null,null,null,null,null,null,null,null,null,{"$f":"K48","v":0}]
[]
[]
[null,null,null,null,null,null,null,{"$f":"IF(AND(Y57=Y59,Y58=Y60),\"\",\"Hinweis: Bivalenzpunkte nicht aktuell - Neuberechnung erforderlich\")","v":"Hinweis: Bivalenzpunkte nicht aktuell - Neuberechnung erforderlich"},null,null,null,null,null,null,null,null,null,null,null,null,null,null,null,{"$f":"IF(H63=\"\",0,1)","v":1},"←bedingt einfärben wenn was da steht"]
[]
[]
[null,null,null,"Sanierungsstufe:",null,{"$f":"O10","v":0},null,null,null,{"$f":"S10","v":{"$error":"#N/A"}},null,null,null,null,null,null,null,null,null,null,null,null,null,null,"Beschleunigung des Makros"]
[null,null,null,null,null,"Wärmeerzeuger 1",null,"Wärmeerzeuger 2",null,"Wärmeerzeuger 1",null,"Wärmeerzeuger 2",null,null,null,null,null,null,null,null,null,null,null,null,"Stufe 1",null,"Stufe 2"]
[null,null,null,"Temperatur, Bivalenzpunkt",null,2.4534375291552948,null,0.54815490767339237,null,-7.2519580657867087,null,-20.728023726142688,null,null,null," ",null,null,null,null,null,null,null,null,"WP1","WP2","WP1","WP2"]
[null,null,null,"Leistung, Bivalenzpunkt",null,{"$f":"IF(O10=\"\",\"\",$AB$11*Y69+$AC$11)","v":""},null,{"$f":"IF(O10=\"\",\"\",$AB$11*Z69+$AC$11)","v":""},null,{"$f":"IF(O10=\"\",\"\",$AB$12*AA69+$AC$12)","v":""},null,{"$f":"IF(O10=\"\",\"\",$AB$12*AB69+$AC$12)","v":""},null,null,null,null,null,null,null,null,null,null,null,null,2.4534375291552948,0.54815490767339237,-7.2519580657867087,-20.728023726142688]
[null,null,null,"Heizdauer, Bivalenzpunkt",null,{"$f":"IF(O10=\"\",\"\",IF((F69-$P$16)/(-$P$16/$P$18)>=0,(F69-$P$16)/(-$P$16/$P$18),\"monovalent\"))","v":""},null,{"$f":"IF(O10=\"\",\"\",IF((H69-$P$16)/(-$P$16/$P$18)>=0,(H69-$P$16)/(-$P$16/$P$18),\"monovalent\"))","v":""},null,{"$f":"IF(O10=\"\",\"\",IF((J69-$T$16)/(-$T$16/$T$18)>=0,(J69-$T$16)/(-$T$16/$T$18),\"monovalent\"))","v":""},null,{"$f":"IF(O10=\"\",\"\",IF((L69-$T$16)/(-$T$16/$T$18)>=0,(L69-$T$16)/(-$T$16/$T$18),\"monovalent\"))","v":""}]
[null,null,null,"Heizenergie Heizstab",null,{"$f":"IF(ISNUMBER(F70),($P$16-$E$52)*F70/2,\"0\")","v":"0"},null,{"$f":"IF(ISNUMBER(H70),($P$16-$L$52)*H70/2,\"0\")","v":"0"},null,{"$f":"IF(ISNUMBER(J70),($T$16-$E$52)*J70/2,\"0\")","v":"0"},null,{"$f":"IF(ISNUMBER(L70),($T$16-$L$52)*L70/2,\"0\")","v":"0"},null,null,null,null,null,null,null,null,null,null,null,null,null,null,null,null,null,null,"Reduzierte Auswahl","Stufe","HWB","HL","Hlges","Jahr"]
[null,null,null,"Anteil am jährlichen HWB",null,{"$f":"IF(O10=\"\",\"\",F71/$P$15)","v":""},null,{"$f":"IF(O10=\"\",\"\",H71/$P$15)","v":""},null,{"$f":"IF(O10=\"\",\"\",J71/$P$15)","v":""},null,{"$f":"IF(O10=\"\",\"\",L71/$T$15)","v":""},null,null,null,null,null,null,null,null,null,null,null,null,null,null,null,null,null,null,{"$f":"IF(C11=\"\",\"\",C10)","v":{"$error":"#REF!"}},{"$f":"C10","v":{"$error":"#REF!"}},{"$f":"H10","v":{"$error":"#REF!"}},{"$error":"#REF!"},{"$error":"#REF!"},{"$error":"#REF!"}]
[null,null,null,"Zustätzl. Stromkosten/Jahr",null,{"$f":"F71*$N$87","v":0},null,{"$f":"H71*$N$87","v":0},null,{"$f":"J71*$N$87","v":0},null,{"$f":"L71*$N$87","v":0},null,null,null,null,null,null,null,null,null,null,null,null,null,null,null,null,null,null,{"$error":"#REF!"},{"$error":"#REF!"},{"$error":"#REF!"},{"$error":"#REF!"},{"$error":"#REF!"},{"$error":"#REF!"}]
[null,null,null,"Dauer der Sanierungsstufe",null,{"$f":"P19","v":{"$error":"#N/A"}},null,null,null,{"$f":"IF(INDEX(L10:L21,MATCH(S10,C10:C21,0))+F74<20,INDEX(L10:L21,MATCH(S10,C10:C21,0)),20-F74)","v":{"$error":"#N/A"}},null,null,null,null,null,null,null,null,null,null,null,null,null,null,null,null,null,null,null,null,{"$error":"#REF!"},{"$error":"#REF!"},{"$error":"#REF!"},{"$error":"#REF!"},{"$error":"#REF!"},{"$error":"#REF!"}]
[null,null,null,null,null,null,null,null,null,null,null,null,null,null,null,null,null,null,null,null,null,null,null,null,null,null,null,null,null,null,{"$error":"#REF!"},{"$error":"#REF!"},{"$error":"#REF!"},{"$error":"#REF!"},{"$error":"#REF!"},{"$error":"#REF!"}]
[null,null,null,"Beginn Betrachtungszeitraum:",null,{"$f":"IF(COUNTIF(G76:G79,\"\")=4,\"Bitte die gewünschte\nOption auswählen\",IF(COUNTIF(G76:G79,\"\")<3,\"Bitte\nnur\nEINE\nOption\nwählen\",\"\"))","v":"Bitte die gewünschte\nOption auswählen"},null,{"$f":"Sanierungsschritte!D21","v":0},null,null,null,null,{"$f":"H76","v":0},null,null,null,null,null,null,null,null,null,null,null,null,null,null,null,null,null,{"$error":"#REF!"},{"$error":"#REF!"},{"$error":"#REF!"},{"$error":"#REF!"},{"$error":"#REF!"},{"$error":"#REF!"}]
[null,null,null,null,null,null,null,"Vorher - Annahme: Kessel fällt früher aus.",null,null,"Wieviel füher?",null,{"$f":"H76-L77","v":0},null,null,null,null,null,null,null,null,null,null,null,null,null,null,null,null,null,{"$error":"#REF!"},{"$error":"#REF!"},{"$error":"#REF!"},{"$error":"#REF!"},{"$error":"#REF!"},{"$error":"#REF!"}]
[null,null,null,null,null,null,null,"Nachher - Annahme: Kessel fällt später aus.",null,null,"Wieviel später?",null,{"$f":"H76+L78","v":0},null,null,null,null,null,null,null,null,null,null,{"$f":"Sanierungsschritte!AD32","v":5},null,null,null,null,null,null,{"$error":"#REF!"},{"$error":"#REF!"},{"$error":"#REF!"},{"$error":"#REF!"},{"$error":"#REF!"},{"$error":"#REF!"}]
[null,null,null,null,null,null,null,"Sanierung:",{"$f":"O10","v":0},null,null,null,null,null,null,null,null,null,null,null,null,null,null,{"$f":"MAX(IF(AND(G77=\"\",G78=\"\"),M76,0),IF(G77<>\"\",M77,0),IF(G78<>\"\",M78,0))","v":0},null,null,null,null,null,null,{"$f":"IF(C20=\"\",\"\",C17)","v":{"$error":"#REF!"}},{"$error":"#REF!"},{"$error":"#REF!"},{"$error":"#REF!"},{"$error":"#REF!"},{"$error":"#REF!"}]
[null,null,null,null,null,null,null,null,null,null,null,null,null,null,null,null,null,null,null,null,null,null,null,null,null,null,null,null,null,null,{"$f":"IF(C21=\"\",\"\",C20)","v":{"$error":"#REF!"}},{"$f":"C20","v":{"$error":"#REF!"}},{"$f":"H20","v":{"$error":"#REF!"}},{"$error":"#REF!"},{"$error":"#REF!"},{"$error":"#REF!"}]
[null,null,null,"Ende Betrachtungszeitraum:",null,"Sanierung:",{"$f":"INDEX(C10:C21,MATCH(S10,C10:C21,0)+1)","v":{"$error":"#N/A"}},null,null,null,null,null,null,null,null,null,null,null,null,null,null,null,null,null,null,null,null,null,null,null,{"$f":"IF(C22=\"\",\"\",C21)","v":""},{"$f":"C21","v":{"$error":"#REF!"}},{"$error":"#REF!"},{"$error":"#REF!"},{"$error":"#REF!"},{"$error":"#REF!"}]
[null,null,null,"Betrachtungszeitraum:",null,null,{"$f":"IF(G76<>\"\",H76,IF(G77<>\"\",M77,IF(G78<>0,M78,IF(G79<>0,INDEX(K10:K21,MATCH(O10,C10:C21,0)),\"bitte wählen\"))))","v":"bitte wählen"},"-",{"$f":"IF(D85=MAX(K10:K21),INDEX(K10:K21,MATCH(S10,C10:C21,0))+Sanierungsschritte!$D$22,INDEX(K10:K21,MATCH(G81,C10:C21,0)))","v":{"$error":"#N/A"}}]
[null,null,null,{"$f":"IF(ISNUMBER(G82),IF(AND(G79=\"\",G82>=INDEX(K10:K21,MATCH(S10,C10:C21,0))),\"Der Beginn des Betrachtungszeitraum liegt \nnicht im Zeitraum des ersten gewählten Sanierungsschritts. Bitte wählen Sie oben einen späteren Sanierungsschritt\",IF(AND(G79=\"\",G82<INDEX(K10:K21,MATCH(O10,C10:C21,0))),\"Der Beginn des Betrachtungszeitraum liegt \nnicht im Zeitraum des ersten gewählten Sanierungsschritts. Bitte wählen Sie oben einen früheren Sanierungsschritt\",\"\")),\"\")","v":""},null,null,null,null,null,null,null,null,null,null,null,null,null,null,null,null,null,null,null,{"$f":"IF(AND(ISNUMBER(G82),D84=\"\"),1,0)","v":{"$error":"#N/A"}}]
[null,null,null,{"$f":"IF(AND(G79=\"\",OR(INDEX(K10:K21,MATCH(S10,C10:C21,0))<=G82,INDEX(K10:K21,MATCH(O10,C10:C21,0))>G82)),\"\",G82)","v":{"$error":"#N/A"}},{"$f":"IF(AND(G79=\"\",OR(INDEX(K10:K21,MATCH(S10,C10:C21,0))<=G82,INDEX(K10:K21,MATCH(O10,C10:C21,0))>G82)),\"\",INDEX(K10:K21,MATCH(S10,C10:C21,0)))","v":{"$error":"#N/A"}},{"$f":"IF(E84<>\"\",F66,\"\")","v":{"$error":"#N/A"}},null,null,null,null,null,null,null,null,null,null,null,null,null,null,null,null,null,{"$f":"E84-D84","v":{"$error":"#N/A"}}]
[null,null,null,{"$f":"IF(AND(G79=\"\",OR(INDEX(K10:K21,MATCH(S10,C10:C21,0))<=G82,INDEX(K10:K21,MATCH(O10,C10:C21,0))>G82)),\"\",E84)","v":{"$error":"#N/A"}},{"$f":"IF(AND(G79=\"\",OR(INDEX(K10:K21,MATCH(S10,C10:C21,0))<=G82,INDEX(K10:K21,MATCH(O10,C10:C21,0))>G82)),\"\",I82)","v":{"$error":"#N/A"}},{"$f":"IF(E85<>\"\",J66,\"\")","v":{"$error":"#N/A"}},null,null,null,null,null,null,null,null,null,null,null,null,null,null,null,null,null,{"$f":"IF(X84+E85-D85>20,20-X84,E85-D85)","v":{"$error":"#N/A"}}]
[]
[null,null,null,{"$f":"IF(G82=\"bitte wählen\",\"Bitte Betrachtungszeitraum definieren\",INDEX(K10:K21,MATCH(S10,C10:C21,0))-G82)","v":"Bitte Betrachtungszeitraum definieren"},null,null,null,null,{"$f":"F73-H73","v":0},null,null,"Energiepreis, Strom:"]
[null,null,null,{"$f":"IF(ISNUMBER(J74),J74,0)","v":0},null,null,null,null,{"$f":"J73-L73","v":0},null,null,"Kalkulationszinssatz:",null,null,null,null,null,null,null,null,null,null,null,{"$f":"D48","v":0}]
[null,null,null,null,null,null,null,null,null,null,null,null,null,null,null,null,null,null,null,null,null,null,null,{"$f":"K48","v":0}]
[null,null,null,"Summe der zusätzlichen Stromkosten im Betrachtungszeitraum (Barwert):",null,null,null,null,{"$f":"I87*((1+N88)^X84-1)/(N88*(1+N88)^X84)+I88*((1+N88)^X85-1)/(N88*(1+N88)^X85)","v":{"$error":"#N/A"}}]
[null,null,null,null,null,null,null,null,null,null,null,null,null,null,null,null,null,null,null,null,null,null,null,"Gewählte Leistung"]
[null,null,null,"Auf Basis dieser Kostendifferenz gilt es nun in Erfahrung zu bringen, ob die zusätzlichen Investitionskosten der größeren Wärmepumpe diesen Betrag über- oder unterschreiten. Für detaillierte Preise wenden Sie sich bitte an einen Fachhändler. \n\nDer frühzeitige Einbau einer kleineren Wärmepumpe rechnet sich  naheliegenderweise dann, wenn die Übergangszeit bis zum nächsten Sanierungsschritt nicht zu groß ist.",null,null,null,null,null,null,null,null,null,null,null,null,null,null,null,null,null,null,null,{"$f":"IF(P96=X88,E52,IF(P96=X89,L52,\"\"))","v":{"$error":"#N/A"}}]
[]
[null,null,null,"Bitte wählen Sie:",null,null,null,null,null,null,null,null,null,null,null,null,null,null,null,null,null,null,null,"Abzudecken"]
[null,null,null,null,null,null,null,null,null,null,null,null,null,null,null,null,null,null,null,null,null,null,null,{"$f":"INDEX(J10:J21,MATCH(G82,K10:K21,1))","v":{"$error":"#N/A"}}]
[null,null,null,{"$f":"IF(MID(F94,24,7)=\"kleiner\",\"Es empfiehlt sich, die größere Wärmepumpe einzubauen\",IF(MID(F94,24,6)=\"größer\",\"Es empfiehlt sich, die kleinere Wärmepumpe einzubauen\",\"\"))","v":""},null,null,null,null,"Einbau der neuen Wärmepumpe:",null,null,null,null,"Gewählte Wärmepumpe:"]
[]
[]
[]
[]
[]
[]
[]
[]
[]
[]
[]
[]
[null,null,null,null,null,null,null,null,null,null,null,null,null,null,null,null,null,null,null,null,null,null,null,{"$f":"\"Die Preisdifferenz ist kleiner als \"&#REF!&\" €\"","v":{"$error":"#REF!"}}]
[null,null,null,null,null,null,null,null,null,null,null,null,null,null,null,null,null,null,null,null,null,null,null,{"$f":"\"Die Preisdifferenz ist größer als \"&#REF!&\" €\"","v":{"$error":"#REF!"}}]
[]
[]
[]
[]
[]
[]
[]
[]
[]
[]
[]
[]
[]
[]
[]
[]
[]
[]
[]
[]
[]
[]
[null,null,null,null,null,null,null,null,null,null,null,null,null,null,null,null,null,null,null,null,null,null,null,1,2,3,4,5,6,7,8,9,10,11,12,13,14,15,16,17]
[null,null,null,null,null,null,null,null,null,null,null,null,null,null,null,null,null,null,null,null,null,null,null,"Modell","Temperatur \nWasser","Temperatur\nLuft 1","Temperatur\nLuft 2","Temperatur\nLuft 3","Temperatur\nLuft 4","Temperatur\nLuft 5","Heiz-\nleistung 1","Heiz-\nleistung 2","Heiz-\nleistung 3","Heiz-\nleistung 4","Heiz-\nleistung 5","Elektrische \nLeistung 1","Elektrische \nLeistung 2","Elektrische \nLeistung 3","Elektrische \nLeistung 4","Elektrische \nLeistung 5"]
[null,null,null,null,null,null,null,null,null,null,null,null,null,null,null,null,null,null,null,null,null,null,null,"Ochsner, GMLW 5 plus ( 3,0 kW)",35,-15,-7,2,7,10,3,4.0999999999999996,5.4,6.3,6.8,2.4,3.2,4.0999999999999996,4.8,5.0999999999999996]
[null,null,null,null,null,null,null,null,null,null,null,null,null,null,null,null,null,null,null,null,null,null,null,"Krüger, HWS-804HE (4,0kW)",35,-15,-7,2,7,10,4,5.4,6.5,8.1999999999999993,9.1,2,2.2999999999999998,2.1,2,2.2000000000000002]
[null,null,null,null,null,null,null,null,null,null,null,null,null,null,null,null,null,null,null,null,null,null,null,"Daikin Europe ERLQ006CAV3 (5,7 kW)",35,-15,-7,2,7,10,5.7,5.4,4.7,6.1,6.3,2.6,1.9,1.2,1.3,1.2]
[null,null,null,null,null,null,null,null,null,null,null,null,null,null,null,null,null,null,null,null,null,null,null,"Elcotherm; Aerotop S07M-CR (6,8 kW)",35,-15,-7,2,7,10,6.8,7.1,5.7,5.7,6,3,2.4,1.4,1.2,1.2]
[null,null,null,null,null,null,null,null,null,null,null,null,null,null,null,null,null,null,null,null,null,null,null,"Kermi, x-change WPL 12 (8,0 kW)",35,-15,-7,2,7,10,8,8.8000000000000007,9.6999999999999993,10.199999999999999,10.9,4.0999999999999996,3.4,2.4,2.1,2]
[null,null,null,null,null,null,null,null,null,null,null,null,null,null,null,null,null,null,null,null,null,null,null,"Weider LW 140 (9,0 kW)",35,-15,-7,2,7,10,9,10.9,14,16,16.5,3,3,3.2,3.2,3.2]
[null,null,null,null,null,null,null,null,null,null,null,null,null,null,null,null,null,null,null,null,null,null,null,"Sapac Sirocco 18 (11,8 kW)",35,-15,-7,2,7,10,11.8,14.6,13.2,20.9,22.1,4.0999999999999996,4.2,3.8,4.4000000000000004,4.4000000000000004]

{"sheet":"WE Puffer","index":11,"n_rows":43,"n_cols":39,"rows_kept":43,"cut":false,"hidden":false,"merged":[[19,2,19,7],[17,5,18,20],[3,2,3,13],[1,1,1,22],[24,27,24,38],[22,10,24,21],[8,9,8,10],[11,5,11,21],[7,12,9,21],[23,7,25,7],[23,8,25,8],[13,2,13,7]]}
[]
[null,"PUFFERSPEICHER FÜR ÜBERGANGSZEIT BIS ZUM NEUEN HEIZWÄRMEERZEUGER"]
[]
[null,null,"Der bestehende Heizwärmeerzeuger ist mit fortschreitender Sanierung des Gebäudes mehr und mehr überdimenstioniert. Um die Taktraten der Heizung zu reduzieren und die Lebensdauer deutlich zu verlängern ist es äußerst empfehlenswert, einen Pufferspeicher einzubauen."]
[]
[null,null,"Leistung des bestehenden Wärmeerzeugers:",{"$f":"'WE Bestand'!E8","v":0},null,{"$f":"IF('WE Bestand'!E10=\"ja\",\"Der bestehende Pufferspeicher hat eine Größe von \"&'WE Bestand'!I10&\" Liter.\",IF('WE Auswahl'!E171<>'WE Auswahl'!Q180,\"Im Bestand gibt es derzeit keinen Pufferspeicher. Der Einbau eines solchen wird dringenst empfohlen!\",\"Bei der Nutzung von Fernwärme ist der Einbau eines Pufferspeichers nicht erforderlich\"))","v":"Im Bestand gibt es derzeit keinen Pufferspeicher. Der Einbau eines solchen wird dringenst empfohlen!"},null,null,null,null,null,null,null,null,null,null,null,null,null,null,null,null,null,null,null,null,"ja"]
[null,null,"Tausch des Wärmeerzeugers:",{"$f":"IF('WE Leistung'!F23=\"Luft-Wasser-Wärmepumpe\",'WE Leistung'!L96,'WE Leistung'!H30)","v":0},null,{"$f":"IF('WE Bestand'!E10=\"ja\",\"Abhängig von Zustand und Größe kann dieser weiterverwendet werden\",\"\")","v":""},null,null,null,null,null,null,null,null,null,null,null,null,null,null,null,null,null,null,null,null,"nein"]
[null,null,null,null,null,null,null,null,null,null,null,null,{"$f":"IF(AND('WE Bestand'!E10=\"nein\",J9=\"nein\"),IF('WE Auswahl'!E171<>'WE Auswahl'!Q180,\"Wird kein Pufferspeicher eingebaut, erhöht dies den Energieverbrauch und die Emissionen und verringert die Lebensdauer des Wärmeerzeugers!\",\"\"),\"\")","v":""}]
[null,null,"Leistung des neuen Wärmeerzeugers:",{"$f":"IF('WE Leistung'!F23=\"Luft-Wasser-Wärmepumpe\",IF(MID(F102,24,7)=\"kleiner\",'WE Leistung'!L52,'WE Leistung'!E52),'WE Leistung'!X32)","v":{"$error":"#N/A"}},null,{"$f":"IF('WE Bestand'!E10=\"ja\",\"Soll ein neuer Pufferspeicher eingebaut werden?\",\"Soll ein Pufferspeicher eingebaut werden?\")","v":"Soll ein Pufferspeicher eingebaut werden?"},null,null,null,null,null,null,null,null,null,null,null,null,null,null,null,null,null,null,{"$f":"IF(J9=\"ja\",0,1)","v":1},null,"Speichervolumen"]
[null,null,null,null,null,null,null,null,null,null,null,null,null,null,null,null,null,null,null,null,null,null,null,null,null,null,500]
[null,null,"Pufferspeicher",null,null,null,null,null,null,null,null,null,null,null,null,null,null,null,null,null,null,null,null,null,null,null,800]
[null,null,"Volumen",1000,null,"Bei der Wahl der Speichergröße sollte die mögliche spätere Nutzung im Auge behalten werden. Es bietet sich an, die gespeicherte Energie später auch vermehrt zur Trinkwassererwärmung zu nutzen, besonders wenn die Nutzung von Photovoltaik vorgesehen ist. Die Größe sollte so gewählt werden, dass sie für beide Nutzungen praktikabel ist (siehe Tabellenblatt \"WW neu\")\n\nDes weiteren sollte bedacht werden, wie der Kessel zum vorgesehen Aufstellungsort kommt (Türgrößen, Stiegenhaus, etc.) Dies kann durchaus ein Ausschlusskriterium sein!",null,null,null,null,null,null,null,null,null,null,null,null,null,null,null,null,null,null,null,null,1000]
[null,null,null,null,null,null,null,null,null,null,null,null,null,null,null,null,null,null,null,null,null,null,null,null,null,null,1250]
[null,null,"Vor dem Austausch des Wärmeerzeugers",null,null,null,null,null,null,null,null,null,null,null,null,null,null,null,null,null,null,null,null,null,null,null,1500]
[null,null,"Speichermedium","Wasser",null,null,null,null,null,null,null,null,null,null,null,null,null,null,null,null,null,null,null,null,null,null,2000]
[null,null,"Untere Wassertemperatur im Pufferspeicher",30,null,"Speicherbare Energiemenge:",null,{"$f":"IF(J9=\"ja\",D12/1000*1.16*D18,'WE Bestand'!I4/1000*1.16*D18)","v":0}]
[null,null,"Obere Wassertemperatur im Pufferspeicher",85]
[null,null,"Temperaturdifferenz ",{"$f":"D17-D16","v":55},null,"Die berechneten speicherbaren Energiemengen beziehen sich ausschließlich auf die im Pufferspeicher gepeicherte Energie. \nSpeichermassen im Gebäude, die durch den Einbau von Flächenheizsystemen genutzt werden können, fließen hier nicht ein."]
[]
[null,null,"Nach dem Austausch des Wärmeerzeugers"]
[null,null,"Speichermedium","Wasser",null,"Speicherbare Energiemenge:",null,{"$f":"IF(J9=\"ja\",D12/1000*1.16*D24,'WE Bestand'!I10/1000*1.16*D24)","v":0}]
[null,null,"Untere Wassertemperatur im Pufferspeicher",30]
[null,null,"Obere Wassertemperatur im Pufferspeicher",85,null,null,null,null,null,null,"Die folgende Tabelle gibt an, wie viele Stunden die speicherbare Energiemenge bei der jeweiligen Monatsdurchschnittstemperatur ausreicht um das Gebäude zu heizen.\nDa die Temperaturen im Tagesverlauf stark schwanken, sind die Angaben lediglich als Richtwerte zu verstehen!"]
[null,null,"Temperaturdifferenz ",{"$f":"D23-D22","v":55},null,null,null,"Beladezeit wenn \nKessel auf Volllast läuft","Heizlastfall",null,null,null,null,null,null,null,null,null,null,null,null,null,null,null,null,null,"Innentemperatur (Winter)",5,6,7,8,9,10,11,12,13,14,15,16]
[null,null,null,null,null,null,null,null,null,null,null,null,null,null,null,null,null,null,null,null,null,null,null,null,null,null,{"$f":"Allgemeines!I25","v":{"$error":"#REF!"}},"Monatsdurchschnittstemperaturen lt. PHPP Tabellenblatt \"Klima\""]
[null,null,null,"HWB [kWh/m²a]","HL [W/m²]","HL [kW]","Jahr",null,null,null,"Jän","Feb","Mär","Apr","Mai","Jun","Jul","Aug","Sep","Okt","Nov","Dez",null,null,null,null,"Heizlast","Jän","Feb","Mär","Apr","Mai","Jun","Jul","Aug","Sep","Okt","Nov","Dez"]
[null,1,{"$f":"INDEX(Sanierungsstufen[Stufe],$B27,C$3)","v":{"$error":"#REF!"}},{"$f":"INDEX(Sanierungsstufen[HWB],$B27)","v":{"$error":"#REF!"}},{"$f":"INDEX(Sanierungsstufen[HL],$B27)","v":{"$error":"#REF!"}},{"$f":"INDEX(Sanierungsstufen[Hlges],$B27)","v":{"$error":"#REF!"}},{"$f":"INDEX(Sanierungsstufen[Jahr],$B27)","v":{"$error":"#REF!"}},{"$f":"IF(G27=\"\",\"\",IF(Y27=0,$H$21/$D$6,$H$21/$D$9))","v":{"$error":"#REF!"}},{"$f":"IF(C27<>\"\",$H$21/F27,\"\")","v":{"$error":"#REF!"}},null,{"$f":"IF($G27=\"\",\"\",IF($Y27=0,$H$16/($F27/($AA$27-$AA$25)*(AB$27-$AA$27)+$F27),$H$21/($F27/($AA$27-$AA$25)*(AB$27-$AA$27)+$F27)))","v":{"$error":"#REF!"}},{"$f":"IF($G27=\"\",\"\",IF($Y27=0,$H$16/($F27/($AA$27-$AA$25)*(AC$27-$AA$27)+$F27),$H$21/($F27/($AA$27-$AA$25)*(AC$27-$AA$27)+$F27)))","v":{"$error":"#REF!"}},{"$error":"#REF!"},{"$error":"#REF!"},{"$error":"#REF!"},{"$error":"#REF!"},{"$error":"#REF!"},{"$error":"#REF!"},{"$error":"#REF!"},{"$error":"#REF!"},{"$error":"#REF!"},{"$error":"#REF!"},null,null,{"$f":"IF(G27=\"\",\"\",IF(G27<$D$7,0,1))","v":{"$error":"#REF!"}},null,{"$f":"INDIRECT(ADDRESS(24,17,,,\"[\"&Allgemeines!$E$4&\"]Klima\"))","v":{"$error":"#REF!"}},{"$f":"INDIRECT(ADDRESS(24,AB24,,,\"[\"&Allgemeines!$E$4&\"]Klima\"))","v":{"$error":"#REF!"}},{"$f":"INDIRECT(ADDRESS(24,AC24,,,\"[\"&Allgemeines!$E$4&\"]Klima\"))","v":{"$error":"#REF!"}},{"$f":"INDIRECT(ADDRESS(24,AD24,,,\"[\"&Allgemeines!$E$4&\"]Klima\"))","v":{"$error":"#REF!"}},{"$f":"INDIRECT(ADDRESS(24,AE24,,,\"[\"&Allgemeines!$E$4&\"]Klima\"))","v":{"$error":"#REF!"}},{"$f":"INDIRECT(ADDRESS(24,AF24,,,\"[\"&Allgemeines!$E$4&\"]Klima\"))","v":{"$error":"#REF!"}},{"$f":"INDIRECT(ADDRESS(24,AG24,,,\"[\"&Allgemeines!$E$4&\"]Klima\"))","v":{"$error":"#REF!"}},{"$f":"INDIRECT(ADDRESS(24,AH24,,,\"[\"&Allgemeines!$E$4&\"]Klima\"))","v":{"$error":"#REF!"}},{"$f":"INDIRECT(ADDRESS(24,AI24,,,\"[\"&Allgemeines!$E$4&\"]Klima\"))","v":{"$error":"#REF!"}},{"$f":"INDIRECT(ADDRESS(24,AJ24,,,\"[\"&Allgemeines!$E$4&\"]Klima\"))","v":{"$error":"#REF!"}},{"$f":"INDIRECT(ADDRESS(24,AK24,,,\"[\"&Allgemeines!$E$4&\"]Klima\"))","v":{"$error":"#REF!"}},{"$f":"INDIRECT(ADDRESS(24,AL24,,,\"[\"&Allgemeines!$E$4&\"]Klima\"))","v":{"$error":"#REF!"}},{"$f":"INDIRECT(ADDRESS(24,AM24,,,\"[\"&Allgemeines!$E$4&\"]Klima\"))","v":{"$error":"#REF!"}}]
[null,{"$f":"IF(MAX(B$27:B27)>=MAX(Sanierungsschritte!$D$4:$W$4),\"\",B27+1)","v":{"$error":"#REF!"}},{"$f":"IF(B28=\"\",\"\",INDEX(Sanierungsstufen[Stufe],$B28,C$3))","v":{"$error":"#REF!"}},{"$f":"IF(B28=\"\",\"\",INDEX(Sanierungsstufen[HWB],$B28))","v":{"$error":"#REF!"}},{"$f":"IF(B28=\"\",\"\",INDEX(Sanierungsstufen[HL],$B28))","v":{"$error":"#REF!"}},{"$f":"IF(B28=\"\",\"\",INDEX(Sanierungsstufen[Hlges],$B28))","v":{"$error":"#REF!"}},{"$f":"IF(B28=\"\",\"\",INDEX(Sanierungsstufen[Jahr],$B28))","v":{"$error":"#REF!"}},{"$error":"#REF!"},{"$error":"#REF!"},null,{"$f":"IF($G28=\"\",\"\",IF($Y28=0,$H$16/($F28/($AA$27-$AA$25)*(AB$27-$AA$27)+$F28),$H$21/($F28/($AA$27-$AA$25)*(AB$27-$AA$27)+$F28)))","v":{"$error":"#REF!"}},{"$f":"IF($G28=\"\",\"\",IF($Y28=0,$H$16/($F28/($AA$27-$AA$25)*(AC$27-$AA$27)+$F28),$H$21/($F28/($AA$27-$AA$25)*(AC$27-$AA$27)+$F28)))","v":{"$error":"#REF!"}},{"$f":"IF($G28=\"\",\"\",IF($Y28=0,$H$16/($F28/($AA$27-$AA$25)*(AD$27-$AA$27)+$F28),$H$21/($F28/($AA$27-$AA$25)*(AD$27-$AA$27)+$F28)))","v":{"$error":"#REF!"}},{"$f":"IF($G28=\"\",\"\",IF($Y28=0,$H$16/($F28/($AA$27-$AA$25)*(AE$27-$AA$27)+$F28),$H$21/($F28/($AA$27-$AA$25)*(AE$27-$AA$27)+$F28)))","v":{"$error":"#REF!"}},{"$f":"IF($G28=\"\",\"\",IF($Y28=0,$H$16/($F28/($AA$27-$AA$25)*(AF$27-$AA$27)+$F28),$H$21/($F28/($AA$27-$AA$25)*(AF$27-$AA$27)+$F28)))","v":{"$error":"#REF!"}},{"$f":"IF($G28=\"\",\"\",IF($Y28=0,$H$16/($F28/($AA$27-$AA$25)*(AG$27-$AA$27)+$F28),$H$21/($F28/($AA$27-$AA$25)*(AG$27-$AA$27)+$F28)))","v":{"$error":"#REF!"}},{"$f":"IF($G28=\"\",\"\",IF($Y28=0,$H$16/($F28/($AA$27-$AA$25)*(AH$27-$AA$27)+$F28),$H$21/($F28/($AA$27-$AA$25)*(AH$27-$AA$27)+$F28)))","v":{"$error":"#REF!"}},{"$f":"IF($G28=\"\",\"\",IF($Y28=0,$H$16/($F28/($AA$27-$AA$25)*(AI$27-$AA$27)+$F28),$H$21/($F28/($AA$27-$AA$25)*(AI$27-$AA$27)+$F28)))","v":{"$error":"#REF!"}},{"$f":"IF($G28=\"\",\"\",IF($Y28=0,$H$16/($F28/($AA$27-$AA$25)*(AJ$27-$AA$27)+$F28),$H$21/($F28/($AA$27-$AA$25)*(AJ$27-$AA$27)+$F28)))","v":{"$error":"#REF!"}},{"$f":"IF($G28=\"\",\"\",IF($Y28=0,$H$16/($F28/($AA$27-$AA$25)*(AK$27-$AA$27)+$F28),$H$21/($F28/($AA$27-$AA$25)*(AK$27-$AA$27)+$F28)))","v":{"$error":"#REF!"}},{"$f":"IF($G28=\"\",\"\",IF($Y28=0,$H$16/($F28/($AA$27-$AA$25)*(AL$27-$AA$27)+$F28),$H$21/($F28/($AA$27-$AA$25)*(AL$27-$AA$27)+$F28)))","v":{"$error":"#REF!"}},{"$f":"IF($G28=\"\",\"\",IF($Y28=0,$H$16/($F28/($AA$27-$AA$25)*(AM$27-$AA$27)+$F28),$H$21/($F28/($AA$27-$AA$25)*(AM$27-$AA$27)+$F28)))","v":{"$error":"#REF!"}},null,null,{"$error":"#REF!"}]
[null,{"$f":"IF(MAX(B$27:B28)>=MAX(Sanierungsschritte!$D$4:$W$4),\"\",B28+1)","v":{"$error":"#REF!"}},{"$f":"IF(B29=\"\",\"\",INDEX(Sanierungsstufen[Stufe],$B29,C$3))","v":{"$error":"#REF!"}},{"$f":"IF(B29=\"\",\"\",INDEX(Sanierungsstufen[HWB],$B29))","v":{"$error":"#REF!"}},{"$f":"IF(B29=\"\",\"\",INDEX(Sanierungsstufen[HL],$B29))","v":{"$error":"#REF!"}},{"$f":"IF(B29=\"\",\"\",INDEX(Sanierungsstufen[Hlges],$B29))","v":{"$error":"#REF!"}},{"$f":"IF(B29=\"\",\"\",INDEX(Sanierungsstufen[Jahr],$B29))","v":{"$error":"#REF!"}},{"$error":"#REF!"},{"$error":"#REF!"},null,{"$error":"#REF!"},{"$error":"#REF!"},{"$error":"#REF!"},{"$error":"#REF!"},{"$error":"#REF!"},{"$error":"#REF!"},{"$error":"#REF!"},{"$error":"#REF!"},{"$error":"#REF!"},{"$error":"#REF!"},{"$error":"#REF!"},{"$error":"#REF!"},null,null,{"$error":"#REF!"}]
[null,{"$f":"IF(MAX(B$27:B29)>=MAX(Sanierungsschritte!$D$4:$W$4),\"\",B29+1)","v":{"$error":"#REF!"}},{"$f":"IF(B30=\"\",\"\",INDEX(Sanierungsstufen[Stufe],$B30,C$3))","v":{"$error":"#REF!"}},{"$f":"IF(B30=\"\",\"\",INDEX(Sanierungsstufen[HWB],$B30))","v":{"$error":"#REF!"}},{"$f":"IF(B30=\"\",\"\",INDEX(Sanierungsstufen[HL],$B30))","v":{"$error":"#REF!"}},{"$f":"IF(B30=\"\",\"\",INDEX(Sanierungsstufen[Hlges],$B30))","v":{"$error":"#REF!"}},{"$f":"IF(B30=\"\",\"\",INDEX(Sanierungsstufen[Jahr],$B30))","v":{"$error":"#REF!"}},{"$error":"#REF!"},{"$error":"#REF!"},null,{"$error":"#REF!"},{"$error":"#REF!"},{"$error":"#REF!"},{"$error":"#REF!"},{"$error":"#REF!"},{"$error":"#REF!"},{"$error":"#REF!"},{"$error":"#REF!"},{"$error":"#REF!"},{"$error":"#REF!"},{"$error":"#REF!"},{"$error":"#REF!"},null,null,{"$error":"#REF!"}]
[null,{"$f":"IF(MAX(B$27:B30)>=MAX(Sanierungsschritte!$D$4:$W$4),\"\",B30+1)","v":{"$error":"#REF!"}},{"$f":"IF(B31=\"\",\"\",INDEX(Sanierungsstufen[Stufe],$B31,C$3))","v":{"$error":"#REF!"}},{"$f":"IF(B31=\"\",\"\",INDEX(Sanierungsstufen[HWB],$B31))","v":{"$error":"#REF!"}},{"$f":"IF(B31=\"\",\"\",INDEX(Sanierungsstufen[HL],$B31))","v":{"$error":"#REF!"}},{"$f":"IF(B31=\"\",\"\",INDEX(Sanierungsstufen[Hlges],$B31))","v":{"$error":"#REF!"}},{"$f":"IF(B31=\"\",\"\",INDEX(Sanierungsstufen[Jahr],$B31))","v":{"$error":"#REF!"}},{"$error":"#REF!"},{"$error":"#REF!"},null,{"$error":"#REF!"},{"$error":"#REF!"},{"$error":"#REF!"},{"$error":"#REF!"},{"$error":"#REF!"},{"$error":"#REF!"},{"$error":"#REF!"},{"$error":"#REF!"},{"$error":"#REF!"},{"$error":"#REF!"},{"$error":"#REF!"},{"$error":"#REF!"},null,null,{"$error":"#REF!"}]
[null,{"$f":"IF(MAX(B$27:B31)>=MAX(Sanierungsschritte!$D$4:$W$4),\"\",B31+1)","v":{"$error":"#REF!"}},{"$f":"IF(B32=\"\",\"\",INDEX(Sanierungsstufen[Stufe],$B32,C$3))","v":{"$error":"#REF!"}},{"$f":"IF(B32=\"\",\"\",INDEX(Sanierungsstufen[HWB],$B32))","v":{"$error":"#REF!"}},{"$f":"IF(B32=\"\",\"\",INDEX(Sanierungsstufen[HL],$B32))","v":{"$error":"#REF!"}},{"$f":"IF(B32=\"\",\"\",INDEX(Sanierungsstufen[Hlges],$B32))","v":{"$error":"#REF!"}},{"$f":"IF(B32=\"\",\"\",INDEX(Sanierungsstufen[Jahr],$B32))","v":{"$error":"#REF!"}},{"$error":"#REF!"},{"$error":"#REF!"},null,{"$error":"#REF!"},{"$error":"#REF!"},{"$error":"#REF!"},{"$error":"#REF!"},{"$error":"#REF!"},{"$error":"#REF!"},{"$error":"#REF!"},{"$error":"#REF!"},{"$error":"#REF!"},{"$error":"#REF!"},{"$error":"#REF!"},{"$error":"#REF!"},null,null,{"$error":"#REF!"}]
[null,{"$f":"IF(MAX(B$27:B32)>=MAX(Sanierungsschritte!$D$4:$W$4),\"\",B32+1)","v":{"$error":"#REF!"}},{"$f":"IF(B33=\"\",\"\",INDEX(Sanierungsstufen[Stufe],$B33,C$3))","v":{"$error":"#REF!"}},{"$f":"IF(B33=\"\",\"\",INDEX(Sanierungsstufen[HWB],$B33))","v":{"$error":"#REF!"}},{"$f":"IF(B33=\"\",\"\",INDEX(Sanierungsstufen[HL],$B33))","v":{"$error":"#REF!"}},{"$f":"IF(B33=\"\",\"\",INDEX(Sanierungsstufen[Hlges],$B33))","v":{"$error":"#REF!"}},{"$f":"IF(B33=\"\",\"\",INDEX(Sanierungsstufen[Jahr],$B33))","v":{"$error":"#REF!"}},{"$error":"#REF!"},{"$error":"#REF!"},null,{"$error":"#REF!"},{"$error":"#REF!"},{"$error":"#REF!"},{"$error":"#REF!"},{"$error":"#REF!"},{"$error":"#REF!"},{"$error":"#REF!"},{"$error":"#REF!"},{"$error":"#REF!"},{"$error":"#REF!"},{"$error":"#REF!"},{"$error":"#REF!"},null,null,{"$error":"#REF!"}]
[null,{"$f":"IF(MAX(B$27:B33)>=MAX(Sanierungsschritte!$D$4:$W$4),\"\",B33+1)","v":{"$error":"#REF!"}},{"$f":"IF(B34=\"\",\"\",INDEX(Sanierungsstufen[Stufe],$B34,C$3))","v":{"$error":"#REF!"}},{"$f":"IF(B34=\"\",\"\",INDEX(Sanierungsstufen[HWB],$B34))","v":{"$error":"#REF!"}},{"$f":"IF(B34=\"\",\"\",INDEX(Sanierungsstufen[HL],$B34))","v":{"$error":"#REF!"}},{"$f":"IF(B34=\"\",\"\",INDEX(Sanierungsstufen[Hlges],$B34))","v":{"$error":"#REF!"}},{"$f":"IF(B34=\"\",\"\",INDEX(Sanierungsstufen[Jahr],$B34))","v":{"$error":"#REF!"}},{"$error":"#REF!"},{"$error":"#REF!"},null,{"$error":"#REF!"},{"$error":"#REF!"},{"$error":"#REF!"},{"$error":"#REF!"},{"$error":"#REF!"},{"$error":"#REF!"},{"$error":"#REF!"},{"$error":"#REF!"},{"$error":"#REF!"},{"$error":"#REF!"},{"$error":"#REF!"},{"$error":"#REF!"},null,null,{"$error":"#REF!"}]
[null,{"$f":"IF(MAX(B$27:B34)>=MAX(Sanierungsschritte!$D$4:$W$4),\"\",B34+1)","v":{"$error":"#REF!"}},{"$f":"IF(B35=\"\",\"\",INDEX(Sanierungsstufen[Stufe],$B35,C$3))","v":{"$error":"#REF!"}},{"$f":"IF(B35=\"\",\"\",INDEX(Sanierungsstufen[HWB],$B35))","v":{"$error":"#REF!"}},{"$f":"IF(B35=\"\",\"\",INDEX(Sanierungsstufen[HL],$B35))","v":{"$error":"#REF!"}},{"$f":"IF(B35=\"\",\"\",INDEX(Sanierungsstufen[Hlges],$B35))","v":{"$error":"#REF!"}},{"$f":"IF(B35=\"\",\"\",INDEX(Sanierungsstufen[Jahr],$B35))","v":{"$error":"#REF!"}},{"$error":"#REF!"},{"$error":"#REF!"},null,{"$error":"#REF!"},{"$error":"#REF!"},{"$error":"#REF!"},{"$error":"#REF!"},{"$error":"#REF!"},{"$error":"#REF!"},{"$error":"#REF!"},{"$error":"#REF!"},{"$error":"#REF!"},{"$error":"#REF!"},{"$error":"#REF!"},{"$error":"#REF!"},null,null,{"$error":"#REF!"}]
[null,{"$f":"IF(MAX(B$27:B35)>=MAX(Sanierungsschritte!$D$4:$W$4),\"\",B35+1)","v":{"$error":"#REF!"}},{"$f":"IF(B36=\"\",\"\",INDEX(Sanierungsstufen[Stufe],$B36,C$3))","v":{"$error":"#REF!"}},{"$f":"IF(B36=\"\",\"\",INDEX(Sanierungsstufen[HWB],$B36))","v":{"$error":"#REF!"}},{"$f":"IF(B36=\"\",\"\",INDEX(Sanierungsstufen[HL],$B36))","v":{"$error":"#REF!"}},{"$f":"IF(B36=\"\",\"\",INDEX(Sanierungsstufen[Hlges],$B36))","v":{"$error":"#REF!"}},{"$f":"IF(B36=\"\",\"\",INDEX(Sanierungsstufen[Jahr],$B36))","v":{"$error":"#REF!"}},{"$error":"#REF!"},{"$error":"#REF!"},null,{"$error":"#REF!"},{"$error":"#REF!"},{"$error":"#REF!"},{"$error":"#REF!"},{"$error":"#REF!"},{"$error":"#REF!"},{"$error":"#REF!"},{"$error":"#REF!"},{"$error":"#REF!"},{"$error":"#REF!"},{"$error":"#REF!"},{"$error":"#REF!"},null,null,{"$error":"#REF!"}]
[]
[]
[null,null,"Der bestehden Pufferspeicher wird weiterverwendet.","Volumen des bestehenden Speichers:",null,null,null,{"$f":"IF(AND('WE Bestand'!E10=\"ja\",'WE Puffer'!J9=\"nein\"),'WE Puffer'!C39,IF(AND('WE Bestand'!E10=\"ja\",'WE Puffer'!J9=\"ja\"),'WE Puffer'!C40,IF(AND('WE Bestand'!E10=\"nein\",'WE Puffer'!J9=\"ja\"),C41,C42)))","v":"Im Gebäude git es keinen Pufferspeicher; Dies ist nicht empfehlenswert!"}]
[null,null,"Der bestehende Pufferspeicher wird ausgetauscht.","Volumen des neuen Speichers:",null,null,null,{"$f":"IF(AND('WE Bestand'!E10=\"ja\",'WE Puffer'!J9=\"nein\"),'WE Puffer'!D39,IF(AND('WE Bestand'!E10=\"ja\",'WE Puffer'!J9=\"ja\"),'WE Puffer'!D40,IF(AND('WE Bestand'!E10=\"nein\",'WE Puffer'!J9=\"ja\"),D41,\"\")))","v":""}]
[null,null,"Im Bestand gibt es keinen Pufferspeicher.","Volumen des neuen Speichers:"]
[null,null,{"$f":"IF('WE Auswahl'!E171<>'WE Auswahl'!Q180,\"Im Gebäude git es keinen Pufferspeicher; Dies ist nicht empfehlenswert!\",\"Bei der Nutzung von Fernwärme ist der Einbau eines Pufferspeichers nicht erforderlich\")","v":"Im Gebäude git es keinen Pufferspeicher; Dies ist nicht empfehlenswert!"},null,null,{"$f":"IF(H40=\"\",1,0)","v":1}]
[null,null,null,null,null,{"$f":"IF(AND('WE Auswahl'!E171<>'WE Auswahl'!Q180,F42=1),1,0)","v":1}]

{"sheet":"WÜ neu","index":12,"n_rows":82,"n_cols":28,"rows_kept":82,"cut":false,"hidden":false,"merged":[[1,1,1,12],[79,2,79,8],[81,2,81,8],[31,3,31,7],[25,5,25,7],[33,3,33,10],[5,3,5,10],[3,5,3,7],[25,8,25,9],[24,8,24,9],[30,3,30,10],[29,3,29,10],[21,3,21,11],[19,3,19,11]]}
[]
[null,"WÄRMEÜBERGABE, NEU"]
[null,null,null,null,null,null,null,null,null,null,null,null,null,null,null,null,"Empfehlung:","Der sinnvolle Einsatz des neuen Wärmeerzeugers ist an den Einbau von Wärmeübergabesystemen mit niedrigem Temperaturniveau gebunden. In der Tabelle sind daher die bestehenden Systeme markiert die nicht kompatibel sind und ausgetauscht werden sollten.",null,null,null," ",null,null,null,null,null," "]
[null,null,null,"Gewählter Heizwärmeerzeuger:",null,{"$f":"'WE Auswahl'!E171","v":0},null,null,null,null,null,null,null,null,null,null,{"$f":"IF(INDEX(Heizung[Temperatur],MATCH('WÜ neu'!F4,Heizung[Heizwärmeerzeuger],0))=\"niedrig\",\"Flächenheizung\",\"egal\")","v":{"$error":"#N/A"}},"Auch wenn der neue Heizwärmeerzeuger nicht an Wärmeübergabesysteme mit niedrigem Temperaturniveau gebunden ist, empfiehlt sich der Einbau von Flächenheizsystemen aus Behaglichkeits- und Hygienegründen. Wärmeübergabesysteme die nicht auf einem niedrigen Temperaturniveau betrieben werden können sind in der untenstehenden Liste markiert.",null,null,null," ",null,null,null,null,null,"  "]
[]
[null,null,null,{"$f":"IF(INDEX(Heizung[Temperatur],MATCH($F$4,Heizung[Heizwärmeerzeuger],0))=\"hoch\",R4,R3)","v":{"$error":"#N/A"}}]
[null,null,"ABGABELEISTUNG"]
[]
[null,null,null,"Abschätzung der Abgabeleistung:",null,null,null,null,null,null,null,null,null,null,null,null,"ja"]
[null,null,null,null,null,"Temp. Oberfläche [°C]","Temp. Raum [°C]","Abgabeleistung",null,null,null,null,null,null,null,null,"nein"]
[null,null,null,null,"Fußbodenheizung",null,null,{"$f":"8.92*(F11-G11)^1.1","v":0},{"$f":"IF(H11<$K$26,\"Kleiner als Heizlast\",\"\")","v":"Kleiner als Heizlast"}]
[null,null,null,null,"Wandheizung",null,null,{"$f":"8*(F12-G12)","v":0},{"$f":"IF(H12<$K$26,\"Kleiner als Heizlast\",\"\")","v":"Kleiner als Heizlast"}]
[null,null,null,null,"Deckenheizung",null,null,{"$f":"6*(F13-G13)","v":0},{"$f":"IF(H13<$K$26,\"Kleiner als Heizlast\",\"\")","v":"Kleiner als Heizlast"}]
[]
[null,null,"ZEITPUNKT"]
[]
[null,null,null,"Voraussichtlicher Ausfall des bestehenden Wärmeübergabesystems:",null,null,null,{"$f":"MAX('WÜ Bestand'!G6+'WÜ Bestand'!G7,Sanierungsschritte!D6)","v":0},{"$f":"IF(H18>H17,\"Voraussichtich maßgebend\",\"\")","v":""}]
[null,null,null,"Austausch des Heizwärmeerzeugers:",null,null,null,{"$f":"'WE Leistung'!AO11","v":0},{"$f":"IF(H18<H17,\"Voraussichtich maßgebend\",\"\")","v":""}]
[]
[null,null,null,{"$f":"IF(AND(INDEX(Heizung[Temperatur],MATCH('WÜ neu'!F4,Heizung[Heizwärmeerzeuger],0))=\"niedrig\",'WE Bestand'!E6<>'WE Bestand'!N11,'WÜ neu'!H17<'WÜ neu'!H18),'WÜ neu'!P30,\"\")","v":{"$error":"#N/A"}}]
[null,null,null,null,null,null,null,null,null,null,null,null,null,null,{"$f":"IF($D$22=P21,1,0)","v":{"$error":"#N/A"}},"Da mit dem neuen Heizwärmeerzeuger nur Wärmeübergabesysteme mit niedrigem Temperaturniveau sinnvoll versorgt werden können, sollten beim Tausch des Wärmeerzeugers auch die Wärmeübergabesysteme ausgewechselt werden."]
[null,null,null,{"$f":"IF(AND(INDEX(Heizung[Temperatur],MATCH('WÜ neu'!F4,Heizung[Heizwärmeerzeuger],0))=\"hoch\",H18<H17),P22,IF(AND(INDEX(Heizung[Temperatur],MATCH('WÜ neu'!F4,Heizung[Heizwärmeerzeuger],0))=\"niedrig\",H18<H17),P21,P23))","v":{"$error":"#N/A"}},null,null,null,null,null,null,null,null,null,null,{"$f":"IF($D$22=P22,1,0)","v":{"$error":"#N/A"}},"Da mit dem neuen Heizwärmeerzeuger auch Wärmeübergabesysteme auf einem hohen Temperaturniveau versorgt werden können, ist es beim Austausch des Wärmeerzeugers nicht zwingend erforderlich auch das Wärmeübergabesystem auszutauschen. Dies kann auch problemlos zu einem späteren Zeitpunkt, z.B. dem Erreichen der Lebensdauer des Systems, gemacht werden.",null," "]
[null,null,null,"Wann wollen Sie den Tausch der Wärmeübergabesysteme durchführen?",null,null,null,null,null,null,null,null,null,null,{"$f":"IF($D$22=P23,1,0)","v":{"$error":"#N/A"}},"Der Ausfall der Wärmeübergabesysteme bedingt deren baldestmöglichen Austausch."]
[null,null,null,null,null,null,null,null,null,null,null,null,null,null,{"$f":"MATCH(1,O21:O23,0)","v":{"$error":"#N/A"}}]
[null,null,null,null,null,null,null,null,"Zeitraum",null,"Heizlast",null,null,null,null,"Austausch des Systems:"]
[null,null,null,"Betrachteter Sanierungsschritt:",null,{"$f":"IF(P26=0,\"Bitte Zeitpunkt für den Austausch angeben\",IF(P26<'WE Leistung'!K10,'WE Leistung'!C10,INDEX('WE Leistung'!C10:C21,MATCH('WÜ neu'!P26,'WE Leistung'!K10:K21,1))))","v":"Bitte Zeitpunkt für den Austausch angeben"},null,null,{"$f":"IF(P26=0,\"\",IF(INDEX('WE Leistung'!K10:K21,MATCH('WÜ neu'!F26,'WE Leistung'!C10:C21,0))=MAX('WE Leistung'!K10:K21),\" ab \"&INDEX('WE Leistung'!K10:K21,MATCH('WÜ neu'!F26,'WE Leistung'!C10:C21,0)),INDEX('WE Leistung'!K10:K21,MATCH('WÜ neu'!F26,'WE Leistung'!C10:C21,0))&\"   bis   \"&INDEX('WE Leistung'!K10:K21,MATCH('WE Leistung'!S10,'WE Leistung'!C10:C21,0))))","v":""},null,{"$f":"IF(P26=0,\"\",INDEX(Sanierungsstufen[],MATCH(F26,Sanierungsstufen[Stufe],0),3))","v":""},null,null,null,null,{"$f":"H23","v":0}]
[]
[null,null,"SYSTEMWAHL"]
[]
[null,null,null,"Hinweise zu Wandheizungen:",null,null,null,null,null,null,null,null,null,null,{"$f":"IF(D20=\"\",0,1)","v":{"$error":"#N/A"}},"Der bestehende Wärmeerzeuger arbeitet auf einem hohen, während der neue Wärmeerzeuger auf einem niedrigen Temperaturniveau arbeitet. Dies bedingt bei der Nutzung eine Wärmeübergabesystems auf niedrigem Temperaturniveau bei der Installation jeweils unterschiedliche hydraulische Schaltungen. Wenn nun der Austausch der Wärmeübergabesysteme vor dem des Wärmeerzeugers erfolgt, so ist der spätere Umbau der eingebauten Verrohrung erforderlich. Die drei Möglichkeiten sind somit:\n\n     - Vorzeitiger Austausch des Wärmeerzeugers, gemeinsam mit den Wärmeübergabesystemen (Anzupassen im Tabellenblatt \"WE Leistung\")\n     - Wahl eines neuen Wärmeerzeugers der ebenfalls auf einem hohen Temperaturniveau arbeitet. Der Umbau der hydraulischen Schaltung ist dann nicht erforderlich (Tabellenblatt \"WE Auswahl\")\n     - Der Umbau der hydraulischen Schaltung und die daraus resultierenden Kosten werden in Kauf genommen",null,null,null,null," "]
[null,null,null,"Wenn im Bestand die Außenwände aus gut wärmeleitenden Materialien bestehen (Massive Ziegel, Stahlbeton) kann es möglich sein, die Heizung an der Wandaußenseite unter der Wärmedämmung zu montieren und so die Außenwand als Wärmeübergabesystem zu mobilisieren mit dem sehr großen Vorteil, dass im Innenraum keine schmutzerzeugenden Arbeiten anfallen. Dies ist grundsätzlich in folgenden Geschoßen denkbar:"]
[null,null,null,{"$f":"IF(OR(Beschreibung!H44=\"Ziegel, massiv\",Beschreibung!H44=\"Stahlbeton\"),\"Erdgeschoß\",\"\")&IF(OR(Beschreibung!K44=\"Ziegel, massiv\",Beschreibung!K44=\"Stahlbeton\"),\",  1. Obergeschoß\",\"\")&IF(OR(Beschreibung!N44=\"Ziegel, massiv\",Beschreibung!N44=\"Stahlbeton\"),\",  2. Obergeschoß\",\"\")&IF(OR(Beschreibung!Q44=\"Ziegel, massiv\",Beschreibung!Q44=\"Stahlbeton\"),\",  Dachgeschoß\",\"\")","v":",  1. Obergeschoß,  Dachgeschoß"}]
[]
[null,null,null,"Eine weitere Voraussetzung, damit diese Art der Wärmeübergabe sinnvoll ist, ist, dass im Bestand noch keine Wärmedämmung an der Wandaußenseite aufgebracht wurde (sowohl Wärmedämmung als Bestand als auch aus früheren Sanierungsschritten). D.h. wenn diese Art der Wärmeübertragung angestrebt wird, sollte dies schon während der Saniernung der Fassade und dem Aufbringen von Wärmedämmung berücksichtigt werden."]
[]
[null,null,"Nr",{"$f":"'WÜ Bestand'!D10","v":"Geschoß"},{"$f":"'WÜ Bestand'!E10","v":"Raum"},"Bestehendes System","Voraussichtlicher Austausch","Raumfläche [m²]","Abzugebende \nLeistung [W]","Neues System","Erforderliche Heizfläche [m²]","Heizen durch \nAußenwand?"]
[null,null,1,{"$f":"IF('WÜ Bestand'!D11<>\"\",'WÜ Bestand'!D11,\"\")","v":{"$error":"#N/A"}},{"$f":"IF('WÜ Bestand'!E11<>\"\",'WÜ Bestand'!E11,\"\")","v":{"$error":"#N/A"}},{"$f":"IF('WÜ Bestand'!F11<>\"\",'WÜ Bestand'!F11,\"\")","v":""},{"$f":"IF(D37<>\"\",IF('WÜ Bestand'!G11=\"\",$H$17,'WÜ Bestand'!G11+'WÜ Bestand'!$G$7),\"\")","v":{"$error":"#N/A"}},{"$f":"IF(E37<>\"\",INDEX(Raumliste_kompakt[Fläche],C37),\"\")","v":{"$error":"#N/A"}},{"$f":"IF(H37=\"\",\"\",$K$26*H37)","v":{"$error":"#N/A"}},null,{"$f":"IF(H37=\"\",\"\",IF(J37=\"Fußbodenheizung\",I37/$H$11,IF(J37=\"Wandheizung\",I37/$H$12,IF(J37=\"Deckenheizung\",I37/$H$13,\"\"))))","v":{"$error":"#N/A"}}]
[null,null,{"$f":"IF(C37<MAX(Raumliste_kompakt[Nummer]),C37+1,\"\")","v":""},{"$f":"IF('WÜ Bestand'!D12<>\"\",'WÜ Bestand'!D12,\"\")","v":""},{"$f":"IF('WÜ Bestand'!E12<>\"\",'WÜ Bestand'!E12,\"\")","v":""},{"$f":"IF('WÜ Bestand'!F12<>\"\",'WÜ Bestand'!F12,\"\")","v":""},{"$f":"IF(D38<>\"\",IF('WÜ Bestand'!G12=\"\",$H$17,'WÜ Bestand'!G12+'WÜ Bestand'!$G$7),\"\")","v":""},{"$f":"IF(E38<>\"\",INDEX(Raumliste_kompakt[Fläche],C38),\"\")","v":""},"",null,""]
[null,null,{"$f":"IF(C38<MAX(Raumliste_kompakt[Nummer]),C38+1,\"\")","v":""},{"$f":"IF('WÜ Bestand'!D13<>\"\",'WÜ Bestand'!D13,\"\")","v":""},{"$f":"IF('WÜ Bestand'!E13<>\"\",'WÜ Bestand'!E13,\"\")","v":""},{"$f":"IF('WÜ Bestand'!F13<>\"\",'WÜ Bestand'!F13,\"\")","v":""},{"$f":"IF(D39<>\"\",IF('WÜ Bestand'!G13=\"\",$H$17,'WÜ Bestand'!G13+'WÜ Bestand'!$G$7),\"\")","v":""},{"$f":"IF(E39<>\"\",INDEX(Raumliste_kompakt[Fläche],C39),\"\")","v":""},"",null,""]
[null,null,{"$f":"IF(C39<MAX(Raumliste_kompakt[Nummer]),C39+1,\"\")","v":""},{"$f":"IF('WÜ Bestand'!D14<>\"\",'WÜ Bestand'!D14,\"\")","v":""},{"$f":"IF('WÜ Bestand'!E14<>\"\",'WÜ Bestand'!E14,\"\")","v":""},{"$f":"IF('WÜ Bestand'!F14<>\"\",'WÜ Bestand'!F14,\"\")","v":""},{"$f":"IF(D40<>\"\",IF('WÜ Bestand'!G14=\"\",$H$17,'WÜ Bestand'!G14+'WÜ Bestand'!$G$7),\"\")","v":""},{"$f":"IF(E40<>\"\",INDEX(Raumliste_kompakt[Fläche],C40),\"\")","v":""},"",null,""]
[null,null,{"$f":"IF(C40<MAX(Raumliste_kompakt[Nummer]),C40+1,\"\")","v":""},{"$f":"IF('WÜ Bestand'!D15<>\"\",'WÜ Bestand'!D15,\"\")","v":""},{"$f":"IF('WÜ Bestand'!E15<>\"\",'WÜ Bestand'!E15,\"\")","v":""},{"$f":"IF('WÜ Bestand'!F15<>\"\",'WÜ Bestand'!F15,\"\")","v":""},{"$f":"IF(D41<>\"\",IF('WÜ Bestand'!G15=\"\",$H$17,'WÜ Bestand'!G15+'WÜ Bestand'!$G$7),\"\")","v":""},{"$f":"IF(E41<>\"\",INDEX(Raumliste_kompakt[Fläche],C41),\"\")","v":""},"",null,"",null,null,null,null,null,null,null,null,null," "]
[null,null,{"$f":"IF(C41<MAX(Raumliste_kompakt[Nummer]),C41+1,\"\")","v":""},{"$f":"IF('WÜ Bestand'!D16<>\"\",'WÜ Bestand'!D16,\"\")","v":""},{"$f":"IF('WÜ Bestand'!E16<>\"\",'WÜ Bestand'!E16,\"\")","v":""},{"$f":"IF('WÜ Bestand'!F16<>\"\",'WÜ Bestand'!F16,\"\")","v":""},{"$f":"IF(D42<>\"\",IF('WÜ Bestand'!G16=\"\",$H$17,'WÜ Bestand'!G16+'WÜ Bestand'!$G$7),\"\")","v":""},{"$f":"IF(E42<>\"\",INDEX(Raumliste_kompakt[Fläche],C42),\"\")","v":""},"",null,"",null,null,null,null,null,null,null,null,null," "]
[null,null,{"$f":"IF(C42<MAX(Raumliste_kompakt[Nummer]),C42+1,\"\")","v":""},{"$f":"IF('WÜ Bestand'!D17<>\"\",'WÜ Bestand'!D17,\"\")","v":""},{"$f":"IF('WÜ Bestand'!E17<>\"\",'WÜ Bestand'!E17,\"\")","v":""},{"$f":"IF('WÜ Bestand'!F17<>\"\",'WÜ Bestand'!F17,\"\")","v":""},{"$f":"IF(D43<>\"\",IF('WÜ Bestand'!G17=\"\",$H$17,'WÜ Bestand'!G17+'WÜ Bestand'!$G$7),\"\")","v":""},{"$f":"IF(E43<>\"\",INDEX(Raumliste_kompakt[Fläche],C43),\"\")","v":""},"",null,""]
[null,null,{"$f":"IF(C43<MAX(Raumliste_kompakt[Nummer]),C43+1,\"\")","v":""},{"$f":"IF('WÜ Bestand'!D18<>\"\",'WÜ Bestand'!D18,\"\")","v":""},{"$f":"IF('WÜ Bestand'!E18<>\"\",'WÜ Bestand'!E18,\"\")","v":""},{"$f":"IF('WÜ Bestand'!F18<>\"\",'WÜ Bestand'!F18,\"\")","v":""},{"$f":"IF(D44<>\"\",IF('WÜ Bestand'!G18=\"\",$H$17,'WÜ Bestand'!G18+'WÜ Bestand'!$G$7),\"\")","v":""},{"$f":"IF(E44<>\"\",INDEX(Raumliste_kompakt[Fläche],C44),\"\")","v":""},"",null,""]
[null,null,{"$f":"IF(C44<MAX(Raumliste_kompakt[Nummer]),C44+1,\"\")","v":""},{"$f":"IF('WÜ Bestand'!D19<>\"\",'WÜ Bestand'!D19,\"\")","v":""},{"$f":"IF('WÜ Bestand'!E19<>\"\",'WÜ Bestand'!E19,\"\")","v":""},{"$f":"IF('WÜ Bestand'!F19<>\"\",'WÜ Bestand'!F19,\"\")","v":""},{"$f":"IF(D45<>\"\",IF('WÜ Bestand'!G19=\"\",$H$17,'WÜ Bestand'!G19+'WÜ Bestand'!$G$7),\"\")","v":""},{"$f":"IF(E45<>\"\",INDEX(Raumliste_kompakt[Fläche],C45),\"\")","v":""},"",null,""]
[null,null,{"$f":"IF(C45<MAX(Raumliste_kompakt[Nummer]),C45+1,\"\")","v":""},{"$f":"IF('WÜ Bestand'!D20<>\"\",'WÜ Bestand'!D20,\"\")","v":""},{"$f":"IF('WÜ Bestand'!E20<>\"\",'WÜ Bestand'!E20,\"\")","v":""},{"$f":"IF('WÜ Bestand'!F20<>\"\",'WÜ Bestand'!F20,\"\")","v":""},{"$f":"IF(D46<>\"\",IF('WÜ Bestand'!G20=\"\",$H$17,'WÜ Bestand'!G20+'WÜ Bestand'!$G$7),\"\")","v":""},{"$f":"IF(E46<>\"\",INDEX(Raumliste_kompakt[Fläche],C46),\"\")","v":""},"",null,""]
[null,null,{"$f":"IF(C46<MAX(Raumliste_kompakt[Nummer]),C46+1,\"\")","v":""},{"$f":"IF('WÜ Bestand'!D21<>\"\",'WÜ Bestand'!D21,\"\")","v":""},{"$f":"IF('WÜ Bestand'!E21<>\"\",'WÜ Bestand'!E21,\"\")","v":""},{"$f":"IF('WÜ Bestand'!F21<>\"\",'WÜ Bestand'!F21,\"\")","v":""},{"$f":"IF(D47<>\"\",IF('WÜ Bestand'!G21=\"\",$H$17,'WÜ Bestand'!G21+'WÜ Bestand'!$G$7),\"\")","v":""},{"$f":"IF(E47<>\"\",INDEX(Raumliste_kompakt[Fläche],C47),\"\")","v":""},"",null,""]
[null,null,{"$f":"IF(C47<MAX(Raumliste_kompakt[Nummer]),C47+1,\"\")","v":""},{"$f":"IF('WÜ Bestand'!D22<>\"\",'WÜ Bestand'!D22,\"\")","v":""},{"$f":"IF('WÜ Bestand'!E22<>\"\",'WÜ Bestand'!E22,\"\")","v":""},{"$f":"IF('WÜ Bestand'!F22<>\"\",'WÜ Bestand'!F22,\"\")","v":""},{"$f":"IF(D48<>\"\",IF('WÜ Bestand'!G22=\"\",$H$17,'WÜ Bestand'!G22+'WÜ Bestand'!$G$7),\"\")","v":""},{"$f":"IF(E48<>\"\",INDEX(Raumliste_kompakt[Fläche],C48),\"\")","v":""},"",null,""]
[null,null,{"$f":"IF(C48<MAX(Raumliste_kompakt[Nummer]),C48+1,\"\")","v":""},{"$f":"IF('WÜ Bestand'!D23<>\"\",'WÜ Bestand'!D23,\"\")","v":""},{"$f":"IF('WÜ Bestand'!E23<>\"\",'WÜ Bestand'!E23,\"\")","v":""},{"$f":"IF('WÜ Bestand'!F23<>\"\",'WÜ Bestand'!F23,\"\")","v":""},{"$f":"IF(D49<>\"\",IF('WÜ Bestand'!G23=\"\",$H$17,'WÜ Bestand'!G23+'WÜ Bestand'!$G$7),\"\")","v":""},{"$f":"IF(E49<>\"\",INDEX(Raumliste_kompakt[Fläche],C49),\"\")","v":""},"",null,""]
[null,null,{"$f":"IF(C49<MAX(Raumliste_kompakt[Nummer]),C49+1,\"\")","v":""},{"$f":"IF('WÜ Bestand'!D24<>\"\",'WÜ Bestand'!D24,\"\")","v":""},{"$f":"IF('WÜ Bestand'!E24<>\"\",'WÜ Bestand'!E24,\"\")","v":""},{"$f":"IF('WÜ Bestand'!F24<>\"\",'WÜ Bestand'!F24,\"\")","v":""},{"$f":"IF(D50<>\"\",IF('WÜ Bestand'!G24=\"\",$H$17,'WÜ Bestand'!G24+'WÜ Bestand'!$G$7),\"\")","v":""},{"$f":"IF(E50<>\"\",INDEX(Raumliste_kompakt[Fläche],C50),\"\")","v":""},"",null,""]
[null,null,{"$f":"IF(C50<MAX(Raumliste_kompakt[Nummer]),C50+1,\"\")","v":""},{"$f":"IF('WÜ Bestand'!D25<>\"\",'WÜ Bestand'!D25,\"\")","v":""},{"$f":"IF('WÜ Bestand'!E25<>\"\",'WÜ Bestand'!E25,\"\")","v":""},{"$f":"IF('WÜ Bestand'!F25<>\"\",'WÜ Bestand'!F25,\"\")","v":""},{"$f":"IF(D51<>\"\",IF('WÜ Bestand'!G25=\"\",$H$17,'WÜ Bestand'!G25+'WÜ Bestand'!$G$7),\"\")","v":""},{"$f":"IF(E51<>\"\",INDEX(Raumliste_kompakt[Fläche],C51),\"\")","v":""},"",null,""]
[null,null,{"$f":"IF(C51<MAX(Raumliste_kompakt[Nummer]),C51+1,\"\")","v":""},{"$f":"IF('WÜ Bestand'!D26<>\"\",'WÜ Bestand'!D26,\"\")","v":""},{"$f":"IF('WÜ Bestand'!E26<>\"\",'WÜ Bestand'!E26,\"\")","v":""},{"$f":"IF('WÜ Bestand'!F26<>\"\",'WÜ Bestand'!F26,\"\")","v":""},{"$f":"IF(D52<>\"\",IF('WÜ Bestand'!G26=\"\",$H$17,'WÜ Bestand'!G26+'WÜ Bestand'!$G$7),\"\")","v":""},{"$f":"IF(E52<>\"\",INDEX(Raumliste_kompakt[Fläche],C52),\"\")","v":""},"",null,""]
[null,null,{"$f":"IF(C52<MAX(Raumliste_kompakt[Nummer]),C52+1,\"\")","v":""},{"$f":"IF('WÜ Bestand'!D27<>\"\",'WÜ Bestand'!D27,\"\")","v":""},{"$f":"IF('WÜ Bestand'!E27<>\"\",'WÜ Bestand'!E27,\"\")","v":""},{"$f":"IF('WÜ Bestand'!F27<>\"\",'WÜ Bestand'!F27,\"\")","v":""},{"$f":"IF(D53<>\"\",IF('WÜ Bestand'!G27=\"\",$H$17,'WÜ Bestand'!G27+'WÜ Bestand'!$G$7),\"\")","v":""},{"$f":"IF(E53<>\"\",INDEX(Raumliste_kompakt[Fläche],C53),\"\")","v":""},"",null,""]
[null,null,{"$f":"IF(C53<MAX(Raumliste_kompakt[Nummer]),C53+1,\"\")","v":""},{"$f":"IF('WÜ Bestand'!D28<>\"\",'WÜ Bestand'!D28,\"\")","v":""},{"$f":"IF('WÜ Bestand'!E28<>\"\",'WÜ Bestand'!E28,\"\")","v":""},{"$f":"IF('WÜ Bestand'!F28<>\"\",'WÜ Bestand'!F28,\"\")","v":""},{"$f":"IF(D54<>\"\",IF('WÜ Bestand'!G28=\"\",$H$17,'WÜ Bestand'!G28+'WÜ Bestand'!$G$7),\"\")","v":""},{"$f":"IF(E54<>\"\",INDEX(Raumliste_kompakt[Fläche],C54),\"\")","v":""},"",null,""]
[null,null,{"$f":"IF(C54<MAX(Raumliste_kompakt[Nummer]),C54+1,\"\")","v":""},{"$f":"IF('WÜ Bestand'!D29<>\"\",'WÜ Bestand'!D29,\"\")","v":""},{"$f":"IF('WÜ Bestand'!E29<>\"\",'WÜ Bestand'!E29,\"\")","v":""},{"$f":"IF('WÜ Bestand'!F29<>\"\",'WÜ Bestand'!F29,\"\")","v":""},{"$f":"IF(D55<>\"\",IF('WÜ Bestand'!G29=\"\",$H$17,'WÜ Bestand'!G29+'WÜ Bestand'!$G$7),\"\")","v":""},{"$f":"IF(E55<>\"\",INDEX(Raumliste_kompakt[Fläche],C55),\"\")","v":""},"",null,""]
[null,null,{"$f":"IF(C55<MAX(Raumliste_kompakt[Nummer]),C55+1,\"\")","v":""},{"$f":"IF('WÜ Bestand'!D30<>\"\",'WÜ Bestand'!D30,\"\")","v":""},{"$f":"IF('WÜ Bestand'!E30<>\"\",'WÜ Bestand'!E30,\"\")","v":""},{"$f":"IF('WÜ Bestand'!F30<>\"\",'WÜ Bestand'!F30,\"\")","v":""},{"$f":"IF(D56<>\"\",IF('WÜ Bestand'!G30=\"\",$H$17,'WÜ Bestand'!G30+'WÜ Bestand'!$G$7),\"\")","v":""},{"$f":"IF(E56<>\"\",INDEX(Raumliste_kompakt[Fläche],C56),\"\")","v":""},"",null,""]
[null,null,{"$f":"IF(C56<MAX(Raumliste_kompakt[Nummer]),C56+1,\"\")","v":""},{"$f":"IF('WÜ Bestand'!D31<>\"\",'WÜ Bestand'!D31,\"\")","v":""},{"$f":"IF('WÜ Bestand'!E31<>\"\",'WÜ Bestand'!E31,\"\")","v":""},{"$f":"IF('WÜ Bestand'!F31<>\"\",'WÜ Bestand'!F31,\"\")","v":""},{"$f":"IF(D57<>\"\",IF('WÜ Bestand'!G31=\"\",$H$17,'WÜ Bestand'!G31+'WÜ Bestand'!$G$7),\"\")","v":""},{"$f":"IF(E57<>\"\",INDEX(Raumliste_kompakt[Fläche],C57),\"\")","v":""},"",null,""]
[null,null,{"$f":"IF(C57<MAX(Raumliste_kompakt[Nummer]),C57+1,\"\")","v":""},{"$f":"IF('WÜ Bestand'!D32<>\"\",'WÜ Bestand'!D32,\"\")","v":""},{"$f":"IF('WÜ Bestand'!E32<>\"\",'WÜ Bestand'!E32,\"\")","v":""},{"$f":"IF('WÜ Bestand'!F32<>\"\",'WÜ Bestand'!F32,\"\")","v":""},{"$f":"IF(D58<>\"\",IF('WÜ Bestand'!G32=\"\",$H$17,'WÜ Bestand'!G32+'WÜ Bestand'!$G$7),\"\")","v":""},{"$f":"IF(E58<>\"\",INDEX(Raumliste_kompakt[Fläche],C58),\"\")","v":""},"",null,""]
[null,null,{"$f":"IF(C58<MAX(Raumliste_kompakt[Nummer]),C58+1,\"\")","v":""},{"$f":"IF('WÜ Bestand'!D33<>\"\",'WÜ Bestand'!D33,\"\")","v":""},{"$f":"IF('WÜ Bestand'!E33<>\"\",'WÜ Bestand'!E33,\"\")","v":""},{"$f":"IF('WÜ Bestand'!F33<>\"\",'WÜ Bestand'!F33,\"\")","v":""},{"$f":"IF(D59<>\"\",IF('WÜ Bestand'!G33=\"\",$H$17,'WÜ Bestand'!G33+'WÜ Bestand'!$G$7),\"\")","v":""},{"$f":"IF(E59<>\"\",INDEX(Raumliste_kompakt[Fläche],C59),\"\")","v":""},"",null,""]
[null,null,{"$f":"IF(C59<MAX(Raumliste_kompakt[Nummer]),C59+1,\"\")","v":""},{"$f":"IF('WÜ Bestand'!D34<>\"\",'WÜ Bestand'!D34,\"\")","v":""},{"$f":"IF('WÜ Bestand'!E34<>\"\",'WÜ Bestand'!E34,\"\")","v":""},{"$f":"IF('WÜ Bestand'!F34<>\"\",'WÜ Bestand'!F34,\"\")","v":""},{"$f":"IF(D60<>\"\",IF('WÜ Bestand'!G34=\"\",$H$17,'WÜ Bestand'!G34+'WÜ Bestand'!$G$7),\"\")","v":""},{"$f":"IF(E60<>\"\",INDEX(Raumliste_kompakt[Fläche],C60),\"\")","v":""},"",null,""]
[null,null,{"$f":"IF(C60<MAX(Raumliste_kompakt[Nummer]),C60+1,\"\")","v":""},{"$f":"IF('WÜ Bestand'!D35<>\"\",'WÜ Bestand'!D35,\"\")","v":""},{"$f":"IF('WÜ Bestand'!E35<>\"\",'WÜ Bestand'!E35,\"\")","v":""},{"$f":"IF('WÜ Bestand'!F35<>\"\",'WÜ Bestand'!F35,\"\")","v":""},{"$f":"IF(D61<>\"\",IF('WÜ Bestand'!G35=\"\",$H$17,'WÜ Bestand'!G35+'WÜ Bestand'!$G$7),\"\")","v":""},{"$f":"IF(E61<>\"\",INDEX(Raumliste_kompakt[Fläche],C61),\"\")","v":""},"",null,""]
[null,null,{"$f":"IF(C61<MAX(Raumliste_kompakt[Nummer]),C61+1,\"\")","v":""},{"$f":"IF('WÜ Bestand'!D36<>\"\",'WÜ Bestand'!D36,\"\")","v":""},{"$f":"IF('WÜ Bestand'!E36<>\"\",'WÜ Bestand'!E36,\"\")","v":""},{"$f":"IF('WÜ Bestand'!F36<>\"\",'WÜ Bestand'!F36,\"\")","v":""},{"$f":"IF(D62<>\"\",IF('WÜ Bestand'!G36=\"\",$H$17,'WÜ Bestand'!G36+'WÜ Bestand'!$G$7),\"\")","v":""},{"$f":"IF(E62<>\"\",INDEX(Raumliste_kompakt[Fläche],C62),\"\")","v":""},"",null,""]
[null,null,{"$f":"IF(C62<MAX(Raumliste_kompakt[Nummer]),C62+1,\"\")","v":""},{"$f":"IF('WÜ Bestand'!D37<>\"\",'WÜ Bestand'!D37,\"\")","v":""},{"$f":"IF('WÜ Bestand'!E37<>\"\",'WÜ Bestand'!E37,\"\")","v":""},{"$f":"IF('WÜ Bestand'!F37<>\"\",'WÜ Bestand'!F37,\"\")","v":""},{"$f":"IF(D63<>\"\",IF('WÜ Bestand'!G37=\"\",$H$17,'WÜ Bestand'!G37+'WÜ Bestand'!$G$7),\"\")","v":""},{"$f":"IF(E63<>\"\",INDEX(Raumliste_kompakt[Fläche],C63),\"\")","v":""},"",null,""]
[null,null,{"$f":"IF(C63<MAX(Raumliste_kompakt[Nummer]),C63+1,\"\")","v":""},{"$f":"IF('WÜ Bestand'!D38<>\"\",'WÜ Bestand'!D38,\"\")","v":""},{"$f":"IF('WÜ Bestand'!E38<>\"\",'WÜ Bestand'!E38,\"\")","v":""},{"$f":"IF('WÜ Bestand'!F38<>\"\",'WÜ Bestand'!F38,\"\")","v":""},{"$f":"IF(D64<>\"\",IF('WÜ Bestand'!G38=\"\",$H$17,'WÜ Bestand'!G38+'WÜ Bestand'!$G$7),\"\")","v":""},{"$f":"IF(E64<>\"\",INDEX(Raumliste_kompakt[Fläche],C64),\"\")","v":""},"",null,""]
[null,null,{"$f":"IF(C64<MAX(Raumliste_kompakt[Nummer]),C64+1,\"\")","v":""},{"$f":"IF('WÜ Bestand'!D39<>\"\",'WÜ Bestand'!D39,\"\")","v":""},{"$f":"IF('WÜ Bestand'!E39<>\"\",'WÜ Bestand'!E39,\"\")","v":""},{"$f":"IF('WÜ Bestand'!F39<>\"\",'WÜ Bestand'!F39,\"\")","v":""},{"$f":"IF(D65<>\"\",IF('WÜ Bestand'!G39=\"\",$H$17,'WÜ Bestand'!G39+'WÜ Bestand'!$G$7),\"\")","v":""},{"$f":"IF(E65<>\"\",INDEX(Raumliste_kompakt[Fläche],C65),\"\")","v":""},"",null,""]
[null,null,{"$f":"IF(C65<MAX(Raumliste_kompakt[Nummer]),C65+1,\"\")","v":""},{"$f":"IF('WÜ Bestand'!D40<>\"\",'WÜ Bestand'!D40,\"\")","v":""},{"$f":"IF('WÜ Bestand'!E40<>\"\",'WÜ Bestand'!E40,\"\")","v":""},{"$f":"IF('WÜ Bestand'!F40<>\"\",'WÜ Bestand'!F40,\"\")","v":""},{"$f":"IF(D66<>\"\",IF('WÜ Bestand'!G40=\"\",$H$17,'WÜ Bestand'!G40+'WÜ Bestand'!$G$7),\"\")","v":""},{"$f":"IF(E66<>\"\",INDEX(Raumliste_kompakt[Fläche],C66),\"\")","v":""},"",null,""]
[null,null,{"$f":"IF(C66<MAX(Raumliste_kompakt[Nummer]),C66+1,\"\")","v":""},{"$f":"IF('WÜ Bestand'!D41<>\"\",'WÜ Bestand'!D41,\"\")","v":""},{"$f":"IF('WÜ Bestand'!E41<>\"\",'WÜ Bestand'!E41,\"\")","v":""},{"$f":"IF('WÜ Bestand'!F41<>\"\",'WÜ Bestand'!F41,\"\")","v":""},{"$f":"IF(D67<>\"\",IF('WÜ Bestand'!G41=\"\",$H$17,'WÜ Bestand'!G41+'WÜ Bestand'!$G$7),\"\")","v":""},{"$f":"IF(E67<>\"\",INDEX(Raumliste_kompakt[Fläche],C67),\"\")","v":""},"",null,""]
[null,null,{"$f":"IF(C67<MAX(Raumliste_kompakt[Nummer]),C67+1,\"\")","v":""},{"$f":"IF('WÜ Bestand'!D42<>\"\",'WÜ Bestand'!D42,\"\")","v":""},{"$f":"IF('WÜ Bestand'!E42<>\"\",'WÜ Bestand'!E42,\"\")","v":""},{"$f":"IF('WÜ Bestand'!F42<>\"\",'WÜ Bestand'!F42,\"\")","v":""},{"$f":"IF(D68<>\"\",IF('WÜ Bestand'!G42=\"\",$H$17,'WÜ Bestand'!G42+'WÜ Bestand'!$G$7),\"\")","v":""},{"$f":"IF(E68<>\"\",INDEX(Raumliste_kompakt[Fläche],C68),\"\")","v":""},"",null,""]
[null,null,{"$f":"IF(C68<MAX(Raumliste_kompakt[Nummer]),C68+1,\"\")","v":""},{"$f":"IF('WÜ Bestand'!D43<>\"\",'WÜ Bestand'!D43,\"\")","v":""},{"$f":"IF('WÜ Bestand'!E43<>\"\",'WÜ Bestand'!E43,\"\")","v":""},{"$f":"IF('WÜ Bestand'!F43<>\"\",'WÜ Bestand'!F43,\"\")","v":""},{"$f":"IF(D69<>\"\",IF('WÜ Bestand'!G43=\"\",$H$17,'WÜ Bestand'!G43+'WÜ Bestand'!$G$7),\"\")","v":""},{"$f":"IF(E69<>\"\",INDEX(Raumliste_kompakt[Fläche],C69),\"\")","v":""},"",null,""]
[null,null,{"$f":"IF(C69<MAX(Raumliste_kompakt[Nummer]),C69+1,\"\")","v":""},{"$f":"IF('WÜ Bestand'!D44<>\"\",'WÜ Bestand'!D44,\"\")","v":""},{"$f":"IF('WÜ Bestand'!E44<>\"\",'WÜ Bestand'!E44,\"\")","v":""},{"$f":"IF('WÜ Bestand'!F44<>\"\",'WÜ Bestand'!F44,\"\")","v":""},{"$f":"IF(D70<>\"\",IF('WÜ Bestand'!G44=\"\",$H$17,'WÜ Bestand'!G44+'WÜ Bestand'!$G$7),\"\")","v":""},{"$f":"IF(E70<>\"\",INDEX(Raumliste_kompakt[Fläche],C70),\"\")","v":""},"",null,""]
[null,null,{"$f":"IF(C70<MAX(Raumliste_kompakt[Nummer]),C70+1,\"\")","v":""},{"$f":"IF('WÜ Bestand'!D45<>\"\",'WÜ Bestand'!D45,\"\")","v":""},{"$f":"IF('WÜ Bestand'!E45<>\"\",'WÜ Bestand'!E45,\"\")","v":""},{"$f":"IF('WÜ Bestand'!F45<>\"\",'WÜ Bestand'!F45,\"\")","v":""},{"$f":"IF(D71<>\"\",IF('WÜ Bestand'!G45=\"\",$H$17,'WÜ Bestand'!G45+'WÜ Bestand'!$G$7),\"\")","v":""},{"$f":"IF(E71<>\"\",INDEX(Raumliste_kompakt[Fläche],C71),\"\")","v":""},"",null,""]
[null,null,{"$f":"IF(C71<MAX(Raumliste_kompakt[Nummer]),C71+1,\"\")","v":""},{"$f":"IF('WÜ Bestand'!D46<>\"\",'WÜ Bestand'!D46,\"\")","v":""},{"$f":"IF('WÜ Bestand'!E46<>\"\",'WÜ Bestand'!E46,\"\")","v":""},{"$f":"IF('WÜ Bestand'!F46<>\"\",'WÜ Bestand'!F46,\"\")","v":""},{"$f":"IF(D72<>\"\",IF('WÜ Bestand'!G46=\"\",$H$17,'WÜ Bestand'!G46+'WÜ Bestand'!$G$7),\"\")","v":""},{"$f":"IF(E72<>\"\",INDEX(Raumliste_kompakt[Fläche],C72),\"\")","v":""},"",null,""]
[null,null,{"$f":"IF(C72<MAX(Raumliste_kompakt[Nummer]),C72+1,\"\")","v":""},{"$f":"IF('WÜ Bestand'!D47<>\"\",'WÜ Bestand'!D47,\"\")","v":""},{"$f":"IF('WÜ Bestand'!E47<>\"\",'WÜ Bestand'!E47,\"\")","v":""},{"$f":"IF('WÜ Bestand'!F47<>\"\",'WÜ Bestand'!F47,\"\")","v":""},{"$f":"IF(D73<>\"\",IF('WÜ Bestand'!G47=\"\",$H$17,'WÜ Bestand'!G47+'WÜ Bestand'!$G$7),\"\")","v":""},{"$f":"IF(E73<>\"\",INDEX(Raumliste_kompakt[Fläche],C73),\"\")","v":""},"",null,""]
[null,null,{"$f":"IF(C73<MAX(Raumliste_kompakt[Nummer]),C73+1,\"\")","v":""},{"$f":"IF('WÜ Bestand'!D48<>\"\",'WÜ Bestand'!D48,\"\")","v":""},{"$f":"IF('WÜ Bestand'!E48<>\"\",'WÜ Bestand'!E48,\"\")","v":""},{"$f":"IF('WÜ Bestand'!F48<>\"\",'WÜ Bestand'!F48,\"\")","v":""},{"$f":"IF(D74<>\"\",IF('WÜ Bestand'!G48=\"\",$H$17,'WÜ Bestand'!G48+'WÜ Bestand'!$G$7),\"\")","v":""},{"$f":"IF(E74<>\"\",INDEX(Raumliste_kompakt[Fläche],C74),\"\")","v":""},"",null,""]
[null,null,{"$f":"IF(C74<MAX(Raumliste_kompakt[Nummer]),C74+1,\"\")","v":""},{"$f":"IF('WÜ Bestand'!D49<>\"\",'WÜ Bestand'!D49,\"\")","v":""},{"$f":"IF('WÜ Bestand'!E49<>\"\",'WÜ Bestand'!E49,\"\")","v":""},{"$f":"IF('WÜ Bestand'!F49<>\"\",'WÜ Bestand'!F49,\"\")","v":""},{"$f":"IF(D75<>\"\",IF('WÜ Bestand'!G49=\"\",$H$17,'WÜ Bestand'!G49+'WÜ Bestand'!$G$7),\"\")","v":""},{"$f":"IF(E75<>\"\",INDEX(Raumliste_kompakt[Fläche],C75),\"\")","v":""},"",null,""]
[null,null,{"$f":"IF(C75<MAX(Raumliste_kompakt[Nummer]),C75+1,\"\")","v":""},{"$f":"IF('WÜ Bestand'!D50<>\"\",'WÜ Bestand'!D50,\"\")","v":""},{"$f":"IF('WÜ Bestand'!E50<>\"\",'WÜ Bestand'!E50,\"\")","v":""},{"$f":"IF('WÜ Bestand'!F50<>\"\",'WÜ Bestand'!F50,\"\")","v":""},{"$f":"IF(D76<>\"\",IF('WÜ Bestand'!G50=\"\",$H$17,'WÜ Bestand'!G50+'WÜ Bestand'!$G$7),\"\")","v":""},{"$f":"IF(E76<>\"\",INDEX(Raumliste_kompakt[Fläche],C76),\"\")","v":""},"",null,""]
[null,null,{"$f":"IF(C76<MAX(Raumliste_kompakt[Nummer]),C76+1,\"\")","v":""},{"$f":"IF('WÜ Bestand'!D51<>\"\",'WÜ Bestand'!D51,\"\")","v":""},{"$f":"IF('WÜ Bestand'!E51<>\"\",'WÜ Bestand'!E51,\"\")","v":""},{"$f":"IF('WÜ Bestand'!F51<>\"\",'WÜ Bestand'!F51,\"\")","v":""},{"$f":"IF(D77<>\"\",IF('WÜ Bestand'!G51=\"\",$H$17,'WÜ Bestand'!G51+'WÜ Bestand'!$G$7),\"\")","v":""},{"$f":"IF(E77<>\"\",INDEX(Raumliste_kompakt[Fläche],C77),\"\")","v":""},"",null,""]
[]
[null,null,null,null,null,null,null,null,null,null,null,null,null,null,null,null,null,null,"Bedingtes Ausblenden in der Zusmmenfassung"]
[null,null,"Für eine Wandheizung ist entscheidend, ob genug freie Wandflächen zur Verfügung stehen, welche nicht von Möbeln verdeckt sind. Stehen für die geplanten Wandheizungen ausreichend freie Wandflächen zur Verfügung? ",null,null,null,null,null,null,"ja",null,null,null,null,{"$f":"IF(COUNTIF(J37:J77,'WÜ Bestand'!U15)>=1,0,1)","v":1},"→ für bedingtes Einfärben. Kommt Wandheizung vor",null,null,{"$f":"IF(COUNTIF(J37:J77,'WÜ Bestand'!U14)>=1,0,1)","v":1},"Kommt Fußbodenheizung vor?"]
[null,null,null,null,null,null,null,null,null,null,null,null,null,null,null,null,null,null,{"$f":"IF(COUNTIF(J37:J77,'WÜ Bestand'!U16)>=1,0,1)","v":1},"Kommt Deckenheizung vor?"]
[null,null,{"$f":"IF(J80=\"nein\",\"Bitte ändern sie die erwünschte Oberflächentemperatur oder wählen Sie eine andere Flächenheizung!\",\"\")","v":""},null,null,null,null,null,null,null,null,null,null,null,null,null,null,null,{"$f":"IF(O80=0,0,1)","v":1},"Kommt Wandheizung vor?"]

{"sheet":"WW neu","index":13,"n_rows":187,"n_cols":39,"rows_kept":187,"cut":false,"hidden":false,"merged":[[176,8,177,12],[176,13,177,13],[180,8,180,12],[173,8,173,10],[174,8,174,10],[173,12,174,13],[1,1,1,14],[161,3,161,6],[162,3,162,6],[163,3,163,6],[164,3,164,6],[64,7,64,12],[77,7,77,12],[79,7,79,12],[82,7,82,12],[85,8,85,12],[156,3,156,6],[157,3,157,6],[158,3,158,6],[159,3,159,6],[8,2,8,3],[150,7,150,13],[149,7,149,13],[150,3,150,6],[144,3,144,6],[132,3,132,6],[133,3,133,6],[134,3,134,6],[119,7,119,13],[120,7,120,13],[121,7,121,13],[122,7,122,13],[123,7,123,13],[124,7,124,13],[125,7,125,13],[130,3,130,6],[126,7,126,13],[127,7,127,13],[128,7,128,13],[129,7,129,13],[119,3,119,6],[120,3,120,6],[121,3,121,6],[98,7,98,13],[99,7,99,13],[160,3,160,6],[151,3,151,6],[152,3,152,6],[153,3,153,6],[154,3,154,6],[128,3,128,6],[129,3,129,6],[149,3,149,6],[105,7,105,13],[143,3,143,6],[130,7,130,13],[131,7,131,13],[122,3,122,6],[123,3,123,6],[124,3,124,6],[132,7,132,13],[133,7,133,13],[134,7,134,13],[114,3,114,6],[127,3,127,6],[125,3,125,6],[126,3,126,6],[52,2,53,10],[52,12,53,12],[55,2,56,10],[65,2,65,5],[78,2,78,5],[65,7,65,13],[84,8,84,12],[104,3,104,6],[86,8,86,12],[84,6,84,7],[90,7,90,13],[90,3,90,6],[100,3,100,6],[101,3,101,6],[102,3,102,6],[100,7,100,13],[103,7,103,13],[91,3,91,6],[92,3,92,6],[93,3,93,6],[94,3,94,6],[95,3,95,6],[96,3,96,6],[97,3,97,6],[112,3,112,6],[108,2,108,12],[68,7,68,13],[71,7,71,13],[74,7,74,13],[78,7,78,13],[81,7,81,13],[55,12,56,12],[58,2,60,10],[61,2,62,10],[104,7,104,13],[101,7,101,13],[84,2,85,5],[75,7,75,13],[98,3,98,6],[99,3,99,6],[103,3,103,6],[91,7,91,13],[92,7,92,13],[93,7,93,13],[94,7,94,13],[95,7,95,13],[96,7,96,13],[97,7,97,13],[158,7,158,13],[159,7,159,13],[160,7,160,13],[3,7,3,11],[3,2,3,6],[21,2,21,13],[23,2,23,3],[23,5,23,9],[27,2,27,13],[31,7,31,10],[36,9,36,10],[29,7,29,10],[33,2,34,12],[15,7,15,13],[6,2,6,3],[7,2,7,3],[10,2,10,3],[88,2,88,12],[50,2,50,12],[117,2,117,12],[110,2,110,9],[66,7,66,13],[69,7,69,13],[72,7,72,13],[161,7,161,13],[162,7,162,13],[163,7,163,13],[164,7,164,13],[155,3,155,6],[41,2,41,13],[43,6,43,9],[151,7,151,13],[152,7,152,13],[153,7,153,13],[154,7,154,13],[155,7,155,13],[156,7,156,13],[157,7,157,13],[131,3,131,6],[137,2,137,12],[139,2,140,9],[142,3,142,6],[147,2,147,9],[105,3,105,6],[113,3,113,6],[85,6,85,7],[86,6,86,7],[102,7,102,13]]}
[]
[null,"WARMWASSERBEREITUNG, NEU"]
[]
[null,null,"Im PHPP kann im Tabellenblatt \"WW + Verteil\" im Abschnitt \"Warmwasser Nutzwärme\" ein detailiertes Warmwasserprofil berechnet werden. Auch eine Abwasserwärmerückgewinnung lässt sich dabei berücksichtigen.",null,null,null,null,null,null,null,null,null,null,null,null,null,null,"Detailierte Verbrauchsrechnung aus dem PHPP verwenden (wird automatisch importiert)",null,null,null," "]
[null,null,null,null,null,null,null,null,null,null,null,null,null,null,null,null,null,"Eingaben aus dem Blatt \"WW Bestand\" verwenden"]
[]
[null,null,"Anzahl der Bewohner:",null,{"$f":"IF('WW Bestand'!K7=\"nein\",'WW Bestand'!K6,'WW Bestand'!K9)","v":0},null,null,null,null,null,null,null,null,null,null,null,null,null,null,"Empfehlung:",null,"Da die Heizungswärmepumpe grundsätzlich auf einem niedrigen Temperaturniveau arbeitet kommen Möglichkeiten in Frage: \n1) Einbau einer Heizungswärmepumpe die (abwechselnd) auf zwei verschiedenen Temperaturniveaus für Heizung und Warmwasserbereitung läuft\n2) Einbau eines zusätzlichen Wärmeerzeugers zur Warmwasserbereitung",null,null,null,null,null,null,null,null,null,null,null," "]
[null,null,"Warmwasserbedarf pro Person und Tag (60°C)",null,{"$f":"IF(MATCH(H4,R4:R5,0)=2,'WW Bestand'!K11+'WW Bestand'!K12,INDIRECT(ADDRESS(50,10,,,\"[\"&Allgemeines!$E$4&\"]WW+Verteil\")))","v":{"$error":"#N/A"}},null,null,null,null,null,null,null,null,null,null,null,null,null,null,{"$f":"IF(INDEX(Heizung[Temperatur],MATCH('WÜ neu'!F4,Heizung[Heizwärmeerzeuger],0))=\"niedrig\",\"niedrig\",\"hoch\")","v":{"$error":"#N/A"}},null,"Da der eingebaute Heizwärmeerzeuger auf einem hohen Temperaturniveau arbeitet, kann dieser grundsätzlich auch direkt für die Trinkwarmwasserbereitung verwendet werden",null,null,null,null,null,null,null,null,null,null,null," "]
[null,null,{"$f":"\"Warmwasserbedarf pro Person und Tag (\"&E15&\"°C)\"","v":"Warmwasserbedarf pro Person und Tag (°C)"},null,{"$f":"E8*(60-E14)/(E15-E14)","v":{"$error":"#N/A"}},null,null,"Zur Warmwasserbereitung gibt es grundsätzlich folgende sinnvolle Möglichkeiten:"]
[null,null,null,null,null,null,null,"Zentrale Warmwassererwärmung"]
[null,null,{"$f":"\"Warmwasserbedarf, gesamt (\"&E15&\"°C)\"","v":"Warmwasserbedarf, gesamt (°C)"},null,{"$f":"E7*E9","v":{"$error":"#N/A"}},null,null,"Nutzung des Heizwärmeerzeugers"]
[null,null,"Verhältnis: tägl. WW-Bedarf - Speichergröße",null,{"$f":"'WE Puffer'!D12/'WW neu'!E11","v":{"$error":"#N/A"}},null,null,"Wärmepumpe (+ Photovoltaik) "]
[null,null,null,null,null,null,null,"Thermische Solaranlage"]
[null,null,"Temperatur Kaltwasser",null,null,null,null,"Gasbrennwertgerät"]
[null,null,"Temperatur Warmwasser"]
[null,null,null,null,null,null,null,"Dezentrale Warmwassererwärmung"]
[null,null,"Erforderliche Energie pro Tag:",null,{"$f":"E11/1000*1.16*(E15-E14)","v":{"$error":"#N/A"}},null,null,"Elektrischer Durchlauferhitzer (+ Abwasserwärmerückgewinnung)"]
[null,null,"Zeit in der das Wasser aufgeheizt werden soll:",null,null,null,null,"Elektrischer Speicher"]
[null,null,"Erforderliche Leistung:",null,{"$f":"E17/E18","v":{"$error":"#N/A"}},null,null,"Gas-Durchlauferhitzer"]
[null,null,null,null,null,null,null,"Gasbeheizter Speicher"]
[]
[null,null,"Die Warmwasserbereitung kann grundsätzlich zentral oder dezentral erfolgen. Die zentrale Warmwasserbereitung ist meist energieeffizienter und lässt sich besser mit der Nutzung von solarer Energie kombinieren.\nFür eine dezentrale Warmwasserbereitung spricht der geringere Verrohrungsaufwand und ggf. einfachere Nachrüstung.",null,null,null,null,null,null,null,null,null,null,null,null,null,null,null,"Systemänderungen",null,{"$f":"IF('WW neu'!F24=\"ja, hin zu einem möglichst zentralen System\",1,\"\")","v":""}]
[null,null,null,null,null,null,null,null,null,null,null,null,null,null,null,null,null,null,"nein, bestehendes System beibehalten",null,{"$f":"IF('WW neu'!F24=\"ja, hin zu einem dezentralen System\",1,\"\")","v":""}]
[null,null,"Wollen Sie das bestehende System ändern?",null,null,null,null,null,null,null,null,null,null,null,null,null,null,null,"ja, hin zu einem möglichst zentralen System",null,{"$f":"IF(AND('WW neu'!F24=\"nein, bestehendes System beibehalten\",'WW Bestand'!K16=\"vollständig zentral\"),1,\"\")","v":""}]
[null,null,null,null,null,null,null,null,null,null,null,null,null,null,null,null,null,null,"ja, hin zu einem dezentralen System",null,{"$f":"IF(AND('WW neu'!F24=\"nein, bestehendes System beibehalten\",'WW Bestand'!K16=\"vollständig dezentral\"),1,\"\")","v":""}]
[null,null,"Für die Nutzung solarer Energie bieten sich zwei Möglichkeiten:",null,null,null,"Photovoltaik + Wärmepumpe",null,"Thermische Solaranlage",null,null,null,null,null,null,null,null,null,null,null,{"$f":"IF(AND('WW neu'!F24=\"nein, bestehendes System beibehalten\",'WW Bestand'!K16=\"ein Teil zentral, ein Teil dezentral\"),1,\"\")","v":""}]
[null,null,null,null,null,null,null,null,null,null,null,null,null,null,null,null,null,null,null,null,{"$f":"MATCH(1,U22:U26,0)","v":{"$error":"#N/A"}}]
[null,null,"Im Vergleich der beiden Systeme hat sich gezeigt, dass die Variante Photovoltaik + Wärmepumpe einer thermischen Solaranlage vorzuziehen ist. Bei vergleichbarem Ertrag ist die Installation und die Leitungsführung bei Photovoltaik erheblich einfacher. Weiters kann dieses System neben der Warmwasserbereitung und ggf. Heizungsunterstützung bei Bedarf auch Haushaltstrom liefern und ist somit flexibler. Eine solarthermische Anlage kann oft jedoch höhere Warmwassertemperaturen liefern.",null,null,null,null,null,null,null,null,null,null,null,null,null,null,null,null,null,null,null,null,null,null,"WW_Liste"]
[]
[null,null,"Möchten Sie solare Energie zur Warmwasserbereitung nutzen?",null,null,null,null,null,null,null,null,null,null,null,null,null,null,null,null,null,null,null,null,null,null,"Elektrischer (Untertisch-) Speicher"]
[null,null,null,null,null,null,null,null,null,null,null,null,null,null,null,null,null,null,null,null,null,null,null,null,null,"Elektrischer Durchlauferhitzer"]
[null,null,"Welcher Energieträger soll für die Warmwasserbereitung bevorzugt verwendet werden?",null,null,null,null,null,null,null,null,null,null,null,null,null,null,null,null,null,null,null,null,null,null,"Elektrischer Durchlauferhitzer mit Abwasserwärmerückgewinnung"]
[null,null,null,null,null,null,null,null,null,null,null,null,null,null,null,null,null,null,"ja, Photovoltaik + Wärmepumpe",null,null,null,null,null,null,"Gemeinsamer elektrischer Speicher"]
[null,null,{"$f":"IF(T8=\"hoch\",V8,V7)","v":{"$error":"#N/A"}},null,null,null,null,null,null,null,null,null,null,null,null,null,null,null,"ja, Solarthermie",null,null,{"$f":"IF(R35=2,\"Strom, Wärmepumpe, Photovoltaik\",IF(R35=3,\"Strom, Solarthermie\",\"Strom\"))","v":{"$error":"#N/A"}},null,null,null,"Separate elektrische Speicher",null,null,null,null,null,null,null,null,null,"Speichergröße"]
[null,null,null,null,null,null,null,null,null,null,null,null,null,null,null,null,null,{"$f":"MATCH(H30,S32:S35,0)","v":{"$error":"#N/A"}},"nein, keine Nutzung solarer Energie",null,null,"Gas",null,null,null,"Elektrischer Speicher + Durchlauferhitzer mit AWRG für die Dusche",null,null,null,null,null,null,null,null,null,50]
[null,null,null,null,null,null,null,null,null,null,null,null,null,null,null,null,null,null,null,null,null,null,null,null,null,"Gemeinsamer elektrischer Speicher + Abwasserwärmerückgewinnung für die Dusche",null,null,null,null,null,null,null,null,null,80]
[null,null,{"$f":"IF(OR(MATCH('WW neu'!F24,WW_Wunsch[Systemänderungen],0)=2,AND(MATCH('WW neu'!F24,WW_Wunsch[Systemänderungen],0)=1,OR(MATCH('WW Bestand'!K16,WW_Bestand_System[WW-Bereitung],0)=1,MATCH('WW Bestand'!K16,WW_Bestand_System[WW-Bereitung],0)=3))),'WW neu'!S37,'WW neu'!S38)","v":{"$error":"#N/A"}},null,null,null,null,null,null,null,null,null,null,null,null,null,{"$f":"IF(LEFT(C37,6)=\"Wollen\",0,1)","v":{"$error":"#N/A"}},null,"Wollen Sie den Heizwärmeerzeuger auch zur Warmwasserbereitung nutzen?"," ",null,null,null,null,null,"Gemeinsamer Speicher mit Wärmepumpe",null,null,null,null,null,null,null,null,null,100]
[null,null,null,null,null,null,null,null,null,null,null,null,null,null,null,null,null,{"$f":"MATCH(C37,S37:S38,0)","v":{"$error":"#N/A"}},"Eine Nutzung des Heizwärmeerzeugers zur Warmwasserbereitung ist bei den geäußersten Wünschen  nicht möglich."," ",null,null,null,null,null,{"$f":"IF(OR($R$35=1,$R$35=2,$R$35=4),\"Gemeinsamer Speicher mit Wärmepumpe + Photovoltaik\",\"Gemeinsamer Speicher mit Solarthermie\")","v":{"$error":"#N/A"}},null,null,null,null,null,null,null,null,null,150]
[null,null,null,null,null,null,null,null,null,null,null,null,null,null,null,null,null,null,null,null,null,null,null,null,null,{"$f":"IF(OR($R$35=1,$R$35=2,$R$35=4),\"Gemeinsamer Speicher mit Wärmepumpe + Photovoltaik\",\"Gemeinsamer Speicher mit Solarthermie\")&\" und AWRG für die Dusche\"","v":{"$error":"#N/A"}},null,null,null,null,null,null,null,null,null,200]
[null,null,"WARMWASSERSPEICHER",null,null,null,null,null,null,null,null,null,null,null,null,null,null,null,null,null,null,null,null,null,null,"(Untertisch-)Speicher mit Gas",null,null,null,null,null,null,null,null,null,250]
[null,null,null,null,null,null,null,null,null,null,null,null,null,null,null,null,null,null,null,null,null,"Nutzung des Pufferspeichers",null,null,null,"Durchlauferhitzer mit Gas",null,null,null,null,null,null,null,null,null,300]
[null,null,"Da schon ein Pufferspeicher vorgesehen ist, bietet es sich an, im obersten Abschnitt von diesem ein Volumen zur Speicherung von Energie zur Warmwassergewinnung vorzusehen. Die Erwärmung des genutzten Warmwasserers erfolgt dann über einen Wärmetauscher. Die Größe des Volumens hängt vom täglichen Warmwasserbedarf, von der Wassertemperatur im Speicher, von der Nutzung solarer Energie und davon ab, über welchen Zeitraum die Energie gespeichert werden soll.",null,null,null,null,null,null,null,null,null,null,null,null,null,null,null,null,null,null,"Einbau eines separaten Warmwasserspeichers",null,null," ","Durchlauferhitzer mit Gas und Abwasserwärmerückgewinnung",null,null,null,null,null,null,null,null,null,400]
[null,null,null,null,null,null,null,null,null,null,null,null,null,null,null,null,null,null,null,null,null,null,null,null,null,"Speicher mit Gas + Abwasserwärmerückgewinnung für die Dusche",null,null,null,null,null,null,null,null,null,500]
[null,null,"Wie möchten Sie die Energie zur Warmwasserbereitung speichern?",null,null,null,null,null,null,null,null,null,null,null,null,null,null,null,null,null,null,{"$f":"IF(G44=V42,0,1)","v":1},null,null,null,"Gemeinsamer Speicher mit Gas",null,null,null,null,null,null,null,null,null,800]
[null,null,null,null,null,null,null,null,null,null,null,null,null,null,null,null,null,null,null,null,null,null,null,null,null,"Separate Speicher mit Gas",null,null,null,null,null,null,null,null,null,1000]
[null,null,"Wie groß soll der separate Speicher sein?",null,null,null,150,null,null,null,null,null,null,null,null,null,null,null,null,null,null,{"$f":"MATCH(G44,V41:V42,0)","v":{"$error":"#N/A"}},"→ für Zusammenfassung",null," "]
[null,null,null,null,null,null,null,null,null,null,null,null,null,null,null,null,null,null,null,null,null,"Zur Speicherung des Warmwassers bzw. der zur Warmwasserbereitung verwendeten Energie wird der oberste Abschnitt des Pufferspeichers verwendet.",null,null," ","Raum wird zentral versorgt"]
[null,null,null,null,null,null,null,null,null,null,null,null,null,null,null,null,null,null,null,null,null,"Zur Speicherung des Warmwassers bzw. der zur Warmwasserbereitung verwendeten Energie wird ein separater Warmwasserspeicher eingebaut.",null,null," "]
[null,null,"SYSTEM",null,null,null,null,null,null,null,null,null,null,null,null,null,null,null,null,null,null,{"$f":"NOT(V46-1)","v":{"$error":"#N/A"}}]
[]
[null,null,"Sie haben angegeben, ein möglichst zentrales System anzustreben",null,null,null,null,null,null,null,null,null,null,null,null,null,{"$f":"IF($U$27=1,1,0)","v":{"$error":"#N/A"}}]
[]
[null,null,{"$f":"X61","v":"Gibt es Warmwasserabnehmer die (einschließlich Steigleitungen) eine Leitungslänge von über 5 m zum Warmwasserspeicher (neben dem Heizwärmeerzeuger) erfordern?"},null,null,null,null,null,null,null,null,null,null,null,null,null,"wenn nein",null,"ja"]
[null,null,null,null,null,null,null,null,null,null,null,null,null,null,null,null,{"$f":"IF(M53=\"nein\",1,0)","v":0},null,"nein"]
[]
[null,null,{"$f":"IF(M53=\"nein\",X62,IF(M53=\"ja\",Y62,\"\"))","v":""},null,null,null,null,null,null,null,null,null,null,null,null,null,"ja + ja"]
[null,null,null,null,null,null,null,null,null,null,null,null,null,null,null,null,{"$f":"IF(AND(M53=\"ja\",M56=\"ja\"),1,0)","v":0},null,"ja"]
[null,null,null,null,null,null,null,null,null,null,null,null,null,null,null,null,null,null,"nein"]
[null,null,{"$f":"IF(M56=\"ja\",Y63,IF(M56=\"nein\",Z63,\"\"))","v":""},null,null,null,null,null,null,null,null,null,{"$f":"IF($M$56=\"ja\",\"Raum\",\"\")","v":""},null,null,null,"ja + nein"]
[null,null,null,null,null,null,null,null,null,null,null,null,null,null,null,null,{"$f":"IF(AND(M53=\"ja\",M56=\"nein\"),1,0)","v":0}]
[null,null,null,null,null,null,null,null,null,null,null,null,null,null,null,null,null,null,null,null,null,null,null,"Gibt es Warmwasserabnehmer die (einschließlich Steigleitungen) eine Leitungslänge von über 5 m zum Warmwasserspeicher (neben dem Heizwärmeerzeuger) erfordern?",null,null,"Wie soll die Warmwasserbereitung für die Waschtische erfolgen?"]
[null,null,{"$f":"IF(M56=\"ja\",\"\",IF(M56=\"nein\",Z64,\"\"))","v":""},null,null,null,null,null,null,null,null,null,{"$f":"IF($M$56=\"nein\",\"Raum\",\"\")","v":""},null,null,null,"ja + \"  \"",null,null,null,null,null,null,"Das Gebäude ist sehr gut für eine zentrale Warmwassersversorgung geeignet.","Lässt sich der Warmwasserspeicher an einem anderen Ort aufstellen, sodass alle Leitungen kürzer als 5 m sind?"]
[null,null,null,null,null,null,null,null,null,null,null,null,null,null,null,null,{"$f":"IF(AND(M53=\"ja\",M56=\"\"),1,0)","v":0},null,null,null,null,null,null,null,"In welchem Raum? In welchem Geschoß?","Wenn sich nicht alle Abnehmer von einem Speicher aus versorgen lassen, sollte dieser so platziert werden, dass vorrangig Waschbecken und Duschen bedient werden können. Bei Badewannen ist aufgrund der großen Entnahmemengen auch eine etwas größere Leitungslänge möglich. Jene Verbraucher die dann nicht sinnvoll vom Speicher aus versorgt werden können müssen dezentral bedient werden.",null,null,null,null,null,null,null,null,null,null,null,null," "]
[null,null,null,null,null,null,null,null,null,null,null,null,null,null,null,null,null,null,null,null,null,null,null,null,null,"In welchem Geschoß und in welchem Raum wird der Warmwasserspeicher am besten aufgestellt (möglichst kurze Leitungslängen, Platzbedarf des Speichers beachten)?",null,null,null,null,null,null,null,null,null,null,null,null,"  "]
[null,null,null,null,null,null,"Raum","Empfehlung / Gewähltes System",null,null,null,null,null,null,null,null,null,null,null,null,null,null,null,null,null,"Welche Räume können vollständig nicht vom Speicher aus versorgt werden?",null,null,null,null,null,null,null,null,null,null,null,null," "]
[null,null,{"$f":"IF(M56=\"ja\",\"\",IF(M56=\"nein\",Z65,\"\"))","v":""},null,null,null,null,{"$f":"IF(G66=\"\",\"\",INDEX(WW_dezentral[gewünscht],MATCH(INDEX(WW_Räume[Typ],MATCH('WW neu'!G66,WW_Räume[Bezeichnung],0)),WW_dezentral[dezentrale \nSysteme])))","v":""},null,null,null,null,null,null,null,null,null,null,null,null,null,null,null,null,null,"Welche einzelnen Verbraucher können nicht vom Speicher aus versorgt werden?"]
[null,null,null,null,null,null,null,null,null,null,null,null,null,null,null,null,null,null,null,null,null,null,null,null,null,null,null,null,null,null,null,null,null,null,null,null,null,null," "]
[]
[null,null,null,null,null,null,null,{"$f":"IF(G69=\"\",\"\",INDEX(WW_dezentral[gewünscht],MATCH(INDEX(WW_Räume[Typ],MATCH('WW neu'!G69,WW_Räume[Bezeichnung],0)),WW_dezentral[dezentrale \nSysteme])))","v":""}]
[]
[]
[null,null,null,null,null,null,null,{"$f":"IF(G72=\"\",\"\",INDEX(WW_dezentral[gewünscht],MATCH(INDEX(WW_Räume[Typ],MATCH('WW neu'!G72,WW_Räume[Bezeichnung],0)),WW_dezentral[dezentrale \nSysteme])))","v":""},null,null,null,null,null,null,null,null,null,null,null,null,null,null,null,null,null,null,null,null,null,null,null,null,null,null,null,null,null,null," "]
[null,null,null,null,null,null,null,null,null,null,null,null,null,null,null,null,null,null,null,null,null,null,null,null,null,null,null,null,null,null,null,null,null,null,null,null,null,null,"  "]
[]
[null,null,null,null,null,null,null,{"$f":"IF(G75=\"\",\"\",INDEX(WW_dezentral[gewünscht],MATCH(INDEX(WW_Räume[Typ],MATCH('WW neu'!G75,WW_Räume[Bezeichnung],0)),WW_dezentral[dezentrale \nSysteme])))","v":""},null,null,null,null,null,null,null,null,null,null,null,null,null,null,null,null,null,null,null,null,null,null,null,null,null,null,null,null,null,null," "]
[null,null,null,null,null,null,null,null,null,null,null,null,null,null,null,null,null,null,null,null,null,null,null,null,null,null,null,null,null,null,null,null,null,null,null,null,null,null," "]
[null,null,null,null,null,null,null,null,null,null,null,null,null,null,null,null,null,null,null,null,null,null,null,null,null,null,null,null,null,null,null,null,null,null,null,null,null,null," "]
[null,null,null,null,null,null,"Verbraucher","Empfehlung / Gewähltes System",null,null,null,null,null,null,null,null,null,null,null,null,null,null,null,null,null,null,null,null,null,null,null,null,null,null,null,null,null,null," "]
[null,null,{"$f":"IF(M56=\"ja\",\"\",IF(M56=\"nein\",Z66,\"\"))","v":""},null,null,null,null,{"$f":"IF(G79=\"Dusche\",INDEX(WW_dezentral[gewünscht],3),IF(G79=\"Waschtisch\",INDEX(WW_dezentral[gewünscht],2),\"\"))","v":""},null,null,null,null,null,null,null,null,null,null,null,null,"Dusche",null,null,null,null,{"$f":"\"Als Energieträger für die zentral erwärmten Teil des Warmwassers kommen der Heizwärmeerzeuger (\" &'WE Auswahl'!E171&\"), eine Photovoltaikanlage in Kombination mit einer Wärmepumpe, ein elektrischer Heizstab oder ein separates Gasbrennwertgerät in Frage\"","v":"Als Energieträger für die zentral erwärmten Teil des Warmwassers kommen der Heizwärmeerzeuger (), eine Photovoltaikanlage in Kombination mit einer Wärmepumpe, ein elektrischer Heizstab oder ein separates Gasbrennwertgerät in Frage"},null,null,null,null,null,null,null,null,null,null,null,null," "]
[null,null,null,null,null,null,null,null,null,null,null,null,null,null,null,null,null,null,null,null,"Waschtisch"]
[]
[null,null,null,null,null,null,null,{"$f":"IF(G82=\"Dusche\",INDEX(WW_dezentral[gewünscht],3),IF(G82=\"Waschtisch\",INDEX(WW_dezentral[gewünscht],2),\"\"))","v":""}]
[]
[]
[null,null,"Mit welchem System soll der zentral erwärmte Teil des Warmwassers erzeugt werden?",null,null,null,"Gewähltes System:"]
[null,null,null,null,null,null,"Zweites System (optional)",null,null,null,null,null,null,null,null,null,null,null,{"$f":"IF(J37=\"ja\",\"Heizwärmeerzeuger (\"&'WE Auswahl'!E171&\")\",\"\")","v":""}]
[null,null,null,null,null,null,"Drittes System (optional)",null,null,null,null,null,null,null,null,null,null,null,{"$f":"IF(R35=2,\"Photovoltaik + Wärmepumpe\",IF(R35=3,\"Solarthermie\",\"\"))","v":{"$error":"#N/A"}}]
[null,null,null,null,null,null,null,null,null,null,null,null,null,null,null,null,null,null,{"$f":"IF(T8=\"hoch\",\"Wärmepumpe\",\"Zusätzliche Wärmepumpe\")","v":{"$error":"#N/A"}}]
[null,null,"Sie haben angegeben, ein dezentrales System anzustreben",null,null,null,null,null,null,null,null,null,null,null,null,null,{"$f":"IF($U$27=2,1,0)","v":{"$error":"#N/A"}},null,"Elektrischer Heizstab"]
[null,null,null,null,null,null,null,null,null,null,null,null,null,null,null,null,null,null,"Gasbrennwertgerät",null,null,null,null,null,"dezentrale \nSysteme","Strom","Gas","gewünscht"]
[null,null,"Raum","Empfehlung",null,null,null,"Gewähltes System",null,null,null,null,null,null,null,null,null,null,null,null,null,null,null,null,"Typ",1,2,{"$f":"IF($H$32=\"Gas\",WW_dezentral[[#This Row],[Gas]],WW_dezentral[[#This Row],[Strom]])","v":1}]
[null,1,{"$f":"IF(INDEX(WW_Räume[WW_Nr],B92)<>0,INDEX(WW_Räume[Bezeichnung],B92),\"\")","v":{"$error":"#N/A"}},{"$f":"IF(C92=\"\",\"\",INDEX(WW_dezentral[gewünscht],MATCH(INDEX(WW_Räume[Typ],MATCH('WW neu'!C92,WW_Räume[Bezeichnung],0)),WW_dezentral[dezentrale \nSysteme])))","v":{"$error":"#N/A"}},null,null,null,null,null,null,null,null,null,null,null,null,null,null,null,null,null,null,null,null,1,"Elektrischer Untertischspeicher oder Elektrischer Durchlauferhitzer","Untertischspeicher mit Gas oder Durchlauferhitzer",{"$f":"IF($H$32=\"Gas\",WW_dezentral[[#This Row],[Gas]],WW_dezentral[[#This Row],[Strom]])","v":"Elektrischer Untertischspeicher oder Elektrischer Durchlauferhitzer"}]
[null,2,{"$f":"IF(INDEX(WW_Räume[WW_Nr],B93)<>0,INDEX(WW_Räume[Bezeichnung],B93),\"\")","v":""},{"$f":"IF(C93=\"\",\"\",INDEX(WW_dezentral[gewünscht],MATCH(INDEX(WW_Räume[Typ],MATCH('WW neu'!C93,WW_Räume[Bezeichnung],0)),WW_dezentral[dezentrale \nSysteme])))","v":""},null,null,null,null,null,null,null,null,null,null,null,null,null,null,null,null,null,null,null,null,2,"Elektrischer Speicher oder elektrischer Druchlauferhitzer (mit Abwasserwärmerückgewinnung)","Speicher mit Gas oder Durchlauferhitzer (mit Abwasserwärmerückgewinnung)",{"$f":"IF($H$32=\"Gas\",WW_dezentral[[#This Row],[Gas]],WW_dezentral[[#This Row],[Strom]])","v":"Elektrischer Speicher oder elektrischer Druchlauferhitzer (mit Abwasserwärmerückgewinnung)"}]
[null,3,{"$f":"IF(INDEX(WW_Räume[WW_Nr],B94)<>0,INDEX(WW_Räume[Bezeichnung],B94),\"\")","v":""},{"$f":"IF(C94=\"\",\"\",INDEX(WW_dezentral[gewünscht],MATCH(INDEX(WW_Räume[Typ],MATCH('WW neu'!C94,WW_Räume[Bezeichnung],0)),WW_dezentral[dezentrale \nSysteme])))","v":""},null,null,null,null,null,null,null,null,null,null,null,null,null,null,null,null,null,null,null,null,3,"Gemeinsamer elektrischer Speicher oder elektrischer Druchlauferhitzer (mit Abwasserwärmerückgewinnung für die Dusche)","Gemeinsamer Gas-Speicher oder Druchlauferhitzer (mit Abwasserwärmerückgewinnung für die Dusche)",{"$f":"IF($H$32=\"Gas\",WW_dezentral[[#This Row],[Gas]],WW_dezentral[[#This Row],[Strom]])","v":"Gemeinsamer elektrischer Speicher oder elektrischer Druchlauferhitzer (mit Abwasserwärmerückgewinnung für die Dusche)"}]
[null,4,{"$f":"IF(INDEX(WW_Räume[WW_Nr],B95)<>0,INDEX(WW_Räume[Bezeichnung],B95),\"\")","v":""},{"$f":"IF(C95=\"\",\"\",INDEX(WW_dezentral[gewünscht],MATCH(INDEX(WW_Räume[Typ],MATCH('WW neu'!C95,WW_Räume[Bezeichnung],0)),WW_dezentral[dezentrale \nSysteme])))","v":""},null,null,null,null,null,null,null,null,null,null,null,null,null,null,null,null,null,null,null,null,4,"Gemeinsamer Speicher mit Strom oder Wärmepumpe (+ Photovoltaik) beheizt","Gemeinsamer Speicher mit Gas beheizt",{"$f":"IF($H$32=\"Gas\",WW_dezentral[[#This Row],[Gas]],WW_dezentral[[#This Row],[Strom]])","v":"Gemeinsamer Speicher mit Strom oder Wärmepumpe (+ Photovoltaik) beheizt"}]
[null,5,{"$f":"IF(INDEX(WW_Räume[WW_Nr],B96)<>0,INDEX(WW_Räume[Bezeichnung],B96),\"\")","v":""},{"$f":"IF(C96=\"\",\"\",INDEX(WW_dezentral[gewünscht],MATCH(INDEX(WW_Räume[Typ],MATCH('WW neu'!C96,WW_Räume[Bezeichnung],0)),WW_dezentral[dezentrale \nSysteme])))","v":""},null,null,null,null,null,null,null,null,null,null,null,null,null,null,null,null,null,null,null,null,5,"Gemeinsamer Speicher mit Strom oder Wärmepumpe (+ Photovoltaik) beheizt, Abwasserwärmerückgewinnung für die Dusche","Gemeinsamer Speicher mit Gas beheizt, Abwasserwärmerückgewinnung für die Dusche",{"$f":"IF($H$32=\"Gas\",WW_dezentral[[#This Row],[Gas]],WW_dezentral[[#This Row],[Strom]])","v":"Gemeinsamer Speicher mit Strom oder Wärmepumpe (+ Photovoltaik) beheizt, Abwasserwärmerückgewinnung für die Dusche"}]
[null,6,{"$f":"IF(INDEX(WW_Räume[WW_Nr],B97)<>0,INDEX(WW_Räume[Bezeichnung],B97),\"\")","v":""},{"$f":"IF(C97=\"\",\"\",INDEX(WW_dezentral[gewünscht],MATCH(INDEX(WW_Räume[Typ],MATCH('WW neu'!C97,WW_Räume[Bezeichnung],0)),WW_dezentral[dezentrale \nSysteme])))","v":""}]
[null,7,{"$f":"IF(INDEX(WW_Räume[WW_Nr],B98)<>0,INDEX(WW_Räume[Bezeichnung],B98),\"\")","v":""},{"$f":"IF(C98=\"\",\"\",INDEX(WW_dezentral[gewünscht],MATCH(INDEX(WW_Räume[Typ],MATCH('WW neu'!C98,WW_Räume[Bezeichnung],0)),WW_dezentral[dezentrale \nSysteme])))","v":""}]
[null,8,{"$f":"IF(INDEX(WW_Räume[WW_Nr],B99)<>0,INDEX(WW_Räume[Bezeichnung],B99),\"\")","v":""},{"$f":"IF(C99=\"\",\"\",INDEX(WW_dezentral[gewünscht],MATCH(INDEX(WW_Räume[Typ],MATCH('WW neu'!C99,WW_Räume[Bezeichnung],0)),WW_dezentral[dezentrale \nSysteme])))","v":""}]
[null,9,{"$f":"IF(INDEX(WW_Räume[WW_Nr],B100)<>0,INDEX(WW_Räume[Bezeichnung],B100),\"\")","v":""},{"$f":"IF(C100=\"\",\"\",INDEX(WW_dezentral[gewünscht],MATCH(INDEX(WW_Räume[Typ],MATCH('WW neu'!C100,WW_Räume[Bezeichnung],0)),WW_dezentral[dezentrale \nSysteme])))","v":""}]
[null,10,{"$f":"IF(INDEX(WW_Räume[WW_Nr],B101)<>0,INDEX(WW_Räume[Bezeichnung],B101),\"\")","v":""},{"$f":"IF(C101=\"\",\"\",INDEX(WW_dezentral[gewünscht],MATCH(INDEX(WW_Räume[Typ],MATCH('WW neu'!C101,WW_Räume[Bezeichnung],0)),WW_dezentral[dezentrale \nSysteme])))","v":""},null,null,null,null,null,null,null,null,null,null,null,null,null,null,null,null,null,null,null,null,1,"Abnehmer mit Leitung > 5m?"]
[null,11,{"$f":"IF(INDEX(WW_Räume[WW_Nr],B102)<>0,INDEX(WW_Räume[Bezeichnung],B102),\"\")","v":""},{"$f":"IF(C102=\"\",\"\",INDEX(WW_dezentral[gewünscht],MATCH(INDEX(WW_Räume[Typ],MATCH('WW neu'!C102,WW_Räume[Bezeichnung],0)),WW_dezentral[dezentrale \nSysteme])))","v":""},null,null,null,null,null,null,null,null,null,null,null,null,null,null,null,null,null,null,null,null,null,"nein: super"]
[null,12,{"$f":"IF(INDEX(WW_Räume[WW_Nr],B103)<>0,INDEX(WW_Räume[Bezeichnung],B103),\"\")","v":""},{"$f":"IF(C103=\"\",\"\",INDEX(WW_dezentral[gewünscht],MATCH(INDEX(WW_Räume[Typ],MATCH('WW neu'!C103,WW_Räume[Bezeichnung],0)),WW_dezentral[dezentrale \nSysteme])))","v":""},null,null,null,null,null,null,null,null,null,null,null,null,null,null,null,null,null,null,null,null,2,"ja:","Problem behebbar durch Speicher anders aufstellen"]
[null,13,{"$f":"IF(INDEX(WW_Räume[WW_Nr],B104)<>0,INDEX(WW_Räume[Bezeichnung],B104),\"\")","v":""},{"$f":"IF(C104=\"\",\"\",INDEX(WW_dezentral[gewünscht],MATCH(INDEX(WW_Räume[Typ],MATCH('WW neu'!C104,WW_Räume[Bezeichnung],0)),WW_dezentral[dezentrale \nSysteme])))","v":""},null,null,null,null,null,null,null,null,null,null,null,null,null,null,null,null,null,null,null,null,null,"ja:","super"]
[null,14,{"$f":"IF(INDEX(WW_Räume[WW_Nr],B105)<>0,INDEX(WW_Räume[Bezeichnung],B105),\"\")","v":""},{"$f":"IF(C105=\"\",\"\",INDEX(WW_dezentral[gewünscht],MATCH(INDEX(WW_Räume[Typ],MATCH('WW neu'!C105,WW_Räume[Bezeichnung],0)),WW_dezentral[dezentrale \nSysteme])))","v":""},null,null,null,null,null,null,null,null,null,null,null,null,null,null,null,null,null,null,null,null,3,"nein: welche","Badewanne","nicht so schlimm"]
[null,15,{"$f":"IF(INDEX(WW_Räume[WW_Nr],B106)<>0,INDEX(WW_Räume[Bezeichnung],B106),\"\")","v":""},{"$f":"IF(C106=\"\",\"\",INDEX(WW_dezentral[gewünscht],MATCH(INDEX(WW_Räume[Typ],MATCH('WW neu'!C106,WW_Räume[Bezeichnung],0)),WW_dezentral[dezentrale \nSysteme])))","v":""},null,null,null,null,null,null,null,null,null,null,null,null,null,null,null,null,null,null,null,null,null,null,"Dusche","AWR "]
[null,null,null,null,null,null,null,null,null,null,null,null,null,null,null,null,null,null,null,null,null,null,null,null,null,null,"Waschbecken","Elektr. Speicher"]
[]
[null,null,"Sie haben angegeben, das bestehende System (vollständig zentral) beibehalten zu wollen",null,null,null,null,null,null,null,null,null,null,null,null,null,{"$f":"IF($U$27=3,1,0)","v":{"$error":"#N/A"}}]
[null,null,null,null,null,null,null,null,null,null,null,null,null,null,null,null,null,null,null,null,null,null,null,null,1,"Waschtisch:","Elektr. Speicher, Durchlauferhitzer"]
[null,null,"In diesem Fall ist die zu klärenden Frage die nach der Art der Wassererwärmung:",null,null,null,null,null,null,null,null,null,null,null,null,null,null,null,null,null,null,null,null,null,null,"Dusche","Elektr. Durchlauferhitzer + AWR "]
[null,null,null,null,null,null,null,null,null,null,null,null,null,null,null,null,null,null,null,null,null,null,null,null,null,"Badewanne:","Speicher, Elektr. (ev. WP) oder Gas"]
[null,null,"Gewähltes System:"]
[null,null,"Zweites System (optional)",null,null,null,null,null,null,null,null,null,null,null,null,null,null,null,null,null,null,null,null,null,null,3]
[null,null,"Drittes System (optional)"]
[]
[]
[null,null,"Sie haben angegeben, das bestehende System (vollständig dezentral) beibehalten zu wollen",null,null,null,null,null,null,null,null,null,null,null,null,null,{"$f":"IF($U$27=4,1,0)","v":{"$error":"#N/A"}}]
[]
[null,null,"Raum","Empfehlung",null,null,null,"Gewähltes System"]
[null,1,{"$f":"IF(INDEX(WW_Räume[WW_Nr],B121)<>0,INDEX(WW_Räume[Bezeichnung],B121),\"\")","v":{"$error":"#N/A"}},{"$f":"IF(C121=\"\",\"\",INDEX(WW_dezentral[gewünscht],MATCH(INDEX(WW_Räume[Typ],MATCH('WW neu'!C121,WW_Räume[Bezeichnung],0)),WW_dezentral[dezentrale \nSysteme])))","v":{"$error":"#N/A"}}]
[null,2,{"$f":"IF(INDEX(WW_Räume[WW_Nr],B122)<>0,INDEX(WW_Räume[Bezeichnung],B122),\"\")","v":""},{"$f":"IF(C122=\"\",\"\",INDEX(WW_dezentral[gewünscht],MATCH(INDEX(WW_Räume[Typ],MATCH('WW neu'!C122,WW_Räume[Bezeichnung],0)),WW_dezentral[dezentrale \nSysteme])))","v":""}]
[null,3,{"$f":"IF(INDEX(WW_Räume[WW_Nr],B123)<>0,INDEX(WW_Räume[Bezeichnung],B123),\"\")","v":""},{"$f":"IF(C123=\"\",\"\",INDEX(WW_dezentral[gewünscht],MATCH(INDEX(WW_Räume[Typ],MATCH('WW neu'!C123,WW_Räume[Bezeichnung],0)),WW_dezentral[dezentrale \nSysteme])))","v":""}]
[null,4,{"$f":"IF(INDEX(WW_Räume[WW_Nr],B124)<>0,INDEX(WW_Räume[Bezeichnung],B124),\"\")","v":""},{"$f":"IF(C124=\"\",\"\",INDEX(WW_dezentral[gewünscht],MATCH(INDEX(WW_Räume[Typ],MATCH('WW neu'!C124,WW_Räume[Bezeichnung],0)),WW_dezentral[dezentrale \nSysteme])))","v":""}]
[null,5,{"$f":"IF(INDEX(WW_Räume[WW_Nr],B125)<>0,INDEX(WW_Räume[Bezeichnung],B125),\"\")","v":""},{"$f":"IF(C125=\"\",\"\",INDEX(WW_dezentral[gewünscht],MATCH(INDEX(WW_Räume[Typ],MATCH('WW neu'!C125,WW_Räume[Bezeichnung],0)),WW_dezentral[dezentrale \nSysteme])))","v":""}]
[null,6,{"$f":"IF(INDEX(WW_Räume[WW_Nr],B126)<>0,INDEX(WW_Räume[Bezeichnung],B126),\"\")","v":""},{"$f":"IF(C126=\"\",\"\",INDEX(WW_dezentral[gewünscht],MATCH(INDEX(WW_Räume[Typ],MATCH('WW neu'!C126,WW_Räume[Bezeichnung],0)),WW_dezentral[dezentrale \nSysteme])))","v":""}]
[null,7,{"$f":"IF(INDEX(WW_Räume[WW_Nr],B127)<>0,INDEX(WW_Räume[Bezeichnung],B127),\"\")","v":""},{"$f":"IF(C127=\"\",\"\",INDEX(WW_dezentral[gewünscht],MATCH(INDEX(WW_Räume[Typ],MATCH('WW neu'!C127,WW_Räume[Bezeichnung],0)),WW_dezentral[dezentrale \nSysteme])))","v":""}]
[null,8,{"$f":"IF(INDEX(WW_Räume[WW_Nr],B128)<>0,INDEX(WW_Räume[Bezeichnung],B128),\"\")","v":""},{"$f":"IF(C128=\"\",\"\",INDEX(WW_dezentral[gewünscht],MATCH(INDEX(WW_Räume[Typ],MATCH('WW neu'!C128,WW_Räume[Bezeichnung],0)),WW_dezentral[dezentrale \nSysteme])))","v":""}]
[null,9,{"$f":"IF(INDEX(WW_Räume[WW_Nr],B129)<>0,INDEX(WW_Räume[Bezeichnung],B129),\"\")","v":""},{"$f":"IF(C129=\"\",\"\",INDEX(WW_dezentral[gewünscht],MATCH(INDEX(WW_Räume[Typ],MATCH('WW neu'!C129,WW_Räume[Bezeichnung],0)),WW_dezentral[dezentrale \nSysteme])))","v":""}]
[null,10,{"$f":"IF(INDEX(WW_Räume[WW_Nr],B130)<>0,INDEX(WW_Räume[Bezeichnung],B130),\"\")","v":""},{"$f":"IF(C130=\"\",\"\",INDEX(WW_dezentral[gewünscht],MATCH(INDEX(WW_Räume[Typ],MATCH('WW neu'!C130,WW_Räume[Bezeichnung],0)),WW_dezentral[dezentrale \nSysteme])))","v":""}]
[null,11,{"$f":"IF(INDEX(WW_Räume[WW_Nr],B131)<>0,INDEX(WW_Räume[Bezeichnung],B131),\"\")","v":""},{"$f":"IF(C131=\"\",\"\",INDEX(WW_dezentral[gewünscht],MATCH(INDEX(WW_Räume[Typ],MATCH('WW neu'!C131,WW_Räume[Bezeichnung],0)),WW_dezentral[dezentrale \nSysteme])))","v":""}]
[null,12,{"$f":"IF(INDEX(WW_Räume[WW_Nr],B132)<>0,INDEX(WW_Räume[Bezeichnung],B132),\"\")","v":""},{"$f":"IF(C132=\"\",\"\",INDEX(WW_dezentral[gewünscht],MATCH(INDEX(WW_Räume[Typ],MATCH('WW neu'!C132,WW_Räume[Bezeichnung],0)),WW_dezentral[dezentrale \nSysteme])))","v":""}]
[null,13,{"$f":"IF(INDEX(WW_Räume[WW_Nr],B133)<>0,INDEX(WW_Räume[Bezeichnung],B133),\"\")","v":""},{"$f":"IF(C133=\"\",\"\",INDEX(WW_dezentral[gewünscht],MATCH(INDEX(WW_Räume[Typ],MATCH('WW neu'!C133,WW_Räume[Bezeichnung],0)),WW_dezentral[dezentrale \nSysteme])))","v":""}]
[null,14,{"$f":"IF(INDEX(WW_Räume[WW_Nr],B134)<>0,INDEX(WW_Räume[Bezeichnung],B134),\"\")","v":""},{"$f":"IF(C134=\"\",\"\",INDEX(WW_dezentral[gewünscht],MATCH(INDEX(WW_Räume[Typ],MATCH('WW neu'!C134,WW_Räume[Bezeichnung],0)),WW_dezentral[dezentrale \nSysteme])))","v":""}]
[null,15,{"$f":"IF(INDEX(WW_Räume[WW_Nr],B135)<>0,INDEX(WW_Räume[Bezeichnung],B135),\"\")","v":""},{"$f":"IF(C135=\"\",\"\",INDEX(WW_dezentral[gewünscht],MATCH(INDEX(WW_Räume[Typ],MATCH('WW neu'!C135,WW_Räume[Bezeichnung],0)),WW_dezentral[dezentrale \nSysteme])))","v":""}]
[]
[]
[null,null,"Sie haben angegeben, das bestehende System (ein Teil zentral, ein Teil dezentral) beibehalten zu wollen",null,null,null,null,null,null,null,null,null,null,null,null,null,{"$f":"IF($U$27=5,1,0)","v":{"$error":"#N/A"}}]
[]
[null,null,"Die erste zu klärenden Frage ist die nach der Art der Wassererwärmung:"]
[]
[]
[null,null,"Gewähltes System:"]
[null,null,"Zweites System (optional)"]
[null,null,"Drittes System (optional)"]
[]
[]
[null,null,"Die zweite Frage betrifft die Wahl der dezentralen Warmwassererzeuger:"]
[]
[null,null,"Raum","Empfehlung",null,null,null,"Gewähltes System"]
[null,1,{"$f":"IF(INDEX(WW_Räume[WW_Nr],B151)<>0,INDEX(WW_Räume[Bezeichnung],B151),\"\")","v":{"$error":"#N/A"}},{"$f":"IF(Q151=\"zentral\",\"--- Raum wird im Bestand zentral versorgt ---\",IF(C151=\"\",\"\",IF(K152=0,IF(C151=\"\",\"\",INDEX(WW_dezentral[gewünscht],MATCH(INDEX(WW_Räume[Typ],MATCH('WW neu'!C151,WW_Räume[Bezeichnung],0)),WW_dezentral[dezentrale \nSysteme]))),\"\")))","v":{"$error":"#N/A"}},null,null,null,null,null,null,null,null,null,null,null,null,{"$f":"IF(C151=\"\",\"\",IF(INDEX(WW_Räume[zentral],MATCH(C151,WW_Räume[Bezeichnung],0))=1,\"zentral\",\"dezentral\"))","v":{"$error":"#N/A"}}]
[null,2,{"$f":"IF(INDEX(WW_Räume[WW_Nr],B152)<>0,INDEX(WW_Räume[Bezeichnung],B152),\"\")","v":""},{"$f":"IF(Q152=\"zentral\",\"--- Raum wird im Bestand zentral versorgt ---\",IF(C152=\"\",\"\",IF(K153=0,IF(C152=\"\",\"\",INDEX(WW_dezentral[gewünscht],MATCH(INDEX(WW_Räume[Typ],MATCH('WW neu'!C152,WW_Räume[Bezeichnung],0)),WW_dezentral[dezentrale \nSysteme]))),\"\")))","v":""},null,null,null,null,null,null,null,null,null,null,null,null,{"$f":"IF(C152=\"\",\"\",IF(INDEX(WW_Räume[zentral],MATCH(C152,WW_Räume[Bezeichnung],0))=1,\"zentral\",\"dezentral\"))","v":""}]
[null,3,{"$f":"IF(INDEX(WW_Räume[WW_Nr],B153)<>0,INDEX(WW_Räume[Bezeichnung],B153),\"\")","v":""},{"$f":"IF(Q153=\"zentral\",\"--- Raum wird im Bestand zentral versorgt ---\",IF(C153=\"\",\"\",IF(K154=0,IF(C153=\"\",\"\",INDEX(WW_dezentral[gewünscht],MATCH(INDEX(WW_Räume[Typ],MATCH('WW neu'!C153,WW_Räume[Bezeichnung],0)),WW_dezentral[dezentrale \nSysteme]))),\"\")))","v":""},null,null,null,null,null,null,null,null,null,null,null,null,{"$f":"IF(C153=\"\",\"\",IF(INDEX(WW_Räume[zentral],MATCH(C153,WW_Räume[Bezeichnung],0))=1,\"zentral\",\"dezentral\"))","v":""}]
[null,4,{"$f":"IF(INDEX(WW_Räume[WW_Nr],B154)<>0,INDEX(WW_Räume[Bezeichnung],B154),\"\")","v":""},{"$f":"IF(Q154=\"zentral\",\"--- Raum wird im Bestand zentral versorgt ---\",IF(C154=\"\",\"\",IF(K155=0,IF(C154=\"\",\"\",INDEX(WW_dezentral[gewünscht],MATCH(INDEX(WW_Räume[Typ],MATCH('WW neu'!C154,WW_Räume[Bezeichnung],0)),WW_dezentral[dezentrale \nSysteme]))),\"\")))","v":""},null,null,null,null,null,null,null,null,null,null,null,null,{"$f":"IF(C154=\"\",\"\",IF(INDEX(WW_Räume[zentral],MATCH(C154,WW_Räume[Bezeichnung],0))=1,\"zentral\",\"dezentral\"))","v":""}]
[null,5,{"$f":"IF(INDEX(WW_Räume[WW_Nr],B155)<>0,INDEX(WW_Räume[Bezeichnung],B155),\"\")","v":""},{"$f":"IF(Q155=\"zentral\",\"--- Raum wird im Bestand zentral versorgt ---\",IF(C155=\"\",\"\",IF(K156=0,IF(C155=\"\",\"\",INDEX(WW_dezentral[gewünscht],MATCH(INDEX(WW_Räume[Typ],MATCH('WW neu'!C155,WW_Räume[Bezeichnung],0)),WW_dezentral[dezentrale \nSysteme]))),\"\")))","v":""},null,null,null,null,null,null,null,null,null,null,null,null,{"$f":"IF(C155=\"\",\"\",IF(INDEX(WW_Räume[zentral],MATCH(C155,WW_Räume[Bezeichnung],0))=1,\"zentral\",\"dezentral\"))","v":""}]
[null,6,{"$f":"IF(INDEX(WW_Räume[WW_Nr],B156)<>0,INDEX(WW_Räume[Bezeichnung],B156),\"\")","v":""},{"$f":"IF(Q156=\"zentral\",\"--- Raum wird im Bestand zentral versorgt ---\",IF(C156=\"\",\"\",IF(K157=0,IF(C156=\"\",\"\",INDEX(WW_dezentral[gewünscht],MATCH(INDEX(WW_Räume[Typ],MATCH('WW neu'!C156,WW_Räume[Bezeichnung],0)),WW_dezentral[dezentrale \nSysteme]))),\"\")))","v":""},null,null,null,null,null,null,null,null,null,null,null,null,{"$f":"IF(C156=\"\",\"\",IF(INDEX(WW_Räume[zentral],MATCH(C156,WW_Räume[Bezeichnung],0))=1,\"zentral\",\"dezentral\"))","v":""}]
[null,7,{"$f":"IF(INDEX(WW_Räume[WW_Nr],B157)<>0,INDEX(WW_Räume[Bezeichnung],B157),\"\")","v":""},{"$f":"IF(Q157=\"zentral\",\"--- Raum wird im Bestand zentral versorgt ---\",IF(C157=\"\",\"\",IF(K158=0,IF(C157=\"\",\"\",INDEX(WW_dezentral[gewünscht],MATCH(INDEX(WW_Räume[Typ],MATCH('WW neu'!C157,WW_Räume[Bezeichnung],0)),WW_dezentral[dezentrale \nSysteme]))),\"\")))","v":""},null,null,null,null,null,null,null,null,null,null,null,null,{"$f":"IF(C157=\"\",\"\",IF(INDEX(WW_Räume[zentral],MATCH(C157,WW_Räume[Bezeichnung],0))=1,\"zentral\",\"dezentral\"))","v":""}]
[null,8,{"$f":"IF(INDEX(WW_Räume[WW_Nr],B158)<>0,INDEX(WW_Räume[Bezeichnung],B158),\"\")","v":""},{"$f":"IF(Q158=\"zentral\",\"--- Raum wird im Bestand zentral versorgt ---\",IF(C158=\"\",\"\",IF(K159=0,IF(C158=\"\",\"\",INDEX(WW_dezentral[gewünscht],MATCH(INDEX(WW_Räume[Typ],MATCH('WW neu'!C158,WW_Räume[Bezeichnung],0)),WW_dezentral[dezentrale \nSysteme]))),\"\")))","v":""},null,null,null,null,null,null,null,null,null,null,null,null,{"$f":"IF(C158=\"\",\"\",IF(INDEX(WW_Räume[zentral],MATCH(C158,WW_Räume[Bezeichnung],0))=1,\"zentral\",\"dezentral\"))","v":""}]
[null,9,{"$f":"IF(INDEX(WW_Räume[WW_Nr],B159)<>0,INDEX(WW_Räume[Bezeichnung],B159),\"\")","v":""},{"$f":"IF(Q159=\"zentral\",\"--- Raum wird im Bestand zentral versorgt ---\",IF(C159=\"\",\"\",IF(K160=0,IF(C159=\"\",\"\",INDEX(WW_dezentral[gewünscht],MATCH(INDEX(WW_Räume[Typ],MATCH('WW neu'!C159,WW_Räume[Bezeichnung],0)),WW_dezentral[dezentrale \nSysteme]))),\"\")))","v":""},null,null,null,null,null,null,null,null,null,null,null,null,{"$f":"IF(C159=\"\",\"\",IF(INDEX(WW_Räume[zentral],MATCH(C159,WW_Räume[Bezeichnung],0))=1,\"zentral\",\"dezentral\"))","v":""}]
[null,10,{"$f":"IF(INDEX(WW_Räume[WW_Nr],B160)<>0,INDEX(WW_Räume[Bezeichnung],B160),\"\")","v":""},{"$f":"IF(Q160=\"zentral\",\"--- Raum wird im Bestand zentral versorgt ---\",IF(C160=\"\",\"\",IF(K161=0,IF(C160=\"\",\"\",INDEX(WW_dezentral[gewünscht],MATCH(INDEX(WW_Räume[Typ],MATCH('WW neu'!C160,WW_Räume[Bezeichnung],0)),WW_dezentral[dezentrale \nSysteme]))),\"\")))","v":""},null,null,null,null,null,null,null,null,null,null,null,null,{"$f":"IF(C160=\"\",\"\",IF(INDEX(WW_Räume[zentral],MATCH(C160,WW_Räume[Bezeichnung],0))=1,\"zentral\",\"dezentral\"))","v":""}]
[null,11,{"$f":"IF(INDEX(WW_Räume[WW_Nr],B161)<>0,INDEX(WW_Räume[Bezeichnung],B161),\"\")","v":""},{"$f":"IF(Q161=\"zentral\",\"--- Raum wird im Bestand zentral versorgt ---\",IF(C161=\"\",\"\",IF(K162=0,IF(C161=\"\",\"\",INDEX(WW_dezentral[gewünscht],MATCH(INDEX(WW_Räume[Typ],MATCH('WW neu'!C161,WW_Räume[Bezeichnung],0)),WW_dezentral[dezentrale \nSysteme]))),\"\")))","v":""},null,null,null,null,null,null,null,null,null,null,null,null,{"$f":"IF(C161=\"\",\"\",IF(INDEX(WW_Räume[zentral],MATCH(C161,WW_Räume[Bezeichnung],0))=1,\"zentral\",\"dezentral\"))","v":""}]
[null,12,{"$f":"IF(INDEX(WW_Räume[WW_Nr],B162)<>0,INDEX(WW_Räume[Bezeichnung],B162),\"\")","v":""},{"$f":"IF(Q162=\"zentral\",\"--- Raum wird im Bestand zentral versorgt ---\",IF(C162=\"\",\"\",IF(K163=0,IF(C162=\"\",\"\",INDEX(WW_dezentral[gewünscht],MATCH(INDEX(WW_Räume[Typ],MATCH('WW neu'!C162,WW_Räume[Bezeichnung],0)),WW_dezentral[dezentrale \nSysteme]))),\"\")))","v":""},null,null,null,null,null,null,null,null,null,null,null,null,{"$f":"IF(C162=\"\",\"\",IF(INDEX(WW_Räume[zentral],MATCH(C162,WW_Räume[Bezeichnung],0))=1,\"zentral\",\"dezentral\"))","v":""}]
[null,13,{"$f":"IF(INDEX(WW_Räume[WW_Nr],B163)<>0,INDEX(WW_Räume[Bezeichnung],B163),\"\")","v":""},{"$f":"IF(Q163=\"zentral\",\"--- Raum wird im Bestand zentral versorgt ---\",IF(C163=\"\",\"\",IF(K164=0,IF(C163=\"\",\"\",INDEX(WW_dezentral[gewünscht],MATCH(INDEX(WW_Räume[Typ],MATCH('WW neu'!C163,WW_Räume[Bezeichnung],0)),WW_dezentral[dezentrale \nSysteme]))),\"\")))","v":""},null,null,null,null,null,null,null,null,null,null,null,null,{"$f":"IF(C163=\"\",\"\",IF(INDEX(WW_Räume[zentral],MATCH(C163,WW_Räume[Bezeichnung],0))=1,\"zentral\",\"dezentral\"))","v":""}]
[null,14,{"$f":"IF(INDEX(WW_Räume[WW_Nr],B164)<>0,INDEX(WW_Räume[Bezeichnung],B164),\"\")","v":""},{"$f":"IF(Q164=\"zentral\",\"--- Raum wird im Bestand zentral versorgt ---\",IF(C164=\"\",\"\",IF(K165=0,IF(C164=\"\",\"\",INDEX(WW_dezentral[gewünscht],MATCH(INDEX(WW_Räume[Typ],MATCH('WW neu'!C164,WW_Räume[Bezeichnung],0)),WW_dezentral[dezentrale \nSysteme]))),\"\")))","v":""},null,null,null,null,null,null,null,null,null,null,null,null,{"$f":"IF(C164=\"\",\"\",IF(INDEX(WW_Räume[zentral],MATCH(C164,WW_Räume[Bezeichnung],0))=1,\"zentral\",\"dezentral\"))","v":""}]
[null,15,{"$f":"IF(INDEX(WW_Räume[WW_Nr],B165)<>0,INDEX(WW_Räume[Bezeichnung],B165),\"\")","v":""},{"$f":"IF(Q165=\"zentral\",\"--- Raum wird im Bestand zentral versorgt ---\",IF(C165=\"\",\"\",IF(K166=0,IF(C165=\"\",\"\",INDEX(WW_dezentral[gewünscht],MATCH(INDEX(WW_Räume[Typ],MATCH('WW neu'!C165,WW_Räume[Bezeichnung],0)),WW_dezentral[dezentrale \nSysteme]))),\"\")))","v":""},null,null,null,null,null,null,null,null,null,null,null,null,{"$f":"IF(C165=\"\",\"\",IF(INDEX(WW_Räume[zentral],MATCH(C165,WW_Räume[Bezeichnung],0))=1,\"zentral\",\"dezentral\"))","v":""}]
[null,null,null,null,null,null,null,null,null,null,null,null,null,null,null,null,{"$f":"IF(C166=\"\",\"\",IF(INDEX(WW_Räume[zentral],MATCH(C166,WW_Räume[Bezeichnung],0))=\"1\",\"dezentral\",\"zentral\"))","v":""},null,null,null,null,null,null,null,1,"Lediglich Frage der Energiebereitstellung"]
[null,null,null,null,null,null,null,null,null,null,null,null,null,null,null,null,null,null,null,null,null,null,null,null,null,"PV + WP (Gas)"]
[]
[]
[null,null,"EINBAUZEITPUNKT"]
[]
[null,null,"Zur Festlegung des Einbauzeitpunktes der neuen Warmwasserbereitung sind zwei Fragen von entscheidender Bedeutung:",null,null,null,null,null,null,null,null,null,null,null,null,null,null,null,null," "]
[null,null,null,null,null,null,null,null,null,null,null,null,null,null,null,null,null,null,null," "]
[null,null,"1.)   Wird der Heizwärmeerzeuger im Bestand oder nach der Sanierung zur Warmwasserbereitung verwendet?",null,null,null,null,null,{"$f":"IF(S179=\"ja\",\"Dies ist im hier der Fall\",\"Dies ist hier nicht der Fall\")","v":"Dies ist hier nicht der Fall"},null,null,null,{"$f":"IF(OR('PV - Solar'!H8=\"\",'PV - Solar'!H27=\"\"),\"Füllen Sie nun bitte das Tabellenblatt PV - Solar aus und kehren Sie dann hierher zurück\",\"\")","v":"Füllen Sie nun bitte das Tabellenblatt PV - Solar aus und kehren Sie dann hierher zurück"},null,null,null,{"$f":"IF(OR('PV - Solar'!H8=\"\",'PV - Solar'!H27=\"\"),1,0)","v":1}]
[null,null,"2.)  Soll eine Photovoltaikanlage mit Wärmepumpe oder eine solarthermische Anlage zur Warmwasserbereitung verwendet werden?",null,null,null,null,null,{"$f":"IF(S180=\"ja\",\"Dies ist im hier der Fall\",IF(S180=\"nein\",\"Dies ist hier nicht der Fall\",\"\"))","v":""}]
[]
[null,null,"Autausch des Wärmeerzeugers:",null,null,{"$f":"'WE Leistung'!AO11","v":0},{"$f":"IF(T179=1,\"Hat jedoch keinen direkten Einfluss\",\"\")","v":"Hat jedoch keinen direkten Einfluss"},null,"Empfohlener Einbauzeitpunkt der Warmwasserbereitung:",null,null,null,null,{"$f":"MIN(IF(T179=0,F177,10000),IF(T180=0,F178,10000))","v":10000}]
[null,null,"Einbau der Photovoltaik bzw. solarthermischen Anlage:",null,null,{"$f":"'PV - Solar'!G44","v":0},{"$f":"IF(T180=1,\"Hat jedoch keinen direkten Einfluss\",\"\")","v":"Hat jedoch keinen direkten Einfluss"},null,null,null,null,null,null,null,null,null,null,null,null,null,null,null,null,null,null,"Waschtisch:","Elektr. Speicher, Durchlauferhitzer"]
[null,null,{"$f":"IF(SUM(T179:T180)=2,\" Der Einbauzeitpunkt der Warmwasserbereitung ist daher von den anderen Komponenten der Gebäudetechnik weitestgehend unabhängig\",\"\")","v":" Der Einbauzeitpunkt der Warmwasserbereitung ist daher von den anderen Komponenten der Gebäudetechnik weitestgehend unabhängig"},null,null,null,null,null,null,null,null,null,null,null,null,null,null,"WE beteiligt?",{"$f":"IF(OR('WE Bestand'!I13=\"ja\",J37=\"ja\"),\"ja\",\"nein\")","v":"nein"},{"$f":"IF(S179=\"ja\",0,1)","v":1},{"$f":"IF(SUM(T179:T180)=2,1,0)","v":1},null,null,null,null,"Dusche","Elektr. Durchlauferhitzer + AWR "]
[null,null,null,null,null,null,null,null,null,null,null,null,null,null,null,null,null,"Solar beteiligt?",{"$f":"IF(OR('PV - Solar'!H8=\"\",'PV - Solar'!H27=\"\"),\"\",IF(OR('PV - Solar'!H8='PV - Solar'!Q7,'PV - Solar'!H8='PV - Solar'!Q8,'PV - Solar'!H27='PV - Solar'!Q27,'PV - Solar'!H27='PV - Solar'!Q28),\"ja\",\"nein\"))","v":""},{"$f":"IF(S180=\"ja\",0,1)","v":1},null,null,null,null,null,"Badewanne:","Speicher, Elektr. (ev. WP) oder Gas"]
[null,null,null,null,null,null,null,null,"Gewählter Einbauzeitpunkt:"]
[null,null,null,null,null,null,null,null,null,null,null,null,null,null,null,null,null,null,null,null,null," "]
[null,null,null,null,null,null,null,null,null,null,null,null,null,null,null,null,null,null,null,null,null,null,null,null,null,"Frage der Energiebereitstellung: PV + WP"]
[]
[null,null,null,null,null,null,null,null,null,null,null,null,null,null,null,null,null,null,null,null,null,null,null,null,null,"Waschtisch:","Elektr. Speicher, Durchlauferhitzer"]
[null,null,null,null,null,null,null,null,null,null,null,null,null,null,null,null,null,null,null,null,null,null,null,null,null,"Dusche","Elektr. Durchlauferhitzer + AWR "]
[null,null,null,null,null,null,null,null,null,null,null,null,null,null,null,null,null,null,null,null,null,null,null,null,null,"Badewanne:","Speicher, Elektr. (ev. WP) oder Gas"]

{"sheet":"PV - Solar","index":14,"n_rows":61,"n_cols":21,"rows_kept":61,"cut":false,"hidden":false,"merged":[[49,2,49,11],[24,2,24,11],[32,5,32,6],[28,15,32,15],[28,2,28,11],[26,7,26,11],[41,6,41,7],[39,6,39,11],[45,10,45,11],[47,6,47,7],[33,2,33,8],[35,2,35,11],[43,6,43,7],[37,6,37,8],[37,3,37,4],[37,10,37,11],[37,15,37,18],[1,1,1,12],[9,2,9,11],[7,7,7,11],[9,15,21,15],[13,2,13,11],[18,2,18,4]]}
[]
[null,"SOLARENERGIENUTZUNG"]
[]
[null,null,"Für Strom, der mit einer Photovoltaikanlage erzeugt wird, bieten sich hier zwei Möglichkeiten:"]
[null,null,"- Kombination mit einer Wärmepumpe zur Warmwasserbereitung",null,null,null,null,null,null,null,null,null,null,null,null,null,null,null,null,null,{"$f":"MATCH(H8,Q7:Q10,0)","v":{"$error":"#N/A"}}]
[null,null,"- Nutzung als Haushaltsstrom (und damit auch indirekt zur Raumheizung mit Wärmepumpe)"]
[null,null,null,null,null,null,null,null,null,null,null,null,null,null,null,null,"ja, zur Warmwasserbereitung und für Haushaltsstrom",null,null,null,"Es soll eine Photovoltaikanlage eingebaut werden die zur Warmwasserbereitung und zur Erzeugung von Haushaltsstrom genutzt werden soll."]
[null,null,"Möchten Sie eine Photovoltaikanlage installieren?",null,null,null,null,null,null,null,null,null,null,null,null,null,"ja, nur zur Warmwasserbereitung",null,null,null,"Es soll eine Photovoltaikanlage eingebaut werden die zur Warmwasserbereitung genutzt werden soll."]
[null,null,null,null,null,null,null,null,null,null,null,null,null,null,null,null,"ja, nur für Haushaltsstrom",null,null,null,"Es soll eine Photovoltaikanlage eingebaut werden die nur zur Erzeugung von Haushaltsstrom genutzt werden soll."]
[null,null,"Die Ermittlung des erzielbaren Ertrags führen Sie am besten im PHPP, im Tabellenblatt \"PV\" durch. \n(Das Ergebnis wird automatisch importiert)",null,null,null,null,null,null,null,null,null,null,null,null,"bedingt ausblenden","nein, keine PV-Anlage erwünscht",null,null,null,"Es wird keine Photovoltaikanlage gewünscht."]
[null,null,"Gesamtkollektorfläche:",null,null,null,null,{"$f":"INDIRECT(ADDRESS(37,8,,,\"[\"&Allgemeines!$E$4&\"]PV\"))+INDIRECT(ADDRESS(37,9,,,\"[\"&Allgemeines!$E$4&\"]PV\"))+INDIRECT(ADDRESS(37,10,,,\"[\"&Allgemeines!$E$4&\"]PV\"))+INDIRECT(ADDRESS(37,11,,,\"[\"&Allgemeines!$E$4&\"]PV\"))+INDIRECT(ADDRESS(37,12,,,\"[\"&Allgemeines!$E$4&\"]PV\"))","v":{"$error":"#REF!"}}]
[null,null,"Jahres-Stromertrag nach Wechselrichter, absolut:",null,null,null,null,{"$f":"INDIRECT(ADDRESS(42,14,,,\"[\"&Allgemeines!$E$4&\"]PV\"))","v":{"$error":"#REF!"}}]
[]
[null,null,"Die Frage nach der optimalen Anlagengröße ist dabei vor allem abhängig vom angestrebten Eigennutzungsgrad des erzeugten Stroms und dem vorhanden Platz.",null,null,null,null,null,null,null,null,null,null,null,{"$f":"IF(LEFT(H8,2)=\"ja\",0,1)","v":1}]
[]
[null,null,"Für die Warmwasserbreitung in Kombination mit einer Wärmepumpe ergibt sich ungefähr folgender Strombedarf:"]
[null,null,"Angenommene Jahresarbeitszahl der Wärmepumpe:"]
[null,null,"Jährlich erforderliche Energie zur Warmwasserbereitung:",null,null,null,null,{"$f":"'WW neu'!E17*365","v":{"$error":"#N/A"}}]
[null,null,"Angestrebter, solar gedeckter Anteil:"]
[]
[]
[null,null,"Jährlicher Strombedarf der Warmwasserwärmepumpe",null,null,null,null,{"$f":"H18/H17*H19","v":{"$error":"#N/A"}}]
[]
[]
[null,null,"Selbstverständlich kann auch Solarthermie zur Energiegewinnung und damit zur Warmwasserbreitung und auch Raumheizung genutzt werden, wenn auch im Vergleich Photovoltaik + Wärmepumpe ungefähr ertragsgleich sind und deutlich flexiblere Lösung darstellen."]
[null,null,null,null,null,null,null,null,null,null,null,null,null,null,null,null,null,null,null,null,{"$f":"MATCH(H27,Q27:Q30,0)","v":{"$error":"#N/A"}}]
[null,null,"Möchten Sie eine solarthermische Anlage installieren?",null,null,null,null,null,null,null,null,null,null,null,null,null,"ja zur Warmwasserbereitung und Heizungsunterstützung",null,null,null,"Es soll eine solarthermische Anlage eingebaut werden die zur Warmwasserbereitung und zur Heizungsunterstützung genutzt werden soll."]
[null,null,null,null,null,null,null,null,null,null,null,null,null,null,null,null,"ja, zur Warmwasserbereitung",null,null,null,"Es soll eine solarthermische Anlage eingebaut werden die zur Warmwasserbereitung genutzt werden soll."]
[null,null,"Die Ermittlung des erzielbaren Ertrags führen Sie am besten im PHPP, im Tabellenblatt \"SolarWW\" durch \n(Das Ergebnis wird automatisch importiert)",null,null,null,null,null,null,null,null,null,null,null,{"$f":"IF(LEFT(H27,2)=\"ja\",0,1)","v":1},"bedingt ausblenden","ja, zur Heizungsunterstützung",null,null,null,"Es soll eine solarthermische Anlage eingebaut werden die nur zur Erzeugung Heizungsunterstützung genutzt werden soll."]
[null,null,"Solarer Wärmebeitrag gesamt",null,null,null,null,{"$f":"INDIRECT(ADDRESS(33,9,,,\"[\"&Allgemeines!$E$4&\"]SolarWW\"))","v":{"$error":"#REF!"}},null,null,null,null,null,null,null,null,"nein, keine solarthermische Anlage erwünscht",null,null,null,"Es wird keine solarthermische Anlage gewünscht."]
[null,null,"Solarer Deckungsbeitrag WW",null,null,null,null,{"$f":"INDIRECT(ADDRESS(34,9,,,\"[\"&Allgemeines!$E$4&\"]SolarWW\"))","v":{"$error":"#REF!"}}]
[null,null,"Solarer Deckungsbeitrag Raumheizung",null,null,null,null,{"$f":"INDIRECT(ADDRESS(35,9,,,\"[\"&Allgemeines!$E$4&\"]SolarWW\"))","v":{"$error":"#REF!"}}]
[]
[null,null,"EINBAUZEITPUNKT UND SPEICHERUNG",null,null,null,null,null,null,null,null,null,null,null,{"$f":"IF(AND(O29=1,O14=1),1,0)","v":1}]
[]
[null,null,"Wann die Photovoltaikanlage bzw. die solarthermische Anlage eingebaut wird hängt in erster Linie von den Wünschen und vom finanziellen Rahmen des Nutzers ab. Grundsätzlich ist der Einbau jederzeit möglich, jedoch ist es sinnvoll damit zumindest bis zum Einbau des neuen Heizwärmeerzeugers zu warten. Die Leistungsspitzen vom neuen Wärmeerzeuger die der Pufferspeicher dann dämpfen muss sind deutlich geringer. Und auch die während der Sanierung kontinuierlich sinkende Heizlast führt dazu, dass ein immer geringeres Volumen im Puffespeicher für den Ausgleich der Heizleistungsspitzen erforderlich ist. Je später im Sanierungsverlauf die Anlage also eingebaut wird, desto besser ist es möglich ein Teilvolumen des schon bestehenden Pufferspeichers zur Speicherung solarer Energie zu nutzen und die Anschaffung eines zweiten Speichers zu umgehen. Steht für die Speicherung der solar gewonnenen Energie ein zu kleines Volumen zur Verfügung, ist es sehr schwer, die Anlage wirtschaftlich zu betreiben.\nDer Einbau eines separaten Speichers führt zwar zu höheren Kosten, die Entscheidung über den Einbauzeitpunkt des PV- bzw. Solaranlage kann dann jedoch weitestgehend unabhängig vom Rest der Gebäudetechnik getroffen werden. Soll die Anlage am Dach montiert werden, ist auch der Zustand des Daches und eine gegebenenfalls geplante dessen Sanierung zu berücksichtigen.\n\nDiese Überlegungen sollten in die Entscheidung für eine bestimmte Pufferspeichergröße einfließen. Passen diese gegebenenfalls noch einmal an."]
[]
[null,null,"Kollektorfläche:",null,null,null,"Richtwert für das Speichervolumen:",null,null,null,{"$f":"D38*O38","v":0},null,null,null,50,"Liter / m² Kollektor - Bohne S.271"]
[]
[null,null,"Wie wollen Sie die gewonnene solare Energie speichern?"]
[]
[null,null,"Wie groß soll der neue Speicher sein?",null,null,null,500]
[]
[null,null,"Wann soll die Anlage eingebaut werden?",null,null,null,null,null,null,null,null,null,null,null,{"$f":"IF(G40=Q45,0,1)","v":1},null,"Verwendung des Heizungspufferspeichers"]
[null,null,null,null,null,null,null,null,null,null,null,null,null,null,null,null,"Einbau eines separaten Speichers "]
[null,null,"Soll zur Speicherung von elektrischer Energie ein Batteriespeicher eingebaut werden?",null,null,null,null,null,null,null,"nein",null,null,null,{"$f":"IF(OR(H8=Q7,H8=Q9),0,1)","v":1},null,{"$f":"IF(OR(H8=Q8,H8=Q10),\"\",\"Kein Warmwasserspeicher erwünscht\")","v":"Kein Warmwasserspeicher erwünscht"}]
[]
[null,null,"Wie groß soll der Speicher sein?",null,null,null,3,null,null,null,null,null,null,null,{"$f":"IF(AND(O46=0,K46=\"ja\"),0,1)","v":1},null,"Für die Speicherung der gewonnenen solaren Energie wird der Pufferspeicher verwendet."]
[null,null,null,null,null,null,null,null,null,null,null,null,null,null,null,null,"Für die Speicherung der gewonnenen solaren Energie wird ein separater Speicher eingebaut."]
[null,null,{"$f":"IF('WW neu'!N181=\"\",\"Gehen Sie nun noch einmal zum Tabellenblatt WW neu zurück und vervollständigen Sie die Angaben im Abschnitt Einbauzeitpunkt\",\"\")","v":"Gehen Sie nun noch einmal zum Tabellenblatt WW neu zurück und vervollständigen Sie die Angaben im Abschnitt Einbauzeitpunkt"},null,null,null,null,null,null,null,null,null,null,null,null,null,{"$f":"IF(O14=0,\"Die gewonnenen solare Energie soll nur als Haushaltsstrom verwendet bzw. ins Netz gespeist werden.\",IF(O14=1,\"\",\"\"))","v":""}]
[]
[null,null,null,null,null,null,null,null,null,null,null,null,null,null,null,null,null,null,1,null,{"$f":"\"Zur Speicherung von elektrischer Energie wird ein Batteriespeicher mit einer Kapazität von \"&G48&\" kWh installiert.\"","v":"Zur Speicherung von elektrischer Energie wird ein Batteriespeicher mit einer Kapazität von 3 kWh installiert."}]
[null,null,null,null,null,null,null,null,null,null,null,null,null,null,null,null,"ja",null,2,null,"Es ist keine Batterie zur Speicherung von elektrischer Energie vorgesehen."]
[null,null,null,null,null,null,null,null,null,null,null,null,null,null,null,null,"nein",null,3]
[null,null,null,null,null,null,null,null,null,null,null,null,null,null,null,null,null,null,4]
[null,null,null,null,null,null,null,null,null,null,null,null,null,null,null,null,null,null,5]
[null,null,null,null,null,null,null,null,null,null,null,null,null,null,null,null,null,null,6]
[null,null,null,null,null,null,null,null,null,null,null,null,null,null,null,null,null,null,7]
[null,null,null,null,null,null,null,null,null,null,null,null,null,null,null,null,null,null,8]
[null,null,null,null,null,null,null,null,null,null,null,null,null,null,null,null,null,null,9]
[null,null,null,null,null,null,null,null,null,null,null,null,null,null,null,null,null,null,10]

{"sheet":"Lüftung System","index":15,"n_rows":131,"n_cols":31,"rows_kept":131,"cut":false,"hidden":false,"merged":[[17,2,18,12],[3,2,3,14],[1,1,1,15],[4,2,4,14],[8,2,10,12],[12,2,15,12],[46,2,46,8],[48,2,48,14],[50,2,50,7],[50,8,50,9],[42,9,42,14],[44,2,44,14]]}
[]
[null,"AUSWAHL DES NEUEN LÜFTUNGSSYSTEMS"]
[]
[null,null,{"$f":"IF(AND('Lüftung Bestand'!F8=\"nein\",'Lüftung Bestand'!F9=\"nein\"),'Lüftung System'!S10,IF(AND('Lüftung Bestand'!F8=\"nein\",'Lüftung Bestand'!F9=\"ja\"),'Lüftung System'!S11,IF(AND('Lüftung Bestand'!F8=\"ja\",'Lüftung Bestand'!F9=\"nein\"),'Lüftung System'!S12,'Lüftung System'!S13)))","v":"Da es im bestehenden Gebäude sowohl Probleme mit Schimmel als auch mit der Luftqualität gibt, sollte ein Zusammenhang der beiden Probleme genauer untersucht werden. Der Einbau einer Lüftungsanlage ist auf jedenfall äußerst sinnvoll!"}]
[null,null,{"$f":"IF(AND('Lüftung Bestand'!F12=\"ja\",'Lüftung Bestand'!F11<1985),'Lüftung System'!S6,IF(AND('Lüftung Bestand'!F12=\"ja\",'Lüftung Bestand'!F11>=1985),'Lüftung System'!S5,\"\"))","v":""},null,null,null,null,null,null,null,null,null,null,null,null,null,null,null,"Dass die bestehenden Fenster innen häufig beschlagen, kann entweder an geringer thermischen Qualität liegen oder angesichts des Alters der Fenster daran, dass Fenster und Gebäudehülle schon ziemlich dicht sind und zufolge der bestehenden Fensterlüftung zu geringe Luftwechselraten erreicht werden um die anfallende Feuchtigkeit abzutransportieren. Auch dies ist ein Hinweis darauf, über eine Lüftungsanlage nachzudenken. ",null,null,null,null,null,null,null,null,null,null,null,"  "]
[null,null,null,null,null,null,null,null,null,null,null,null,null,null,null,null,null,null,"Dass die bestehenden Fenster innen häufig beschlagen, liegt angesichts des Alters der Fenster höchstwahrscheinlich an recht niedriger thermischer Qualität",null,null,null,null,null,null,null,null,null,null,null,"  "]
[null,null,"Der Einbau einer Lüftungsanlage hat zwei wesentliche Vorteile:"]
[]
[null,null,"Um Lüftungsverluste und Bauschäden zu verhindern ist es wichtig die Gebäudehülle möglichst dicht auszuführen. \nDies bedingt ab einem gewissen Zeitpunkt allerdings den Einbau einer Lüftungsanlage, da reine Fensterlüftung den Anforderungen nicht mehr gerecht werden kann. Dieser Zeitpunkt ist spätestens mit dem Einbau neuer Fenster erreicht!"]
[null,null,null,null,null,null,null,null,null,null,null,null,null,null,null,null,null,null,"Im bestehenden Gebäude gibt es im Moment weder Probleme mit Schimmel noch mit der Luftqualität oder Behaglichkeit. Der Einbau einer Lüftungsanlage ist somit zwar aus energetischer Sicht sinnvoll, aus bauphysikalischer Sicht im Moment jedoch nicht zwingend erforderlich.",null,null,null,null,null,null,null,null,null,null,null,"  "]
[null,null,null,null,null,null,null,null,null,null,null,null,null,null,null,null,null,null,"Da es im bestehenden Gebäude Probleme mit der Behaglichkeit bzw. der Luftqualität gibt, sollte in Erwägung gezogen werden möglichst bald eine Lüftungsanlage einzubauen",null,null,null,null,null,null,null,null,null,null,null," "]
[null,null,null,null,null,null,null,null,null,null,null,null,null,null,null,null,null,null,"Da es im bestehenden Gebäude Probleme mit Schimmel, jedoch keine Probleme mit der Luftqualität gibt, liegt der Schluss nahe, dass die Ursache des Schimmelbefalls nicht direkt bei der Raumluft zu suchen ist. Eine Lüftungsanlage kann jedoch trotzdem dazu beitragen die Situation zu verbessern.",null,null,null,null,null,null,null,null,null,null,null," "]
[null,null,"Die technisch einfachste Lösung ist der Einbau einer reinen Zuluft- oder einer reinen Abluftanlage. Die dabei ins Haus geführte Luft hat jedoch grundsätzlich Außentemperatur und muss vorgewärmt werden indem sie z.B. direkt bei einem Radiator in den Raum geführt wird. Bei der Nutzung von Heizungssystemen mit niedrigem Temperaturniveau ist dies nicht so einfach möglich und kann zu Komfoteinbußen führen. Des weiteren geht mit der Abluft auch Raumwärme verloren, welche wieder nachgeheizt werden muss.",null,null,null,null,null,null,null,null,null,null,null,null,null,null,null,"Da es im bestehenden Gebäude sowohl Probleme mit Schimmel als auch mit der Luftqualität gibt, sollte ein Zusammenhang der beiden Probleme genauer untersucht werden. Der Einbau einer Lüftungsanlage ist auf jedenfall äußerst sinnvoll!",null,null,null,null,null,null,null,null,null,null,null," "]
[null,null,null,null,null,null,null,null,null,null,null,null,null,null,null,null,null,null,null,null,null,null,null,null,null,null,null,null,null,null," "]
[null,null,null,null,null,null,null,null,null,null,null,null,null,null,null,null,null,null,{"$f":"IF(AND('Lüftung Bestand'!F8=\"nein\",'Lüftung Bestand'!F9=\"nein\"),1,IF(AND('Lüftung Bestand'!F8=\"nein\",'Lüftung Bestand'!F9=\"ja\"),2,IF(AND('Lüftung Bestand'!F8=\"ja\",'Lüftung Bestand'!F9=\"nein\"),3,4)))","v":4},null,null,null,null,null,null,null,null,null,null,null," "]
[]
[]
[null,null,"Aus diesen Gründen empfiehlt sich bei gut gedämmten Gebäuden auch der Einsatz einer Zu- und Abluftanlage mit Wärmerückgewinnung. Diese kann entweder zentral oder dezentral ausgeführt werden."]
[]
[]
[null,null,"Vorteile einer zentralen Lüftunganlage",null,null,null,null,null,"Nachteile einer zentralen Lüftungsanlage"]
[null,null,"Höhere Luftqualität möglich (vor allem interessant für Allergiker)",null,null,null,null,null,"Bei der Sanierung nicht immer sinnvoll umsetzbar"]
[null,null,"Geringerer Geräuschpegel in den Räumen",null,null,null,null,null,"Erfordert detaillierte Planung"]
[null,null,"Bessere Wärmerückgewinnung, dadurch energieeffizienter",null,null,null,null,null,"keine Einzelraumregelung"]
[null,null,"Deutlich geringerer Wartungsaufwand"]
[]
[]
[null,null,"Vorteile einer dezentralen Lüfungsanlage",null,null,null,null,null,"Nachteile einer dezentralen Lüftungsanlage"]
[null,null,"Gut standardisierbare Lösung",null,null,null,null,null,"Geringere Wärmerückgewinnungsgrade"]
[null,null,"Für Sanierungen gut geeignet",null,null,null,null,null,"Höherer Geräuschpegel (Gerät in jedem Raum)"]
[null,null,"Einzelraumregelung möglich",null,null,null,null,null,"Erheblich größerer Wartungsaufwand"]
[]
[null,null,"Abhängig vom Grundriss und der Raumanordnung lassen sich bei einer dezentralen Lüftungsanlage auch Räume zusammenfassen und so die Anzahl der Geräte reduzieren."]
[]
[null,null,"Wichtige Fragestellungen im Bezug auf den Einbau einer zentralen Lüftungsanlage"]
[]
[null,1,"Gibt es einen zentralen Erschließungsraum in jedem Geschoß?",null,null,null,null,null,null,null,null,null,null,null,null,null,null,null,"ja","Zentrale Lüftungsanlage"]
[null,2,"Lassen die Raumhöhen (besonders) im Erschließungsbereich ein teilweises Abhängen der Decke zu um die Luftkanäle zu führen?",null,null,null,null,null,null,null,null,null,null,null,null,null,null,null,"nein","Dezentrale Lüftungsanlage"]
[null,3,"Gibt es einen geeigneten Platz an dem ein Rohrleitungsschacht über alle Geschoße geführt werden kann?"]
[null,4,"Ist ausreichend Platz zum Aufstellen eines zentralen Lüftungsgeräts vorhanden?"]
[null,5,"Ist der Geräuschpegel eines zentralen Lüftungsgerätes an diesem Platz störend?"]
[]
[null,null,"Welches System wollen Sie unter Berücksichtigung dieser Fragen verwenden?",null,null,null,null,null,null,null,null,null,null,null,null,null,null,null,"Für die Errichtung einer zentralen Lüftungsanlage ist eine detaillierte Planung unumgänglich. Wenden Sie sich diesbezüglich an einen Fachplaner.",null,null,null,null,null,null,null,null,null,null,{"$f":"IF(LEFT(J43,2)=\"ze\",1,0)","v":0}," "]
[null,null,null,null,null,null,null,null,null,null,null,null,null,null,null,null,null,null,"Im nächsten Tabellenblatt können Sie unter Zuhilfenahme der bereitgestellten Hinweise und Vorschläge die Anzahl der Geräte sowie Zuluft-, Abluft- und Überströmungszonen festlegen.",null,null,null,null,null,null,null,null,null,null,null," "]
[null,null,{"$f":"IF(J43=\"\",\"\",IF(MATCH(J43,T37:T38,0)=1,S43,S44))","v":""}]
[]
[null,null,"EINBAUZEITPUNKT"]
[]
[null,null,{"$f":"\"Die Anlage sollte spätestens beim Einbau der neuen Fenster im Jahr \"&Sanierungsschritte!D28&\" installiert werden. Für einen früheren Einbau können Probleme mit Schimmel oder der Luftqualität im Bestand ebenso wie die ab dem Einbau eingesparte Energie sein.\"","v":"Die Anlage sollte spätestens beim Einbau der neuen Fenster im Jahr  installiert werden. Für einen früheren Einbau können Probleme mit Schimmel oder der Luftqualität im Bestand ebenso wie die ab dem Einbau eingesparte Energie sein."}]
[]
[null,null,"Wann möchten Sie die Lüftungsanlage einbauen?"]
[]
[]
[]
[]
[]
[]
[]
[]
[]
[]
[]
[]
[]
[]
[]
[]
[]
[]
[]
[]
[]
[]
[]
[]
[]
[]
[]
[]
[]
[]
[]
[]
[]
[]
[]
[]
[]
[]
[null,null,null,null,null,null,null,null,null,null,null,null,null,null,null,null,null,null,null,{"$f":"IF(T131<MAX(Raumliste[Nummer]),T131+1,\"\")","v":""}]
[null,null,null,null,null,null,null,null,null,null,null,null,null,null,null,null,null,null,null,"Nummer","Geschoß","Raum","Fläche","Volumen","Zu/Abluft",null,null,"ZuAbluft_Definition","Definition","Zuluft","Abluft"]
[null,null,null,null,null,null,null,null,null,null,null,null,null,null,null,null,null,null,null,1,{"$f":"IF($T92=\"\",\"\",INDEX(Raumliste_kompakt[Geschoß],MATCH($T92,Raumliste_kompakt[Nummer])))","v":{"$error":"#N/A"}},{"$f":"IF($T92=\"\",\"\",INDEX(Raumliste_kompakt[Raum],MATCH($T92,Raumliste_kompakt[Nummer])))","v":{"$error":"#N/A"}},{"$f":"IF($T92=\"\",\"\",INDEX(Raumliste_kompakt[Fläche],MATCH($T92,Raumliste_kompakt[Nummer])))","v":{"$error":"#N/A"}},{"$f":"IF($T92=\"\",\"\",W92*IF(U92=\"KG\",RH_KG,IF(U92=\"EG\",RH_EG,IF(U92=\"1.OG\",RH_OG1,IF(U92=\"2.OG\",RH_OG2,RH_DG)))))","v":{"$error":"#N/A"}},{"$f":"IF(ZuAbluft[[#This Row],[Nummer]]=\"\",\"\",INDEX(ZuAbluft_Def[Definition],MATCH(ZuAbluft[[#This Row],[Raum]],ZuAbluft_Def[ZuAbluft_Definition],0)))","v":{"$error":"#N/A"}},null,null,"Heizraum","Z","x",0]
[null,null,null,null,null,null,null,null,null,null,null,null,null,null,null,null,null,null,null,{"$f":"IF(T92<MAX(Raumliste[Nummer]),T92+1,\"\")","v":""},{"$f":"IF($T93=\"\",\"\",INDEX(Raumliste_kompakt[Geschoß],MATCH($T93,Raumliste_kompakt[Nummer])))","v":""},{"$f":"IF($T93=\"\",\"\",INDEX(Raumliste_kompakt[Raum],MATCH($T93,Raumliste_kompakt[Nummer])))","v":""},{"$f":"IF($T93=\"\",\"\",INDEX(Raumliste_kompakt[Fläche],MATCH($T93,Raumliste_kompakt[Nummer])))","v":""},"",{"$f":"IF(ZuAbluft[[#This Row],[Nummer]]=\"\",\"\",INDEX(ZuAbluft_Def[Definition],MATCH(ZuAbluft[[#This Row],[Raum]],ZuAbluft_Def[ZuAbluft_Definition],0)))","v":""},null,null,"Gang / Flur","Ü","x","x"]
[null,null,null,null,null,null,null,null,null,null,null,null,null,null,null,null,null,null,null,{"$f":"IF(T93<MAX(Raumliste[Nummer]),T93+1,\"\")","v":""},{"$f":"IF($T94=\"\",\"\",INDEX(Raumliste_kompakt[Geschoß],MATCH($T94,Raumliste_kompakt[Nummer])))","v":""},{"$f":"IF($T94=\"\",\"\",INDEX(Raumliste_kompakt[Raum],MATCH($T94,Raumliste_kompakt[Nummer])))","v":""},{"$f":"IF($T94=\"\",\"\",INDEX(Raumliste_kompakt[Fläche],MATCH($T94,Raumliste_kompakt[Nummer])))","v":""},"",{"$f":"IF(ZuAbluft[[#This Row],[Nummer]]=\"\",\"\",INDEX(ZuAbluft_Def[Definition],MATCH(ZuAbluft[[#This Row],[Raum]],ZuAbluft_Def[ZuAbluft_Definition],0)))","v":""},null,null,"Gang / Flur / Stgh","Ü","x","x"]
[null,null,null,null,null,null,null,null,null,null,null,null,null,null,null,null,null,null,null,{"$f":"IF(T94<MAX(Raumliste[Nummer]),T94+1,\"\")","v":""},{"$f":"IF($T95=\"\",\"\",INDEX(Raumliste_kompakt[Geschoß],MATCH($T95,Raumliste_kompakt[Nummer])))","v":""},{"$f":"IF($T95=\"\",\"\",INDEX(Raumliste_kompakt[Raum],MATCH($T95,Raumliste_kompakt[Nummer])))","v":""},{"$f":"IF($T95=\"\",\"\",INDEX(Raumliste_kompakt[Fläche],MATCH($T95,Raumliste_kompakt[Nummer])))","v":""},"",{"$f":"IF(ZuAbluft[[#This Row],[Nummer]]=\"\",\"\",INDEX(ZuAbluft_Def[Definition],MATCH(ZuAbluft[[#This Row],[Raum]],ZuAbluft_Def[ZuAbluft_Definition],0)))","v":""},null,null,"Bad","A",0,40]
[null,null,null,null,null,null,null,null,null,null,null,null,null,null,null,null,null,null,null,{"$f":"IF(T95<MAX(Raumliste[Nummer]),T95+1,\"\")","v":""},{"$f":"IF($T96=\"\",\"\",INDEX(Raumliste_kompakt[Geschoß],MATCH($T96,Raumliste_kompakt[Nummer])))","v":""},{"$f":"IF($T96=\"\",\"\",INDEX(Raumliste_kompakt[Raum],MATCH($T96,Raumliste_kompakt[Nummer])))","v":""},{"$f":"IF($T96=\"\",\"\",INDEX(Raumliste_kompakt[Fläche],MATCH($T96,Raumliste_kompakt[Nummer])))","v":""},"",{"$f":"IF(ZuAbluft[[#This Row],[Nummer]]=\"\",\"\",INDEX(ZuAbluft_Def[Definition],MATCH(ZuAbluft[[#This Row],[Raum]],ZuAbluft_Def[ZuAbluft_Definition],0)))","v":""},null,null,"WC","A",0,20]
[null,null,null,null,null,null,null,null,null,null,null,null,null,null,null,null,null,null,null,{"$f":"IF(T96<MAX(Raumliste[Nummer]),T96+1,\"\")","v":""},{"$f":"IF($T97=\"\",\"\",INDEX(Raumliste_kompakt[Geschoß],MATCH($T97,Raumliste_kompakt[Nummer])))","v":""},{"$f":"IF($T97=\"\",\"\",INDEX(Raumliste_kompakt[Raum],MATCH($T97,Raumliste_kompakt[Nummer])))","v":""},{"$f":"IF($T97=\"\",\"\",INDEX(Raumliste_kompakt[Fläche],MATCH($T97,Raumliste_kompakt[Nummer])))","v":""},"",{"$f":"IF(ZuAbluft[[#This Row],[Nummer]]=\"\",\"\",INDEX(ZuAbluft_Def[Definition],MATCH(ZuAbluft[[#This Row],[Raum]],ZuAbluft_Def[ZuAbluft_Definition],0)))","v":""},null,null,"Küche","A",0,60]
[null,null,null,null,null,null,null,null,null,null,null,null,null,null,null,null,null,null,null,{"$f":"IF(T97<MAX(Raumliste[Nummer]),T97+1,\"\")","v":""},{"$f":"IF($T98=\"\",\"\",INDEX(Raumliste_kompakt[Geschoß],MATCH($T98,Raumliste_kompakt[Nummer])))","v":""},{"$f":"IF($T98=\"\",\"\",INDEX(Raumliste_kompakt[Raum],MATCH($T98,Raumliste_kompakt[Nummer])))","v":""},{"$f":"IF($T98=\"\",\"\",INDEX(Raumliste_kompakt[Fläche],MATCH($T98,Raumliste_kompakt[Nummer])))","v":""},"",{"$f":"IF(ZuAbluft[[#This Row],[Nummer]]=\"\",\"\",INDEX(ZuAbluft_Def[Definition],MATCH(ZuAbluft[[#This Row],[Raum]],ZuAbluft_Def[ZuAbluft_Definition],0)))","v":""},null,null,"Esszimmer","Z","x",0]
[null,null,null,null,null,null,null,null,null,null,null,null,null,null,null,null,null,null,null,{"$f":"IF(T98<MAX(Raumliste[Nummer]),T98+1,\"\")","v":""},{"$f":"IF($T99=\"\",\"\",INDEX(Raumliste_kompakt[Geschoß],MATCH($T99,Raumliste_kompakt[Nummer])))","v":""},{"$f":"IF($T99=\"\",\"\",INDEX(Raumliste_kompakt[Raum],MATCH($T99,Raumliste_kompakt[Nummer])))","v":""},{"$f":"IF($T99=\"\",\"\",INDEX(Raumliste_kompakt[Fläche],MATCH($T99,Raumliste_kompakt[Nummer])))","v":""},"",{"$f":"IF(ZuAbluft[[#This Row],[Nummer]]=\"\",\"\",INDEX(ZuAbluft_Def[Definition],MATCH(ZuAbluft[[#This Row],[Raum]],ZuAbluft_Def[ZuAbluft_Definition],0)))","v":""},null,null,"Wohnküche","Z+A",60,60]
[null,null,null,null,null,null,null,null,null,null,null,null,null,null,null,null,null,null,null,{"$f":"IF(T99<MAX(Raumliste[Nummer]),T99+1,\"\")","v":""},{"$f":"IF($T100=\"\",\"\",INDEX(Raumliste_kompakt[Geschoß],MATCH($T100,Raumliste_kompakt[Nummer])))","v":""},{"$f":"IF($T100=\"\",\"\",INDEX(Raumliste_kompakt[Raum],MATCH($T100,Raumliste_kompakt[Nummer])))","v":""},{"$f":"IF($T100=\"\",\"\",INDEX(Raumliste_kompakt[Fläche],MATCH($T100,Raumliste_kompakt[Nummer])))","v":""},"",{"$f":"IF(ZuAbluft[[#This Row],[Nummer]]=\"\",\"\",INDEX(ZuAbluft_Def[Definition],MATCH(ZuAbluft[[#This Row],[Raum]],ZuAbluft_Def[ZuAbluft_Definition],0)))","v":""},null,null,"Wohnzimmer","Z","x",0]
[null,null,null,null,null,null,null,null,null,null,null,null,null,null,null,null,null,null,null,{"$f":"IF(T100<MAX(Raumliste[Nummer]),T100+1,\"\")","v":""},{"$f":"IF($T101=\"\",\"\",INDEX(Raumliste_kompakt[Geschoß],MATCH($T101,Raumliste_kompakt[Nummer])))","v":""},{"$f":"IF($T101=\"\",\"\",INDEX(Raumliste_kompakt[Raum],MATCH($T101,Raumliste_kompakt[Nummer])))","v":""},{"$f":"IF($T101=\"\",\"\",INDEX(Raumliste_kompakt[Fläche],MATCH($T101,Raumliste_kompakt[Nummer])))","v":""},"",{"$f":"IF(ZuAbluft[[#This Row],[Nummer]]=\"\",\"\",INDEX(ZuAbluft_Def[Definition],MATCH(ZuAbluft[[#This Row],[Raum]],ZuAbluft_Def[ZuAbluft_Definition],0)))","v":""},null,null,"Aufenthaltsraum","Z","x",0]
[null,null,null,null,null,null,null,null,null,null,null,null,null,null,null,null,null,null,null,{"$f":"IF(T101<MAX(Raumliste[Nummer]),T101+1,\"\")","v":""},{"$f":"IF($T102=\"\",\"\",INDEX(Raumliste_kompakt[Geschoß],MATCH($T102,Raumliste_kompakt[Nummer])))","v":""},{"$f":"IF($T102=\"\",\"\",INDEX(Raumliste_kompakt[Raum],MATCH($T102,Raumliste_kompakt[Nummer])))","v":""},{"$f":"IF($T102=\"\",\"\",INDEX(Raumliste_kompakt[Fläche],MATCH($T102,Raumliste_kompakt[Nummer])))","v":""},"",{"$f":"IF(ZuAbluft[[#This Row],[Nummer]]=\"\",\"\",INDEX(ZuAbluft_Def[Definition],MATCH(ZuAbluft[[#This Row],[Raum]],ZuAbluft_Def[ZuAbluft_Definition],0)))","v":""},null,null,"Arbeitszimmer","Z","x",0]
[null,null,null,null,null,null,null,null,null,null,null,null,null,null,null,null,null,null,null,{"$f":"IF(T102<MAX(Raumliste[Nummer]),T102+1,\"\")","v":""},{"$f":"IF($T103=\"\",\"\",INDEX(Raumliste_kompakt[Geschoß],MATCH($T103,Raumliste_kompakt[Nummer])))","v":""},{"$f":"IF($T103=\"\",\"\",INDEX(Raumliste_kompakt[Raum],MATCH($T103,Raumliste_kompakt[Nummer])))","v":""},{"$f":"IF($T103=\"\",\"\",INDEX(Raumliste_kompakt[Fläche],MATCH($T103,Raumliste_kompakt[Nummer])))","v":""},"",{"$f":"IF(ZuAbluft[[#This Row],[Nummer]]=\"\",\"\",INDEX(ZuAbluft_Def[Definition],MATCH(ZuAbluft[[#This Row],[Raum]],ZuAbluft_Def[ZuAbluft_Definition],0)))","v":""},null,null,"Schlafzimmer","Z","x",0]
[null,null,null,null,null,null,null,null,null,null,null,null,null,null,null,null,null,null,null,{"$f":"IF(T103<MAX(Raumliste[Nummer]),T103+1,\"\")","v":""},{"$f":"IF($T104=\"\",\"\",INDEX(Raumliste_kompakt[Geschoß],MATCH($T104,Raumliste_kompakt[Nummer])))","v":""},{"$f":"IF($T104=\"\",\"\",INDEX(Raumliste_kompakt[Raum],MATCH($T104,Raumliste_kompakt[Nummer])))","v":""},{"$f":"IF($T104=\"\",\"\",INDEX(Raumliste_kompakt[Fläche],MATCH($T104,Raumliste_kompakt[Nummer])))","v":""},"",{"$f":"IF(ZuAbluft[[#This Row],[Nummer]]=\"\",\"\",INDEX(ZuAbluft_Def[Definition],MATCH(ZuAbluft[[#This Row],[Raum]],ZuAbluft_Def[ZuAbluft_Definition],0)))","v":""},null,null,"Kinderzimmer","Z","x",0]
[null,null,null,null,null,null,null,null,null,null,null,null,null,null,null,null,null,null,null,{"$f":"IF(T104<MAX(Raumliste[Nummer]),T104+1,\"\")","v":""},{"$f":"IF($T105=\"\",\"\",INDEX(Raumliste_kompakt[Geschoß],MATCH($T105,Raumliste_kompakt[Nummer])))","v":""},{"$f":"IF($T105=\"\",\"\",INDEX(Raumliste_kompakt[Raum],MATCH($T105,Raumliste_kompakt[Nummer])))","v":""},{"$f":"IF($T105=\"\",\"\",INDEX(Raumliste_kompakt[Fläche],MATCH($T105,Raumliste_kompakt[Nummer])))","v":""},"",{"$f":"IF(ZuAbluft[[#This Row],[Nummer]]=\"\",\"\",INDEX(ZuAbluft_Def[Definition],MATCH(ZuAbluft[[#This Row],[Raum]],ZuAbluft_Def[ZuAbluft_Definition],0)))","v":""},null,null,"Abstellraum","A",0,"x"]
[null,null,null,null,null,null,null,null,null,null,null,null,null,null,null,null,null,null,null,{"$f":"IF(T105<MAX(Raumliste[Nummer]),T105+1,\"\")","v":""},{"$f":"IF($T106=\"\",\"\",INDEX(Raumliste_kompakt[Geschoß],MATCH($T106,Raumliste_kompakt[Nummer])))","v":""},{"$f":"IF($T106=\"\",\"\",INDEX(Raumliste_kompakt[Raum],MATCH($T106,Raumliste_kompakt[Nummer])))","v":""},{"$f":"IF($T106=\"\",\"\",INDEX(Raumliste_kompakt[Fläche],MATCH($T106,Raumliste_kompakt[Nummer])))","v":""},"",{"$f":"IF(ZuAbluft[[#This Row],[Nummer]]=\"\",\"\",INDEX(ZuAbluft_Def[Definition],MATCH(ZuAbluft[[#This Row],[Raum]],ZuAbluft_Def[ZuAbluft_Definition],0)))","v":""},null,null,"Werkstatt","A",0,"x"]
[null,null,null,null,null,null,null,null,null,null,null,null,null,null,null,null,null,null,null,{"$f":"IF(T106<MAX(Raumliste[Nummer]),T106+1,\"\")","v":""},{"$f":"IF($T107=\"\",\"\",INDEX(Raumliste_kompakt[Geschoß],MATCH($T107,Raumliste_kompakt[Nummer])))","v":""},{"$f":"IF($T107=\"\",\"\",INDEX(Raumliste_kompakt[Raum],MATCH($T107,Raumliste_kompakt[Nummer])))","v":""},{"$f":"IF($T107=\"\",\"\",INDEX(Raumliste_kompakt[Fläche],MATCH($T107,Raumliste_kompakt[Nummer])))","v":""},"",{"$f":"IF(ZuAbluft[[#This Row],[Nummer]]=\"\",\"\",INDEX(ZuAbluft_Def[Definition],MATCH(ZuAbluft[[#This Row],[Raum]],ZuAbluft_Def[ZuAbluft_Definition],0)))","v":""},null,null,"Lager","A (Z)","x","x"]
[null,null,null,null,null,null,null,null,null,null,null,null,null,null,null,null,null,null,null,{"$f":"IF(T107<MAX(Raumliste[Nummer]),T107+1,\"\")","v":""},{"$f":"IF($T108=\"\",\"\",INDEX(Raumliste_kompakt[Geschoß],MATCH($T108,Raumliste_kompakt[Nummer])))","v":""},{"$f":"IF($T108=\"\",\"\",INDEX(Raumliste_kompakt[Raum],MATCH($T108,Raumliste_kompakt[Nummer])))","v":""},{"$f":"IF($T108=\"\",\"\",INDEX(Raumliste_kompakt[Fläche],MATCH($T108,Raumliste_kompakt[Nummer])))","v":""},"",{"$f":"IF(ZuAbluft[[#This Row],[Nummer]]=\"\",\"\",INDEX(ZuAbluft_Def[Definition],MATCH(ZuAbluft[[#This Row],[Raum]],ZuAbluft_Def[ZuAbluft_Definition],0)))","v":""}]
[null,null,null,null,null,null,null,null,null,null,null,null,null,null,null,null,null,null,null,{"$f":"IF(T108<MAX(Raumliste[Nummer]),T108+1,\"\")","v":""},{"$f":"IF($T109=\"\",\"\",INDEX(Raumliste_kompakt[Geschoß],MATCH($T109,Raumliste_kompakt[Nummer])))","v":""},{"$f":"IF($T109=\"\",\"\",INDEX(Raumliste_kompakt[Raum],MATCH($T109,Raumliste_kompakt[Nummer])))","v":""},{"$f":"IF($T109=\"\",\"\",INDEX(Raumliste_kompakt[Fläche],MATCH($T109,Raumliste_kompakt[Nummer])))","v":""},"",{"$f":"IF(ZuAbluft[[#This Row],[Nummer]]=\"\",\"\",INDEX(ZuAbluft_Def[Definition],MATCH(ZuAbluft[[#This Row],[Raum]],ZuAbluft_Def[ZuAbluft_Definition],0)))","v":""}]
[null,null,null,null,null,null,null,null,null,null,null,null,null,null,null,null,null,null,null,{"$f":"IF(T109<MAX(Raumliste[Nummer]),T109+1,\"\")","v":""},{"$f":"IF($T110=\"\",\"\",INDEX(Raumliste_kompakt[Geschoß],MATCH($T110,Raumliste_kompakt[Nummer])))","v":""},{"$f":"IF($T110=\"\",\"\",INDEX(Raumliste_kompakt[Raum],MATCH($T110,Raumliste_kompakt[Nummer])))","v":""},{"$f":"IF($T110=\"\",\"\",INDEX(Raumliste_kompakt[Fläche],MATCH($T110,Raumliste_kompakt[Nummer])))","v":""},"",{"$f":"IF(ZuAbluft[[#This Row],[Nummer]]=\"\",\"\",INDEX(ZuAbluft_Def[Definition],MATCH(ZuAbluft[[#This Row],[Raum]],ZuAbluft_Def[ZuAbluft_Definition],0)))","v":""}]
[null,null,null,null,null,null,null,null,null,null,null,null,null,null,null,null,null,null,null,{"$f":"IF(T110<MAX(Raumliste[Nummer]),T110+1,\"\")","v":""},{"$f":"IF($T111=\"\",\"\",INDEX(Raumliste_kompakt[Geschoß],MATCH($T111,Raumliste_kompakt[Nummer])))","v":""},{"$f":"IF($T111=\"\",\"\",INDEX(Raumliste_kompakt[Raum],MATCH($T111,Raumliste_kompakt[Nummer])))","v":""},{"$f":"IF($T111=\"\",\"\",INDEX(Raumliste_kompakt[Fläche],MATCH($T111,Raumliste_kompakt[Nummer])))","v":""},"",{"$f":"IF(ZuAbluft[[#This Row],[Nummer]]=\"\",\"\",INDEX(ZuAbluft_Def[Definition],MATCH(ZuAbluft[[#This Row],[Raum]],ZuAbluft_Def[ZuAbluft_Definition],0)))","v":""}]
[null,null,null,null,null,null,null,null,null,null,null,null,null,null,null,null,null,null,null,{"$f":"IF(T111<MAX(Raumliste[Nummer]),T111+1,\"\")","v":""},{"$f":"IF($T112=\"\",\"\",INDEX(Raumliste_kompakt[Geschoß],MATCH($T112,Raumliste_kompakt[Nummer])))","v":""},{"$f":"IF($T112=\"\",\"\",INDEX(Raumliste_kompakt[Raum],MATCH($T112,Raumliste_kompakt[Nummer])))","v":""},{"$f":"IF($T112=\"\",\"\",INDEX(Raumliste_kompakt[Fläche],MATCH($T112,Raumliste_kompakt[Nummer])))","v":""},"",{"$f":"IF(ZuAbluft[[#This Row],[Nummer]]=\"\",\"\",INDEX(ZuAbluft_Def[Definition],MATCH(ZuAbluft[[#This Row],[Raum]],ZuAbluft_Def[ZuAbluft_Definition],0)))","v":""}]
[null,null,null,null,null,null,null,null,null,null,null,null,null,null,null,null,null,null,null,{"$f":"IF(T112<MAX(Raumliste[Nummer]),T112+1,\"\")","v":""},{"$f":"IF($T113=\"\",\"\",INDEX(Raumliste_kompakt[Geschoß],MATCH($T113,Raumliste_kompakt[Nummer])))","v":""},{"$f":"IF($T113=\"\",\"\",INDEX(Raumliste_kompakt[Raum],MATCH($T113,Raumliste_kompakt[Nummer])))","v":""},{"$f":"IF($T113=\"\",\"\",INDEX(Raumliste_kompakt[Fläche],MATCH($T113,Raumliste_kompakt[Nummer])))","v":""},"",{"$f":"IF(ZuAbluft[[#This Row],[Nummer]]=\"\",\"\",INDEX(ZuAbluft_Def[Definition],MATCH(ZuAbluft[[#This Row],[Raum]],ZuAbluft_Def[ZuAbluft_Definition],0)))","v":""}]
[null,null,null,null,null,null,null,null,null,null,null,null,null,null,null,null,null,null,null,{"$f":"IF(T113<MAX(Raumliste[Nummer]),T113+1,\"\")","v":""},{"$f":"IF($T114=\"\",\"\",INDEX(Raumliste_kompakt[Geschoß],MATCH($T114,Raumliste_kompakt[Nummer])))","v":""},{"$f":"IF($T114=\"\",\"\",INDEX(Raumliste_kompakt[Raum],MATCH($T114,Raumliste_kompakt[Nummer])))","v":""},{"$f":"IF($T114=\"\",\"\",INDEX(Raumliste_kompakt[Fläche],MATCH($T114,Raumliste_kompakt[Nummer])))","v":""},"",{"$f":"IF(ZuAbluft[[#This Row],[Nummer]]=\"\",\"\",INDEX(ZuAbluft_Def[Definition],MATCH(ZuAbluft[[#This Row],[Raum]],ZuAbluft_Def[ZuAbluft_Definition],0)))","v":""}]
[null,null,null,null,null,null,null,null,null,null,null,null,null,null,null,null,null,null,null,{"$f":"IF(T114<MAX(Raumliste[Nummer]),T114+1,\"\")","v":""},{"$f":"IF($T115=\"\",\"\",INDEX(Raumliste_kompakt[Geschoß],MATCH($T115,Raumliste_kompakt[Nummer])))","v":""},{"$f":"IF($T115=\"\",\"\",INDEX(Raumliste_kompakt[Raum],MATCH($T115,Raumliste_kompakt[Nummer])))","v":""},{"$f":"IF($T115=\"\",\"\",INDEX(Raumliste_kompakt[Fläche],MATCH($T115,Raumliste_kompakt[Nummer])))","v":""},"",{"$f":"IF(ZuAbluft[[#This Row],[Nummer]]=\"\",\"\",INDEX(ZuAbluft_Def[Definition],MATCH(ZuAbluft[[#This Row],[Raum]],ZuAbluft_Def[ZuAbluft_Definition],0)))","v":""}]
[null,null,null,null,null,null,null,null,null,null,null,null,null,null,null,null,null,null,null,{"$f":"IF(T115<MAX(Raumliste[Nummer]),T115+1,\"\")","v":""},{"$f":"IF($T116=\"\",\"\",INDEX(Raumliste_kompakt[Geschoß],MATCH($T116,Raumliste_kompakt[Nummer])))","v":""},{"$f":"IF($T116=\"\",\"\",INDEX(Raumliste_kompakt[Raum],MATCH($T116,Raumliste_kompakt[Nummer])))","v":""},{"$f":"IF($T116=\"\",\"\",INDEX(Raumliste_kompakt[Fläche],MATCH($T116,Raumliste_kompakt[Nummer])))","v":""},"",{"$f":"IF(ZuAbluft[[#This Row],[Nummer]]=\"\",\"\",INDEX(ZuAbluft_Def[Definition],MATCH(ZuAbluft[[#This Row],[Raum]],ZuAbluft_Def[ZuAbluft_Definition],0)))","v":""}]
[null,null,null,null,null,null,null,null,null,null,null,null,null,null,null,null,null,null,null,{"$f":"IF(T116<MAX(Raumliste[Nummer]),T116+1,\"\")","v":""},{"$f":"IF($T117=\"\",\"\",INDEX(Raumliste_kompakt[Geschoß],MATCH($T117,Raumliste_kompakt[Nummer])))","v":""},{"$f":"IF($T117=\"\",\"\",INDEX(Raumliste_kompakt[Raum],MATCH($T117,Raumliste_kompakt[Nummer])))","v":""},{"$f":"IF($T117=\"\",\"\",INDEX(Raumliste_kompakt[Fläche],MATCH($T117,Raumliste_kompakt[Nummer])))","v":""},"",{"$f":"IF(ZuAbluft[[#This Row],[Nummer]]=\"\",\"\",INDEX(ZuAbluft_Def[Definition],MATCH(ZuAbluft[[#This Row],[Raum]],ZuAbluft_Def[ZuAbluft_Definition],0)))","v":""}]
[null,null,null,null,null,null,null,null,null,null,null,null,null,null,null,null,null,null,null,{"$f":"IF(T117<MAX(Raumliste[Nummer]),T117+1,\"\")","v":""},{"$f":"IF($T118=\"\",\"\",INDEX(Raumliste_kompakt[Geschoß],MATCH($T118,Raumliste_kompakt[Nummer])))","v":""},{"$f":"IF($T118=\"\",\"\",INDEX(Raumliste_kompakt[Raum],MATCH($T118,Raumliste_kompakt[Nummer])))","v":""},{"$f":"IF($T118=\"\",\"\",INDEX(Raumliste_kompakt[Fläche],MATCH($T118,Raumliste_kompakt[Nummer])))","v":""},"",{"$f":"IF(ZuAbluft[[#This Row],[Nummer]]=\"\",\"\",INDEX(ZuAbluft_Def[Definition],MATCH(ZuAbluft[[#This Row],[Raum]],ZuAbluft_Def[ZuAbluft_Definition],0)))","v":""}]
[null,null,null,null,null,null,null,null,null,null,null,null,null,null,null,null,null,null,null,{"$f":"IF(T118<MAX(Raumliste[Nummer]),T118+1,\"\")","v":""},{"$f":"IF($T119=\"\",\"\",INDEX(Raumliste_kompakt[Geschoß],MATCH($T119,Raumliste_kompakt[Nummer])))","v":""},{"$f":"IF($T119=\"\",\"\",INDEX(Raumliste_kompakt[Raum],MATCH($T119,Raumliste_kompakt[Nummer])))","v":""},{"$f":"IF($T119=\"\",\"\",INDEX(Raumliste_kompakt[Fläche],MATCH($T119,Raumliste_kompakt[Nummer])))","v":""},"",{"$f":"IF(ZuAbluft[[#This Row],[Nummer]]=\"\",\"\",INDEX(ZuAbluft_Def[Definition],MATCH(ZuAbluft[[#This Row],[Raum]],ZuAbluft_Def[ZuAbluft_Definition],0)))","v":""}]
[null,null,null,null,null,null,null,null,null,null,null,null,null,null,null,null,null,null,null,{"$f":"IF(T119<MAX(Raumliste[Nummer]),T119+1,\"\")","v":""},{"$f":"IF($T120=\"\",\"\",INDEX(Raumliste_kompakt[Geschoß],MATCH($T120,Raumliste_kompakt[Nummer])))","v":""},{"$f":"IF($T120=\"\",\"\",INDEX(Raumliste_kompakt[Raum],MATCH($T120,Raumliste_kompakt[Nummer])))","v":""},{"$f":"IF($T120=\"\",\"\",INDEX(Raumliste_kompakt[Fläche],MATCH($T120,Raumliste_kompakt[Nummer])))","v":""},"",{"$f":"IF(ZuAbluft[[#This Row],[Nummer]]=\"\",\"\",INDEX(ZuAbluft_Def[Definition],MATCH(ZuAbluft[[#This Row],[Raum]],ZuAbluft_Def[ZuAbluft_Definition],0)))","v":""}]
[null,null,null,null,null,null,null,null,null,null,null,null,null,null,null,null,null,null,null,{"$f":"IF(T120<MAX(Raumliste[Nummer]),T120+1,\"\")","v":""},{"$f":"IF($T121=\"\",\"\",INDEX(Raumliste_kompakt[Geschoß],MATCH($T121,Raumliste_kompakt[Nummer])))","v":""},{"$f":"IF($T121=\"\",\"\",INDEX(Raumliste_kompakt[Raum],MATCH($T121,Raumliste_kompakt[Nummer])))","v":""},{"$f":"IF($T121=\"\",\"\",INDEX(Raumliste_kompakt[Fläche],MATCH($T121,Raumliste_kompakt[Nummer])))","v":""},"",{"$f":"IF(ZuAbluft[[#This Row],[Nummer]]=\"\",\"\",INDEX(ZuAbluft_Def[Definition],MATCH(ZuAbluft[[#This Row],[Raum]],ZuAbluft_Def[ZuAbluft_Definition],0)))","v":""}]
[null,null,null,null,null,null,null,null,null,null,null,null,null,null,null,null,null,null,null,{"$f":"IF(T121<MAX(Raumliste[Nummer]),T121+1,\"\")","v":""},{"$f":"IF($T122=\"\",\"\",INDEX(Raumliste_kompakt[Geschoß],MATCH($T122,Raumliste_kompakt[Nummer])))","v":""},{"$f":"IF($T122=\"\",\"\",INDEX(Raumliste_kompakt[Raum],MATCH($T122,Raumliste_kompakt[Nummer])))","v":""},{"$f":"IF($T122=\"\",\"\",INDEX(Raumliste_kompakt[Fläche],MATCH($T122,Raumliste_kompakt[Nummer])))","v":""},"",{"$f":"IF(ZuAbluft[[#This Row],[Nummer]]=\"\",\"\",INDEX(ZuAbluft_Def[Definition],MATCH(ZuAbluft[[#This Row],[Raum]],ZuAbluft_Def[ZuAbluft_Definition],0)))","v":""}]
[null,null,null,null,null,null,null,null,null,null,null,null,null,null,null,null,null,null,null,{"$f":"IF(T122<MAX(Raumliste[Nummer]),T122+1,\"\")","v":""},{"$f":"IF($T123=\"\",\"\",INDEX(Raumliste_kompakt[Geschoß],MATCH($T123,Raumliste_kompakt[Nummer])))","v":""},{"$f":"IF($T123=\"\",\"\",INDEX(Raumliste_kompakt[Raum],MATCH($T123,Raumliste_kompakt[Nummer])))","v":""},{"$f":"IF($T123=\"\",\"\",INDEX(Raumliste_kompakt[Fläche],MATCH($T123,Raumliste_kompakt[Nummer])))","v":""},"",{"$f":"IF(ZuAbluft[[#This Row],[Nummer]]=\"\",\"\",INDEX(ZuAbluft_Def[Definition],MATCH(ZuAbluft[[#This Row],[Raum]],ZuAbluft_Def[ZuAbluft_Definition],0)))","v":""}]
[null,null,null,null,null,null,null,null,null,null,null,null,null,null,null,null,null,null,null,{"$f":"IF(T123<MAX(Raumliste[Nummer]),T123+1,\"\")","v":""},{"$f":"IF($T124=\"\",\"\",INDEX(Raumliste_kompakt[Geschoß],MATCH($T124,Raumliste_kompakt[Nummer])))","v":""},{"$f":"IF($T124=\"\",\"\",INDEX(Raumliste_kompakt[Raum],MATCH($T124,Raumliste_kompakt[Nummer])))","v":""},{"$f":"IF($T124=\"\",\"\",INDEX(Raumliste_kompakt[Fläche],MATCH($T124,Raumliste_kompakt[Nummer])))","v":""},"",{"$f":"IF(ZuAbluft[[#This Row],[Nummer]]=\"\",\"\",INDEX(ZuAbluft_Def[Definition],MATCH(ZuAbluft[[#This Row],[Raum]],ZuAbluft_Def[ZuAbluft_Definition],0)))","v":""}]
[null,null,null,null,null,null,null,null,null,null,null,null,null,null,null,null,null,null,null,{"$f":"IF(T124<MAX(Raumliste[Nummer]),T124+1,\"\")","v":""},{"$f":"IF($T125=\"\",\"\",INDEX(Raumliste_kompakt[Geschoß],MATCH($T125,Raumliste_kompakt[Nummer])))","v":""},{"$f":"IF($T125=\"\",\"\",INDEX(Raumliste_kompakt[Raum],MATCH($T125,Raumliste_kompakt[Nummer])))","v":""},{"$f":"IF($T125=\"\",\"\",INDEX(Raumliste_kompakt[Fläche],MATCH($T125,Raumliste_kompakt[Nummer])))","v":""},"",{"$f":"IF(ZuAbluft[[#This Row],[Nummer]]=\"\",\"\",INDEX(ZuAbluft_Def[Definition],MATCH(ZuAbluft[[#This Row],[Raum]],ZuAbluft_Def[ZuAbluft_Definition],0)))","v":""}]
[null,null,null,null,null,null,null,null,null,null,null,null,null,null,null,null,null,null,null,{"$f":"IF(T125<MAX(Raumliste[Nummer]),T125+1,\"\")","v":""},{"$f":"IF($T126=\"\",\"\",INDEX(Raumliste_kompakt[Geschoß],MATCH($T126,Raumliste_kompakt[Nummer])))","v":""},{"$f":"IF($T126=\"\",\"\",INDEX(Raumliste_kompakt[Raum],MATCH($T126,Raumliste_kompakt[Nummer])))","v":""},{"$f":"IF($T126=\"\",\"\",INDEX(Raumliste_kompakt[Fläche],MATCH($T126,Raumliste_kompakt[Nummer])))","v":""},"",{"$f":"IF(ZuAbluft[[#This Row],[Nummer]]=\"\",\"\",INDEX(ZuAbluft_Def[Definition],MATCH(ZuAbluft[[#This Row],[Raum]],ZuAbluft_Def[ZuAbluft_Definition],0)))","v":""}]
[null,null,null,null,null,null,null,null,null,null,null,null,null,null,null,null,null,null,null,{"$f":"IF(T126<MAX(Raumliste[Nummer]),T126+1,\"\")","v":""},{"$f":"IF($T127=\"\",\"\",INDEX(Raumliste_kompakt[Geschoß],MATCH($T127,Raumliste_kompakt[Nummer])))","v":""},{"$f":"IF($T127=\"\",\"\",INDEX(Raumliste_kompakt[Raum],MATCH($T127,Raumliste_kompakt[Nummer])))","v":""},{"$f":"IF($T127=\"\",\"\",INDEX(Raumliste_kompakt[Fläche],MATCH($T127,Raumliste_kompakt[Nummer])))","v":""},"",{"$f":"IF(ZuAbluft[[#This Row],[Nummer]]=\"\",\"\",INDEX(ZuAbluft_Def[Definition],MATCH(ZuAbluft[[#This Row],[Raum]],ZuAbluft_Def[ZuAbluft_Definition],0)))","v":""}]
[null,null,null,null,null,null,null,null,null,null,null,null,null,null,null,null,null,null,null,{"$f":"IF(T127<MAX(Raumliste[Nummer]),T127+1,\"\")","v":""},{"$f":"IF($T128=\"\",\"\",INDEX(Raumliste_kompakt[Geschoß],MATCH($T128,Raumliste_kompakt[Nummer])))","v":""},{"$f":"IF($T128=\"\",\"\",INDEX(Raumliste_kompakt[Raum],MATCH($T128,Raumliste_kompakt[Nummer])))","v":""},{"$f":"IF($T128=\"\",\"\",INDEX(Raumliste_kompakt[Fläche],MATCH($T128,Raumliste_kompakt[Nummer])))","v":""},"",{"$f":"IF(ZuAbluft[[#This Row],[Nummer]]=\"\",\"\",INDEX(ZuAbluft_Def[Definition],MATCH(ZuAbluft[[#This Row],[Raum]],ZuAbluft_Def[ZuAbluft_Definition],0)))","v":""}]
[null,null,null,null,null,null,null,null,null,null,null,null,null,null,null,null,null,null,null,{"$f":"IF(T128<MAX(Raumliste[Nummer]),T128+1,\"\")","v":""},{"$f":"IF($T129=\"\",\"\",INDEX(Raumliste_kompakt[Geschoß],MATCH($T129,Raumliste_kompakt[Nummer])))","v":""},{"$f":"IF($T129=\"\",\"\",INDEX(Raumliste_kompakt[Raum],MATCH($T129,Raumliste_kompakt[Nummer])))","v":""},{"$f":"IF($T129=\"\",\"\",INDEX(Raumliste_kompakt[Fläche],MATCH($T129,Raumliste_kompakt[Nummer])))","v":""},"",{"$f":"IF(ZuAbluft[[#This Row],[Nummer]]=\"\",\"\",INDEX(ZuAbluft_Def[Definition],MATCH(ZuAbluft[[#This Row],[Raum]],ZuAbluft_Def[ZuAbluft_Definition],0)))","v":""}]
[null,null,null,null,null,null,null,null,null,null,null,null,null,null,null,null,null,null,null,{"$f":"IF(T129<MAX(Raumliste[Nummer]),T129+1,\"\")","v":""},{"$f":"IF($T130=\"\",\"\",INDEX(Raumliste_kompakt[Geschoß],MATCH($T130,Raumliste_kompakt[Nummer])))","v":""},{"$f":"IF($T130=\"\",\"\",INDEX(Raumliste_kompakt[Raum],MATCH($T130,Raumliste_kompakt[Nummer])))","v":""},{"$f":"IF($T130=\"\",\"\",INDEX(Raumliste_kompakt[Fläche],MATCH($T130,Raumliste_kompakt[Nummer])))","v":""},"",{"$f":"IF(ZuAbluft[[#This Row],[Nummer]]=\"\",\"\",INDEX(ZuAbluft_Def[Definition],MATCH(ZuAbluft[[#This Row],[Raum]],ZuAbluft_Def[ZuAbluft_Definition],0)))","v":""}]
[null,null,null,null,null,null,null,null,null,null,null,null,null,null,null,null,null,null,null,{"$f":"IF(T130<MAX(Raumliste[Nummer]),T130+1,\"\")","v":""},{"$f":"IF($T131=\"\",\"\",INDEX(Raumliste_kompakt[Geschoß],MATCH($T131,Raumliste_kompakt[Nummer])))","v":""},{"$f":"IF($T131=\"\",\"\",INDEX(Raumliste_kompakt[Raum],MATCH($T131,Raumliste_kompakt[Nummer])))","v":""},{"$f":"IF($T131=\"\",\"\",INDEX(Raumliste_kompakt[Fläche],MATCH($T131,Raumliste_kompakt[Nummer])))","v":""},"",{"$f":"IF(ZuAbluft[[#This Row],[Nummer]]=\"\",\"\",INDEX(ZuAbluft_Def[Definition],MATCH(ZuAbluft[[#This Row],[Raum]],ZuAbluft_Def[ZuAbluft_Definition],0)))","v":""}]

{"sheet":"Lüftung AbZuluft","index":16,"n_rows":106,"n_cols":71,"rows_kept":106,"cut":false,"hidden":false,"merged":[[18,15,18,30],[19,26,19,29],[65,7,65,8],[66,7,66,8],[65,12,65,13],[66,12,66,13],[67,12,67,13],[68,12,68,13],[69,12,69,13],[70,12,70,13],[20,26,20,29],[67,7,67,8],[68,7,68,8],[69,7,69,8],[28,18,28,24],[39,18,39,24],[40,18,40,24],[41,18,41,24],[42,18,42,24],[43,18,43,24],[25,26,25,29],[26,26,26,29],[27,26,27,29],[28,26,28,29],[91,7,91,8],[92,7,92,8],[93,7,93,8],[72,15,72,16],[73,15,73,16],[74,15,74,16],[75,15,75,16],[47,18,47,24],[48,18,48,24],[79,7,79,8],[80,7,80,8],[81,7,81,8],[79,12,79,13],[80,12,80,13],[82,7,82,8],[70,7,70,8],[71,7,71,8],[72,7,72,8],[73,7,73,8],[74,7,74,8],[75,7,75,8],[76,7,76,8],[77,7,77,8],[78,7,78,8],[103,15,103,16],[29,18,29,24],[30,18,30,24],[31,18,31,24],[32,18,32,24],[37,18,37,24],[67,22,67,26],[68,22,68,26],[69,22,70,26],[52,18,52,24],[53,18,53,24],[44,18,44,24],[45,18,45,24],[46,18,46,24],[76,15,76,16],[67,15,67,16],[68,15,68,16],[69,15,69,16],[70,15,70,16],[71,15,71,16],[77,15,77,16],[78,15,78,16],[79,15,79,16],[80,15,80,16],[3,2,3,6],[7,2,7,3],[8,2,8,3],[9,2,9,3],[1,1,1,24],[10,2,10,4],[3,8,3,14],[13,15,13,16],[6,2,6,3],[12,2,12,4],[13,2,13,4],[5,5,5,6],[19,56,19,59],[49,18,49,24],[50,18,50,24],[51,18,51,24],[38,18,38,24],[44,26,44,29],[45,26,45,29],[46,26,46,29],[47,26,47,29],[48,26,48,29],[39,26,39,29],[40,26,40,29],[41,26,41,29],[42,26,42,29],[43,26,43,29],[33,31,33,34],[34,31,34,34],[35,31,35,34],[36,31,36,34],[48,31,48,34],[43,31,43,34],[44,31,44,34],[24,18,24,24],[25,18,25,24],[46,31,46,34],[35,26,35,29],[36,26,36,29],[29,26,29,29],[54,31,54,34],[55,31,55,34],[49,26,49,29],[50,26,50,29],[51,26,51,29],[52,26,52,29],[53,26,53,29],[53,31,53,34],[49,31,49,34],[50,31,50,34],[51,31,51,34],[52,31,52,34],[54,26,54,29],[55,26,55,29],[47,31,47,34],[38,31,38,34],[39,31,39,34],[40,31,40,34],[41,31,41,34],[20,18,20,24],[20,31,20,34],[21,18,21,24],[22,18,22,24],[23,18,23,24],[26,18,26,24],[27,18,27,24],[32,31,32,34],[28,31,28,34],[29,31,29,34],[21,31,21,34],[22,31,22,34],[23,31,23,34],[24,31,24,34],[25,31,25,34],[21,26,21,29],[22,26,22,29],[23,26,23,29],[24,26,24,29],[31,31,31,34],[16,52,19,55],[16,45,19,45],[65,15,65,16],[66,15,66,16],[15,2,15,20],[17,2,17,20],[16,48,19,49],[16,50,19,51],[30,31,30,34],[54,18,54,24],[55,18,55,24],[30,26,30,29],[31,26,31,29],[32,26,32,29],[33,26,33,29],[34,26,34,29],[33,18,33,24],[34,18,34,24],[35,18,35,24],[36,18,36,24],[27,31,27,34],[19,8,19,12],[19,17,19,24],[42,31,42,34],[19,31,19,34],[89,9,89,11],[83,7,83,8],[84,7,84,8],[85,7,85,8],[86,7,86,8],[87,7,87,8],[88,7,88,8],[71,12,71,13],[72,12,72,13],[73,12,73,13],[74,12,74,13],[75,12,75,13],[76,12,76,13],[77,12,77,13],[78,12,78,13],[89,7,89,8],[87,12,87,13],[81,15,81,16],[26,31,26,34],[37,31,37,34],[38,26,38,29],[37,26,37,29],[45,31,45,34],[90,12,90,13],[81,12,81,13],[82,12,82,13],[93,9,93,11],[94,9,94,11],[100,7,100,8],[101,7,101,8],[102,7,102,8],[103,7,103,8],[83,12,83,13],[84,12,84,13],[88,12,88,13],[89,12,89,13],[102,12,102,13],[85,12,85,13],[86,12,86,13],[91,12,91,13],[90,7,90,8],[83,9,83,11],[84,9,84,11],[85,9,85,11],[86,9,86,11],[87,9,87,11],[88,9,88,11],[104,7,104,8],[94,7,94,8],[95,7,95,8],[96,7,96,8],[97,7,97,8],[98,7,98,8],[99,7,99,8],[95,9,95,11],[96,9,96,11],[97,9,97,11],[98,9,98,11],[100,9,100,11],[101,9,101,11],[102,9,102,11],[103,9,103,11],[104,9,104,11],[99,9,99,11],[105,9,105,11],[99,12,99,13],[105,7,105,8],[65,9,65,11],[66,9,66,11],[67,9,67,11],[68,9,68,11],[69,9,69,11],[70,9,70,11],[71,9,71,11],[72,9,72,11],[73,9,73,11],[74,9,74,11],[75,9,75,11],[76,9,76,11],[77,9,77,11],[78,9,78,11],[79,9,79,11],[80,9,80,11],[81,9,81,11],[82,9,82,11],[90,9,90,11],[91,9,91,11],[92,9,92,11],[104,15,104,16],[105,15,105,16],[96,15,96,16],[97,15,97,16],[98,15,98,16],[99,15,99,16],[100,15,100,16],[91,15,91,16],[97,12,97,13],[98,12,98,13],[92,15,92,16],[93,15,93,16],[94,15,94,16],[95,15,95,16],[103,12,103,13],[104,12,104,13],[105,12,105,13],[92,12,92,13],[93,12,93,13],[94,12,94,13],[95,12,95,13],[96,12,96,13],[100,12,100,13],[101,12,101,13],[101,15,101,16],[102,15,102,16],[86,15,86,16],[87,15,87,16],[88,15,88,16],[89,15,89,16],[90,15,90,16],[82,15,82,16],[83,15,83,16],[84,15,84,16],[85,15,85,16]]}
[]
[null,"DIMENSIONIERUNG DER NEUEN LÜFTUNGSANLAGE"]
[]
[null,null,"Ablufträume",null,null,null,null,null,"Frischluftbedarf",null,null,null,null,null,null,null,null,null,"Hygienischer Mindestluftwechsel",null,null,null,null,null,null,null,null,null,null,null,null,null,null,null,null,null,null,null,null,null,null,null,null,"Frage ob dezentrales oder zentrales System  - zum bedingten Ausblenden"]
[null,null,null,null,null,null,null,null,null,null,null,null,null,null,null,null,null,null,null,null,null,null,null,null,null,null,null,null,null,null,null,null,null,null,null,null,null,null,null,null,"Z",null,null,{"$f":"IF(LEFT('Lüftung System'!J43,2)=\"De\",0,1)","v":1}]
[null,null,null,null,"Anzahl ","Abluftbedarf [m³/h]",null,null,null,"Anzahl Personen:",null,null,null,null,{"$f":"'Lüftung Bestand'!F6","v":0},null,null,null,"Raumvolumen gesamt:",null,{"$f":"Beschreibung!D37*RH_KG+Beschreibung!H37*RH_EG+Beschreibung!K37*RH_OG1+Beschreibung!N37*RH_OG2+Beschreibung!Q37*RH_DG","v":0},null,null,null,null,null,null,null,null,null,null,null,null,null,null,null,null,null,null,null,"Ü"]
[null,null,"Küche",null,{"$f":"COUNTIF(Raumliste_kompakt[Raum],\"Wohnküche\")+COUNTIF(Raumliste_kompakt[Raum],\"Küche\")","v":0},60,{"$f":"IF(E7=\"\",\"\",E7*F7)","v":0},null,null,null,null,null,null,null,null,null,null,null,"Mindestluftwechsel [1/h]",null,0.3,null,null,null,null,null,null,null,null,null,null,null,null,null,null,null,null,null,null,null,"A"]
[null,null,"Bad",null,{"$f":"COUNTIF(WW_Räume[Typ],4)+COUNTIF(WW_Räume[Typ],5)","v":0},40,{"$f":"IF(E8=\"\",\"\",E8*F8)","v":0},null,null,"Bedarf pro Person:",null,null,null,null,30,null,null,null,null,null,null,null,null,null,null,null,null,null,null,null,null,null,null,null,null,null,null,null,null,null,"Z + A"]
[null,null,"Bad (nur Dusche)",null,{"$f":"COUNTIF(WW_Räume[Typ],2)+COUNTIF(WW_Räume[Typ],3)","v":0},20,{"$f":"IF(E9=\"\",\"\",E9*F9)","v":0},null,null,null,null,null,null,null,null,null,null,null,null,null,null,null,null,null,null,null,null,null,null,null,null,null,null,null,null,null,null,null,null,null,"P"]
[null,null,"WC",null,{"$f":"COUNTIF(Raumliste_kompakt[Raum],\"WC\")","v":0},20,{"$f":"IF(E10=\"\",\"\",E10*F10)","v":0}]
[null,null,"Abluftbedarf gesamt",null,null,null,{"$f":"IF(G7=\"\",\"\",SUM(G7:G10))","v":0},null,null,"Frischluftbedarf gesamt",null,null,null,null,{"$f":"O6*O8","v":0},null,null,null,"Hygienischer Luftwechsel",null,{"$f":"U6*U7","v":0}]
[]
[null,null,"Auslegungsvolumenstrom, Empfehlung:",null,null,{"$f":"MAX(G11,O11,U11)","v":0},null,null,null,null,null,null,null,null,null,null,null,null,null,null,null,null,null,null,null,null,null,null,null,null,null,null,null,null,null,null,null,null,null,null,{"$f":"IF(F13=G11,1,IF(F13=O11,2,3))","v":1},"Maßgebendes Kriterium  für Auslegungsvolumenstrom"]
[null,null,"Auslegungsvolumenstrom, gewählt:",null,null,null,null,null,null,"Gewünschte Mindestluftwechselrate"]
[]
[null,null,"Die einfachste Lösung ist, in jedem Raum ein eigenes Lüftungsgeröt zu installieren (Z+A). Dies hat zwar den Vorteil, dass sich jeder Raum individuell regeln lässt, allerdings steigen mit der Anzahl der Geräte natürlich auch die Investitions- und Wartungskosten. \n\nDaher ist es erstrebenswert, wo möglich, Räume sinnvoll zusammenzufassen und mit einem Gerät mehr als einen Raum zu versorgen. Dabei sollte das Lüftungsgerät in dem Raum aufgestellt werden in dem es weniger stört (v.a. im Hinblick auf den Geräuschpegel - meist im Abluftraum). Der zweite Raum wird dann durch einen Lüftungskanal mit dem Gerät verbunden. Die Länge und der Verlauf des Kanals sind die Kriterien nach denen entschieden wird ob ein Zusammenschluss sinnvoll ist.\nDie Luft kann entweder direkt durch eine Öffnung in der gemeinsamen Wand überströmen , durch eine Öffnung in einer dazwischenliegenden Tür (dabei jeweils den Schallschutz beachten) oder indirekt über den gemeinsamen Erschließungsraum. Diese Variante ist zu bevorzugen, da somit auch der Erschließungsraum mit Luft versorgt wird der Schallschutz leichter gewährleistet werden kann.\n\nSollte es in einem Erschließungsraum tatsächlich nicht möglich sein, ihn als Überströmzone mit Luft zu versorgen, kann ein eigenes Gerät mit Lüftungskanälen nach außen eingebaut werden. Alternativ können auch in zwei Räumen, die beide an den Erschließungsraum grenzen, Pendellüfter installiert werden.\n\nEinzelne, abgelegene Räume können lüftungstechnisch auch mittels aktiver Überströmung an einen anderen Raum angebunden werden. Die beiden Räume werden dann lüftungstechnisch wie ein einziger behandelt.\n\nNeben den hier automatisch generierten Vorschlägen für stockwerksweises Zusammenfassen von Räumen, kann es durchaus auch sehr sinnvoll sein, übereinander liegende Räume zusammenzufassen. Ob dies möglich ist, hängt einerseits wieder von der dazu erforderlichen Leitungsführung ab und andererseits, ob die Luft über Erschließungsraum und das Stiegenhaus frei strömen kann (keine Türen)."]
[null,null,null,null,null,null,null,null,null,null,null,null,null,null,null,null,null,null,null,null,null,null,null,null,null,null,null,null,null,null,null,null,null,null,null,null,null,null,null,null,null,null,null,null,null,"Erschließungs-raum",null,null,"A)  \nAbluft- + \nSonstiger Raum",null,"B)  \nKaskade \nSchlafen/\nAufenthalt",null,"C)  \nErweiterete \nKaskade"]
[null,null,"In der folgenden Tabelle können Sie den einzelnen Räumen zuweisen, ob es sich um Zu- und / oder Abluftzonen bzw. eine Überstömzone handelt. Räume die mit dem selben Gerät versorgt werden, müssen dabei mit der gleichen Gerätenummer markiert werden. "]
[null,null,null,null,null,null,null,null,null,null,null,null,null,null,null,"Hinweis:   Die hier automatisch generierten Vorschläge können, abhängig vom tatsächlichen Grundriss sowie hier nicht erfasster Randbedingungen, sinnvoll oder nicht sinnvoll sein. Dies ist jeweils im Einzelfall zu entscheiden.\n             Die Anzahl der möglichen Kombinationen ist, besonders wenn man auch stockwerkübergreifend denkt, sehr hoch. In keinster Weise kann daher bei den Vorschlägen Anspruch auf Vollständigkeit erhoben werden!",null,null,null,null,null,null,null,null,null,null,null,null,null,null,null,null,null,null,null,null,null,null,null,null,null,null,null,null,null,null,null,null,null,null,null,null,null,null,null,null,"A1","A2","B","C","A1","A2","B","C",null,"Vorschläge"]
[null,null,"Nr","Geschoß","Raum","Empfehlung","Gerät Nr.","Zone","wenn mehrere Geräte",null,null,null,null,null,null,"Nr","Geschoß","Vorschläge",null,null,null,null,null,null,null,{"$f":"IF(COUNTIF(AA21:AA56,\"\")=36,\"\",\"Nr\")","v":"Nr"},{"$f":"IF(COUNTIF(AA21:AA56,\"\")=36,\"\",\"Vorschläge\")","v":"Vorschläge"},null,null,null,{"$f":"IF(COUNTIF(AF21:AF56,\"\")=36,\"\",\"Nr\")","v":"Nr"},{"$f":"IF(COUNTIF(AF21:AF56,\"\")=36,\"\",\"Vorschläge\")","v":"Vorschläge"},null,null,null,null,null,"mehrere",null,"Gerät ","Abluft-bedarf","Luftraum","maßgebend","Abluft\nfix","WW-Raumtyp",null,"Zuluft","Abluft",null,null,null,null,null,null,null,null,"Zum Hervorheben",null,null,null,null,null,null,null,null,"C","B","A1","A2","AnzahlVorschläge","Nummer"]
[null,null,1,{"$f":"IF(C21=\"\",\"\",INDEX(Raumliste_kompakt[Geschoß],MATCH(C21,Raumliste_kompakt[Nummer])))","v":{"$error":"#N/A"}},{"$f":"IF(C21=\"\",\"\",INDEX(Raumliste_kompakt[Raum],MATCH(C21,Raumliste_kompakt[Nummer])))","v":{"$error":"#N/A"}},{"$f":"IF(C21=\"\",\"\",INDEX(ZuAbluft_Def[Definition],MATCH('Lüftung AbZuluft'!E21,ZuAbluft_Def[ZuAbluft_Definition],0)))","v":{"$error":"#N/A"}},null,null,null,null,null,null,null,{"$f":"IF(AND(G21=\"mehrere\",I21=\"\",J21=\"\",K21=\"\",L21=\"\",M21=\"\"),\"Bitte ausfüllen\",\"\")","v":""},null,{"$f":"IF(MAX(Lüftungsvorschläge[Nummer])>0,1,\"\")","v":1},{"$f":"IF(P21=\"\",\"\",INDEX(Raumliste_kompakt[Geschoß],MATCH(P21,Lüftungsvorschläge[Nummer],0)))","v":{"$error":"#N/A"}},{"$f":"IF(AND(P21<>\"\",AA21<>\"\"),\"1.)\",\"\")","v":{"$error":"#N/A"}},{"$f":"IF(P21=\"\",\"\",IF(INDEX(Lüftungsvorschläge[C],MATCH(P21,Lüftungsvorschläge[Nummer],0))<>\"\",INDEX(Lüftungsvorschläge[C],MATCH(P21,Lüftungsvorschläge[Nummer],0)),IF(INDEX(Lüftungsvorschläge[B],MATCH(P21,Lüftungsvorschläge[Nummer],0))<>\"\",INDEX(Lüftungsvorschläge[B],MATCH(P21,Lüftungsvorschläge[Nummer],0)),IF(INDEX(Lüftungsvorschläge[A1],MATCH(P21,Lüftungsvorschläge[Nummer],0))<>\"\",INDEX(Lüftungsvorschläge[A1],MATCH(P21,Lüftungsvorschläge[Nummer],0)),IF(INDEX(Lüftungsvorschläge[A2],MATCH(P21,Lüftungsvorschläge[Nummer],0))<>\"\",INDEX(Lüftungsvorschläge[A2],MATCH(P21,Lüftungsvorschläge[Nummer],0)),\"\")))))","v":{"$error":"#N/A"}},null,null,null,null,null,null,{"$f":"IF(AA21=\"\",\"\",\"2.)\")","v":{"$error":"#N/A"}},{"$f":"IF(P21=\"\",\"\",IF(AND(INDEX(Lüftungsvorschläge[B],MATCH(P21,Lüftungsvorschläge[Nummer],0))<>\"\",INDEX(Lüftungsvorschläge[B],MATCH(P21,Lüftungsvorschläge[Nummer],0))<>S21),INDEX(Lüftungsvorschläge[B],MATCH(P21,Lüftungsvorschläge[Nummer],0)),IF(AND(INDEX(Lüftungsvorschläge[A1],MATCH(P21,Lüftungsvorschläge[Nummer],0))<>\"\",INDEX(Lüftungsvorschläge[A1],MATCH(P21,Lüftungsvorschläge[Nummer],0))<>S21),INDEX(Lüftungsvorschläge[A1],MATCH(P21,Lüftungsvorschläge[Nummer],0)),IF(AND(INDEX(Lüftungsvorschläge[A2],MATCH(P21,Lüftungsvorschläge[Nummer],0))<>\"\",INDEX(Lüftungsvorschläge[A2],MATCH(P21,Lüftungsvorschläge[Nummer],0))<>S21),INDEX(Lüftungsvorschläge[A2],MATCH(P21,Lüftungsvorschläge[Nummer],0)),\"\" ))))","v":{"$error":"#N/A"}},null,null,null,{"$f":"IF(AF21=\"\",\"\",\"3.)\")","v":{"$error":"#N/A"}},{"$f":"IF(P21=\"\",\"\",IF(AND(INDEX(Lüftungsvorschläge[A1],MATCH(P21,Lüftungsvorschläge[Nummer],0))<>\"\",INDEX(Lüftungsvorschläge[A1],MATCH(P21,Lüftungsvorschläge[Nummer],0))<>AA21,INDEX(Lüftungsvorschläge[A1],MATCH(P21,Lüftungsvorschläge[Nummer],0))<>S21),INDEX(Lüftungsvorschläge[A1],MATCH(P21,Lüftungsvorschläge[Nummer],0)),IF(AND(INDEX(Lüftungsvorschläge[A2],MATCH(P21,Lüftungsvorschläge[Nummer],0))<>\"\",INDEX(Lüftungsvorschläge[A2],MATCH(P21,Lüftungsvorschläge[Nummer],0))<>AA21,INDEX(Lüftungsvorschläge[A2],MATCH(P21,Lüftungsvorschläge[Nummer],0))<>S21),INDEX(Lüftungsvorschläge[A2],MATCH(P21,Lüftungsvorschläge[Nummer],0)),\"\")))","v":{"$error":"#N/A"}},null,null,null,null,null,{"$f":"C21","v":1},null,1,{"$f":"SUMIF($G$21:$G$61,AN21,$AR$21:$AR$61)","v":0},{"$f":"IF(AN21=\"\",\"\",SUMIF($G$21:$G$61,AN21,$G$67:$G$106))","v":0},{"$f":"IF(AN21=\"\",\"\",MAX(AO21,AP21*$P$14))","v":0},{"$f":"IF(C21=\"\",\"\",IF(OR(INDEX(Raumliste_kompakt[Raum],C21)=\"Küche\",INDEX(Raumliste_kompakt[Raum],C21)=\"Wohnküche\"),60,IF(ISNUMBER(AS21),IF(OR(AS21=2,AS21=3),20,IF(OR(AS21=4,AS21=5),40,0)),0)))","v":{"$error":"#N/A"}},{"$f":"IF(COUNTIF(WW_Räume[Raumnr.],'Lüftung AbZuluft'!C21)=0,\"-\",INDEX(WW_Räume[Typ],MATCH('Lüftung AbZuluft'!C21,WW_Räume[Raumnr.],0)))","v":"-"},1,{"$f":"IF(E21=\"\",\"\",IF(INDEX(ZuAbluft_Def[Zuluft],MATCH('Lüftung AbZuluft'!$E21,ZuAbluft_Def[ZuAbluft_Definition],0))<>\"x\",INDEX(ZuAbluft_Def[Zuluft],MATCH('Lüftung AbZuluft'!$E21,ZuAbluft_Def[ZuAbluft_Definition],0)),\"?\"))","v":{"$error":"#N/A"}},{"$f":"IF(OR(AS21=2,AS21=3),$F$9,IF(OR(AS21=4,AS21=5),$F$8,IF(E21=\"\",\"\",IF(INDEX(ZuAbluft_Def[Abluft],MATCH('Lüftung AbZuluft'!$E21,ZuAbluft_Def[ZuAbluft_Definition],0))<>\"x\",INDEX(ZuAbluft_Def[Abluft],MATCH('Lüftung AbZuluft'!$E21,ZuAbluft_Def[ZuAbluft_Definition],0)),\"?\"))))","v":{"$error":"#N/A"}},{"$f":"IF(D21<>D22,\"-\",IF(AS21=\"\",\"\",IF(AND(OR(E21=\"Bad\",E21=\"WC\",E21=\"Küche\",E21=\"Abstellraum\",E21=\"Werkstatt\",E21=\"Lager\"),AU22=\"?\"),1,\"-\")))","v":{"$error":"#N/A"}},{"$f":"IF(D21<>D20,\"-\",IF(AS21=\"\",\"\",IF(AND(OR(E21=\"Bad\",E21=\"WC\",E21=\"Küche\",E21=\"Abstellraum\",E21=\"Werkstatt\",E21=\"Lager\"),AU20=\"?\"),1,\"-\")))","v":{"$error":"#N/A"}},{"$f":"IF(D21<>D22,\"-\",IF(AS21=\"\",\"\",IF(AND(OR(E21=\"Schlafzimmer\"),OR(E22=\"Wohnzimmer\",E22=\"Arbeitszimmer\",E22=\"Aufenthaltsraum\")),1,\"-\")))","v":{"$error":"#N/A"}},{"$f":"IF(D21<>D20,\"-\",IF(AS21=\"\",\"\",IF(AND(OR(E21=\"Schlafzimmer\"),OR(E20=\"Wohnzimmer\",E20=\"Arbeitszimmer\",E20=\"Aufenthaltsraum\")),1,\"-\")))","v":{"$error":"#N/A"}},{"$f":"IF(AND(D21=D20,D21=D22),IF(AS21=\"\",\"\",IF(AND(OR(E21=\"Wohnzimmer\",E21=\"Aufenthaltsraum\",E21=\"Arbeitszimmer\"),OR(E22=\"Bad\",E22=\"WC\",E22=\"Küche\",E22=\"Abstellraum\"),E20=\"Schlafzimmer\"),1,\"-\")),\"-\")","v":{"$error":"#N/A"}},{"$f":"IF(AND(D21=D20,D21=D22),IF(AS21=\"\",\"\",IF(AND(OR(E20=\"Wohnzimmer\",E20=\"Aufenthaltsraum\",E20=\"Arbeitszimmer\"),OR(E22=\"Bad\",E22=\"WC\",E22=\"Küche\",E22=\"Abstellraum\"),E21=\"Schlafzimmer\"),1,\"-\")),\"-\")","v":{"$error":"#N/A"}},{"$f":"IF(AND(D21=D20,D21=D22),IF(AS21=\"\",\"\",IF(AND(OR(E21=\"Wohnzimmer\",E21=\"Aufenthaltsraum\",E21=\"Arbeitszimmer\"),OR(E20=\"Bad\",E20=\"WC\",E20=\"Küche\",E20=\"Abstellraum\"),E22=\"Schlafzimmer\"),1,\"-\")),\"-\")","v":{"$error":"#N/A"}},{"$f":"IF(AND(D21=D20,D21=D22),IF(AS21=\"\",\"\",IF(AND(OR(E22=\"Wohnzimmer\",E22=\"Aufenthaltsraum\",E22=\"Arbeitszimmer\"),OR(E20=\"Bad\",E20=\"WC\",E20=\"Küche\",E20=\"Abstellraum\"),E21=\"Schlafzimmer\"),1,\"-\")),\"-\")","v":{"$error":"#N/A"}},{"$f":"IF(AW21=1,1,\"\")","v":{"$error":"#N/A"}},{"$f":"IF(OR(AX21=1,AX22=1),1,\"\")","v":{"$error":"#N/A"}},{"$f":"IF(OR(AY21=1,AZ21=1,AZ22=1,AY17=1),1,\"\")","v":{"$error":"#N/A"}},null,{"$f":"IF(AW21=1,1,\"\")","v":{"$error":"#N/A"}},{"$f":"IF(AX21=1,1,\"\")","v":{"$error":"#N/A"}},{"$f":"IF(OR(AY21=1,AZ21=1),1,\"\")","v":{"$error":"#N/A"}},{"$f":"IF(OR(BA21=1,BB21=1,BC21=1,BD21=1),1,\"\")","v":{"$error":"#N/A"}},null,{"$f":"IF(D21=\"\",\"\",IF(BA21=1,\"Erweiterte Kaskadenlüftung: Zuluft - \"&E20&\", Überströmbereich - \"&E21&\", Abluft - \"&E22,IF(BB21=1,\"Erweiterte Kaskadenlüftung: Zuluft - \"&E20&\", Überströmbereich - \"&E21&\", Abluft - \"&E22,IF(BC21=1,\"Erweiterte Kaskadenlüftung: Zuluft - \"&E22&\", Überströmbereich - \"&E21&\", Abluft - \"&E20,IF(BD21=1,\"Erweiterte Kaskadenlüftung: Zuluft - \"&E22&\", Überströmbereich - \"&E21&\", Abluft - \"&E20,\"\")))))","v":{"$error":"#N/A"}},{"$f":"IF(D21=\"\",\"\",IF(AY21=1,\"Kaskadenlüftung: Zuluft - \"&E21&\", Abluft - \"&E20,IF(AZ21=1,\"Kaskadenlüftung: Zuluft - \"&E21&\", Abluft - \"&E20,\"\")))","v":{"$error":"#N/A"}},{"$f":"IF(D21=\"\",\"\",IF(AW21=1,\"Räume zusammenfassen: Zuluft - \"&E22&\", Abluft - \"&E21,\"\"))","v":{"$error":"#N/A"}},{"$f":"IF(D21=\"\",\"\",IF(AX21=1,\"Räume zusammenfassen: Zuluft - \"&E20&\", Abluft - \"&E21,\"\"))","v":{"$error":"#N/A"}},{"$f":"4-COUNTIF(BI21:BL21,\"\")","v":4},{"$f":"IF(BR21=0,0,1)","v":1}]
[null,null,{"$f":"IF(C21<MAX(Raumliste[Nummer]),C21+1,\"\")","v":""},{"$f":"IF(C22=\"\",\"\",INDEX(Raumliste_kompakt[Geschoß],MATCH(C22,Raumliste_kompakt[Nummer])))","v":""},{"$f":"IF(C22=\"\",\"\",INDEX(Raumliste_kompakt[Raum],MATCH(C22,Raumliste_kompakt[Nummer])))","v":""},{"$f":"IF(C22=\"\",\"\",INDEX(ZuAbluft_Def[Definition],MATCH('Lüftung AbZuluft'!E22,ZuAbluft_Def[ZuAbluft_Definition],0)))","v":""},null,null,null,null,null,null,null,{"$f":"IF(AND(G22=\"mehrere\",I22=\"\",J22=\"\",K22=\"\",L22=\"\",M22=\"\"),\"Bitte ausfüllen\",\"\")","v":""},null,{"$f":"IF(P21<MAX(Lüftungsvorschläge[Nummer]),P21+1,\"\")","v":2},{"$f":"IF(P22=\"\",\"\",INDEX(Raumliste_kompakt[Geschoß],MATCH(P22,Lüftungsvorschläge[Nummer],0)))","v":""},"",{"$f":"IF(P22=\"\",\"\",IF(INDEX(Lüftungsvorschläge[C],MATCH(P22,Lüftungsvorschläge[Nummer],0))<>\"\",INDEX(Lüftungsvorschläge[C],MATCH(P22,Lüftungsvorschläge[Nummer],0)),IF(INDEX(Lüftungsvorschläge[B],MATCH(P22,Lüftungsvorschläge[Nummer],0))<>\"\",INDEX(Lüftungsvorschläge[B],MATCH(P22,Lüftungsvorschläge[Nummer],0)),IF(INDEX(Lüftungsvorschläge[A1],MATCH(P22,Lüftungsvorschläge[Nummer],0))<>\"\",INDEX(Lüftungsvorschläge[A1],MATCH(P22,Lüftungsvorschläge[Nummer],0)),IF(INDEX(Lüftungsvorschläge[A2],MATCH(P22,Lüftungsvorschläge[Nummer],0))<>\"\",INDEX(Lüftungsvorschläge[A2],MATCH(P22,Lüftungsvorschläge[Nummer],0)),\"\")))))","v":""},null,null,null,null,null,null,"",{"$f":"IF(P22=\"\",\"\",IF(AND(INDEX(Lüftungsvorschläge[B],MATCH(P22,Lüftungsvorschläge[Nummer],0))<>\"\",INDEX(Lüftungsvorschläge[B],MATCH(P22,Lüftungsvorschläge[Nummer],0))<>S22),INDEX(Lüftungsvorschläge[B],MATCH(P22,Lüftungsvorschläge[Nummer],0)),IF(AND(INDEX(Lüftungsvorschläge[A1],MATCH(P22,Lüftungsvorschläge[Nummer],0))<>\"\",INDEX(Lüftungsvorschläge[A1],MATCH(P22,Lüftungsvorschläge[Nummer],0))<>S22),INDEX(Lüftungsvorschläge[A1],MATCH(P22,Lüftungsvorschläge[Nummer],0)),IF(AND(INDEX(Lüftungsvorschläge[A2],MATCH(P22,Lüftungsvorschläge[Nummer],0))<>\"\",INDEX(Lüftungsvorschläge[A2],MATCH(P22,Lüftungsvorschläge[Nummer],0))<>S22),INDEX(Lüftungsvorschläge[A2],MATCH(P22,Lüftungsvorschläge[Nummer],0)),\"\" ))))","v":""},null,null,null,{"$f":"IF(AF22=\"\",\"\",\"3.)\")","v":""},{"$f":"IF(P22=\"\",\"\",IF(AND(INDEX(Lüftungsvorschläge[A1],MATCH(P22,Lüftungsvorschläge[Nummer],0))<>\"\",INDEX(Lüftungsvorschläge[A1],MATCH(P22,Lüftungsvorschläge[Nummer],0))<>AA22,INDEX(Lüftungsvorschläge[A1],MATCH(P22,Lüftungsvorschläge[Nummer],0))<>S22),INDEX(Lüftungsvorschläge[A1],MATCH(P22,Lüftungsvorschläge[Nummer],0)),IF(AND(INDEX(Lüftungsvorschläge[A2],MATCH(P22,Lüftungsvorschläge[Nummer],0))<>\"\",INDEX(Lüftungsvorschläge[A2],MATCH(P22,Lüftungsvorschläge[Nummer],0))<>AA22,INDEX(Lüftungsvorschläge[A2],MATCH(P22,Lüftungsvorschläge[Nummer],0))<>S22),INDEX(Lüftungsvorschläge[A2],MATCH(P22,Lüftungsvorschläge[Nummer],0)),\"\")))","v":""},null,null,null,null,null,{"$f":"C22","v":""},null,{"$f":"IF(AN21<MAX($G$21:$G$61),AN21+1,\"\")","v":""},{"$f":"IF(AN22=\"\",\"\",SUMIF($G$21:$G$61,AN22,$AR$21:$AR$61))","v":""},"","",{"$f":"IF(C22=\"\",\"\",IF(OR(INDEX(Raumliste_kompakt[Raum],C22)=\"Küche\",INDEX(Raumliste_kompakt[Raum],C22)=\"Wohnküche\"),60,IF(ISNUMBER(AS22),IF(OR(AS22=2,AS22=3),20,IF(OR(AS22=4,AS22=5),40,0)),0)))","v":""},{"$f":"IF(COUNTIF(WW_Räume[Raumnr.],'Lüftung AbZuluft'!C22)=0,\"-\",INDEX(WW_Räume[Typ],MATCH('Lüftung AbZuluft'!C22,WW_Räume[Raumnr.],0)))","v":""},{"$f":"IF(D22=\"\",\"\",IF(D22<>D21,MAX($AT$21:AT21)+1,MAX($AT$21:AT21)))","v":""},{"$f":"IF(E22=\"\",\"\",IF(INDEX(ZuAbluft_Def[Zuluft],MATCH('Lüftung AbZuluft'!$E22,ZuAbluft_Def[ZuAbluft_Definition],0))<>\"x\",INDEX(ZuAbluft_Def[Zuluft],MATCH('Lüftung AbZuluft'!$E22,ZuAbluft_Def[ZuAbluft_Definition],0)),\"?\"))","v":""},{"$f":"IF(OR(AS22=2,AS22=3),$F$9,IF(OR(AS22=4,AS22=5),$F$8,IF(E22=\"\",\"\",IF(INDEX(ZuAbluft_Def[Abluft],MATCH('Lüftung AbZuluft'!$E22,ZuAbluft_Def[ZuAbluft_Definition],0))<>\"x\",INDEX(ZuAbluft_Def[Abluft],MATCH('Lüftung AbZuluft'!$E22,ZuAbluft_Def[ZuAbluft_Definition],0)),\"?\"))))","v":""},"",{"$error":"#N/A"},"",{"$error":"#N/A"},{"$error":"#N/A"},{"$error":"#N/A"},{"$error":"#N/A"},{"$error":"#N/A"},{"$f":"IF(OR(AW22=1,AW21=1),1,\"\")","v":{"$error":"#N/A"}},{"$error":"#N/A"},{"$f":"IF(OR(AY22=1,AZ22=1,AZ23=1,AY21=1),1,\"\")","v":{"$error":"#N/A"}},null,"",{"$error":"#N/A"},{"$error":"#N/A"},{"$error":"#N/A"},null,"","","","",{"$f":"4-COUNTIF(BI22:BL22,\"\")","v":3},{"$f":"IF(BR22=0,\"\",MAX($BS$21:BS21)+1)","v":2}]
[null,null,{"$f":"IF(C22<MAX(Raumliste[Nummer]),C22+1,\"\")","v":""},{"$f":"IF(C23=\"\",\"\",INDEX(Raumliste_kompakt[Geschoß],MATCH(C23,Raumliste_kompakt[Nummer])))","v":""},{"$f":"IF(C23=\"\",\"\",INDEX(Raumliste_kompakt[Raum],MATCH(C23,Raumliste_kompakt[Nummer])))","v":""},{"$f":"IF(C23=\"\",\"\",INDEX(ZuAbluft_Def[Definition],MATCH('Lüftung AbZuluft'!E23,ZuAbluft_Def[ZuAbluft_Definition],0)))","v":""},null,null,null,null,null,null,null,"",null,{"$f":"IF(P22<MAX(Lüftungsvorschläge[Nummer]),P22+1,\"\")","v":""},{"$f":"IF(P23=\"\",\"\",INDEX(Raumliste_kompakt[Geschoß],MATCH(P23,Lüftungsvorschläge[Nummer],0)))","v":""},"",{"$f":"IF(P23=\"\",\"\",IF(INDEX(Lüftungsvorschläge[C],MATCH(P23,Lüftungsvorschläge[Nummer],0))<>\"\",INDEX(Lüftungsvorschläge[C],MATCH(P23,Lüftungsvorschläge[Nummer],0)),IF(INDEX(Lüftungsvorschläge[B],MATCH(P23,Lüftungsvorschläge[Nummer],0))<>\"\",INDEX(Lüftungsvorschläge[B],MATCH(P23,Lüftungsvorschläge[Nummer],0)),IF(INDEX(Lüftungsvorschläge[A1],MATCH(P23,Lüftungsvorschläge[Nummer],0))<>\"\",INDEX(Lüftungsvorschläge[A1],MATCH(P23,Lüftungsvorschläge[Nummer],0)),IF(INDEX(Lüftungsvorschläge[A2],MATCH(P23,Lüftungsvorschläge[Nummer],0))<>\"\",INDEX(Lüftungsvorschläge[A2],MATCH(P23,Lüftungsvorschläge[Nummer],0)),\"\")))))","v":""},null,null,null,null,null,null,"",{"$f":"IF(P23=\"\",\"\",IF(AND(INDEX(Lüftungsvorschläge[B],MATCH(P23,Lüftungsvorschläge[Nummer],0))<>\"\",INDEX(Lüftungsvorschläge[B],MATCH(P23,Lüftungsvorschläge[Nummer],0))<>S23),INDEX(Lüftungsvorschläge[B],MATCH(P23,Lüftungsvorschläge[Nummer],0)),IF(AND(INDEX(Lüftungsvorschläge[A1],MATCH(P23,Lüftungsvorschläge[Nummer],0))<>\"\",INDEX(Lüftungsvorschläge[A1],MATCH(P23,Lüftungsvorschläge[Nummer],0))<>S23),INDEX(Lüftungsvorschläge[A1],MATCH(P23,Lüftungsvorschläge[Nummer],0)),IF(AND(INDEX(Lüftungsvorschläge[A2],MATCH(P23,Lüftungsvorschläge[Nummer],0))<>\"\",INDEX(Lüftungsvorschläge[A2],MATCH(P23,Lüftungsvorschläge[Nummer],0))<>S23),INDEX(Lüftungsvorschläge[A2],MATCH(P23,Lüftungsvorschläge[Nummer],0)),\"\" ))))","v":""},null,null,null,"",{"$f":"IF(P23=\"\",\"\",IF(AND(INDEX(Lüftungsvorschläge[A1],MATCH(P23,Lüftungsvorschläge[Nummer],0))<>\"\",INDEX(Lüftungsvorschläge[A1],MATCH(P23,Lüftungsvorschläge[Nummer],0))<>AA23,INDEX(Lüftungsvorschläge[A1],MATCH(P23,Lüftungsvorschläge[Nummer],0))<>S23),INDEX(Lüftungsvorschläge[A1],MATCH(P23,Lüftungsvorschläge[Nummer],0)),IF(AND(INDEX(Lüftungsvorschläge[A2],MATCH(P23,Lüftungsvorschläge[Nummer],0))<>\"\",INDEX(Lüftungsvorschläge[A2],MATCH(P23,Lüftungsvorschläge[Nummer],0))<>AA23,INDEX(Lüftungsvorschläge[A2],MATCH(P23,Lüftungsvorschläge[Nummer],0))<>S23),INDEX(Lüftungsvorschläge[A2],MATCH(P23,Lüftungsvorschläge[Nummer],0)),\"\")))","v":""},null,null,null,null,null,"",null,"",{"$f":"IF(AN23=\"\",\"\",SUMIF($G$21:$G$61,AN23,$AR$21:$AR$61))","v":""},"","",{"$f":"IF(C23=\"\",\"\",IF(OR(INDEX(Raumliste_kompakt[Raum],C23)=\"Küche\",INDEX(Raumliste_kompakt[Raum],C23)=\"Wohnküche\"),60,IF(ISNUMBER(AS23),IF(OR(AS23=2,AS23=3),20,IF(OR(AS23=4,AS23=5),40,0)),0)))","v":""},{"$f":"IF(COUNTIF(WW_Räume[Raumnr.],'Lüftung AbZuluft'!C23)=0,\"-\",INDEX(WW_Räume[Typ],MATCH('Lüftung AbZuluft'!C23,WW_Räume[Raumnr.],0)))","v":""},{"$f":"IF(D23=\"\",\"\",IF(D23<>D22,MAX($AT$21:AT22)+1,MAX($AT$21:AT22)))","v":""},{"$f":"IF(E23=\"\",\"\",IF(INDEX(ZuAbluft_Def[Zuluft],MATCH('Lüftung AbZuluft'!$E23,ZuAbluft_Def[ZuAbluft_Definition],0))<>\"x\",INDEX(ZuAbluft_Def[Zuluft],MATCH('Lüftung AbZuluft'!$E23,ZuAbluft_Def[ZuAbluft_Definition],0)),\"?\"))","v":""},{"$f":"IF(OR(AS23=2,AS23=3),$F$9,IF(OR(AS23=4,AS23=5),$F$8,IF(E23=\"\",\"\",IF(INDEX(ZuAbluft_Def[Abluft],MATCH('Lüftung AbZuluft'!$E23,ZuAbluft_Def[ZuAbluft_Definition],0))<>\"x\",INDEX(ZuAbluft_Def[Abluft],MATCH('Lüftung AbZuluft'!$E23,ZuAbluft_Def[ZuAbluft_Definition],0)),\"?\"))))","v":""},"","","","","","","","","",{"$f":"IF(OR(AX23=1,AX24=1),1,\"\")","v":""},"",null,{"$f":"IF(AW23=1,1,\"\")","v":""},{"$f":"IF(AX23=1,1,\"\")","v":""},"","",null,"","","","",0,{"$f":"IF(BR23=0,\"\",MAX($BS$21:BS22)+1)","v":""}]
[null,null,{"$f":"IF(C23<MAX(Raumliste[Nummer]),C23+1,\"\")","v":""},{"$f":"IF(C24=\"\",\"\",INDEX(Raumliste_kompakt[Geschoß],MATCH(C24,Raumliste_kompakt[Nummer])))","v":""},{"$f":"IF(C24=\"\",\"\",INDEX(Raumliste_kompakt[Raum],MATCH(C24,Raumliste_kompakt[Nummer])))","v":""},{"$f":"IF(C24=\"\",\"\",INDEX(ZuAbluft_Def[Definition],MATCH('Lüftung AbZuluft'!E24,ZuAbluft_Def[ZuAbluft_Definition],0)))","v":""},null,null,null,null,null,null,null,"",null,{"$f":"IF(P23<MAX(Lüftungsvorschläge[Nummer]),P23+1,\"\")","v":""},{"$f":"IF(P24=\"\",\"\",INDEX(Raumliste_kompakt[Geschoß],MATCH(P24,Lüftungsvorschläge[Nummer],0)))","v":""},"",{"$f":"IF(P24=\"\",\"\",IF(INDEX(Lüftungsvorschläge[C],MATCH(P24,Lüftungsvorschläge[Nummer],0))<>\"\",INDEX(Lüftungsvorschläge[C],MATCH(P24,Lüftungsvorschläge[Nummer],0)),IF(INDEX(Lüftungsvorschläge[B],MATCH(P24,Lüftungsvorschläge[Nummer],0))<>\"\",INDEX(Lüftungsvorschläge[B],MATCH(P24,Lüftungsvorschläge[Nummer],0)),IF(INDEX(Lüftungsvorschläge[A1],MATCH(P24,Lüftungsvorschläge[Nummer],0))<>\"\",INDEX(Lüftungsvorschläge[A1],MATCH(P24,Lüftungsvorschläge[Nummer],0)),IF(INDEX(Lüftungsvorschläge[A2],MATCH(P24,Lüftungsvorschläge[Nummer],0))<>\"\",INDEX(Lüftungsvorschläge[A2],MATCH(P24,Lüftungsvorschläge[Nummer],0)),\"\")))))","v":""},null,null,null,null,null,null,"",{"$f":"IF(P24=\"\",\"\",IF(AND(INDEX(Lüftungsvorschläge[B],MATCH(P24,Lüftungsvorschläge[Nummer],0))<>\"\",INDEX(Lüftungsvorschläge[B],MATCH(P24,Lüftungsvorschläge[Nummer],0))<>S24),INDEX(Lüftungsvorschläge[B],MATCH(P24,Lüftungsvorschläge[Nummer],0)),IF(AND(INDEX(Lüftungsvorschläge[A1],MATCH(P24,Lüftungsvorschläge[Nummer],0))<>\"\",INDEX(Lüftungsvorschläge[A1],MATCH(P24,Lüftungsvorschläge[Nummer],0))<>S24),INDEX(Lüftungsvorschläge[A1],MATCH(P24,Lüftungsvorschläge[Nummer],0)),IF(AND(INDEX(Lüftungsvorschläge[A2],MATCH(P24,Lüftungsvorschläge[Nummer],0))<>\"\",INDEX(Lüftungsvorschläge[A2],MATCH(P24,Lüftungsvorschläge[Nummer],0))<>S24),INDEX(Lüftungsvorschläge[A2],MATCH(P24,Lüftungsvorschläge[Nummer],0)),\"\" ))))","v":""},null,null,null,"",{"$f":"IF(P24=\"\",\"\",IF(AND(INDEX(Lüftungsvorschläge[A1],MATCH(P24,Lüftungsvorschläge[Nummer],0))<>\"\",INDEX(Lüftungsvorschläge[A1],MATCH(P24,Lüftungsvorschläge[Nummer],0))<>AA24,INDEX(Lüftungsvorschläge[A1],MATCH(P24,Lüftungsvorschläge[Nummer],0))<>S24),INDEX(Lüftungsvorschläge[A1],MATCH(P24,Lüftungsvorschläge[Nummer],0)),IF(AND(INDEX(Lüftungsvorschläge[A2],MATCH(P24,Lüftungsvorschläge[Nummer],0))<>\"\",INDEX(Lüftungsvorschläge[A2],MATCH(P24,Lüftungsvorschläge[Nummer],0))<>AA24,INDEX(Lüftungsvorschläge[A2],MATCH(P24,Lüftungsvorschläge[Nummer],0))<>S24),INDEX(Lüftungsvorschläge[A2],MATCH(P24,Lüftungsvorschläge[Nummer],0)),\"\")))","v":""},null,null,null,null,null,"",null,"","","","",{"$f":"IF(C24=\"\",\"\",IF(OR(INDEX(Raumliste_kompakt[Raum],C24)=\"Küche\",INDEX(Raumliste_kompakt[Raum],C24)=\"Wohnküche\"),60,IF(ISNUMBER(AS24),IF(OR(AS24=2,AS24=3),20,IF(OR(AS24=4,AS24=5),40,0)),0)))","v":""},{"$f":"IF(COUNTIF(WW_Räume[Raumnr.],'Lüftung AbZuluft'!C24)=0,\"-\",INDEX(WW_Räume[Typ],MATCH('Lüftung AbZuluft'!C24,WW_Räume[Raumnr.],0)))","v":""},{"$f":"IF(D24=\"\",\"\",IF(D24<>D23,MAX($AT$21:AT23)+1,MAX($AT$21:AT23)))","v":""},{"$f":"IF(E24=\"\",\"\",IF(INDEX(ZuAbluft_Def[Zuluft],MATCH('Lüftung AbZuluft'!$E24,ZuAbluft_Def[ZuAbluft_Definition],0))<>\"x\",INDEX(ZuAbluft_Def[Zuluft],MATCH('Lüftung AbZuluft'!$E24,ZuAbluft_Def[ZuAbluft_Definition],0)),\"?\"))","v":""},{"$f":"IF(OR(AS24=2,AS24=3),$F$9,IF(OR(AS24=4,AS24=5),$F$8,IF(E24=\"\",\"\",IF(INDEX(ZuAbluft_Def[Abluft],MATCH('Lüftung AbZuluft'!$E24,ZuAbluft_Def[ZuAbluft_Definition],0))<>\"x\",INDEX(ZuAbluft_Def[Abluft],MATCH('Lüftung AbZuluft'!$E24,ZuAbluft_Def[ZuAbluft_Definition],0)),\"?\"))))","v":""},"","","","","","","","","","","",null,"","","","",null,"","","","",0,{"$f":"IF(BR24=0,\"\",MAX($BS$21:BS23)+1)","v":""}]
[null,null,{"$f":"IF(C24<MAX(Raumliste[Nummer]),C24+1,\"\")","v":""},{"$f":"IF(C25=\"\",\"\",INDEX(Raumliste_kompakt[Geschoß],MATCH(C25,Raumliste_kompakt[Nummer])))","v":""},{"$f":"IF(C25=\"\",\"\",INDEX(Raumliste_kompakt[Raum],MATCH(C25,Raumliste_kompakt[Nummer])))","v":""},{"$f":"IF(C25=\"\",\"\",INDEX(ZuAbluft_Def[Definition],MATCH('Lüftung AbZuluft'!E25,ZuAbluft_Def[ZuAbluft_Definition],0)))","v":""},null,null,null,null,null,null,null,"",null,{"$f":"IF(P24<MAX(Lüftungsvorschläge[Nummer]),P24+1,\"\")","v":""},{"$f":"IF(P25=\"\",\"\",INDEX(Raumliste_kompakt[Geschoß],MATCH(P25,Lüftungsvorschläge[Nummer],0)))","v":""},"",{"$f":"IF(P25=\"\",\"\",IF(INDEX(Lüftungsvorschläge[C],MATCH(P25,Lüftungsvorschläge[Nummer],0))<>\"\",INDEX(Lüftungsvorschläge[C],MATCH(P25,Lüftungsvorschläge[Nummer],0)),IF(INDEX(Lüftungsvorschläge[B],MATCH(P25,Lüftungsvorschläge[Nummer],0))<>\"\",INDEX(Lüftungsvorschläge[B],MATCH(P25,Lüftungsvorschläge[Nummer],0)),IF(INDEX(Lüftungsvorschläge[A1],MATCH(P25,Lüftungsvorschläge[Nummer],0))<>\"\",INDEX(Lüftungsvorschläge[A1],MATCH(P25,Lüftungsvorschläge[Nummer],0)),IF(INDEX(Lüftungsvorschläge[A2],MATCH(P25,Lüftungsvorschläge[Nummer],0))<>\"\",INDEX(Lüftungsvorschläge[A2],MATCH(P25,Lüftungsvorschläge[Nummer],0)),\"\")))))","v":""},null,null,null,null,null,null,"",{"$f":"IF(P25=\"\",\"\",IF(AND(INDEX(Lüftungsvorschläge[B],MATCH(P25,Lüftungsvorschläge[Nummer],0))<>\"\",INDEX(Lüftungsvorschläge[B],MATCH(P25,Lüftungsvorschläge[Nummer],0))<>S25),INDEX(Lüftungsvorschläge[B],MATCH(P25,Lüftungsvorschläge[Nummer],0)),IF(AND(INDEX(Lüftungsvorschläge[A1],MATCH(P25,Lüftungsvorschläge[Nummer],0))<>\"\",INDEX(Lüftungsvorschläge[A1],MATCH(P25,Lüftungsvorschläge[Nummer],0))<>S25),INDEX(Lüftungsvorschläge[A1],MATCH(P25,Lüftungsvorschläge[Nummer],0)),IF(AND(INDEX(Lüftungsvorschläge[A2],MATCH(P25,Lüftungsvorschläge[Nummer],0))<>\"\",INDEX(Lüftungsvorschläge[A2],MATCH(P25,Lüftungsvorschläge[Nummer],0))<>S25),INDEX(Lüftungsvorschläge[A2],MATCH(P25,Lüftungsvorschläge[Nummer],0)),\"\" ))))","v":""},null,null,null,"",{"$f":"IF(P25=\"\",\"\",IF(AND(INDEX(Lüftungsvorschläge[A1],MATCH(P25,Lüftungsvorschläge[Nummer],0))<>\"\",INDEX(Lüftungsvorschläge[A1],MATCH(P25,Lüftungsvorschläge[Nummer],0))<>AA25,INDEX(Lüftungsvorschläge[A1],MATCH(P25,Lüftungsvorschläge[Nummer],0))<>S25),INDEX(Lüftungsvorschläge[A1],MATCH(P25,Lüftungsvorschläge[Nummer],0)),IF(AND(INDEX(Lüftungsvorschläge[A2],MATCH(P25,Lüftungsvorschläge[Nummer],0))<>\"\",INDEX(Lüftungsvorschläge[A2],MATCH(P25,Lüftungsvorschläge[Nummer],0))<>AA25,INDEX(Lüftungsvorschläge[A2],MATCH(P25,Lüftungsvorschläge[Nummer],0))<>S25),INDEX(Lüftungsvorschläge[A2],MATCH(P25,Lüftungsvorschläge[Nummer],0)),\"\")))","v":""},null,null,null,null,null,"",null,"","","","",{"$f":"IF(C25=\"\",\"\",IF(OR(INDEX(Raumliste_kompakt[Raum],C25)=\"Küche\",INDEX(Raumliste_kompakt[Raum],C25)=\"Wohnküche\"),60,IF(ISNUMBER(AS25),IF(OR(AS25=2,AS25=3),20,IF(OR(AS25=4,AS25=5),40,0)),0)))","v":""},{"$f":"IF(COUNTIF(WW_Räume[Raumnr.],'Lüftung AbZuluft'!C25)=0,\"-\",INDEX(WW_Räume[Typ],MATCH('Lüftung AbZuluft'!C25,WW_Räume[Raumnr.],0)))","v":""},{"$f":"IF(D25=\"\",\"\",IF(D25<>D24,MAX($AT$21:AT24)+1,MAX($AT$21:AT24)))","v":""},{"$f":"IF(E25=\"\",\"\",IF(INDEX(ZuAbluft_Def[Zuluft],MATCH('Lüftung AbZuluft'!$E25,ZuAbluft_Def[ZuAbluft_Definition],0))<>\"x\",INDEX(ZuAbluft_Def[Zuluft],MATCH('Lüftung AbZuluft'!$E25,ZuAbluft_Def[ZuAbluft_Definition],0)),\"?\"))","v":""},{"$f":"IF(OR(AS25=2,AS25=3),$F$9,IF(OR(AS25=4,AS25=5),$F$8,IF(E25=\"\",\"\",IF(INDEX(ZuAbluft_Def[Abluft],MATCH('Lüftung AbZuluft'!$E25,ZuAbluft_Def[ZuAbluft_Definition],0))<>\"x\",INDEX(ZuAbluft_Def[Abluft],MATCH('Lüftung AbZuluft'!$E25,ZuAbluft_Def[ZuAbluft_Definition],0)),\"?\"))))","v":""},"","","","","","","","","","","",null,"","","","",null,"","","","",0,{"$f":"IF(BR25=0,\"\",MAX($BS$21:BS24)+1)","v":""}]
[null,null,{"$f":"IF(C25<MAX(Raumliste[Nummer]),C25+1,\"\")","v":""},{"$f":"IF(C26=\"\",\"\",INDEX(Raumliste_kompakt[Geschoß],MATCH(C26,Raumliste_kompakt[Nummer])))","v":""},{"$f":"IF(C26=\"\",\"\",INDEX(Raumliste_kompakt[Raum],MATCH(C26,Raumliste_kompakt[Nummer])))","v":""},{"$f":"IF(C26=\"\",\"\",INDEX(ZuAbluft_Def[Definition],MATCH('Lüftung AbZuluft'!E26,ZuAbluft_Def[ZuAbluft_Definition],0)))","v":""},null,null,null,null,null,null,null,"",null,{"$f":"IF(P25<MAX(Lüftungsvorschläge[Nummer]),P25+1,\"\")","v":""},{"$f":"IF(P26=\"\",\"\",INDEX(Raumliste_kompakt[Geschoß],MATCH(P26,Lüftungsvorschläge[Nummer],0)))","v":""},"",{"$f":"IF(P26=\"\",\"\",IF(INDEX(Lüftungsvorschläge[C],MATCH(P26,Lüftungsvorschläge[Nummer],0))<>\"\",INDEX(Lüftungsvorschläge[C],MATCH(P26,Lüftungsvorschläge[Nummer],0)),IF(INDEX(Lüftungsvorschläge[B],MATCH(P26,Lüftungsvorschläge[Nummer],0))<>\"\",INDEX(Lüftungsvorschläge[B],MATCH(P26,Lüftungsvorschläge[Nummer],0)),IF(INDEX(Lüftungsvorschläge[A1],MATCH(P26,Lüftungsvorschläge[Nummer],0))<>\"\",INDEX(Lüftungsvorschläge[A1],MATCH(P26,Lüftungsvorschläge[Nummer],0)),IF(INDEX(Lüftungsvorschläge[A2],MATCH(P26,Lüftungsvorschläge[Nummer],0))<>\"\",INDEX(Lüftungsvorschläge[A2],MATCH(P26,Lüftungsvorschläge[Nummer],0)),\"\")))))","v":""},null,null,null,null,null,null,"",{"$f":"IF(P26=\"\",\"\",IF(AND(INDEX(Lüftungsvorschläge[B],MATCH(P26,Lüftungsvorschläge[Nummer],0))<>\"\",INDEX(Lüftungsvorschläge[B],MATCH(P26,Lüftungsvorschläge[Nummer],0))<>S26),INDEX(Lüftungsvorschläge[B],MATCH(P26,Lüftungsvorschläge[Nummer],0)),IF(AND(INDEX(Lüftungsvorschläge[A1],MATCH(P26,Lüftungsvorschläge[Nummer],0))<>\"\",INDEX(Lüftungsvorschläge[A1],MATCH(P26,Lüftungsvorschläge[Nummer],0))<>S26),INDEX(Lüftungsvorschläge[A1],MATCH(P26,Lüftungsvorschläge[Nummer],0)),IF(AND(INDEX(Lüftungsvorschläge[A2],MATCH(P26,Lüftungsvorschläge[Nummer],0))<>\"\",INDEX(Lüftungsvorschläge[A2],MATCH(P26,Lüftungsvorschläge[Nummer],0))<>S26),INDEX(Lüftungsvorschläge[A2],MATCH(P26,Lüftungsvorschläge[Nummer],0)),\"\" ))))","v":""},null,null,null,"",{"$f":"IF(P26=\"\",\"\",IF(AND(INDEX(Lüftungsvorschläge[A1],MATCH(P26,Lüftungsvorschläge[Nummer],0))<>\"\",INDEX(Lüftungsvorschläge[A1],MATCH(P26,Lüftungsvorschläge[Nummer],0))<>AA26,INDEX(Lüftungsvorschläge[A1],MATCH(P26,Lüftungsvorschläge[Nummer],0))<>S26),INDEX(Lüftungsvorschläge[A1],MATCH(P26,Lüftungsvorschläge[Nummer],0)),IF(AND(INDEX(Lüftungsvorschläge[A2],MATCH(P26,Lüftungsvorschläge[Nummer],0))<>\"\",INDEX(Lüftungsvorschläge[A2],MATCH(P26,Lüftungsvorschläge[Nummer],0))<>AA26,INDEX(Lüftungsvorschläge[A2],MATCH(P26,Lüftungsvorschläge[Nummer],0))<>S26),INDEX(Lüftungsvorschläge[A2],MATCH(P26,Lüftungsvorschläge[Nummer],0)),\"\")))","v":""},null,null,null,null,null,"",null,"","","","",{"$f":"IF(C26=\"\",\"\",IF(OR(INDEX(Raumliste_kompakt[Raum],C26)=\"Küche\",INDEX(Raumliste_kompakt[Raum],C26)=\"Wohnküche\"),60,IF(ISNUMBER(AS26),IF(OR(AS26=2,AS26=3),20,IF(OR(AS26=4,AS26=5),40,0)),0)))","v":""},{"$f":"IF(COUNTIF(WW_Räume[Raumnr.],'Lüftung AbZuluft'!C26)=0,\"-\",INDEX(WW_Räume[Typ],MATCH('Lüftung AbZuluft'!C26,WW_Räume[Raumnr.],0)))","v":""},{"$f":"IF(D26=\"\",\"\",IF(D26<>D25,MAX($AT$21:AT25)+1,MAX($AT$21:AT25)))","v":""},{"$f":"IF(E26=\"\",\"\",IF(INDEX(ZuAbluft_Def[Zuluft],MATCH('Lüftung AbZuluft'!$E26,ZuAbluft_Def[ZuAbluft_Definition],0))<>\"x\",INDEX(ZuAbluft_Def[Zuluft],MATCH('Lüftung AbZuluft'!$E26,ZuAbluft_Def[ZuAbluft_Definition],0)),\"?\"))","v":""},{"$f":"IF(OR(AS26=2,AS26=3),$F$9,IF(OR(AS26=4,AS26=5),$F$8,IF(E26=\"\",\"\",IF(INDEX(ZuAbluft_Def[Abluft],MATCH('Lüftung AbZuluft'!$E26,ZuAbluft_Def[ZuAbluft_Definition],0))<>\"x\",INDEX(ZuAbluft_Def[Abluft],MATCH('Lüftung AbZuluft'!$E26,ZuAbluft_Def[ZuAbluft_Definition],0)),\"?\"))))","v":""},"","","","","","","","","","","",null,"","","","",null,"","","","",0,{"$f":"IF(BR26=0,\"\",MAX($BS$21:BS25)+1)","v":""}]
[null,null,{"$f":"IF(C26<MAX(Raumliste[Nummer]),C26+1,\"\")","v":""},{"$f":"IF(C27=\"\",\"\",INDEX(Raumliste_kompakt[Geschoß],MATCH(C27,Raumliste_kompakt[Nummer])))","v":""},{"$f":"IF(C27=\"\",\"\",INDEX(Raumliste_kompakt[Raum],MATCH(C27,Raumliste_kompakt[Nummer])))","v":""},{"$f":"IF(C27=\"\",\"\",INDEX(ZuAbluft_Def[Definition],MATCH('Lüftung AbZuluft'!E27,ZuAbluft_Def[ZuAbluft_Definition],0)))","v":""},null,null,null,null,null,null,null,"",null,{"$f":"IF(P26<MAX(Lüftungsvorschläge[Nummer]),P26+1,\"\")","v":""},{"$f":"IF(P27=\"\",\"\",INDEX(Raumliste_kompakt[Geschoß],MATCH(P27,Lüftungsvorschläge[Nummer],0)))","v":""},"",{"$f":"IF(P27=\"\",\"\",IF(INDEX(Lüftungsvorschläge[C],MATCH(P27,Lüftungsvorschläge[Nummer],0))<>\"\",INDEX(Lüftungsvorschläge[C],MATCH(P27,Lüftungsvorschläge[Nummer],0)),IF(INDEX(Lüftungsvorschläge[B],MATCH(P27,Lüftungsvorschläge[Nummer],0))<>\"\",INDEX(Lüftungsvorschläge[B],MATCH(P27,Lüftungsvorschläge[Nummer],0)),IF(INDEX(Lüftungsvorschläge[A1],MATCH(P27,Lüftungsvorschläge[Nummer],0))<>\"\",INDEX(Lüftungsvorschläge[A1],MATCH(P27,Lüftungsvorschläge[Nummer],0)),IF(INDEX(Lüftungsvorschläge[A2],MATCH(P27,Lüftungsvorschläge[Nummer],0))<>\"\",INDEX(Lüftungsvorschläge[A2],MATCH(P27,Lüftungsvorschläge[Nummer],0)),\"\")))))","v":""},null,null,null,null,null,null,"",{"$f":"IF(P27=\"\",\"\",IF(AND(INDEX(Lüftungsvorschläge[B],MATCH(P27,Lüftungsvorschläge[Nummer],0))<>\"\",INDEX(Lüftungsvorschläge[B],MATCH(P27,Lüftungsvorschläge[Nummer],0))<>S27),INDEX(Lüftungsvorschläge[B],MATCH(P27,Lüftungsvorschläge[Nummer],0)),IF(AND(INDEX(Lüftungsvorschläge[A1],MATCH(P27,Lüftungsvorschläge[Nummer],0))<>\"\",INDEX(Lüftungsvorschläge[A1],MATCH(P27,Lüftungsvorschläge[Nummer],0))<>S27),INDEX(Lüftungsvorschläge[A1],MATCH(P27,Lüftungsvorschläge[Nummer],0)),IF(AND(INDEX(Lüftungsvorschläge[A2],MATCH(P27,Lüftungsvorschläge[Nummer],0))<>\"\",INDEX(Lüftungsvorschläge[A2],MATCH(P27,Lüftungsvorschläge[Nummer],0))<>S27),INDEX(Lüftungsvorschläge[A2],MATCH(P27,Lüftungsvorschläge[Nummer],0)),\"\" ))))","v":""},null,null,null,"",{"$f":"IF(P27=\"\",\"\",IF(AND(INDEX(Lüftungsvorschläge[A1],MATCH(P27,Lüftungsvorschläge[Nummer],0))<>\"\",INDEX(Lüftungsvorschläge[A1],MATCH(P27,Lüftungsvorschläge[Nummer],0))<>AA27,INDEX(Lüftungsvorschläge[A1],MATCH(P27,Lüftungsvorschläge[Nummer],0))<>S27),INDEX(Lüftungsvorschläge[A1],MATCH(P27,Lüftungsvorschläge[Nummer],0)),IF(AND(INDEX(Lüftungsvorschläge[A2],MATCH(P27,Lüftungsvorschläge[Nummer],0))<>\"\",INDEX(Lüftungsvorschläge[A2],MATCH(P27,Lüftungsvorschläge[Nummer],0))<>AA27,INDEX(Lüftungsvorschläge[A2],MATCH(P27,Lüftungsvorschläge[Nummer],0))<>S27),INDEX(Lüftungsvorschläge[A2],MATCH(P27,Lüftungsvorschläge[Nummer],0)),\"\")))","v":""},null,null,null,null,null,"",null,"","","","",{"$f":"IF(C27=\"\",\"\",IF(OR(INDEX(Raumliste_kompakt[Raum],C27)=\"Küche\",INDEX(Raumliste_kompakt[Raum],C27)=\"Wohnküche\"),60,IF(ISNUMBER(AS27),IF(OR(AS27=2,AS27=3),20,IF(OR(AS27=4,AS27=5),40,0)),0)))","v":""},{"$f":"IF(COUNTIF(WW_Räume[Raumnr.],'Lüftung AbZuluft'!C27)=0,\"-\",INDEX(WW_Räume[Typ],MATCH('Lüftung AbZuluft'!C27,WW_Räume[Raumnr.],0)))","v":""},{"$f":"IF(D27=\"\",\"\",IF(D27<>D26,MAX($AT$21:AT26)+1,MAX($AT$21:AT26)))","v":""},{"$f":"IF(E27=\"\",\"\",IF(INDEX(ZuAbluft_Def[Zuluft],MATCH('Lüftung AbZuluft'!$E27,ZuAbluft_Def[ZuAbluft_Definition],0))<>\"x\",INDEX(ZuAbluft_Def[Zuluft],MATCH('Lüftung AbZuluft'!$E27,ZuAbluft_Def[ZuAbluft_Definition],0)),\"?\"))","v":""},{"$f":"IF(OR(AS27=2,AS27=3),$F$9,IF(OR(AS27=4,AS27=5),$F$8,IF(E27=\"\",\"\",IF(INDEX(ZuAbluft_Def[Abluft],MATCH('Lüftung AbZuluft'!$E27,ZuAbluft_Def[ZuAbluft_Definition],0))<>\"x\",INDEX(ZuAbluft_Def[Abluft],MATCH('Lüftung AbZuluft'!$E27,ZuAbluft_Def[ZuAbluft_Definition],0)),\"?\"))))","v":""},"","","","","","","","","","","",null,"","","","",null,"","","","",0,{"$f":"IF(BR27=0,\"\",MAX($BS$21:BS26)+1)","v":""}]
[null,null,{"$f":"IF(C27<MAX(Raumliste[Nummer]),C27+1,\"\")","v":""},{"$f":"IF(C28=\"\",\"\",INDEX(Raumliste_kompakt[Geschoß],MATCH(C28,Raumliste_kompakt[Nummer])))","v":""},{"$f":"IF(C28=\"\",\"\",INDEX(Raumliste_kompakt[Raum],MATCH(C28,Raumliste_kompakt[Nummer])))","v":""},{"$f":"IF(C28=\"\",\"\",INDEX(ZuAbluft_Def[Definition],MATCH('Lüftung AbZuluft'!E28,ZuAbluft_Def[ZuAbluft_Definition],0)))","v":""},null,null,null,null,null,null,null,"",null,{"$f":"IF(P27<MAX(Lüftungsvorschläge[Nummer]),P27+1,\"\")","v":""},{"$f":"IF(P28=\"\",\"\",INDEX(Raumliste_kompakt[Geschoß],MATCH(P28,Lüftungsvorschläge[Nummer],0)))","v":""},"",{"$f":"IF(P28=\"\",\"\",IF(INDEX(Lüftungsvorschläge[C],MATCH(P28,Lüftungsvorschläge[Nummer],0))<>\"\",INDEX(Lüftungsvorschläge[C],MATCH(P28,Lüftungsvorschläge[Nummer],0)),IF(INDEX(Lüftungsvorschläge[B],MATCH(P28,Lüftungsvorschläge[Nummer],0))<>\"\",INDEX(Lüftungsvorschläge[B],MATCH(P28,Lüftungsvorschläge[Nummer],0)),IF(INDEX(Lüftungsvorschläge[A1],MATCH(P28,Lüftungsvorschläge[Nummer],0))<>\"\",INDEX(Lüftungsvorschläge[A1],MATCH(P28,Lüftungsvorschläge[Nummer],0)),IF(INDEX(Lüftungsvorschläge[A2],MATCH(P28,Lüftungsvorschläge[Nummer],0))<>\"\",INDEX(Lüftungsvorschläge[A2],MATCH(P28,Lüftungsvorschläge[Nummer],0)),\"\")))))","v":""},null,null,null,null,null,null,"",{"$f":"IF(P28=\"\",\"\",IF(AND(INDEX(Lüftungsvorschläge[B],MATCH(P28,Lüftungsvorschläge[Nummer],0))<>\"\",INDEX(Lüftungsvorschläge[B],MATCH(P28,Lüftungsvorschläge[Nummer],0))<>S28),INDEX(Lüftungsvorschläge[B],MATCH(P28,Lüftungsvorschläge[Nummer],0)),IF(AND(INDEX(Lüftungsvorschläge[A1],MATCH(P28,Lüftungsvorschläge[Nummer],0))<>\"\",INDEX(Lüftungsvorschläge[A1],MATCH(P28,Lüftungsvorschläge[Nummer],0))<>S28),INDEX(Lüftungsvorschläge[A1],MATCH(P28,Lüftungsvorschläge[Nummer],0)),IF(AND(INDEX(Lüftungsvorschläge[A2],MATCH(P28,Lüftungsvorschläge[Nummer],0))<>\"\",INDEX(Lüftungsvorschläge[A2],MATCH(P28,Lüftungsvorschläge[Nummer],0))<>S28),INDEX(Lüftungsvorschläge[A2],MATCH(P28,Lüftungsvorschläge[Nummer],0)),\"\" ))))","v":""},null,null,null,"",{"$f":"IF(P28=\"\",\"\",IF(AND(INDEX(Lüftungsvorschläge[A1],MATCH(P28,Lüftungsvorschläge[Nummer],0))<>\"\",INDEX(Lüftungsvorschläge[A1],MATCH(P28,Lüftungsvorschläge[Nummer],0))<>AA28,INDEX(Lüftungsvorschläge[A1],MATCH(P28,Lüftungsvorschläge[Nummer],0))<>S28),INDEX(Lüftungsvorschläge[A1],MATCH(P28,Lüftungsvorschläge[Nummer],0)),IF(AND(INDEX(Lüftungsvorschläge[A2],MATCH(P28,Lüftungsvorschläge[Nummer],0))<>\"\",INDEX(Lüftungsvorschläge[A2],MATCH(P28,Lüftungsvorschläge[Nummer],0))<>AA28,INDEX(Lüftungsvorschläge[A2],MATCH(P28,Lüftungsvorschläge[Nummer],0))<>S28),INDEX(Lüftungsvorschläge[A2],MATCH(P28,Lüftungsvorschläge[Nummer],0)),\"\")))","v":""},null,null,null,null,null,"",null,"","","",{"$f":"IF(AN28=\"\",\"\",MAX(AO28,AP28*$P$14))","v":""},{"$f":"IF(C28=\"\",\"\",IF(OR(INDEX(Raumliste_kompakt[Raum],C28)=\"Küche\",INDEX(Raumliste_kompakt[Raum],C28)=\"Wohnküche\"),60,IF(ISNUMBER(AS28),IF(OR(AS28=2,AS28=3),20,IF(OR(AS28=4,AS28=5),40,0)),0)))","v":""},{"$f":"IF(COUNTIF(WW_Räume[Raumnr.],'Lüftung AbZuluft'!C28)=0,\"-\",INDEX(WW_Räume[Typ],MATCH('Lüftung AbZuluft'!C28,WW_Räume[Raumnr.],0)))","v":""},{"$f":"IF(D28=\"\",\"\",IF(D28<>D27,MAX($AT$21:AT27)+1,MAX($AT$21:AT27)))","v":""},{"$f":"IF(E28=\"\",\"\",IF(INDEX(ZuAbluft_Def[Zuluft],MATCH('Lüftung AbZuluft'!$E28,ZuAbluft_Def[ZuAbluft_Definition],0))<>\"x\",INDEX(ZuAbluft_Def[Zuluft],MATCH('Lüftung AbZuluft'!$E28,ZuAbluft_Def[ZuAbluft_Definition],0)),\"?\"))","v":""},{"$f":"IF(OR(AS28=2,AS28=3),$F$9,IF(OR(AS28=4,AS28=5),$F$8,IF(E28=\"\",\"\",IF(INDEX(ZuAbluft_Def[Abluft],MATCH('Lüftung AbZuluft'!$E28,ZuAbluft_Def[ZuAbluft_Definition],0))<>\"x\",INDEX(ZuAbluft_Def[Abluft],MATCH('Lüftung AbZuluft'!$E28,ZuAbluft_Def[ZuAbluft_Definition],0)),\"?\"))))","v":""},"","","","","","","","","","","",null,"","","","",null,"","","","",0,{"$f":"IF(BR28=0,\"\",MAX($BS$21:BS27)+1)","v":""}]
[null,null,{"$f":"IF(C28<MAX(Raumliste[Nummer]),C28+1,\"\")","v":""},{"$f":"IF(C29=\"\",\"\",INDEX(Raumliste_kompakt[Geschoß],MATCH(C29,Raumliste_kompakt[Nummer])))","v":""},{"$f":"IF(C29=\"\",\"\",INDEX(Raumliste_kompakt[Raum],MATCH(C29,Raumliste_kompakt[Nummer])))","v":""},{"$f":"IF(C29=\"\",\"\",INDEX(ZuAbluft_Def[Definition],MATCH('Lüftung AbZuluft'!E29,ZuAbluft_Def[ZuAbluft_Definition],0)))","v":""},null,null,null,null,null,null,null,"",null,{"$f":"IF(P28<MAX(Lüftungsvorschläge[Nummer]),P28+1,\"\")","v":""},{"$f":"IF(P29=\"\",\"\",INDEX(Raumliste_kompakt[Geschoß],MATCH(P29,Lüftungsvorschläge[Nummer],0)))","v":""},"",{"$f":"IF(P29=\"\",\"\",IF(INDEX(Lüftungsvorschläge[C],MATCH(P29,Lüftungsvorschläge[Nummer],0))<>\"\",INDEX(Lüftungsvorschläge[C],MATCH(P29,Lüftungsvorschläge[Nummer],0)),IF(INDEX(Lüftungsvorschläge[B],MATCH(P29,Lüftungsvorschläge[Nummer],0))<>\"\",INDEX(Lüftungsvorschläge[B],MATCH(P29,Lüftungsvorschläge[Nummer],0)),IF(INDEX(Lüftungsvorschläge[A1],MATCH(P29,Lüftungsvorschläge[Nummer],0))<>\"\",INDEX(Lüftungsvorschläge[A1],MATCH(P29,Lüftungsvorschläge[Nummer],0)),IF(INDEX(Lüftungsvorschläge[A2],MATCH(P29,Lüftungsvorschläge[Nummer],0))<>\"\",INDEX(Lüftungsvorschläge[A2],MATCH(P29,Lüftungsvorschläge[Nummer],0)),\"\")))))","v":""},null,null,null,null,null,null,"",{"$f":"IF(P29=\"\",\"\",IF(AND(INDEX(Lüftungsvorschläge[B],MATCH(P29,Lüftungsvorschläge[Nummer],0))<>\"\",INDEX(Lüftungsvorschläge[B],MATCH(P29,Lüftungsvorschläge[Nummer],0))<>S29),INDEX(Lüftungsvorschläge[B],MATCH(P29,Lüftungsvorschläge[Nummer],0)),IF(AND(INDEX(Lüftungsvorschläge[A1],MATCH(P29,Lüftungsvorschläge[Nummer],0))<>\"\",INDEX(Lüftungsvorschläge[A1],MATCH(P29,Lüftungsvorschläge[Nummer],0))<>S29),INDEX(Lüftungsvorschläge[A1],MATCH(P29,Lüftungsvorschläge[Nummer],0)),IF(AND(INDEX(Lüftungsvorschläge[A2],MATCH(P29,Lüftungsvorschläge[Nummer],0))<>\"\",INDEX(Lüftungsvorschläge[A2],MATCH(P29,Lüftungsvorschläge[Nummer],0))<>S29),INDEX(Lüftungsvorschläge[A2],MATCH(P29,Lüftungsvorschläge[Nummer],0)),\"\" ))))","v":""},null,null,null,"",{"$f":"IF(P29=\"\",\"\",IF(AND(INDEX(Lüftungsvorschläge[A1],MATCH(P29,Lüftungsvorschläge[Nummer],0))<>\"\",INDEX(Lüftungsvorschläge[A1],MATCH(P29,Lüftungsvorschläge[Nummer],0))<>AA29,INDEX(Lüftungsvorschläge[A1],MATCH(P29,Lüftungsvorschläge[Nummer],0))<>S29),INDEX(Lüftungsvorschläge[A1],MATCH(P29,Lüftungsvorschläge[Nummer],0)),IF(AND(INDEX(Lüftungsvorschläge[A2],MATCH(P29,Lüftungsvorschläge[Nummer],0))<>\"\",INDEX(Lüftungsvorschläge[A2],MATCH(P29,Lüftungsvorschläge[Nummer],0))<>AA29,INDEX(Lüftungsvorschläge[A2],MATCH(P29,Lüftungsvorschläge[Nummer],0))<>S29),INDEX(Lüftungsvorschläge[A2],MATCH(P29,Lüftungsvorschläge[Nummer],0)),\"\")))","v":""},null,null,null,null,null,"",null,{"$f":"IF(AN28<MAX($G$21:$G$61),AN28+1,\"\")","v":""},"",{"$f":"IF(AN29=\"\",\"\",SUMIF($G$21:$G$61,AN29,$G$67:$G$106))","v":""},"",{"$f":"IF(C29=\"\",\"\",IF(OR(INDEX(Raumliste_kompakt[Raum],C29)=\"Küche\",INDEX(Raumliste_kompakt[Raum],C29)=\"Wohnküche\"),60,IF(ISNUMBER(AS29),IF(OR(AS29=2,AS29=3),20,IF(OR(AS29=4,AS29=5),40,0)),0)))","v":""},{"$f":"IF(COUNTIF(WW_Räume[Raumnr.],'Lüftung AbZuluft'!C29)=0,\"-\",INDEX(WW_Räume[Typ],MATCH('Lüftung AbZuluft'!C29,WW_Räume[Raumnr.],0)))","v":""},{"$f":"IF(D29=\"\",\"\",IF(D29<>D28,MAX($AT$21:AT28)+1,MAX($AT$21:AT28)))","v":""},{"$f":"IF(E29=\"\",\"\",IF(INDEX(ZuAbluft_Def[Zuluft],MATCH('Lüftung AbZuluft'!$E29,ZuAbluft_Def[ZuAbluft_Definition],0))<>\"x\",INDEX(ZuAbluft_Def[Zuluft],MATCH('Lüftung AbZuluft'!$E29,ZuAbluft_Def[ZuAbluft_Definition],0)),\"?\"))","v":""},{"$f":"IF(OR(AS29=2,AS29=3),$F$9,IF(OR(AS29=4,AS29=5),$F$8,IF(E29=\"\",\"\",IF(INDEX(ZuAbluft_Def[Abluft],MATCH('Lüftung AbZuluft'!$E29,ZuAbluft_Def[ZuAbluft_Definition],0))<>\"x\",INDEX(ZuAbluft_Def[Abluft],MATCH('Lüftung AbZuluft'!$E29,ZuAbluft_Def[ZuAbluft_Definition],0)),\"?\"))))","v":""},"","","","","","","","","","","",null,"","","","",null,"","","","",0,{"$f":"IF(BR29=0,\"\",MAX($BS$21:BS28)+1)","v":""}]
[null,null,{"$f":"IF(C29<MAX(Raumliste[Nummer]),C29+1,\"\")","v":""},{"$f":"IF(C30=\"\",\"\",INDEX(Raumliste_kompakt[Geschoß],MATCH(C30,Raumliste_kompakt[Nummer])))","v":""},{"$f":"IF(C30=\"\",\"\",INDEX(Raumliste_kompakt[Raum],MATCH(C30,Raumliste_kompakt[Nummer])))","v":""},{"$f":"IF(C30=\"\",\"\",INDEX(ZuAbluft_Def[Definition],MATCH('Lüftung AbZuluft'!E30,ZuAbluft_Def[ZuAbluft_Definition],0)))","v":""},null,null,null,null,null,null,null,"",null,{"$f":"IF(P29<MAX(Lüftungsvorschläge[Nummer]),P29+1,\"\")","v":""},{"$f":"IF(P30=\"\",\"\",INDEX(Raumliste_kompakt[Geschoß],MATCH(P30,Lüftungsvorschläge[Nummer],0)))","v":""},"",{"$f":"IF(P30=\"\",\"\",IF(INDEX(Lüftungsvorschläge[C],MATCH(P30,Lüftungsvorschläge[Nummer],0))<>\"\",INDEX(Lüftungsvorschläge[C],MATCH(P30,Lüftungsvorschläge[Nummer],0)),IF(INDEX(Lüftungsvorschläge[B],MATCH(P30,Lüftungsvorschläge[Nummer],0))<>\"\",INDEX(Lüftungsvorschläge[B],MATCH(P30,Lüftungsvorschläge[Nummer],0)),IF(INDEX(Lüftungsvorschläge[A1],MATCH(P30,Lüftungsvorschläge[Nummer],0))<>\"\",INDEX(Lüftungsvorschläge[A1],MATCH(P30,Lüftungsvorschläge[Nummer],0)),IF(INDEX(Lüftungsvorschläge[A2],MATCH(P30,Lüftungsvorschläge[Nummer],0))<>\"\",INDEX(Lüftungsvorschläge[A2],MATCH(P30,Lüftungsvorschläge[Nummer],0)),\"\")))))","v":""},null,null,null,null,null,null,"",{"$f":"IF(P30=\"\",\"\",IF(AND(INDEX(Lüftungsvorschläge[B],MATCH(P30,Lüftungsvorschläge[Nummer],0))<>\"\",INDEX(Lüftungsvorschläge[B],MATCH(P30,Lüftungsvorschläge[Nummer],0))<>S30),INDEX(Lüftungsvorschläge[B],MATCH(P30,Lüftungsvorschläge[Nummer],0)),IF(AND(INDEX(Lüftungsvorschläge[A1],MATCH(P30,Lüftungsvorschläge[Nummer],0))<>\"\",INDEX(Lüftungsvorschläge[A1],MATCH(P30,Lüftungsvorschläge[Nummer],0))<>S30),INDEX(Lüftungsvorschläge[A1],MATCH(P30,Lüftungsvorschläge[Nummer],0)),IF(AND(INDEX(Lüftungsvorschläge[A2],MATCH(P30,Lüftungsvorschläge[Nummer],0))<>\"\",INDEX(Lüftungsvorschläge[A2],MATCH(P30,Lüftungsvorschläge[Nummer],0))<>S30),INDEX(Lüftungsvorschläge[A2],MATCH(P30,Lüftungsvorschläge[Nummer],0)),\"\" ))))","v":""},null,null,null,"",{"$f":"IF(P30=\"\",\"\",IF(AND(INDEX(Lüftungsvorschläge[A1],MATCH(P30,Lüftungsvorschläge[Nummer],0))<>\"\",INDEX(Lüftungsvorschläge[A1],MATCH(P30,Lüftungsvorschläge[Nummer],0))<>AA30,INDEX(Lüftungsvorschläge[A1],MATCH(P30,Lüftungsvorschläge[Nummer],0))<>S30),INDEX(Lüftungsvorschläge[A1],MATCH(P30,Lüftungsvorschläge[Nummer],0)),IF(AND(INDEX(Lüftungsvorschläge[A2],MATCH(P30,Lüftungsvorschläge[Nummer],0))<>\"\",INDEX(Lüftungsvorschläge[A2],MATCH(P30,Lüftungsvorschläge[Nummer],0))<>AA30,INDEX(Lüftungsvorschläge[A2],MATCH(P30,Lüftungsvorschläge[Nummer],0))<>S30),INDEX(Lüftungsvorschläge[A2],MATCH(P30,Lüftungsvorschläge[Nummer],0)),\"\")))","v":""},null,null,null,null,null,"",null,"","","","",{"$f":"IF(C30=\"\",\"\",IF(OR(INDEX(Raumliste_kompakt[Raum],C30)=\"Küche\",INDEX(Raumliste_kompakt[Raum],C30)=\"Wohnküche\"),60,IF(ISNUMBER(AS30),IF(OR(AS30=2,AS30=3),20,IF(OR(AS30=4,AS30=5),40,0)),0)))","v":""},{"$f":"IF(COUNTIF(WW_Räume[Raumnr.],'Lüftung AbZuluft'!C30)=0,\"-\",INDEX(WW_Räume[Typ],MATCH('Lüftung AbZuluft'!C30,WW_Räume[Raumnr.],0)))","v":""},{"$f":"IF(D30=\"\",\"\",IF(D30<>D29,MAX($AT$21:AT29)+1,MAX($AT$21:AT29)))","v":""},{"$f":"IF(E30=\"\",\"\",IF(INDEX(ZuAbluft_Def[Zuluft],MATCH('Lüftung AbZuluft'!$E30,ZuAbluft_Def[ZuAbluft_Definition],0))<>\"x\",INDEX(ZuAbluft_Def[Zuluft],MATCH('Lüftung AbZuluft'!$E30,ZuAbluft_Def[ZuAbluft_Definition],0)),\"?\"))","v":""},{"$f":"IF(OR(AS30=2,AS30=3),$F$9,IF(OR(AS30=4,AS30=5),$F$8,IF(E30=\"\",\"\",IF(INDEX(ZuAbluft_Def[Abluft],MATCH('Lüftung AbZuluft'!$E30,ZuAbluft_Def[ZuAbluft_Definition],0))<>\"x\",INDEX(ZuAbluft_Def[Abluft],MATCH('Lüftung AbZuluft'!$E30,ZuAbluft_Def[ZuAbluft_Definition],0)),\"?\"))))","v":""},"","","","","","","","","","","",null,"","","","",null,"","","","",0,{"$f":"IF(BR30=0,\"\",MAX($BS$21:BS29)+1)","v":""}]
[null,null,{"$f":"IF(C30<MAX(Raumliste[Nummer]),C30+1,\"\")","v":""},{"$f":"IF(C31=\"\",\"\",INDEX(Raumliste_kompakt[Geschoß],MATCH(C31,Raumliste_kompakt[Nummer])))","v":""},{"$f":"IF(C31=\"\",\"\",INDEX(Raumliste_kompakt[Raum],MATCH(C31,Raumliste_kompakt[Nummer])))","v":""},{"$f":"IF(C31=\"\",\"\",INDEX(ZuAbluft_Def[Definition],MATCH('Lüftung AbZuluft'!E31,ZuAbluft_Def[ZuAbluft_Definition],0)))","v":""},null,null,null,null,null,null,null,"",null,{"$f":"IF(P30<MAX(Lüftungsvorschläge[Nummer]),P30+1,\"\")","v":""},{"$f":"IF(P31=\"\",\"\",INDEX(Raumliste_kompakt[Geschoß],MATCH(P31,Lüftungsvorschläge[Nummer],0)))","v":""},"",{"$f":"IF(P31=\"\",\"\",IF(INDEX(Lüftungsvorschläge[C],MATCH(P31,Lüftungsvorschläge[Nummer],0))<>\"\",INDEX(Lüftungsvorschläge[C],MATCH(P31,Lüftungsvorschläge[Nummer],0)),IF(INDEX(Lüftungsvorschläge[B],MATCH(P31,Lüftungsvorschläge[Nummer],0))<>\"\",INDEX(Lüftungsvorschläge[B],MATCH(P31,Lüftungsvorschläge[Nummer],0)),IF(INDEX(Lüftungsvorschläge[A1],MATCH(P31,Lüftungsvorschläge[Nummer],0))<>\"\",INDEX(Lüftungsvorschläge[A1],MATCH(P31,Lüftungsvorschläge[Nummer],0)),IF(INDEX(Lüftungsvorschläge[A2],MATCH(P31,Lüftungsvorschläge[Nummer],0))<>\"\",INDEX(Lüftungsvorschläge[A2],MATCH(P31,Lüftungsvorschläge[Nummer],0)),\"\")))))","v":""},null,null,null,null,null,null,"",{"$f":"IF(P31=\"\",\"\",IF(AND(INDEX(Lüftungsvorschläge[B],MATCH(P31,Lüftungsvorschläge[Nummer],0))<>\"\",INDEX(Lüftungsvorschläge[B],MATCH(P31,Lüftungsvorschläge[Nummer],0))<>S31),INDEX(Lüftungsvorschläge[B],MATCH(P31,Lüftungsvorschläge[Nummer],0)),IF(AND(INDEX(Lüftungsvorschläge[A1],MATCH(P31,Lüftungsvorschläge[Nummer],0))<>\"\",INDEX(Lüftungsvorschläge[A1],MATCH(P31,Lüftungsvorschläge[Nummer],0))<>S31),INDEX(Lüftungsvorschläge[A1],MATCH(P31,Lüftungsvorschläge[Nummer],0)),IF(AND(INDEX(Lüftungsvorschläge[A2],MATCH(P31,Lüftungsvorschläge[Nummer],0))<>\"\",INDEX(Lüftungsvorschläge[A2],MATCH(P31,Lüftungsvorschläge[Nummer],0))<>S31),INDEX(Lüftungsvorschläge[A2],MATCH(P31,Lüftungsvorschläge[Nummer],0)),\"\" ))))","v":""},null,null,null,"",{"$f":"IF(P31=\"\",\"\",IF(AND(INDEX(Lüftungsvorschläge[A1],MATCH(P31,Lüftungsvorschläge[Nummer],0))<>\"\",INDEX(Lüftungsvorschläge[A1],MATCH(P31,Lüftungsvorschläge[Nummer],0))<>AA31,INDEX(Lüftungsvorschläge[A1],MATCH(P31,Lüftungsvorschläge[Nummer],0))<>S31),INDEX(Lüftungsvorschläge[A1],MATCH(P31,Lüftungsvorschläge[Nummer],0)),IF(AND(INDEX(Lüftungsvorschläge[A2],MATCH(P31,Lüftungsvorschläge[Nummer],0))<>\"\",INDEX(Lüftungsvorschläge[A2],MATCH(P31,Lüftungsvorschläge[Nummer],0))<>AA31,INDEX(Lüftungsvorschläge[A2],MATCH(P31,Lüftungsvorschläge[Nummer],0))<>S31),INDEX(Lüftungsvorschläge[A2],MATCH(P31,Lüftungsvorschläge[Nummer],0)),\"\")))","v":""},null,null,null,null,null,"",null,"","","","",{"$f":"IF(C31=\"\",\"\",IF(OR(INDEX(Raumliste_kompakt[Raum],C31)=\"Küche\",INDEX(Raumliste_kompakt[Raum],C31)=\"Wohnküche\"),60,IF(ISNUMBER(AS31),IF(OR(AS31=2,AS31=3),20,IF(OR(AS31=4,AS31=5),40,0)),0)))","v":""},{"$f":"IF(COUNTIF(WW_Räume[Raumnr.],'Lüftung AbZuluft'!C31)=0,\"-\",INDEX(WW_Räume[Typ],MATCH('Lüftung AbZuluft'!C31,WW_Räume[Raumnr.],0)))","v":""},{"$f":"IF(D31=\"\",\"\",IF(D31<>D30,MAX($AT$21:AT30)+1,MAX($AT$21:AT30)))","v":""},{"$f":"IF(E31=\"\",\"\",IF(INDEX(ZuAbluft_Def[Zuluft],MATCH('Lüftung AbZuluft'!$E31,ZuAbluft_Def[ZuAbluft_Definition],0))<>\"x\",INDEX(ZuAbluft_Def[Zuluft],MATCH('Lüftung AbZuluft'!$E31,ZuAbluft_Def[ZuAbluft_Definition],0)),\"?\"))","v":""},{"$f":"IF(OR(AS31=2,AS31=3),$F$9,IF(OR(AS31=4,AS31=5),$F$8,IF(E31=\"\",\"\",IF(INDEX(ZuAbluft_Def[Abluft],MATCH('Lüftung AbZuluft'!$E31,ZuAbluft_Def[ZuAbluft_Definition],0))<>\"x\",INDEX(ZuAbluft_Def[Abluft],MATCH('Lüftung AbZuluft'!$E31,ZuAbluft_Def[ZuAbluft_Definition],0)),\"?\"))))","v":""},"","","","","","","","","","","",null,"","","","",null,"","","","",0,{"$f":"IF(BR31=0,\"\",MAX($BS$21:BS30)+1)","v":""}]
[null,null,{"$f":"IF(C31<MAX(Raumliste[Nummer]),C31+1,\"\")","v":""},{"$f":"IF(C32=\"\",\"\",INDEX(Raumliste_kompakt[Geschoß],MATCH(C32,Raumliste_kompakt[Nummer])))","v":""},{"$f":"IF(C32=\"\",\"\",INDEX(Raumliste_kompakt[Raum],MATCH(C32,Raumliste_kompakt[Nummer])))","v":""},{"$f":"IF(C32=\"\",\"\",INDEX(ZuAbluft_Def[Definition],MATCH('Lüftung AbZuluft'!E32,ZuAbluft_Def[ZuAbluft_Definition],0)))","v":""},null,null,null,null,null,null,null,"",null,{"$f":"IF(P31<MAX(Lüftungsvorschläge[Nummer]),P31+1,\"\")","v":""},{"$f":"IF(P32=\"\",\"\",INDEX(Raumliste_kompakt[Geschoß],MATCH(P32,Lüftungsvorschläge[Nummer],0)))","v":""},"",{"$f":"IF(P32=\"\",\"\",IF(INDEX(Lüftungsvorschläge[C],MATCH(P32,Lüftungsvorschläge[Nummer],0))<>\"\",INDEX(Lüftungsvorschläge[C],MATCH(P32,Lüftungsvorschläge[Nummer],0)),IF(INDEX(Lüftungsvorschläge[B],MATCH(P32,Lüftungsvorschläge[Nummer],0))<>\"\",INDEX(Lüftungsvorschläge[B],MATCH(P32,Lüftungsvorschläge[Nummer],0)),IF(INDEX(Lüftungsvorschläge[A1],MATCH(P32,Lüftungsvorschläge[Nummer],0))<>\"\",INDEX(Lüftungsvorschläge[A1],MATCH(P32,Lüftungsvorschläge[Nummer],0)),IF(INDEX(Lüftungsvorschläge[A2],MATCH(P32,Lüftungsvorschläge[Nummer],0))<>\"\",INDEX(Lüftungsvorschläge[A2],MATCH(P32,Lüftungsvorschläge[Nummer],0)),\"\")))))","v":""},null,null,null,null,null,null,"",{"$f":"IF(P32=\"\",\"\",IF(AND(INDEX(Lüftungsvorschläge[B],MATCH(P32,Lüftungsvorschläge[Nummer],0))<>\"\",INDEX(Lüftungsvorschläge[B],MATCH(P32,Lüftungsvorschläge[Nummer],0))<>S32),INDEX(Lüftungsvorschläge[B],MATCH(P32,Lüftungsvorschläge[Nummer],0)),IF(AND(INDEX(Lüftungsvorschläge[A1],MATCH(P32,Lüftungsvorschläge[Nummer],0))<>\"\",INDEX(Lüftungsvorschläge[A1],MATCH(P32,Lüftungsvorschläge[Nummer],0))<>S32),INDEX(Lüftungsvorschläge[A1],MATCH(P32,Lüftungsvorschläge[Nummer],0)),IF(AND(INDEX(Lüftungsvorschläge[A2],MATCH(P32,Lüftungsvorschläge[Nummer],0))<>\"\",INDEX(Lüftungsvorschläge[A2],MATCH(P32,Lüftungsvorschläge[Nummer],0))<>S32),INDEX(Lüftungsvorschläge[A2],MATCH(P32,Lüftungsvorschläge[Nummer],0)),\"\" ))))","v":""},null,null,null,"",{"$f":"IF(P32=\"\",\"\",IF(AND(INDEX(Lüftungsvorschläge[A1],MATCH(P32,Lüftungsvorschläge[Nummer],0))<>\"\",INDEX(Lüftungsvorschläge[A1],MATCH(P32,Lüftungsvorschläge[Nummer],0))<>AA32,INDEX(Lüftungsvorschläge[A1],MATCH(P32,Lüftungsvorschläge[Nummer],0))<>S32),INDEX(Lüftungsvorschläge[A1],MATCH(P32,Lüftungsvorschläge[Nummer],0)),IF(AND(INDEX(Lüftungsvorschläge[A2],MATCH(P32,Lüftungsvorschläge[Nummer],0))<>\"\",INDEX(Lüftungsvorschläge[A2],MATCH(P32,Lüftungsvorschläge[Nummer],0))<>AA32,INDEX(Lüftungsvorschläge[A2],MATCH(P32,Lüftungsvorschläge[Nummer],0))<>S32),INDEX(Lüftungsvorschläge[A2],MATCH(P32,Lüftungsvorschläge[Nummer],0)),\"\")))","v":""},null,null,null,null,null,"",null,"","","","",{"$f":"IF(C32=\"\",\"\",IF(OR(INDEX(Raumliste_kompakt[Raum],C32)=\"Küche\",INDEX(Raumliste_kompakt[Raum],C32)=\"Wohnküche\"),60,IF(ISNUMBER(AS32),IF(OR(AS32=2,AS32=3),20,IF(OR(AS32=4,AS32=5),40,0)),0)))","v":""},{"$f":"IF(COUNTIF(WW_Räume[Raumnr.],'Lüftung AbZuluft'!C32)=0,\"-\",INDEX(WW_Räume[Typ],MATCH('Lüftung AbZuluft'!C32,WW_Räume[Raumnr.],0)))","v":""},{"$f":"IF(D32=\"\",\"\",IF(D32<>D31,MAX($AT$21:AT31)+1,MAX($AT$21:AT31)))","v":""},{"$f":"IF(E32=\"\",\"\",IF(INDEX(ZuAbluft_Def[Zuluft],MATCH('Lüftung AbZuluft'!$E32,ZuAbluft_Def[ZuAbluft_Definition],0))<>\"x\",INDEX(ZuAbluft_Def[Zuluft],MATCH('Lüftung AbZuluft'!$E32,ZuAbluft_Def[ZuAbluft_Definition],0)),\"?\"))","v":""},{"$f":"IF(OR(AS32=2,AS32=3),$F$9,IF(OR(AS32=4,AS32=5),$F$8,IF(E32=\"\",\"\",IF(INDEX(ZuAbluft_Def[Abluft],MATCH('Lüftung AbZuluft'!$E32,ZuAbluft_Def[ZuAbluft_Definition],0))<>\"x\",INDEX(ZuAbluft_Def[Abluft],MATCH('Lüftung AbZuluft'!$E32,ZuAbluft_Def[ZuAbluft_Definition],0)),\"?\"))))","v":""},"","","","","","","","","","","",null,"","","","",null,"","","","",0,{"$f":"IF(BR32=0,\"\",MAX($BS$21:BS31)+1)","v":""}]
[null,null,{"$f":"IF(C32<MAX(Raumliste[Nummer]),C32+1,\"\")","v":""},{"$f":"IF(C33=\"\",\"\",INDEX(Raumliste_kompakt[Geschoß],MATCH(C33,Raumliste_kompakt[Nummer])))","v":""},{"$f":"IF(C33=\"\",\"\",INDEX(Raumliste_kompakt[Raum],MATCH(C33,Raumliste_kompakt[Nummer])))","v":""},{"$f":"IF(C33=\"\",\"\",INDEX(ZuAbluft_Def[Definition],MATCH('Lüftung AbZuluft'!E33,ZuAbluft_Def[ZuAbluft_Definition],0)))","v":""},null,null,null,null,null,null,null,"",null,{"$f":"IF(P32<MAX(Lüftungsvorschläge[Nummer]),P32+1,\"\")","v":""},{"$f":"IF(P33=\"\",\"\",INDEX(Raumliste_kompakt[Geschoß],MATCH(P33,Lüftungsvorschläge[Nummer],0)))","v":""},"",{"$f":"IF(P33=\"\",\"\",IF(INDEX(Lüftungsvorschläge[C],MATCH(P33,Lüftungsvorschläge[Nummer],0))<>\"\",INDEX(Lüftungsvorschläge[C],MATCH(P33,Lüftungsvorschläge[Nummer],0)),IF(INDEX(Lüftungsvorschläge[B],MATCH(P33,Lüftungsvorschläge[Nummer],0))<>\"\",INDEX(Lüftungsvorschläge[B],MATCH(P33,Lüftungsvorschläge[Nummer],0)),IF(INDEX(Lüftungsvorschläge[A1],MATCH(P33,Lüftungsvorschläge[Nummer],0))<>\"\",INDEX(Lüftungsvorschläge[A1],MATCH(P33,Lüftungsvorschläge[Nummer],0)),IF(INDEX(Lüftungsvorschläge[A2],MATCH(P33,Lüftungsvorschläge[Nummer],0))<>\"\",INDEX(Lüftungsvorschläge[A2],MATCH(P33,Lüftungsvorschläge[Nummer],0)),\"\")))))","v":""},null,null,null,null,null,null,"",{"$f":"IF(P33=\"\",\"\",IF(AND(INDEX(Lüftungsvorschläge[B],MATCH(P33,Lüftungsvorschläge[Nummer],0))<>\"\",INDEX(Lüftungsvorschläge[B],MATCH(P33,Lüftungsvorschläge[Nummer],0))<>S33),INDEX(Lüftungsvorschläge[B],MATCH(P33,Lüftungsvorschläge[Nummer],0)),IF(AND(INDEX(Lüftungsvorschläge[A1],MATCH(P33,Lüftungsvorschläge[Nummer],0))<>\"\",INDEX(Lüftungsvorschläge[A1],MATCH(P33,Lüftungsvorschläge[Nummer],0))<>S33),INDEX(Lüftungsvorschläge[A1],MATCH(P33,Lüftungsvorschläge[Nummer],0)),IF(AND(INDEX(Lüftungsvorschläge[A2],MATCH(P33,Lüftungsvorschläge[Nummer],0))<>\"\",INDEX(Lüftungsvorschläge[A2],MATCH(P33,Lüftungsvorschläge[Nummer],0))<>S33),INDEX(Lüftungsvorschläge[A2],MATCH(P33,Lüftungsvorschläge[Nummer],0)),\"\" ))))","v":""},null,null,null,"",{"$f":"IF(P33=\"\",\"\",IF(AND(INDEX(Lüftungsvorschläge[A1],MATCH(P33,Lüftungsvorschläge[Nummer],0))<>\"\",INDEX(Lüftungsvorschläge[A1],MATCH(P33,Lüftungsvorschläge[Nummer],0))<>AA33,INDEX(Lüftungsvorschläge[A1],MATCH(P33,Lüftungsvorschläge[Nummer],0))<>S33),INDEX(Lüftungsvorschläge[A1],MATCH(P33,Lüftungsvorschläge[Nummer],0)),IF(AND(INDEX(Lüftungsvorschläge[A2],MATCH(P33,Lüftungsvorschläge[Nummer],0))<>\"\",INDEX(Lüftungsvorschläge[A2],MATCH(P33,Lüftungsvorschläge[Nummer],0))<>AA33,INDEX(Lüftungsvorschläge[A2],MATCH(P33,Lüftungsvorschläge[Nummer],0))<>S33),INDEX(Lüftungsvorschläge[A2],MATCH(P33,Lüftungsvorschläge[Nummer],0)),\"\")))","v":""},null,null,null,null,null,"",null,"","","","",{"$f":"IF(C33=\"\",\"\",IF(OR(INDEX(Raumliste_kompakt[Raum],C33)=\"Küche\",INDEX(Raumliste_kompakt[Raum],C33)=\"Wohnküche\"),60,IF(ISNUMBER(AS33),IF(OR(AS33=2,AS33=3),20,IF(OR(AS33=4,AS33=5),40,0)),0)))","v":""},{"$f":"IF(COUNTIF(WW_Räume[Raumnr.],'Lüftung AbZuluft'!C33)=0,\"-\",INDEX(WW_Räume[Typ],MATCH('Lüftung AbZuluft'!C33,WW_Räume[Raumnr.],0)))","v":""},{"$f":"IF(D33=\"\",\"\",IF(D33<>D32,MAX($AT$21:AT32)+1,MAX($AT$21:AT32)))","v":""},{"$f":"IF(E33=\"\",\"\",IF(INDEX(ZuAbluft_Def[Zuluft],MATCH('Lüftung AbZuluft'!$E33,ZuAbluft_Def[ZuAbluft_Definition],0))<>\"x\",INDEX(ZuAbluft_Def[Zuluft],MATCH('Lüftung AbZuluft'!$E33,ZuAbluft_Def[ZuAbluft_Definition],0)),\"?\"))","v":""},{"$f":"IF(OR(AS33=2,AS33=3),$F$9,IF(OR(AS33=4,AS33=5),$F$8,IF(E33=\"\",\"\",IF(INDEX(ZuAbluft_Def[Abluft],MATCH('Lüftung AbZuluft'!$E33,ZuAbluft_Def[ZuAbluft_Definition],0))<>\"x\",INDEX(ZuAbluft_Def[Abluft],MATCH('Lüftung AbZuluft'!$E33,ZuAbluft_Def[ZuAbluft_Definition],0)),\"?\"))))","v":""},"","","","","","","","","","","",null,"","","","",null,"","","","",0,{"$f":"IF(BR33=0,\"\",MAX($BS$21:BS32)+1)","v":""}]
[null,null,{"$f":"IF(C33<MAX(Raumliste[Nummer]),C33+1,\"\")","v":""},{"$f":"IF(C34=\"\",\"\",INDEX(Raumliste_kompakt[Geschoß],MATCH(C34,Raumliste_kompakt[Nummer])))","v":""},{"$f":"IF(C34=\"\",\"\",INDEX(Raumliste_kompakt[Raum],MATCH(C34,Raumliste_kompakt[Nummer])))","v":""},{"$f":"IF(C34=\"\",\"\",INDEX(ZuAbluft_Def[Definition],MATCH('Lüftung AbZuluft'!E34,ZuAbluft_Def[ZuAbluft_Definition],0)))","v":""},null,null,null,null,null,null,null,"",null,{"$f":"IF(P33<MAX(Lüftungsvorschläge[Nummer]),P33+1,\"\")","v":""},{"$f":"IF(P34=\"\",\"\",INDEX(Raumliste_kompakt[Geschoß],MATCH(P34,Lüftungsvorschläge[Nummer],0)))","v":""},"",{"$f":"IF(P34=\"\",\"\",IF(INDEX(Lüftungsvorschläge[C],MATCH(P34,Lüftungsvorschläge[Nummer],0))<>\"\",INDEX(Lüftungsvorschläge[C],MATCH(P34,Lüftungsvorschläge[Nummer],0)),IF(INDEX(Lüftungsvorschläge[B],MATCH(P34,Lüftungsvorschläge[Nummer],0))<>\"\",INDEX(Lüftungsvorschläge[B],MATCH(P34,Lüftungsvorschläge[Nummer],0)),IF(INDEX(Lüftungsvorschläge[A1],MATCH(P34,Lüftungsvorschläge[Nummer],0))<>\"\",INDEX(Lüftungsvorschläge[A1],MATCH(P34,Lüftungsvorschläge[Nummer],0)),IF(INDEX(Lüftungsvorschläge[A2],MATCH(P34,Lüftungsvorschläge[Nummer],0))<>\"\",INDEX(Lüftungsvorschläge[A2],MATCH(P34,Lüftungsvorschläge[Nummer],0)),\"\")))))","v":""},null,null,null,null,null,null,"",{"$f":"IF(P34=\"\",\"\",IF(AND(INDEX(Lüftungsvorschläge[B],MATCH(P34,Lüftungsvorschläge[Nummer],0))<>\"\",INDEX(Lüftungsvorschläge[B],MATCH(P34,Lüftungsvorschläge[Nummer],0))<>S34),INDEX(Lüftungsvorschläge[B],MATCH(P34,Lüftungsvorschläge[Nummer],0)),IF(AND(INDEX(Lüftungsvorschläge[A1],MATCH(P34,Lüftungsvorschläge[Nummer],0))<>\"\",INDEX(Lüftungsvorschläge[A1],MATCH(P34,Lüftungsvorschläge[Nummer],0))<>S34),INDEX(Lüftungsvorschläge[A1],MATCH(P34,Lüftungsvorschläge[Nummer],0)),IF(AND(INDEX(Lüftungsvorschläge[A2],MATCH(P34,Lüftungsvorschläge[Nummer],0))<>\"\",INDEX(Lüftungsvorschläge[A2],MATCH(P34,Lüftungsvorschläge[Nummer],0))<>S34),INDEX(Lüftungsvorschläge[A2],MATCH(P34,Lüftungsvorschläge[Nummer],0)),\"\" ))))","v":""},null,null,null,"",{"$f":"IF(P34=\"\",\"\",IF(AND(INDEX(Lüftungsvorschläge[A1],MATCH(P34,Lüftungsvorschläge[Nummer],0))<>\"\",INDEX(Lüftungsvorschläge[A1],MATCH(P34,Lüftungsvorschläge[Nummer],0))<>AA34,INDEX(Lüftungsvorschläge[A1],MATCH(P34,Lüftungsvorschläge[Nummer],0))<>S34),INDEX(Lüftungsvorschläge[A1],MATCH(P34,Lüftungsvorschläge[Nummer],0)),IF(AND(INDEX(Lüftungsvorschläge[A2],MATCH(P34,Lüftungsvorschläge[Nummer],0))<>\"\",INDEX(Lüftungsvorschläge[A2],MATCH(P34,Lüftungsvorschläge[Nummer],0))<>AA34,INDEX(Lüftungsvorschläge[A2],MATCH(P34,Lüftungsvorschläge[Nummer],0))<>S34),INDEX(Lüftungsvorschläge[A2],MATCH(P34,Lüftungsvorschläge[Nummer],0)),\"\")))","v":""},null,null,null,null,null,"",null,"","","","",{"$f":"IF(C34=\"\",\"\",IF(OR(INDEX(Raumliste_kompakt[Raum],C34)=\"Küche\",INDEX(Raumliste_kompakt[Raum],C34)=\"Wohnküche\"),60,IF(ISNUMBER(AS34),IF(OR(AS34=2,AS34=3),20,IF(OR(AS34=4,AS34=5),40,0)),0)))","v":""},{"$f":"IF(COUNTIF(WW_Räume[Raumnr.],'Lüftung AbZuluft'!C34)=0,\"-\",INDEX(WW_Räume[Typ],MATCH('Lüftung AbZuluft'!C34,WW_Räume[Raumnr.],0)))","v":""},{"$f":"IF(D34=\"\",\"\",IF(D34<>D33,MAX($AT$21:AT33)+1,MAX($AT$21:AT33)))","v":""},{"$f":"IF(E34=\"\",\"\",IF(INDEX(ZuAbluft_Def[Zuluft],MATCH('Lüftung AbZuluft'!$E34,ZuAbluft_Def[ZuAbluft_Definition],0))<>\"x\",INDEX(ZuAbluft_Def[Zuluft],MATCH('Lüftung AbZuluft'!$E34,ZuAbluft_Def[ZuAbluft_Definition],0)),\"?\"))","v":""},{"$f":"IF(OR(AS34=2,AS34=3),$F$9,IF(OR(AS34=4,AS34=5),$F$8,IF(E34=\"\",\"\",IF(INDEX(ZuAbluft_Def[Abluft],MATCH('Lüftung AbZuluft'!$E34,ZuAbluft_Def[ZuAbluft_Definition],0))<>\"x\",INDEX(ZuAbluft_Def[Abluft],MATCH('Lüftung AbZuluft'!$E34,ZuAbluft_Def[ZuAbluft_Definition],0)),\"?\"))))","v":""},"","","","","","","","","","","",null,"","","","",null,"","","","",0,{"$f":"IF(BR34=0,\"\",MAX($BS$21:BS33)+1)","v":""}]
[null,null,{"$f":"IF(C34<MAX(Raumliste[Nummer]),C34+1,\"\")","v":""},{"$f":"IF(C35=\"\",\"\",INDEX(Raumliste_kompakt[Geschoß],MATCH(C35,Raumliste_kompakt[Nummer])))","v":""},{"$f":"IF(C35=\"\",\"\",INDEX(Raumliste_kompakt[Raum],MATCH(C35,Raumliste_kompakt[Nummer])))","v":""},{"$f":"IF(C35=\"\",\"\",INDEX(ZuAbluft_Def[Definition],MATCH('Lüftung AbZuluft'!E35,ZuAbluft_Def[ZuAbluft_Definition],0)))","v":""},null,null,null,null,null,null,null,"",null,{"$f":"IF(P34<MAX(Lüftungsvorschläge[Nummer]),P34+1,\"\")","v":""},{"$f":"IF(P35=\"\",\"\",INDEX(Raumliste_kompakt[Geschoß],MATCH(P35,Lüftungsvorschläge[Nummer],0)))","v":""},"",{"$f":"IF(P35=\"\",\"\",IF(INDEX(Lüftungsvorschläge[C],MATCH(P35,Lüftungsvorschläge[Nummer],0))<>\"\",INDEX(Lüftungsvorschläge[C],MATCH(P35,Lüftungsvorschläge[Nummer],0)),IF(INDEX(Lüftungsvorschläge[B],MATCH(P35,Lüftungsvorschläge[Nummer],0))<>\"\",INDEX(Lüftungsvorschläge[B],MATCH(P35,Lüftungsvorschläge[Nummer],0)),IF(INDEX(Lüftungsvorschläge[A1],MATCH(P35,Lüftungsvorschläge[Nummer],0))<>\"\",INDEX(Lüftungsvorschläge[A1],MATCH(P35,Lüftungsvorschläge[Nummer],0)),IF(INDEX(Lüftungsvorschläge[A2],MATCH(P35,Lüftungsvorschläge[Nummer],0))<>\"\",INDEX(Lüftungsvorschläge[A2],MATCH(P35,Lüftungsvorschläge[Nummer],0)),\"\")))))","v":""},null,null,null,null,null,null,"",{"$f":"IF(P35=\"\",\"\",IF(AND(INDEX(Lüftungsvorschläge[B],MATCH(P35,Lüftungsvorschläge[Nummer],0))<>\"\",INDEX(Lüftungsvorschläge[B],MATCH(P35,Lüftungsvorschläge[Nummer],0))<>S35),INDEX(Lüftungsvorschläge[B],MATCH(P35,Lüftungsvorschläge[Nummer],0)),IF(AND(INDEX(Lüftungsvorschläge[A1],MATCH(P35,Lüftungsvorschläge[Nummer],0))<>\"\",INDEX(Lüftungsvorschläge[A1],MATCH(P35,Lüftungsvorschläge[Nummer],0))<>S35),INDEX(Lüftungsvorschläge[A1],MATCH(P35,Lüftungsvorschläge[Nummer],0)),IF(AND(INDEX(Lüftungsvorschläge[A2],MATCH(P35,Lüftungsvorschläge[Nummer],0))<>\"\",INDEX(Lüftungsvorschläge[A2],MATCH(P35,Lüftungsvorschläge[Nummer],0))<>S35),INDEX(Lüftungsvorschläge[A2],MATCH(P35,Lüftungsvorschläge[Nummer],0)),\"\" ))))","v":""},null,null,null,"",{"$f":"IF(P35=\"\",\"\",IF(AND(INDEX(Lüftungsvorschläge[A1],MATCH(P35,Lüftungsvorschläge[Nummer],0))<>\"\",INDEX(Lüftungsvorschläge[A1],MATCH(P35,Lüftungsvorschläge[Nummer],0))<>AA35,INDEX(Lüftungsvorschläge[A1],MATCH(P35,Lüftungsvorschläge[Nummer],0))<>S35),INDEX(Lüftungsvorschläge[A1],MATCH(P35,Lüftungsvorschläge[Nummer],0)),IF(AND(INDEX(Lüftungsvorschläge[A2],MATCH(P35,Lüftungsvorschläge[Nummer],0))<>\"\",INDEX(Lüftungsvorschläge[A2],MATCH(P35,Lüftungsvorschläge[Nummer],0))<>AA35,INDEX(Lüftungsvorschläge[A2],MATCH(P35,Lüftungsvorschläge[Nummer],0))<>S35),INDEX(Lüftungsvorschläge[A2],MATCH(P35,Lüftungsvorschläge[Nummer],0)),\"\")))","v":""},null,null,null,null,null,"",null,"","","","",{"$f":"IF(C35=\"\",\"\",IF(OR(INDEX(Raumliste_kompakt[Raum],C35)=\"Küche\",INDEX(Raumliste_kompakt[Raum],C35)=\"Wohnküche\"),60,IF(ISNUMBER(AS35),IF(OR(AS35=2,AS35=3),20,IF(OR(AS35=4,AS35=5),40,0)),0)))","v":""},{"$f":"IF(COUNTIF(WW_Räume[Raumnr.],'Lüftung AbZuluft'!C35)=0,\"-\",INDEX(WW_Räume[Typ],MATCH('Lüftung AbZuluft'!C35,WW_Räume[Raumnr.],0)))","v":""},{"$f":"IF(D35=\"\",\"\",IF(D35<>D34,MAX($AT$21:AT34)+1,MAX($AT$21:AT34)))","v":""},{"$f":"IF(E35=\"\",\"\",IF(INDEX(ZuAbluft_Def[Zuluft],MATCH('Lüftung AbZuluft'!$E35,ZuAbluft_Def[ZuAbluft_Definition],0))<>\"x\",INDEX(ZuAbluft_Def[Zuluft],MATCH('Lüftung AbZuluft'!$E35,ZuAbluft_Def[ZuAbluft_Definition],0)),\"?\"))","v":""},{"$f":"IF(OR(AS35=2,AS35=3),$F$9,IF(OR(AS35=4,AS35=5),$F$8,IF(E35=\"\",\"\",IF(INDEX(ZuAbluft_Def[Abluft],MATCH('Lüftung AbZuluft'!$E35,ZuAbluft_Def[ZuAbluft_Definition],0))<>\"x\",INDEX(ZuAbluft_Def[Abluft],MATCH('Lüftung AbZuluft'!$E35,ZuAbluft_Def[ZuAbluft_Definition],0)),\"?\"))))","v":""},"","","","","","","","","","","",null,"","","","",null,"","","","",0,{"$f":"IF(BR35=0,\"\",MAX($BS$21:BS34)+1)","v":""}]
[null,null,{"$f":"IF(C35<MAX(Raumliste[Nummer]),C35+1,\"\")","v":""},{"$f":"IF(C36=\"\",\"\",INDEX(Raumliste_kompakt[Geschoß],MATCH(C36,Raumliste_kompakt[Nummer])))","v":""},{"$f":"IF(C36=\"\",\"\",INDEX(Raumliste_kompakt[Raum],MATCH(C36,Raumliste_kompakt[Nummer])))","v":""},{"$f":"IF(C36=\"\",\"\",INDEX(ZuAbluft_Def[Definition],MATCH('Lüftung AbZuluft'!E36,ZuAbluft_Def[ZuAbluft_Definition],0)))","v":""},null,null,null,null,null,null,null,"",null,{"$f":"IF(P35<MAX(Lüftungsvorschläge[Nummer]),P35+1,\"\")","v":""},{"$f":"IF(P36=\"\",\"\",INDEX(Raumliste_kompakt[Geschoß],MATCH(P36,Lüftungsvorschläge[Nummer],0)))","v":""},"",{"$f":"IF(P36=\"\",\"\",IF(INDEX(Lüftungsvorschläge[C],MATCH(P36,Lüftungsvorschläge[Nummer],0))<>\"\",INDEX(Lüftungsvorschläge[C],MATCH(P36,Lüftungsvorschläge[Nummer],0)),IF(INDEX(Lüftungsvorschläge[B],MATCH(P36,Lüftungsvorschläge[Nummer],0))<>\"\",INDEX(Lüftungsvorschläge[B],MATCH(P36,Lüftungsvorschläge[Nummer],0)),IF(INDEX(Lüftungsvorschläge[A1],MATCH(P36,Lüftungsvorschläge[Nummer],0))<>\"\",INDEX(Lüftungsvorschläge[A1],MATCH(P36,Lüftungsvorschläge[Nummer],0)),IF(INDEX(Lüftungsvorschläge[A2],MATCH(P36,Lüftungsvorschläge[Nummer],0))<>\"\",INDEX(Lüftungsvorschläge[A2],MATCH(P36,Lüftungsvorschläge[Nummer],0)),\"\")))))","v":""},null,null,null,null,null,null,"",{"$f":"IF(P36=\"\",\"\",IF(AND(INDEX(Lüftungsvorschläge[B],MATCH(P36,Lüftungsvorschläge[Nummer],0))<>\"\",INDEX(Lüftungsvorschläge[B],MATCH(P36,Lüftungsvorschläge[Nummer],0))<>S36),INDEX(Lüftungsvorschläge[B],MATCH(P36,Lüftungsvorschläge[Nummer],0)),IF(AND(INDEX(Lüftungsvorschläge[A1],MATCH(P36,Lüftungsvorschläge[Nummer],0))<>\"\",INDEX(Lüftungsvorschläge[A1],MATCH(P36,Lüftungsvorschläge[Nummer],0))<>S36),INDEX(Lüftungsvorschläge[A1],MATCH(P36,Lüftungsvorschläge[Nummer],0)),IF(AND(INDEX(Lüftungsvorschläge[A2],MATCH(P36,Lüftungsvorschläge[Nummer],0))<>\"\",INDEX(Lüftungsvorschläge[A2],MATCH(P36,Lüftungsvorschläge[Nummer],0))<>S36),INDEX(Lüftungsvorschläge[A2],MATCH(P36,Lüftungsvorschläge[Nummer],0)),\"\" ))))","v":""},null,null,null,"",{"$f":"IF(P36=\"\",\"\",IF(AND(INDEX(Lüftungsvorschläge[A1],MATCH(P36,Lüftungsvorschläge[Nummer],0))<>\"\",INDEX(Lüftungsvorschläge[A1],MATCH(P36,Lüftungsvorschläge[Nummer],0))<>AA36,INDEX(Lüftungsvorschläge[A1],MATCH(P36,Lüftungsvorschläge[Nummer],0))<>S36),INDEX(Lüftungsvorschläge[A1],MATCH(P36,Lüftungsvorschläge[Nummer],0)),IF(AND(INDEX(Lüftungsvorschläge[A2],MATCH(P36,Lüftungsvorschläge[Nummer],0))<>\"\",INDEX(Lüftungsvorschläge[A2],MATCH(P36,Lüftungsvorschläge[Nummer],0))<>AA36,INDEX(Lüftungsvorschläge[A2],MATCH(P36,Lüftungsvorschläge[Nummer],0))<>S36),INDEX(Lüftungsvorschläge[A2],MATCH(P36,Lüftungsvorschläge[Nummer],0)),\"\")))","v":""},null,null,null,null,null,"",null,"","","","",{"$f":"IF(C36=\"\",\"\",IF(OR(INDEX(Raumliste_kompakt[Raum],C36)=\"Küche\",INDEX(Raumliste_kompakt[Raum],C36)=\"Wohnküche\"),60,IF(ISNUMBER(AS36),IF(OR(AS36=2,AS36=3),20,IF(OR(AS36=4,AS36=5),40,0)),0)))","v":""},{"$f":"IF(COUNTIF(WW_Räume[Raumnr.],'Lüftung AbZuluft'!C36)=0,\"-\",INDEX(WW_Räume[Typ],MATCH('Lüftung AbZuluft'!C36,WW_Räume[Raumnr.],0)))","v":""},{"$f":"IF(D36=\"\",\"\",IF(D36<>D35,MAX($AT$21:AT35)+1,MAX($AT$21:AT35)))","v":""},{"$f":"IF(E36=\"\",\"\",IF(INDEX(ZuAbluft_Def[Zuluft],MATCH('Lüftung AbZuluft'!$E36,ZuAbluft_Def[ZuAbluft_Definition],0))<>\"x\",INDEX(ZuAbluft_Def[Zuluft],MATCH('Lüftung AbZuluft'!$E36,ZuAbluft_Def[ZuAbluft_Definition],0)),\"?\"))","v":""},{"$f":"IF(OR(AS36=2,AS36=3),$F$9,IF(OR(AS36=4,AS36=5),$F$8,IF(E36=\"\",\"\",IF(INDEX(ZuAbluft_Def[Abluft],MATCH('Lüftung AbZuluft'!$E36,ZuAbluft_Def[ZuAbluft_Definition],0))<>\"x\",INDEX(ZuAbluft_Def[Abluft],MATCH('Lüftung AbZuluft'!$E36,ZuAbluft_Def[ZuAbluft_Definition],0)),\"?\"))))","v":""},"","","","","","","","","","","",null,"","","","",null,"","","","",0,{"$f":"IF(BR36=0,\"\",MAX($BS$21:BS35)+1)","v":""}]
[null,null,{"$f":"IF(C36<MAX(Raumliste[Nummer]),C36+1,\"\")","v":""},{"$f":"IF(C37=\"\",\"\",INDEX(Raumliste_kompakt[Geschoß],MATCH(C37,Raumliste_kompakt[Nummer])))","v":""},{"$f":"IF(C37=\"\",\"\",INDEX(Raumliste_kompakt[Raum],MATCH(C37,Raumliste_kompakt[Nummer])))","v":""},{"$f":"IF(C37=\"\",\"\",INDEX(ZuAbluft_Def[Definition],MATCH('Lüftung AbZuluft'!E37,ZuAbluft_Def[ZuAbluft_Definition],0)))","v":""},null,null,null,null,null,null,null,"",null,{"$f":"IF(P36<MAX(Lüftungsvorschläge[Nummer]),P36+1,\"\")","v":""},{"$f":"IF(P37=\"\",\"\",INDEX(Raumliste_kompakt[Geschoß],MATCH(P37,Lüftungsvorschläge[Nummer],0)))","v":""},"",{"$f":"IF(P37=\"\",\"\",IF(INDEX(Lüftungsvorschläge[C],MATCH(P37,Lüftungsvorschläge[Nummer],0))<>\"\",INDEX(Lüftungsvorschläge[C],MATCH(P37,Lüftungsvorschläge[Nummer],0)),IF(INDEX(Lüftungsvorschläge[B],MATCH(P37,Lüftungsvorschläge[Nummer],0))<>\"\",INDEX(Lüftungsvorschläge[B],MATCH(P37,Lüftungsvorschläge[Nummer],0)),IF(INDEX(Lüftungsvorschläge[A1],MATCH(P37,Lüftungsvorschläge[Nummer],0))<>\"\",INDEX(Lüftungsvorschläge[A1],MATCH(P37,Lüftungsvorschläge[Nummer],0)),IF(INDEX(Lüftungsvorschläge[A2],MATCH(P37,Lüftungsvorschläge[Nummer],0))<>\"\",INDEX(Lüftungsvorschläge[A2],MATCH(P37,Lüftungsvorschläge[Nummer],0)),\"\")))))","v":""},null,null,null,null,null,null,"",{"$f":"IF(P37=\"\",\"\",IF(AND(INDEX(Lüftungsvorschläge[B],MATCH(P37,Lüftungsvorschläge[Nummer],0))<>\"\",INDEX(Lüftungsvorschläge[B],MATCH(P37,Lüftungsvorschläge[Nummer],0))<>S37),INDEX(Lüftungsvorschläge[B],MATCH(P37,Lüftungsvorschläge[Nummer],0)),IF(AND(INDEX(Lüftungsvorschläge[A1],MATCH(P37,Lüftungsvorschläge[Nummer],0))<>\"\",INDEX(Lüftungsvorschläge[A1],MATCH(P37,Lüftungsvorschläge[Nummer],0))<>S37),INDEX(Lüftungsvorschläge[A1],MATCH(P37,Lüftungsvorschläge[Nummer],0)),IF(AND(INDEX(Lüftungsvorschläge[A2],MATCH(P37,Lüftungsvorschläge[Nummer],0))<>\"\",INDEX(Lüftungsvorschläge[A2],MATCH(P37,Lüftungsvorschläge[Nummer],0))<>S37),INDEX(Lüftungsvorschläge[A2],MATCH(P37,Lüftungsvorschläge[Nummer],0)),\"\" ))))","v":""},null,null,null,"",{"$f":"IF(P37=\"\",\"\",IF(AND(INDEX(Lüftungsvorschläge[A1],MATCH(P37,Lüftungsvorschläge[Nummer],0))<>\"\",INDEX(Lüftungsvorschläge[A1],MATCH(P37,Lüftungsvorschläge[Nummer],0))<>AA37,INDEX(Lüftungsvorschläge[A1],MATCH(P37,Lüftungsvorschläge[Nummer],0))<>S37),INDEX(Lüftungsvorschläge[A1],MATCH(P37,Lüftungsvorschläge[Nummer],0)),IF(AND(INDEX(Lüftungsvorschläge[A2],MATCH(P37,Lüftungsvorschläge[Nummer],0))<>\"\",INDEX(Lüftungsvorschläge[A2],MATCH(P37,Lüftungsvorschläge[Nummer],0))<>AA37,INDEX(Lüftungsvorschläge[A2],MATCH(P37,Lüftungsvorschläge[Nummer],0))<>S37),INDEX(Lüftungsvorschläge[A2],MATCH(P37,Lüftungsvorschläge[Nummer],0)),\"\")))","v":""},null,null,null,null,null,"",null,"","","","",{"$f":"IF(C37=\"\",\"\",IF(OR(INDEX(Raumliste_kompakt[Raum],C37)=\"Küche\",INDEX(Raumliste_kompakt[Raum],C37)=\"Wohnküche\"),60,IF(ISNUMBER(AS37),IF(OR(AS37=2,AS37=3),20,IF(OR(AS37=4,AS37=5),40,0)),0)))","v":""},{"$f":"IF(COUNTIF(WW_Räume[Raumnr.],'Lüftung AbZuluft'!C37)=0,\"-\",INDEX(WW_Räume[Typ],MATCH('Lüftung AbZuluft'!C37,WW_Räume[Raumnr.],0)))","v":""},{"$f":"IF(D37=\"\",\"\",IF(D37<>D36,MAX($AT$21:AT36)+1,MAX($AT$21:AT36)))","v":""},{"$f":"IF(E37=\"\",\"\",IF(INDEX(ZuAbluft_Def[Zuluft],MATCH('Lüftung AbZuluft'!$E37,ZuAbluft_Def[ZuAbluft_Definition],0))<>\"x\",INDEX(ZuAbluft_Def[Zuluft],MATCH('Lüftung AbZuluft'!$E37,ZuAbluft_Def[ZuAbluft_Definition],0)),\"?\"))","v":""},{"$f":"IF(OR(AS37=2,AS37=3),$F$9,IF(OR(AS37=4,AS37=5),$F$8,IF(E37=\"\",\"\",IF(INDEX(ZuAbluft_Def[Abluft],MATCH('Lüftung AbZuluft'!$E37,ZuAbluft_Def[ZuAbluft_Definition],0))<>\"x\",INDEX(ZuAbluft_Def[Abluft],MATCH('Lüftung AbZuluft'!$E37,ZuAbluft_Def[ZuAbluft_Definition],0)),\"?\"))))","v":""},"","","","","","","","",{"$f":"IF(OR(AW37=1,AW36=1),1,\"\")","v":""},{"$f":"IF(OR(AX37=1,AX38=1),1,\"\")","v":""},{"$f":"IF(OR(AY37=1,AZ37=1,AZ38=1,AY36=1),1,\"\")","v":""},null,{"$f":"IF(AW37=1,1,\"\")","v":""},{"$f":"IF(AX37=1,1,\"\")","v":""},{"$f":"IF(OR(AY37=1,AZ37=1),1,\"\")","v":""},{"$f":"IF(OR(BA37=1,BB37=1,BC37=1,BD37=1),1,\"\")","v":""},null,"","","","",0,{"$f":"IF(BR37=0,\"\",MAX($BS$21:BS36)+1)","v":""}]
[null,null,{"$f":"IF(C37<MAX(Raumliste[Nummer]),C37+1,\"\")","v":""},{"$f":"IF(C38=\"\",\"\",INDEX(Raumliste_kompakt[Geschoß],MATCH(C38,Raumliste_kompakt[Nummer])))","v":""},{"$f":"IF(C38=\"\",\"\",INDEX(Raumliste_kompakt[Raum],MATCH(C38,Raumliste_kompakt[Nummer])))","v":""},{"$f":"IF(C38=\"\",\"\",INDEX(ZuAbluft_Def[Definition],MATCH('Lüftung AbZuluft'!E38,ZuAbluft_Def[ZuAbluft_Definition],0)))","v":""},null,null,null,null,null,null,null,"",null,{"$f":"IF(P37<MAX(Lüftungsvorschläge[Nummer]),P37+1,\"\")","v":""},{"$f":"IF(P38=\"\",\"\",INDEX(Raumliste_kompakt[Geschoß],MATCH(P38,Lüftungsvorschläge[Nummer],0)))","v":""},"",{"$f":"IF(P38=\"\",\"\",IF(INDEX(Lüftungsvorschläge[C],MATCH(P38,Lüftungsvorschläge[Nummer],0))<>\"\",INDEX(Lüftungsvorschläge[C],MATCH(P38,Lüftungsvorschläge[Nummer],0)),IF(INDEX(Lüftungsvorschläge[B],MATCH(P38,Lüftungsvorschläge[Nummer],0))<>\"\",INDEX(Lüftungsvorschläge[B],MATCH(P38,Lüftungsvorschläge[Nummer],0)),IF(INDEX(Lüftungsvorschläge[A1],MATCH(P38,Lüftungsvorschläge[Nummer],0))<>\"\",INDEX(Lüftungsvorschläge[A1],MATCH(P38,Lüftungsvorschläge[Nummer],0)),IF(INDEX(Lüftungsvorschläge[A2],MATCH(P38,Lüftungsvorschläge[Nummer],0))<>\"\",INDEX(Lüftungsvorschläge[A2],MATCH(P38,Lüftungsvorschläge[Nummer],0)),\"\")))))","v":""},null,null,null,null,null,null,"",{"$f":"IF(P38=\"\",\"\",IF(AND(INDEX(Lüftungsvorschläge[B],MATCH(P38,Lüftungsvorschläge[Nummer],0))<>\"\",INDEX(Lüftungsvorschläge[B],MATCH(P38,Lüftungsvorschläge[Nummer],0))<>S38),INDEX(Lüftungsvorschläge[B],MATCH(P38,Lüftungsvorschläge[Nummer],0)),IF(AND(INDEX(Lüftungsvorschläge[A1],MATCH(P38,Lüftungsvorschläge[Nummer],0))<>\"\",INDEX(Lüftungsvorschläge[A1],MATCH(P38,Lüftungsvorschläge[Nummer],0))<>S38),INDEX(Lüftungsvorschläge[A1],MATCH(P38,Lüftungsvorschläge[Nummer],0)),IF(AND(INDEX(Lüftungsvorschläge[A2],MATCH(P38,Lüftungsvorschläge[Nummer],0))<>\"\",INDEX(Lüftungsvorschläge[A2],MATCH(P38,Lüftungsvorschläge[Nummer],0))<>S38),INDEX(Lüftungsvorschläge[A2],MATCH(P38,Lüftungsvorschläge[Nummer],0)),\"\" ))))","v":""},null,null,null,"",{"$f":"IF(P38=\"\",\"\",IF(AND(INDEX(Lüftungsvorschläge[A1],MATCH(P38,Lüftungsvorschläge[Nummer],0))<>\"\",INDEX(Lüftungsvorschläge[A1],MATCH(P38,Lüftungsvorschläge[Nummer],0))<>AA38,INDEX(Lüftungsvorschläge[A1],MATCH(P38,Lüftungsvorschläge[Nummer],0))<>S38),INDEX(Lüftungsvorschläge[A1],MATCH(P38,Lüftungsvorschläge[Nummer],0)),IF(AND(INDEX(Lüftungsvorschläge[A2],MATCH(P38,Lüftungsvorschläge[Nummer],0))<>\"\",INDEX(Lüftungsvorschläge[A2],MATCH(P38,Lüftungsvorschläge[Nummer],0))<>AA38,INDEX(Lüftungsvorschläge[A2],MATCH(P38,Lüftungsvorschläge[Nummer],0))<>S38),INDEX(Lüftungsvorschläge[A2],MATCH(P38,Lüftungsvorschläge[Nummer],0)),\"\")))","v":""},null,null,null,null,null,"",null,"","","","",{"$f":"IF(C38=\"\",\"\",IF(OR(INDEX(Raumliste_kompakt[Raum],C38)=\"Küche\",INDEX(Raumliste_kompakt[Raum],C38)=\"Wohnküche\"),60,IF(ISNUMBER(AS38),IF(OR(AS38=2,AS38=3),20,IF(OR(AS38=4,AS38=5),40,0)),0)))","v":""},{"$f":"IF(COUNTIF(WW_Räume[Raumnr.],'Lüftung AbZuluft'!C38)=0,\"-\",INDEX(WW_Räume[Typ],MATCH('Lüftung AbZuluft'!C38,WW_Räume[Raumnr.],0)))","v":""},{"$f":"IF(D38=\"\",\"\",IF(D38<>D37,MAX($AT$21:AT37)+1,MAX($AT$21:AT37)))","v":""},{"$f":"IF(E38=\"\",\"\",IF(INDEX(ZuAbluft_Def[Zuluft],MATCH('Lüftung AbZuluft'!$E38,ZuAbluft_Def[ZuAbluft_Definition],0))<>\"x\",INDEX(ZuAbluft_Def[Zuluft],MATCH('Lüftung AbZuluft'!$E38,ZuAbluft_Def[ZuAbluft_Definition],0)),\"?\"))","v":""},{"$f":"IF(OR(AS38=2,AS38=3),$F$9,IF(OR(AS38=4,AS38=5),$F$8,IF(E38=\"\",\"\",IF(INDEX(ZuAbluft_Def[Abluft],MATCH('Lüftung AbZuluft'!$E38,ZuAbluft_Def[ZuAbluft_Definition],0))<>\"x\",INDEX(ZuAbluft_Def[Abluft],MATCH('Lüftung AbZuluft'!$E38,ZuAbluft_Def[ZuAbluft_Definition],0)),\"?\"))))","v":""},"","","","","","","","","","","",null,"","","","",null,"","","","",0,{"$f":"IF(BR38=0,\"\",MAX($BS$21:BS37)+1)","v":""}]
[null,null,{"$f":"IF(C38<MAX(Raumliste[Nummer]),C38+1,\"\")","v":""},{"$f":"IF(C39=\"\",\"\",INDEX(Raumliste_kompakt[Geschoß],MATCH(C39,Raumliste_kompakt[Nummer])))","v":""},{"$f":"IF(C39=\"\",\"\",INDEX(Raumliste_kompakt[Raum],MATCH(C39,Raumliste_kompakt[Nummer])))","v":""},{"$f":"IF(C39=\"\",\"\",INDEX(ZuAbluft_Def[Definition],MATCH('Lüftung AbZuluft'!E39,ZuAbluft_Def[ZuAbluft_Definition],0)))","v":""},null,null,null,null,null,null,null,"",null,{"$f":"IF(P38<MAX(Lüftungsvorschläge[Nummer]),P38+1,\"\")","v":""},{"$f":"IF(P39=\"\",\"\",INDEX(Raumliste_kompakt[Geschoß],MATCH(P39,Lüftungsvorschläge[Nummer],0)))","v":""},"",{"$f":"IF(P39=\"\",\"\",IF(INDEX(Lüftungsvorschläge[C],MATCH(P39,Lüftungsvorschläge[Nummer],0))<>\"\",INDEX(Lüftungsvorschläge[C],MATCH(P39,Lüftungsvorschläge[Nummer],0)),IF(INDEX(Lüftungsvorschläge[B],MATCH(P39,Lüftungsvorschläge[Nummer],0))<>\"\",INDEX(Lüftungsvorschläge[B],MATCH(P39,Lüftungsvorschläge[Nummer],0)),IF(INDEX(Lüftungsvorschläge[A1],MATCH(P39,Lüftungsvorschläge[Nummer],0))<>\"\",INDEX(Lüftungsvorschläge[A1],MATCH(P39,Lüftungsvorschläge[Nummer],0)),IF(INDEX(Lüftungsvorschläge[A2],MATCH(P39,Lüftungsvorschläge[Nummer],0))<>\"\",INDEX(Lüftungsvorschläge[A2],MATCH(P39,Lüftungsvorschläge[Nummer],0)),\"\")))))","v":""},null,null,null,null,null,null,"",{"$f":"IF(P39=\"\",\"\",IF(AND(INDEX(Lüftungsvorschläge[B],MATCH(P39,Lüftungsvorschläge[Nummer],0))<>\"\",INDEX(Lüftungsvorschläge[B],MATCH(P39,Lüftungsvorschläge[Nummer],0))<>S39),INDEX(Lüftungsvorschläge[B],MATCH(P39,Lüftungsvorschläge[Nummer],0)),IF(AND(INDEX(Lüftungsvorschläge[A1],MATCH(P39,Lüftungsvorschläge[Nummer],0))<>\"\",INDEX(Lüftungsvorschläge[A1],MATCH(P39,Lüftungsvorschläge[Nummer],0))<>S39),INDEX(Lüftungsvorschläge[A1],MATCH(P39,Lüftungsvorschläge[Nummer],0)),IF(AND(INDEX(Lüftungsvorschläge[A2],MATCH(P39,Lüftungsvorschläge[Nummer],0))<>\"\",INDEX(Lüftungsvorschläge[A2],MATCH(P39,Lüftungsvorschläge[Nummer],0))<>S39),INDEX(Lüftungsvorschläge[A2],MATCH(P39,Lüftungsvorschläge[Nummer],0)),\"\" ))))","v":""},null,null,null,"",{"$f":"IF(P39=\"\",\"\",IF(AND(INDEX(Lüftungsvorschläge[A1],MATCH(P39,Lüftungsvorschläge[Nummer],0))<>\"\",INDEX(Lüftungsvorschläge[A1],MATCH(P39,Lüftungsvorschläge[Nummer],0))<>AA39,INDEX(Lüftungsvorschläge[A1],MATCH(P39,Lüftungsvorschläge[Nummer],0))<>S39),INDEX(Lüftungsvorschläge[A1],MATCH(P39,Lüftungsvorschläge[Nummer],0)),IF(AND(INDEX(Lüftungsvorschläge[A2],MATCH(P39,Lüftungsvorschläge[Nummer],0))<>\"\",INDEX(Lüftungsvorschläge[A2],MATCH(P39,Lüftungsvorschläge[Nummer],0))<>AA39,INDEX(Lüftungsvorschläge[A2],MATCH(P39,Lüftungsvorschläge[Nummer],0))<>S39),INDEX(Lüftungsvorschläge[A2],MATCH(P39,Lüftungsvorschläge[Nummer],0)),\"\")))","v":""},null,null,null,null,null,"",null,"","","","",{"$f":"IF(C39=\"\",\"\",IF(OR(INDEX(Raumliste_kompakt[Raum],C39)=\"Küche\",INDEX(Raumliste_kompakt[Raum],C39)=\"Wohnküche\"),60,IF(ISNUMBER(AS39),IF(OR(AS39=2,AS39=3),20,IF(OR(AS39=4,AS39=5),40,0)),0)))","v":""},{"$f":"IF(COUNTIF(WW_Räume[Raumnr.],'Lüftung AbZuluft'!C39)=0,\"-\",INDEX(WW_Räume[Typ],MATCH('Lüftung AbZuluft'!C39,WW_Räume[Raumnr.],0)))","v":""},{"$f":"IF(D39=\"\",\"\",IF(D39<>D38,MAX($AT$21:AT38)+1,MAX($AT$21:AT38)))","v":""},{"$f":"IF(E39=\"\",\"\",IF(INDEX(ZuAbluft_Def[Zuluft],MATCH('Lüftung AbZuluft'!$E39,ZuAbluft_Def[ZuAbluft_Definition],0))<>\"x\",INDEX(ZuAbluft_Def[Zuluft],MATCH('Lüftung AbZuluft'!$E39,ZuAbluft_Def[ZuAbluft_Definition],0)),\"?\"))","v":""},{"$f":"IF(OR(AS39=2,AS39=3),$F$9,IF(OR(AS39=4,AS39=5),$F$8,IF(E39=\"\",\"\",IF(INDEX(ZuAbluft_Def[Abluft],MATCH('Lüftung AbZuluft'!$E39,ZuAbluft_Def[ZuAbluft_Definition],0))<>\"x\",INDEX(ZuAbluft_Def[Abluft],MATCH('Lüftung AbZuluft'!$E39,ZuAbluft_Def[ZuAbluft_Definition],0)),\"?\"))))","v":""},"","","","","","","","","","","",null,"","","","",null,"","","","",0,{"$f":"IF(BR39=0,\"\",MAX($BS$21:BS38)+1)","v":""}]
[null,null,{"$f":"IF(C39<MAX(Raumliste[Nummer]),C39+1,\"\")","v":""},{"$f":"IF(C40=\"\",\"\",INDEX(Raumliste_kompakt[Geschoß],MATCH(C40,Raumliste_kompakt[Nummer])))","v":""},{"$f":"IF(C40=\"\",\"\",INDEX(Raumliste_kompakt[Raum],MATCH(C40,Raumliste_kompakt[Nummer])))","v":""},{"$f":"IF(C40=\"\",\"\",INDEX(ZuAbluft_Def[Definition],MATCH('Lüftung AbZuluft'!E40,ZuAbluft_Def[ZuAbluft_Definition],0)))","v":""},null,null,null,null,null,null,null,"",null,{"$f":"IF(P39<MAX(Lüftungsvorschläge[Nummer]),P39+1,\"\")","v":""},{"$f":"IF(P40=\"\",\"\",INDEX(Raumliste_kompakt[Geschoß],MATCH(P40,Lüftungsvorschläge[Nummer],0)))","v":""},"",{"$f":"IF(P40=\"\",\"\",IF(INDEX(Lüftungsvorschläge[C],MATCH(P40,Lüftungsvorschläge[Nummer],0))<>\"\",INDEX(Lüftungsvorschläge[C],MATCH(P40,Lüftungsvorschläge[Nummer],0)),IF(INDEX(Lüftungsvorschläge[B],MATCH(P40,Lüftungsvorschläge[Nummer],0))<>\"\",INDEX(Lüftungsvorschläge[B],MATCH(P40,Lüftungsvorschläge[Nummer],0)),IF(INDEX(Lüftungsvorschläge[A1],MATCH(P40,Lüftungsvorschläge[Nummer],0))<>\"\",INDEX(Lüftungsvorschläge[A1],MATCH(P40,Lüftungsvorschläge[Nummer],0)),IF(INDEX(Lüftungsvorschläge[A2],MATCH(P40,Lüftungsvorschläge[Nummer],0))<>\"\",INDEX(Lüftungsvorschläge[A2],MATCH(P40,Lüftungsvorschläge[Nummer],0)),\"\")))))","v":""},null,null,null,null,null,null,"",{"$f":"IF(P40=\"\",\"\",IF(AND(INDEX(Lüftungsvorschläge[B],MATCH(P40,Lüftungsvorschläge[Nummer],0))<>\"\",INDEX(Lüftungsvorschläge[B],MATCH(P40,Lüftungsvorschläge[Nummer],0))<>S40),INDEX(Lüftungsvorschläge[B],MATCH(P40,Lüftungsvorschläge[Nummer],0)),IF(AND(INDEX(Lüftungsvorschläge[A1],MATCH(P40,Lüftungsvorschläge[Nummer],0))<>\"\",INDEX(Lüftungsvorschläge[A1],MATCH(P40,Lüftungsvorschläge[Nummer],0))<>S40),INDEX(Lüftungsvorschläge[A1],MATCH(P40,Lüftungsvorschläge[Nummer],0)),IF(AND(INDEX(Lüftungsvorschläge[A2],MATCH(P40,Lüftungsvorschläge[Nummer],0))<>\"\",INDEX(Lüftungsvorschläge[A2],MATCH(P40,Lüftungsvorschläge[Nummer],0))<>S40),INDEX(Lüftungsvorschläge[A2],MATCH(P40,Lüftungsvorschläge[Nummer],0)),\"\" ))))","v":""},null,null,null,"",{"$f":"IF(P40=\"\",\"\",IF(AND(INDEX(Lüftungsvorschläge[A1],MATCH(P40,Lüftungsvorschläge[Nummer],0))<>\"\",INDEX(Lüftungsvorschläge[A1],MATCH(P40,Lüftungsvorschläge[Nummer],0))<>AA40,INDEX(Lüftungsvorschläge[A1],MATCH(P40,Lüftungsvorschläge[Nummer],0))<>S40),INDEX(Lüftungsvorschläge[A1],MATCH(P40,Lüftungsvorschläge[Nummer],0)),IF(AND(INDEX(Lüftungsvorschläge[A2],MATCH(P40,Lüftungsvorschläge[Nummer],0))<>\"\",INDEX(Lüftungsvorschläge[A2],MATCH(P40,Lüftungsvorschläge[Nummer],0))<>AA40,INDEX(Lüftungsvorschläge[A2],MATCH(P40,Lüftungsvorschläge[Nummer],0))<>S40),INDEX(Lüftungsvorschläge[A2],MATCH(P40,Lüftungsvorschläge[Nummer],0)),\"\")))","v":""},null,null,null,null,null,"",null,"","","","",{"$f":"IF(C40=\"\",\"\",IF(OR(INDEX(Raumliste_kompakt[Raum],C40)=\"Küche\",INDEX(Raumliste_kompakt[Raum],C40)=\"Wohnküche\"),60,IF(ISNUMBER(AS40),IF(OR(AS40=2,AS40=3),20,IF(OR(AS40=4,AS40=5),40,0)),0)))","v":""},{"$f":"IF(COUNTIF(WW_Räume[Raumnr.],'Lüftung AbZuluft'!C40)=0,\"-\",INDEX(WW_Räume[Typ],MATCH('Lüftung AbZuluft'!C40,WW_Räume[Raumnr.],0)))","v":""},{"$f":"IF(D40=\"\",\"\",IF(D40<>D39,MAX($AT$21:AT39)+1,MAX($AT$21:AT39)))","v":""},{"$f":"IF(E40=\"\",\"\",IF(INDEX(ZuAbluft_Def[Zuluft],MATCH('Lüftung AbZuluft'!$E40,ZuAbluft_Def[ZuAbluft_Definition],0))<>\"x\",INDEX(ZuAbluft_Def[Zuluft],MATCH('Lüftung AbZuluft'!$E40,ZuAbluft_Def[ZuAbluft_Definition],0)),\"?\"))","v":""},{"$f":"IF(OR(AS40=2,AS40=3),$F$9,IF(OR(AS40=4,AS40=5),$F$8,IF(E40=\"\",\"\",IF(INDEX(ZuAbluft_Def[Abluft],MATCH('Lüftung AbZuluft'!$E40,ZuAbluft_Def[ZuAbluft_Definition],0))<>\"x\",INDEX(ZuAbluft_Def[Abluft],MATCH('Lüftung AbZuluft'!$E40,ZuAbluft_Def[ZuAbluft_Definition],0)),\"?\"))))","v":""},"","","","","","","","","","","",null,"","","","",null,"","","","",0,{"$f":"IF(BR40=0,\"\",MAX($BS$21:BS39)+1)","v":""}]
[null,null,{"$f":"IF(C40<MAX(Raumliste[Nummer]),C40+1,\"\")","v":""},{"$f":"IF(C41=\"\",\"\",INDEX(Raumliste_kompakt[Geschoß],MATCH(C41,Raumliste_kompakt[Nummer])))","v":""},{"$f":"IF(C41=\"\",\"\",INDEX(Raumliste_kompakt[Raum],MATCH(C41,Raumliste_kompakt[Nummer])))","v":""},{"$f":"IF(C41=\"\",\"\",INDEX(ZuAbluft_Def[Definition],MATCH('Lüftung AbZuluft'!E41,ZuAbluft_Def[ZuAbluft_Definition],0)))","v":""},null,null,null,null,null,null,null,"",null,{"$f":"IF(P40<MAX(Lüftungsvorschläge[Nummer]),P40+1,\"\")","v":""},{"$f":"IF(P41=\"\",\"\",INDEX(Raumliste_kompakt[Geschoß],MATCH(P41,Lüftungsvorschläge[Nummer],0)))","v":""},"",{"$f":"IF(P41=\"\",\"\",IF(INDEX(Lüftungsvorschläge[C],MATCH(P41,Lüftungsvorschläge[Nummer],0))<>\"\",INDEX(Lüftungsvorschläge[C],MATCH(P41,Lüftungsvorschläge[Nummer],0)),IF(INDEX(Lüftungsvorschläge[B],MATCH(P41,Lüftungsvorschläge[Nummer],0))<>\"\",INDEX(Lüftungsvorschläge[B],MATCH(P41,Lüftungsvorschläge[Nummer],0)),IF(INDEX(Lüftungsvorschläge[A1],MATCH(P41,Lüftungsvorschläge[Nummer],0))<>\"\",INDEX(Lüftungsvorschläge[A1],MATCH(P41,Lüftungsvorschläge[Nummer],0)),IF(INDEX(Lüftungsvorschläge[A2],MATCH(P41,Lüftungsvorschläge[Nummer],0))<>\"\",INDEX(Lüftungsvorschläge[A2],MATCH(P41,Lüftungsvorschläge[Nummer],0)),\"\")))))","v":""},null,null,null,null,null,null,"",{"$f":"IF(P41=\"\",\"\",IF(AND(INDEX(Lüftungsvorschläge[B],MATCH(P41,Lüftungsvorschläge[Nummer],0))<>\"\",INDEX(Lüftungsvorschläge[B],MATCH(P41,Lüftungsvorschläge[Nummer],0))<>S41),INDEX(Lüftungsvorschläge[B],MATCH(P41,Lüftungsvorschläge[Nummer],0)),IF(AND(INDEX(Lüftungsvorschläge[A1],MATCH(P41,Lüftungsvorschläge[Nummer],0))<>\"\",INDEX(Lüftungsvorschläge[A1],MATCH(P41,Lüftungsvorschläge[Nummer],0))<>S41),INDEX(Lüftungsvorschläge[A1],MATCH(P41,Lüftungsvorschläge[Nummer],0)),IF(AND(INDEX(Lüftungsvorschläge[A2],MATCH(P41,Lüftungsvorschläge[Nummer],0))<>\"\",INDEX(Lüftungsvorschläge[A2],MATCH(P41,Lüftungsvorschläge[Nummer],0))<>S41),INDEX(Lüftungsvorschläge[A2],MATCH(P41,Lüftungsvorschläge[Nummer],0)),\"\" ))))","v":""},null,null,null,"",{"$f":"IF(P41=\"\",\"\",IF(AND(INDEX(Lüftungsvorschläge[A1],MATCH(P41,Lüftungsvorschläge[Nummer],0))<>\"\",INDEX(Lüftungsvorschläge[A1],MATCH(P41,Lüftungsvorschläge[Nummer],0))<>AA41,INDEX(Lüftungsvorschläge[A1],MATCH(P41,Lüftungsvorschläge[Nummer],0))<>S41),INDEX(Lüftungsvorschläge[A1],MATCH(P41,Lüftungsvorschläge[Nummer],0)),IF(AND(INDEX(Lüftungsvorschläge[A2],MATCH(P41,Lüftungsvorschläge[Nummer],0))<>\"\",INDEX(Lüftungsvorschläge[A2],MATCH(P41,Lüftungsvorschläge[Nummer],0))<>AA41,INDEX(Lüftungsvorschläge[A2],MATCH(P41,Lüftungsvorschläge[Nummer],0))<>S41),INDEX(Lüftungsvorschläge[A2],MATCH(P41,Lüftungsvorschläge[Nummer],0)),\"\")))","v":""},null,null,null,null,null,"",null,"","","","",{"$f":"IF(C41=\"\",\"\",IF(OR(INDEX(Raumliste_kompakt[Raum],C41)=\"Küche\",INDEX(Raumliste_kompakt[Raum],C41)=\"Wohnküche\"),60,IF(ISNUMBER(AS41),IF(OR(AS41=2,AS41=3),20,IF(OR(AS41=4,AS41=5),40,0)),0)))","v":""},{"$f":"IF(COUNTIF(WW_Räume[Raumnr.],'Lüftung AbZuluft'!C41)=0,\"-\",INDEX(WW_Räume[Typ],MATCH('Lüftung AbZuluft'!C41,WW_Räume[Raumnr.],0)))","v":""},{"$f":"IF(D41=\"\",\"\",IF(D41<>D40,MAX($AT$21:AT40)+1,MAX($AT$21:AT40)))","v":""},{"$f":"IF(E41=\"\",\"\",IF(INDEX(ZuAbluft_Def[Zuluft],MATCH('Lüftung AbZuluft'!$E41,ZuAbluft_Def[ZuAbluft_Definition],0))<>\"x\",INDEX(ZuAbluft_Def[Zuluft],MATCH('Lüftung AbZuluft'!$E41,ZuAbluft_Def[ZuAbluft_Definition],0)),\"?\"))","v":""},{"$f":"IF(OR(AS41=2,AS41=3),$F$9,IF(OR(AS41=4,AS41=5),$F$8,IF(E41=\"\",\"\",IF(INDEX(ZuAbluft_Def[Abluft],MATCH('Lüftung AbZuluft'!$E41,ZuAbluft_Def[ZuAbluft_Definition],0))<>\"x\",INDEX(ZuAbluft_Def[Abluft],MATCH('Lüftung AbZuluft'!$E41,ZuAbluft_Def[ZuAbluft_Definition],0)),\"?\"))))","v":""},"","","","","","","","","","","",null,"","","","",null,"","","","",0,{"$f":"IF(BR41=0,\"\",MAX($BS$21:BS40)+1)","v":""}]
[null,null,{"$f":"IF(C41<MAX(Raumliste[Nummer]),C41+1,\"\")","v":""},{"$f":"IF(C42=\"\",\"\",INDEX(Raumliste_kompakt[Geschoß],MATCH(C42,Raumliste_kompakt[Nummer])))","v":""},{"$f":"IF(C42=\"\",\"\",INDEX(Raumliste_kompakt[Raum],MATCH(C42,Raumliste_kompakt[Nummer])))","v":""},{"$f":"IF(C42=\"\",\"\",INDEX(ZuAbluft_Def[Definition],MATCH('Lüftung AbZuluft'!E42,ZuAbluft_Def[ZuAbluft_Definition],0)))","v":""},null,null,null,null,null,null,null,"",null,{"$f":"IF(P41<MAX(Lüftungsvorschläge[Nummer]),P41+1,\"\")","v":""},{"$f":"IF(P42=\"\",\"\",INDEX(Raumliste_kompakt[Geschoß],MATCH(P42,Lüftungsvorschläge[Nummer],0)))","v":""},"",{"$f":"IF(P42=\"\",\"\",IF(INDEX(Lüftungsvorschläge[C],MATCH(P42,Lüftungsvorschläge[Nummer],0))<>\"\",INDEX(Lüftungsvorschläge[C],MATCH(P42,Lüftungsvorschläge[Nummer],0)),IF(INDEX(Lüftungsvorschläge[B],MATCH(P42,Lüftungsvorschläge[Nummer],0))<>\"\",INDEX(Lüftungsvorschläge[B],MATCH(P42,Lüftungsvorschläge[Nummer],0)),IF(INDEX(Lüftungsvorschläge[A1],MATCH(P42,Lüftungsvorschläge[Nummer],0))<>\"\",INDEX(Lüftungsvorschläge[A1],MATCH(P42,Lüftungsvorschläge[Nummer],0)),IF(INDEX(Lüftungsvorschläge[A2],MATCH(P42,Lüftungsvorschläge[Nummer],0))<>\"\",INDEX(Lüftungsvorschläge[A2],MATCH(P42,Lüftungsvorschläge[Nummer],0)),\"\")))))","v":""},null,null,null,null,null,null,"",{"$f":"IF(P42=\"\",\"\",IF(AND(INDEX(Lüftungsvorschläge[B],MATCH(P42,Lüftungsvorschläge[Nummer],0))<>\"\",INDEX(Lüftungsvorschläge[B],MATCH(P42,Lüftungsvorschläge[Nummer],0))<>S42),INDEX(Lüftungsvorschläge[B],MATCH(P42,Lüftungsvorschläge[Nummer],0)),IF(AND(INDEX(Lüftungsvorschläge[A1],MATCH(P42,Lüftungsvorschläge[Nummer],0))<>\"\",INDEX(Lüftungsvorschläge[A1],MATCH(P42,Lüftungsvorschläge[Nummer],0))<>S42),INDEX(Lüftungsvorschläge[A1],MATCH(P42,Lüftungsvorschläge[Nummer],0)),IF(AND(INDEX(Lüftungsvorschläge[A2],MATCH(P42,Lüftungsvorschläge[Nummer],0))<>\"\",INDEX(Lüftungsvorschläge[A2],MATCH(P42,Lüftungsvorschläge[Nummer],0))<>S42),INDEX(Lüftungsvorschläge[A2],MATCH(P42,Lüftungsvorschläge[Nummer],0)),\"\" ))))","v":""},null,null,null,"",{"$f":"IF(P42=\"\",\"\",IF(AND(INDEX(Lüftungsvorschläge[A1],MATCH(P42,Lüftungsvorschläge[Nummer],0))<>\"\",INDEX(Lüftungsvorschläge[A1],MATCH(P42,Lüftungsvorschläge[Nummer],0))<>AA42,INDEX(Lüftungsvorschläge[A1],MATCH(P42,Lüftungsvorschläge[Nummer],0))<>S42),INDEX(Lüftungsvorschläge[A1],MATCH(P42,Lüftungsvorschläge[Nummer],0)),IF(AND(INDEX(Lüftungsvorschläge[A2],MATCH(P42,Lüftungsvorschläge[Nummer],0))<>\"\",INDEX(Lüftungsvorschläge[A2],MATCH(P42,Lüftungsvorschläge[Nummer],0))<>AA42,INDEX(Lüftungsvorschläge[A2],MATCH(P42,Lüftungsvorschläge[Nummer],0))<>S42),INDEX(Lüftungsvorschläge[A2],MATCH(P42,Lüftungsvorschläge[Nummer],0)),\"\")))","v":""},null,null,null,null,null,"",null,"","","","",{"$f":"IF(C42=\"\",\"\",IF(OR(INDEX(Raumliste_kompakt[Raum],C42)=\"Küche\",INDEX(Raumliste_kompakt[Raum],C42)=\"Wohnküche\"),60,IF(ISNUMBER(AS42),IF(OR(AS42=2,AS42=3),20,IF(OR(AS42=4,AS42=5),40,0)),0)))","v":""},{"$f":"IF(COUNTIF(WW_Räume[Raumnr.],'Lüftung AbZuluft'!C42)=0,\"-\",INDEX(WW_Räume[Typ],MATCH('Lüftung AbZuluft'!C42,WW_Räume[Raumnr.],0)))","v":""},{"$f":"IF(D42=\"\",\"\",IF(D42<>D41,MAX($AT$21:AT41)+1,MAX($AT$21:AT41)))","v":""},{"$f":"IF(E42=\"\",\"\",IF(INDEX(ZuAbluft_Def[Zuluft],MATCH('Lüftung AbZuluft'!$E42,ZuAbluft_Def[ZuAbluft_Definition],0))<>\"x\",INDEX(ZuAbluft_Def[Zuluft],MATCH('Lüftung AbZuluft'!$E42,ZuAbluft_Def[ZuAbluft_Definition],0)),\"?\"))","v":""},{"$f":"IF(OR(AS42=2,AS42=3),$F$9,IF(OR(AS42=4,AS42=5),$F$8,IF(E42=\"\",\"\",IF(INDEX(ZuAbluft_Def[Abluft],MATCH('Lüftung AbZuluft'!$E42,ZuAbluft_Def[ZuAbluft_Definition],0))<>\"x\",INDEX(ZuAbluft_Def[Abluft],MATCH('Lüftung AbZuluft'!$E42,ZuAbluft_Def[ZuAbluft_Definition],0)),\"?\"))))","v":""},"","","","","","","","","","","",null,"","","","",null,"","","","",0,{"$f":"IF(BR42=0,\"\",MAX($BS$21:BS41)+1)","v":""}]
[null,null,{"$f":"IF(C42<MAX(Raumliste[Nummer]),C42+1,\"\")","v":""},{"$f":"IF(C43=\"\",\"\",INDEX(Raumliste_kompakt[Geschoß],MATCH(C43,Raumliste_kompakt[Nummer])))","v":""},{"$f":"IF(C43=\"\",\"\",INDEX(Raumliste_kompakt[Raum],MATCH(C43,Raumliste_kompakt[Nummer])))","v":""},{"$f":"IF(C43=\"\",\"\",INDEX(ZuAbluft_Def[Definition],MATCH('Lüftung AbZuluft'!E43,ZuAbluft_Def[ZuAbluft_Definition],0)))","v":""},null,null,null,null,null,null,null,"",null,{"$f":"IF(P42<MAX(Lüftungsvorschläge[Nummer]),P42+1,\"\")","v":""},{"$f":"IF(P43=\"\",\"\",INDEX(Raumliste_kompakt[Geschoß],MATCH(P43,Lüftungsvorschläge[Nummer],0)))","v":""},"",{"$f":"IF(P43=\"\",\"\",IF(INDEX(Lüftungsvorschläge[C],MATCH(P43,Lüftungsvorschläge[Nummer],0))<>\"\",INDEX(Lüftungsvorschläge[C],MATCH(P43,Lüftungsvorschläge[Nummer],0)),IF(INDEX(Lüftungsvorschläge[B],MATCH(P43,Lüftungsvorschläge[Nummer],0))<>\"\",INDEX(Lüftungsvorschläge[B],MATCH(P43,Lüftungsvorschläge[Nummer],0)),IF(INDEX(Lüftungsvorschläge[A1],MATCH(P43,Lüftungsvorschläge[Nummer],0))<>\"\",INDEX(Lüftungsvorschläge[A1],MATCH(P43,Lüftungsvorschläge[Nummer],0)),IF(INDEX(Lüftungsvorschläge[A2],MATCH(P43,Lüftungsvorschläge[Nummer],0))<>\"\",INDEX(Lüftungsvorschläge[A2],MATCH(P43,Lüftungsvorschläge[Nummer],0)),\"\")))))","v":""},null,null,null,null,null,null,"",{"$f":"IF(P43=\"\",\"\",IF(AND(INDEX(Lüftungsvorschläge[B],MATCH(P43,Lüftungsvorschläge[Nummer],0))<>\"\",INDEX(Lüftungsvorschläge[B],MATCH(P43,Lüftungsvorschläge[Nummer],0))<>S43),INDEX(Lüftungsvorschläge[B],MATCH(P43,Lüftungsvorschläge[Nummer],0)),IF(AND(INDEX(Lüftungsvorschläge[A1],MATCH(P43,Lüftungsvorschläge[Nummer],0))<>\"\",INDEX(Lüftungsvorschläge[A1],MATCH(P43,Lüftungsvorschläge[Nummer],0))<>S43),INDEX(Lüftungsvorschläge[A1],MATCH(P43,Lüftungsvorschläge[Nummer],0)),IF(AND(INDEX(Lüftungsvorschläge[A2],MATCH(P43,Lüftungsvorschläge[Nummer],0))<>\"\",INDEX(Lüftungsvorschläge[A2],MATCH(P43,Lüftungsvorschläge[Nummer],0))<>S43),INDEX(Lüftungsvorschläge[A2],MATCH(P43,Lüftungsvorschläge[Nummer],0)),\"\" ))))","v":""},null,null,null,"",{"$f":"IF(P43=\"\",\"\",IF(AND(INDEX(Lüftungsvorschläge[A1],MATCH(P43,Lüftungsvorschläge[Nummer],0))<>\"\",INDEX(Lüftungsvorschläge[A1],MATCH(P43,Lüftungsvorschläge[Nummer],0))<>AA43,INDEX(Lüftungsvorschläge[A1],MATCH(P43,Lüftungsvorschläge[Nummer],0))<>S43),INDEX(Lüftungsvorschläge[A1],MATCH(P43,Lüftungsvorschläge[Nummer],0)),IF(AND(INDEX(Lüftungsvorschläge[A2],MATCH(P43,Lüftungsvorschläge[Nummer],0))<>\"\",INDEX(Lüftungsvorschläge[A2],MATCH(P43,Lüftungsvorschläge[Nummer],0))<>AA43,INDEX(Lüftungsvorschläge[A2],MATCH(P43,Lüftungsvorschläge[Nummer],0))<>S43),INDEX(Lüftungsvorschläge[A2],MATCH(P43,Lüftungsvorschläge[Nummer],0)),\"\")))","v":""},null,null,null,null,null,"",null,"","","","",{"$f":"IF(C43=\"\",\"\",IF(OR(INDEX(Raumliste_kompakt[Raum],C43)=\"Küche\",INDEX(Raumliste_kompakt[Raum],C43)=\"Wohnküche\"),60,IF(ISNUMBER(AS43),IF(OR(AS43=2,AS43=3),20,IF(OR(AS43=4,AS43=5),40,0)),0)))","v":""},{"$f":"IF(COUNTIF(WW_Räume[Raumnr.],'Lüftung AbZuluft'!C43)=0,\"-\",INDEX(WW_Räume[Typ],MATCH('Lüftung AbZuluft'!C43,WW_Räume[Raumnr.],0)))","v":""},{"$f":"IF(D43=\"\",\"\",IF(D43<>D42,MAX($AT$21:AT42)+1,MAX($AT$21:AT42)))","v":""},{"$f":"IF(E43=\"\",\"\",IF(INDEX(ZuAbluft_Def[Zuluft],MATCH('Lüftung AbZuluft'!$E43,ZuAbluft_Def[ZuAbluft_Definition],0))<>\"x\",INDEX(ZuAbluft_Def[Zuluft],MATCH('Lüftung AbZuluft'!$E43,ZuAbluft_Def[ZuAbluft_Definition],0)),\"?\"))","v":""},{"$f":"IF(OR(AS43=2,AS43=3),$F$9,IF(OR(AS43=4,AS43=5),$F$8,IF(E43=\"\",\"\",IF(INDEX(ZuAbluft_Def[Abluft],MATCH('Lüftung AbZuluft'!$E43,ZuAbluft_Def[ZuAbluft_Definition],0))<>\"x\",INDEX(ZuAbluft_Def[Abluft],MATCH('Lüftung AbZuluft'!$E43,ZuAbluft_Def[ZuAbluft_Definition],0)),\"?\"))))","v":""},"","","","","","","","","","","",null,"","","","",null,"","","","",0,{"$f":"IF(BR43=0,\"\",MAX($BS$21:BS42)+1)","v":""}]
[null,null,{"$f":"IF(C43<MAX(Raumliste[Nummer]),C43+1,\"\")","v":""},{"$f":"IF(C44=\"\",\"\",INDEX(Raumliste_kompakt[Geschoß],MATCH(C44,Raumliste_kompakt[Nummer])))","v":""},{"$f":"IF(C44=\"\",\"\",INDEX(Raumliste_kompakt[Raum],MATCH(C44,Raumliste_kompakt[Nummer])))","v":""},{"$f":"IF(C44=\"\",\"\",INDEX(ZuAbluft_Def[Definition],MATCH('Lüftung AbZuluft'!E44,ZuAbluft_Def[ZuAbluft_Definition],0)))","v":""},null,null,null,null,null,null,null,"",null,{"$f":"IF(P43<MAX(Lüftungsvorschläge[Nummer]),P43+1,\"\")","v":""},{"$f":"IF(P44=\"\",\"\",INDEX(Raumliste_kompakt[Geschoß],MATCH(P44,Lüftungsvorschläge[Nummer],0)))","v":""},"",{"$f":"IF(P44=\"\",\"\",IF(INDEX(Lüftungsvorschläge[C],MATCH(P44,Lüftungsvorschläge[Nummer],0))<>\"\",INDEX(Lüftungsvorschläge[C],MATCH(P44,Lüftungsvorschläge[Nummer],0)),IF(INDEX(Lüftungsvorschläge[B],MATCH(P44,Lüftungsvorschläge[Nummer],0))<>\"\",INDEX(Lüftungsvorschläge[B],MATCH(P44,Lüftungsvorschläge[Nummer],0)),IF(INDEX(Lüftungsvorschläge[A1],MATCH(P44,Lüftungsvorschläge[Nummer],0))<>\"\",INDEX(Lüftungsvorschläge[A1],MATCH(P44,Lüftungsvorschläge[Nummer],0)),IF(INDEX(Lüftungsvorschläge[A2],MATCH(P44,Lüftungsvorschläge[Nummer],0))<>\"\",INDEX(Lüftungsvorschläge[A2],MATCH(P44,Lüftungsvorschläge[Nummer],0)),\"\")))))","v":""},null,null,null,null,null,null,"",{"$f":"IF(P44=\"\",\"\",IF(AND(INDEX(Lüftungsvorschläge[B],MATCH(P44,Lüftungsvorschläge[Nummer],0))<>\"\",INDEX(Lüftungsvorschläge[B],MATCH(P44,Lüftungsvorschläge[Nummer],0))<>S44),INDEX(Lüftungsvorschläge[B],MATCH(P44,Lüftungsvorschläge[Nummer],0)),IF(AND(INDEX(Lüftungsvorschläge[A1],MATCH(P44,Lüftungsvorschläge[Nummer],0))<>\"\",INDEX(Lüftungsvorschläge[A1],MATCH(P44,Lüftungsvorschläge[Nummer],0))<>S44),INDEX(Lüftungsvorschläge[A1],MATCH(P44,Lüftungsvorschläge[Nummer],0)),IF(AND(INDEX(Lüftungsvorschläge[A2],MATCH(P44,Lüftungsvorschläge[Nummer],0))<>\"\",INDEX(Lüftungsvorschläge[A2],MATCH(P44,Lüftungsvorschläge[Nummer],0))<>S44),INDEX(Lüftungsvorschläge[A2],MATCH(P44,Lüftungsvorschläge[Nummer],0)),\"\" ))))","v":""},null,null,null,"",{"$f":"IF(P44=\"\",\"\",IF(AND(INDEX(Lüftungsvorschläge[A1],MATCH(P44,Lüftungsvorschläge[Nummer],0))<>\"\",INDEX(Lüftungsvorschläge[A1],MATCH(P44,Lüftungsvorschläge[Nummer],0))<>AA44,INDEX(Lüftungsvorschläge[A1],MATCH(P44,Lüftungsvorschläge[Nummer],0))<>S44),INDEX(Lüftungsvorschläge[A1],MATCH(P44,Lüftungsvorschläge[Nummer],0)),IF(AND(INDEX(Lüftungsvorschläge[A2],MATCH(P44,Lüftungsvorschläge[Nummer],0))<>\"\",INDEX(Lüftungsvorschläge[A2],MATCH(P44,Lüftungsvorschläge[Nummer],0))<>AA44,INDEX(Lüftungsvorschläge[A2],MATCH(P44,Lüftungsvorschläge[Nummer],0))<>S44),INDEX(Lüftungsvorschläge[A2],MATCH(P44,Lüftungsvorschläge[Nummer],0)),\"\")))","v":""},null,null,null,null,null,"",null,"","","","",{"$f":"IF(C44=\"\",\"\",IF(OR(INDEX(Raumliste_kompakt[Raum],C44)=\"Küche\",INDEX(Raumliste_kompakt[Raum],C44)=\"Wohnküche\"),60,IF(ISNUMBER(AS44),IF(OR(AS44=2,AS44=3),20,IF(OR(AS44=4,AS44=5),40,0)),0)))","v":""},{"$f":"IF(COUNTIF(WW_Räume[Raumnr.],'Lüftung AbZuluft'!C44)=0,\"-\",INDEX(WW_Räume[Typ],MATCH('Lüftung AbZuluft'!C44,WW_Räume[Raumnr.],0)))","v":""},{"$f":"IF(D44=\"\",\"\",IF(D44<>D43,MAX($AT$21:AT43)+1,MAX($AT$21:AT43)))","v":""},{"$f":"IF(E44=\"\",\"\",IF(INDEX(ZuAbluft_Def[Zuluft],MATCH('Lüftung AbZuluft'!$E44,ZuAbluft_Def[ZuAbluft_Definition],0))<>\"x\",INDEX(ZuAbluft_Def[Zuluft],MATCH('Lüftung AbZuluft'!$E44,ZuAbluft_Def[ZuAbluft_Definition],0)),\"?\"))","v":""},{"$f":"IF(OR(AS44=2,AS44=3),$F$9,IF(OR(AS44=4,AS44=5),$F$8,IF(E44=\"\",\"\",IF(INDEX(ZuAbluft_Def[Abluft],MATCH('Lüftung AbZuluft'!$E44,ZuAbluft_Def[ZuAbluft_Definition],0))<>\"x\",INDEX(ZuAbluft_Def[Abluft],MATCH('Lüftung AbZuluft'!$E44,ZuAbluft_Def[ZuAbluft_Definition],0)),\"?\"))))","v":""},"","","","","","","","","","","",null,"","","","",null,"","","","",0,{"$f":"IF(BR44=0,\"\",MAX($BS$21:BS43)+1)","v":""}]
[null,null,{"$f":"IF(C44<MAX(Raumliste[Nummer]),C44+1,\"\")","v":""},{"$f":"IF(C45=\"\",\"\",INDEX(Raumliste_kompakt[Geschoß],MATCH(C45,Raumliste_kompakt[Nummer])))","v":""},{"$f":"IF(C45=\"\",\"\",INDEX(Raumliste_kompakt[Raum],MATCH(C45,Raumliste_kompakt[Nummer])))","v":""},{"$f":"IF(C45=\"\",\"\",INDEX(ZuAbluft_Def[Definition],MATCH('Lüftung AbZuluft'!E45,ZuAbluft_Def[ZuAbluft_Definition],0)))","v":""},null,null,null,null,null,null,null,"",null,{"$f":"IF(P44<MAX(Lüftungsvorschläge[Nummer]),P44+1,\"\")","v":""},{"$f":"IF(P45=\"\",\"\",INDEX(Raumliste_kompakt[Geschoß],MATCH(P45,Lüftungsvorschläge[Nummer],0)))","v":""},"",{"$f":"IF(P45=\"\",\"\",IF(INDEX(Lüftungsvorschläge[C],MATCH(P45,Lüftungsvorschläge[Nummer],0))<>\"\",INDEX(Lüftungsvorschläge[C],MATCH(P45,Lüftungsvorschläge[Nummer],0)),IF(INDEX(Lüftungsvorschläge[B],MATCH(P45,Lüftungsvorschläge[Nummer],0))<>\"\",INDEX(Lüftungsvorschläge[B],MATCH(P45,Lüftungsvorschläge[Nummer],0)),IF(INDEX(Lüftungsvorschläge[A1],MATCH(P45,Lüftungsvorschläge[Nummer],0))<>\"\",INDEX(Lüftungsvorschläge[A1],MATCH(P45,Lüftungsvorschläge[Nummer],0)),IF(INDEX(Lüftungsvorschläge[A2],MATCH(P45,Lüftungsvorschläge[Nummer],0))<>\"\",INDEX(Lüftungsvorschläge[A2],MATCH(P45,Lüftungsvorschläge[Nummer],0)),\"\")))))","v":""},null,null,null,null,null,null,"",{"$f":"IF(P45=\"\",\"\",IF(AND(INDEX(Lüftungsvorschläge[B],MATCH(P45,Lüftungsvorschläge[Nummer],0))<>\"\",INDEX(Lüftungsvorschläge[B],MATCH(P45,Lüftungsvorschläge[Nummer],0))<>S45),INDEX(Lüftungsvorschläge[B],MATCH(P45,Lüftungsvorschläge[Nummer],0)),IF(AND(INDEX(Lüftungsvorschläge[A1],MATCH(P45,Lüftungsvorschläge[Nummer],0))<>\"\",INDEX(Lüftungsvorschläge[A1],MATCH(P45,Lüftungsvorschläge[Nummer],0))<>S45),INDEX(Lüftungsvorschläge[A1],MATCH(P45,Lüftungsvorschläge[Nummer],0)),IF(AND(INDEX(Lüftungsvorschläge[A2],MATCH(P45,Lüftungsvorschläge[Nummer],0))<>\"\",INDEX(Lüftungsvorschläge[A2],MATCH(P45,Lüftungsvorschläge[Nummer],0))<>S45),INDEX(Lüftungsvorschläge[A2],MATCH(P45,Lüftungsvorschläge[Nummer],0)),\"\" ))))","v":""},null,null,null,"",{"$f":"IF(P45=\"\",\"\",IF(AND(INDEX(Lüftungsvorschläge[A1],MATCH(P45,Lüftungsvorschläge[Nummer],0))<>\"\",INDEX(Lüftungsvorschläge[A1],MATCH(P45,Lüftungsvorschläge[Nummer],0))<>AA45,INDEX(Lüftungsvorschläge[A1],MATCH(P45,Lüftungsvorschläge[Nummer],0))<>S45),INDEX(Lüftungsvorschläge[A1],MATCH(P45,Lüftungsvorschläge[Nummer],0)),IF(AND(INDEX(Lüftungsvorschläge[A2],MATCH(P45,Lüftungsvorschläge[Nummer],0))<>\"\",INDEX(Lüftungsvorschläge[A2],MATCH(P45,Lüftungsvorschläge[Nummer],0))<>AA45,INDEX(Lüftungsvorschläge[A2],MATCH(P45,Lüftungsvorschläge[Nummer],0))<>S45),INDEX(Lüftungsvorschläge[A2],MATCH(P45,Lüftungsvorschläge[Nummer],0)),\"\")))","v":""},null,null,null,null,null,"",null,"","","","",{"$f":"IF(C45=\"\",\"\",IF(OR(INDEX(Raumliste_kompakt[Raum],C45)=\"Küche\",INDEX(Raumliste_kompakt[Raum],C45)=\"Wohnküche\"),60,IF(ISNUMBER(AS45),IF(OR(AS45=2,AS45=3),20,IF(OR(AS45=4,AS45=5),40,0)),0)))","v":""},{"$f":"IF(COUNTIF(WW_Räume[Raumnr.],'Lüftung AbZuluft'!C45)=0,\"-\",INDEX(WW_Räume[Typ],MATCH('Lüftung AbZuluft'!C45,WW_Räume[Raumnr.],0)))","v":""},{"$f":"IF(D45=\"\",\"\",IF(D45<>D44,MAX($AT$21:AT44)+1,MAX($AT$21:AT44)))","v":""},{"$f":"IF(E45=\"\",\"\",IF(INDEX(ZuAbluft_Def[Zuluft],MATCH('Lüftung AbZuluft'!$E45,ZuAbluft_Def[ZuAbluft_Definition],0))<>\"x\",INDEX(ZuAbluft_Def[Zuluft],MATCH('Lüftung AbZuluft'!$E45,ZuAbluft_Def[ZuAbluft_Definition],0)),\"?\"))","v":""},{"$f":"IF(OR(AS45=2,AS45=3),$F$9,IF(OR(AS45=4,AS45=5),$F$8,IF(E45=\"\",\"\",IF(INDEX(ZuAbluft_Def[Abluft],MATCH('Lüftung AbZuluft'!$E45,ZuAbluft_Def[ZuAbluft_Definition],0))<>\"x\",INDEX(ZuAbluft_Def[Abluft],MATCH('Lüftung AbZuluft'!$E45,ZuAbluft_Def[ZuAbluft_Definition],0)),\"?\"))))","v":""},"","","","","","","","","","","",null,"","","","",null,"","","","",0,{"$f":"IF(BR45=0,\"\",MAX($BS$21:BS44)+1)","v":""}]
[null,null,{"$f":"IF(C45<MAX(Raumliste[Nummer]),C45+1,\"\")","v":""},{"$f":"IF(C46=\"\",\"\",INDEX(Raumliste_kompakt[Geschoß],MATCH(C46,Raumliste_kompakt[Nummer])))","v":""},{"$f":"IF(C46=\"\",\"\",INDEX(Raumliste_kompakt[Raum],MATCH(C46,Raumliste_kompakt[Nummer])))","v":""},{"$f":"IF(C46=\"\",\"\",INDEX(ZuAbluft_Def[Definition],MATCH('Lüftung AbZuluft'!E46,ZuAbluft_Def[ZuAbluft_Definition],0)))","v":""},null,null,null,null,null,null,null,"",null,{"$f":"IF(P45<MAX(Lüftungsvorschläge[Nummer]),P45+1,\"\")","v":""},{"$f":"IF(P46=\"\",\"\",INDEX(Raumliste_kompakt[Geschoß],MATCH(P46,Lüftungsvorschläge[Nummer],0)))","v":""},"",{"$f":"IF(P46=\"\",\"\",IF(INDEX(Lüftungsvorschläge[C],MATCH(P46,Lüftungsvorschläge[Nummer],0))<>\"\",INDEX(Lüftungsvorschläge[C],MATCH(P46,Lüftungsvorschläge[Nummer],0)),IF(INDEX(Lüftungsvorschläge[B],MATCH(P46,Lüftungsvorschläge[Nummer],0))<>\"\",INDEX(Lüftungsvorschläge[B],MATCH(P46,Lüftungsvorschläge[Nummer],0)),IF(INDEX(Lüftungsvorschläge[A1],MATCH(P46,Lüftungsvorschläge[Nummer],0))<>\"\",INDEX(Lüftungsvorschläge[A1],MATCH(P46,Lüftungsvorschläge[Nummer],0)),IF(INDEX(Lüftungsvorschläge[A2],MATCH(P46,Lüftungsvorschläge[Nummer],0))<>\"\",INDEX(Lüftungsvorschläge[A2],MATCH(P46,Lüftungsvorschläge[Nummer],0)),\"\")))))","v":""},null,null,null,null,null,null,"",{"$f":"IF(P46=\"\",\"\",IF(AND(INDEX(Lüftungsvorschläge[B],MATCH(P46,Lüftungsvorschläge[Nummer],0))<>\"\",INDEX(Lüftungsvorschläge[B],MATCH(P46,Lüftungsvorschläge[Nummer],0))<>S46),INDEX(Lüftungsvorschläge[B],MATCH(P46,Lüftungsvorschläge[Nummer],0)),IF(AND(INDEX(Lüftungsvorschläge[A1],MATCH(P46,Lüftungsvorschläge[Nummer],0))<>\"\",INDEX(Lüftungsvorschläge[A1],MATCH(P46,Lüftungsvorschläge[Nummer],0))<>S46),INDEX(Lüftungsvorschläge[A1],MATCH(P46,Lüftungsvorschläge[Nummer],0)),IF(AND(INDEX(Lüftungsvorschläge[A2],MATCH(P46,Lüftungsvorschläge[Nummer],0))<>\"\",INDEX(Lüftungsvorschläge[A2],MATCH(P46,Lüftungsvorschläge[Nummer],0))<>S46),INDEX(Lüftungsvorschläge[A2],MATCH(P46,Lüftungsvorschläge[Nummer],0)),\"\" ))))","v":""},null,null,null,"",{"$f":"IF(P46=\"\",\"\",IF(AND(INDEX(Lüftungsvorschläge[A1],MATCH(P46,Lüftungsvorschläge[Nummer],0))<>\"\",INDEX(Lüftungsvorschläge[A1],MATCH(P46,Lüftungsvorschläge[Nummer],0))<>AA46,INDEX(Lüftungsvorschläge[A1],MATCH(P46,Lüftungsvorschläge[Nummer],0))<>S46),INDEX(Lüftungsvorschläge[A1],MATCH(P46,Lüftungsvorschläge[Nummer],0)),IF(AND(INDEX(Lüftungsvorschläge[A2],MATCH(P46,Lüftungsvorschläge[Nummer],0))<>\"\",INDEX(Lüftungsvorschläge[A2],MATCH(P46,Lüftungsvorschläge[Nummer],0))<>AA46,INDEX(Lüftungsvorschläge[A2],MATCH(P46,Lüftungsvorschläge[Nummer],0))<>S46),INDEX(Lüftungsvorschläge[A2],MATCH(P46,Lüftungsvorschläge[Nummer],0)),\"\")))","v":""},null,null,null,null,null,"",null,"","","","",{"$f":"IF(C46=\"\",\"\",IF(OR(INDEX(Raumliste_kompakt[Raum],C46)=\"Küche\",INDEX(Raumliste_kompakt[Raum],C46)=\"Wohnküche\"),60,IF(ISNUMBER(AS46),IF(OR(AS46=2,AS46=3),20,IF(OR(AS46=4,AS46=5),40,0)),0)))","v":""},{"$f":"IF(COUNTIF(WW_Räume[Raumnr.],'Lüftung AbZuluft'!C46)=0,\"-\",INDEX(WW_Räume[Typ],MATCH('Lüftung AbZuluft'!C46,WW_Räume[Raumnr.],0)))","v":""},{"$f":"IF(D46=\"\",\"\",IF(D46<>D45,MAX($AT$21:AT45)+1,MAX($AT$21:AT45)))","v":""},{"$f":"IF(E46=\"\",\"\",IF(INDEX(ZuAbluft_Def[Zuluft],MATCH('Lüftung AbZuluft'!$E46,ZuAbluft_Def[ZuAbluft_Definition],0))<>\"x\",INDEX(ZuAbluft_Def[Zuluft],MATCH('Lüftung AbZuluft'!$E46,ZuAbluft_Def[ZuAbluft_Definition],0)),\"?\"))","v":""},{"$f":"IF(OR(AS46=2,AS46=3),$F$9,IF(OR(AS46=4,AS46=5),$F$8,IF(E46=\"\",\"\",IF(INDEX(ZuAbluft_Def[Abluft],MATCH('Lüftung AbZuluft'!$E46,ZuAbluft_Def[ZuAbluft_Definition],0))<>\"x\",INDEX(ZuAbluft_Def[Abluft],MATCH('Lüftung AbZuluft'!$E46,ZuAbluft_Def[ZuAbluft_Definition],0)),\"?\"))))","v":""},"","","","","","","","","","","",null,"","","","",null,"","","","",0,{"$f":"IF(BR46=0,\"\",MAX($BS$21:BS45)+1)","v":""}]
[null,null,{"$f":"IF(C46<MAX(Raumliste[Nummer]),C46+1,\"\")","v":""},{"$f":"IF(C47=\"\",\"\",INDEX(Raumliste_kompakt[Geschoß],MATCH(C47,Raumliste_kompakt[Nummer])))","v":""},{"$f":"IF(C47=\"\",\"\",INDEX(Raumliste_kompakt[Raum],MATCH(C47,Raumliste_kompakt[Nummer])))","v":""},{"$f":"IF(C47=\"\",\"\",INDEX(ZuAbluft_Def[Definition],MATCH('Lüftung AbZuluft'!E47,ZuAbluft_Def[ZuAbluft_Definition],0)))","v":""},null,null,null,null,null,null,null,"",null,{"$f":"IF(P46<MAX(Lüftungsvorschläge[Nummer]),P46+1,\"\")","v":""},{"$f":"IF(P47=\"\",\"\",INDEX(Raumliste_kompakt[Geschoß],MATCH(P47,Lüftungsvorschläge[Nummer],0)))","v":""},"",{"$f":"IF(P47=\"\",\"\",IF(INDEX(Lüftungsvorschläge[C],MATCH(P47,Lüftungsvorschläge[Nummer],0))<>\"\",INDEX(Lüftungsvorschläge[C],MATCH(P47,Lüftungsvorschläge[Nummer],0)),IF(INDEX(Lüftungsvorschläge[B],MATCH(P47,Lüftungsvorschläge[Nummer],0))<>\"\",INDEX(Lüftungsvorschläge[B],MATCH(P47,Lüftungsvorschläge[Nummer],0)),IF(INDEX(Lüftungsvorschläge[A1],MATCH(P47,Lüftungsvorschläge[Nummer],0))<>\"\",INDEX(Lüftungsvorschläge[A1],MATCH(P47,Lüftungsvorschläge[Nummer],0)),IF(INDEX(Lüftungsvorschläge[A2],MATCH(P47,Lüftungsvorschläge[Nummer],0))<>\"\",INDEX(Lüftungsvorschläge[A2],MATCH(P47,Lüftungsvorschläge[Nummer],0)),\"\")))))","v":""},null,null,null,null,null,null,"",{"$f":"IF(P47=\"\",\"\",IF(AND(INDEX(Lüftungsvorschläge[B],MATCH(P47,Lüftungsvorschläge[Nummer],0))<>\"\",INDEX(Lüftungsvorschläge[B],MATCH(P47,Lüftungsvorschläge[Nummer],0))<>S47),INDEX(Lüftungsvorschläge[B],MATCH(P47,Lüftungsvorschläge[Nummer],0)),IF(AND(INDEX(Lüftungsvorschläge[A1],MATCH(P47,Lüftungsvorschläge[Nummer],0))<>\"\",INDEX(Lüftungsvorschläge[A1],MATCH(P47,Lüftungsvorschläge[Nummer],0))<>S47),INDEX(Lüftungsvorschläge[A1],MATCH(P47,Lüftungsvorschläge[Nummer],0)),IF(AND(INDEX(Lüftungsvorschläge[A2],MATCH(P47,Lüftungsvorschläge[Nummer],0))<>\"\",INDEX(Lüftungsvorschläge[A2],MATCH(P47,Lüftungsvorschläge[Nummer],0))<>S47),INDEX(Lüftungsvorschläge[A2],MATCH(P47,Lüftungsvorschläge[Nummer],0)),\"\" ))))","v":""},null,null,null,"",{"$f":"IF(P47=\"\",\"\",IF(AND(INDEX(Lüftungsvorschläge[A1],MATCH(P47,Lüftungsvorschläge[Nummer],0))<>\"\",INDEX(Lüftungsvorschläge[A1],MATCH(P47,Lüftungsvorschläge[Nummer],0))<>AA47,INDEX(Lüftungsvorschläge[A1],MATCH(P47,Lüftungsvorschläge[Nummer],0))<>S47),INDEX(Lüftungsvorschläge[A1],MATCH(P47,Lüftungsvorschläge[Nummer],0)),IF(AND(INDEX(Lüftungsvorschläge[A2],MATCH(P47,Lüftungsvorschläge[Nummer],0))<>\"\",INDEX(Lüftungsvorschläge[A2],MATCH(P47,Lüftungsvorschläge[Nummer],0))<>AA47,INDEX(Lüftungsvorschläge[A2],MATCH(P47,Lüftungsvorschläge[Nummer],0))<>S47),INDEX(Lüftungsvorschläge[A2],MATCH(P47,Lüftungsvorschläge[Nummer],0)),\"\")))","v":""},null,null,null,null,null,"",null,"","","","",{"$f":"IF(C47=\"\",\"\",IF(OR(INDEX(Raumliste_kompakt[Raum],C47)=\"Küche\",INDEX(Raumliste_kompakt[Raum],C47)=\"Wohnküche\"),60,IF(ISNUMBER(AS47),IF(OR(AS47=2,AS47=3),20,IF(OR(AS47=4,AS47=5),40,0)),0)))","v":""},{"$f":"IF(COUNTIF(WW_Räume[Raumnr.],'Lüftung AbZuluft'!C47)=0,\"-\",INDEX(WW_Räume[Typ],MATCH('Lüftung AbZuluft'!C47,WW_Räume[Raumnr.],0)))","v":""},{"$f":"IF(D47=\"\",\"\",IF(D47<>D46,MAX($AT$21:AT46)+1,MAX($AT$21:AT46)))","v":""},{"$f":"IF(E47=\"\",\"\",IF(INDEX(ZuAbluft_Def[Zuluft],MATCH('Lüftung AbZuluft'!$E47,ZuAbluft_Def[ZuAbluft_Definition],0))<>\"x\",INDEX(ZuAbluft_Def[Zuluft],MATCH('Lüftung AbZuluft'!$E47,ZuAbluft_Def[ZuAbluft_Definition],0)),\"?\"))","v":""},{"$f":"IF(OR(AS47=2,AS47=3),$F$9,IF(OR(AS47=4,AS47=5),$F$8,IF(E47=\"\",\"\",IF(INDEX(ZuAbluft_Def[Abluft],MATCH('Lüftung AbZuluft'!$E47,ZuAbluft_Def[ZuAbluft_Definition],0))<>\"x\",INDEX(ZuAbluft_Def[Abluft],MATCH('Lüftung AbZuluft'!$E47,ZuAbluft_Def[ZuAbluft_Definition],0)),\"?\"))))","v":""},"","","","","","","","","","","",null,"","","","",null,"","","","",0,{"$f":"IF(BR47=0,\"\",MAX($BS$21:BS46)+1)","v":""}]
[null,null,{"$f":"IF(C47<MAX(Raumliste[Nummer]),C47+1,\"\")","v":""},{"$f":"IF(C48=\"\",\"\",INDEX(Raumliste_kompakt[Geschoß],MATCH(C48,Raumliste_kompakt[Nummer])))","v":""},{"$f":"IF(C48=\"\",\"\",INDEX(Raumliste_kompakt[Raum],MATCH(C48,Raumliste_kompakt[Nummer])))","v":""},{"$f":"IF(C48=\"\",\"\",INDEX(ZuAbluft_Def[Definition],MATCH('Lüftung AbZuluft'!E48,ZuAbluft_Def[ZuAbluft_Definition],0)))","v":""},null,null,null,null,null,null,null,"",null,{"$f":"IF(P47<MAX(Lüftungsvorschläge[Nummer]),P47+1,\"\")","v":""},{"$f":"IF(P48=\"\",\"\",INDEX(Raumliste_kompakt[Geschoß],MATCH(P48,Lüftungsvorschläge[Nummer],0)))","v":""},"",{"$f":"IF(P48=\"\",\"\",IF(INDEX(Lüftungsvorschläge[C],MATCH(P48,Lüftungsvorschläge[Nummer],0))<>\"\",INDEX(Lüftungsvorschläge[C],MATCH(P48,Lüftungsvorschläge[Nummer],0)),IF(INDEX(Lüftungsvorschläge[B],MATCH(P48,Lüftungsvorschläge[Nummer],0))<>\"\",INDEX(Lüftungsvorschläge[B],MATCH(P48,Lüftungsvorschläge[Nummer],0)),IF(INDEX(Lüftungsvorschläge[A1],MATCH(P48,Lüftungsvorschläge[Nummer],0))<>\"\",INDEX(Lüftungsvorschläge[A1],MATCH(P48,Lüftungsvorschläge[Nummer],0)),IF(INDEX(Lüftungsvorschläge[A2],MATCH(P48,Lüftungsvorschläge[Nummer],0))<>\"\",INDEX(Lüftungsvorschläge[A2],MATCH(P48,Lüftungsvorschläge[Nummer],0)),\"\")))))","v":""},null,null,null,null,null,null,"",{"$f":"IF(P48=\"\",\"\",IF(AND(INDEX(Lüftungsvorschläge[B],MATCH(P48,Lüftungsvorschläge[Nummer],0))<>\"\",INDEX(Lüftungsvorschläge[B],MATCH(P48,Lüftungsvorschläge[Nummer],0))<>S48),INDEX(Lüftungsvorschläge[B],MATCH(P48,Lüftungsvorschläge[Nummer],0)),IF(AND(INDEX(Lüftungsvorschläge[A1],MATCH(P48,Lüftungsvorschläge[Nummer],0))<>\"\",INDEX(Lüftungsvorschläge[A1],MATCH(P48,Lüftungsvorschläge[Nummer],0))<>S48),INDEX(Lüftungsvorschläge[A1],MATCH(P48,Lüftungsvorschläge[Nummer],0)),IF(AND(INDEX(Lüftungsvorschläge[A2],MATCH(P48,Lüftungsvorschläge[Nummer],0))<>\"\",INDEX(Lüftungsvorschläge[A2],MATCH(P48,Lüftungsvorschläge[Nummer],0))<>S48),INDEX(Lüftungsvorschläge[A2],MATCH(P48,Lüftungsvorschläge[Nummer],0)),\"\" ))))","v":""},null,null,null,"",{"$f":"IF(P48=\"\",\"\",IF(AND(INDEX(Lüftungsvorschläge[A1],MATCH(P48,Lüftungsvorschläge[Nummer],0))<>\"\",INDEX(Lüftungsvorschläge[A1],MATCH(P48,Lüftungsvorschläge[Nummer],0))<>AA48,INDEX(Lüftungsvorschläge[A1],MATCH(P48,Lüftungsvorschläge[Nummer],0))<>S48),INDEX(Lüftungsvorschläge[A1],MATCH(P48,Lüftungsvorschläge[Nummer],0)),IF(AND(INDEX(Lüftungsvorschläge[A2],MATCH(P48,Lüftungsvorschläge[Nummer],0))<>\"\",INDEX(Lüftungsvorschläge[A2],MATCH(P48,Lüftungsvorschläge[Nummer],0))<>AA48,INDEX(Lüftungsvorschläge[A2],MATCH(P48,Lüftungsvorschläge[Nummer],0))<>S48),INDEX(Lüftungsvorschläge[A2],MATCH(P48,Lüftungsvorschläge[Nummer],0)),\"\")))","v":""},null,null,null,null,null,"",null,"","","","",{"$f":"IF(C48=\"\",\"\",IF(OR(INDEX(Raumliste_kompakt[Raum],C48)=\"Küche\",INDEX(Raumliste_kompakt[Raum],C48)=\"Wohnküche\"),60,IF(ISNUMBER(AS48),IF(OR(AS48=2,AS48=3),20,IF(OR(AS48=4,AS48=5),40,0)),0)))","v":""},{"$f":"IF(COUNTIF(WW_Räume[Raumnr.],'Lüftung AbZuluft'!C48)=0,\"-\",INDEX(WW_Räume[Typ],MATCH('Lüftung AbZuluft'!C48,WW_Räume[Raumnr.],0)))","v":""},{"$f":"IF(D48=\"\",\"\",IF(D48<>D47,MAX($AT$21:AT47)+1,MAX($AT$21:AT47)))","v":""},{"$f":"IF(E48=\"\",\"\",IF(INDEX(ZuAbluft_Def[Zuluft],MATCH('Lüftung AbZuluft'!$E48,ZuAbluft_Def[ZuAbluft_Definition],0))<>\"x\",INDEX(ZuAbluft_Def[Zuluft],MATCH('Lüftung AbZuluft'!$E48,ZuAbluft_Def[ZuAbluft_Definition],0)),\"?\"))","v":""},{"$f":"IF(OR(AS48=2,AS48=3),$F$9,IF(OR(AS48=4,AS48=5),$F$8,IF(E48=\"\",\"\",IF(INDEX(ZuAbluft_Def[Abluft],MATCH('Lüftung AbZuluft'!$E48,ZuAbluft_Def[ZuAbluft_Definition],0))<>\"x\",INDEX(ZuAbluft_Def[Abluft],MATCH('Lüftung AbZuluft'!$E48,ZuAbluft_Def[ZuAbluft_Definition],0)),\"?\"))))","v":""},"","","","","","","","","","","",null,"","","","",null,"","","","",0,{"$f":"IF(BR48=0,\"\",MAX($BS$21:BS47)+1)","v":""}]
[null,null,{"$f":"IF(C48<MAX(Raumliste[Nummer]),C48+1,\"\")","v":""},{"$f":"IF(C49=\"\",\"\",INDEX(Raumliste_kompakt[Geschoß],MATCH(C49,Raumliste_kompakt[Nummer])))","v":""},{"$f":"IF(C49=\"\",\"\",INDEX(Raumliste_kompakt[Raum],MATCH(C49,Raumliste_kompakt[Nummer])))","v":""},{"$f":"IF(C49=\"\",\"\",INDEX(ZuAbluft_Def[Definition],MATCH('Lüftung AbZuluft'!E49,ZuAbluft_Def[ZuAbluft_Definition],0)))","v":""},null,null,null,null,null,null,null,"",null,{"$f":"IF(P48<MAX(Lüftungsvorschläge[Nummer]),P48+1,\"\")","v":""},{"$f":"IF(P49=\"\",\"\",INDEX(Raumliste_kompakt[Geschoß],MATCH(P49,Lüftungsvorschläge[Nummer],0)))","v":""},"",{"$f":"IF(P49=\"\",\"\",IF(INDEX(Lüftungsvorschläge[C],MATCH(P49,Lüftungsvorschläge[Nummer],0))<>\"\",INDEX(Lüftungsvorschläge[C],MATCH(P49,Lüftungsvorschläge[Nummer],0)),IF(INDEX(Lüftungsvorschläge[B],MATCH(P49,Lüftungsvorschläge[Nummer],0))<>\"\",INDEX(Lüftungsvorschläge[B],MATCH(P49,Lüftungsvorschläge[Nummer],0)),IF(INDEX(Lüftungsvorschläge[A1],MATCH(P49,Lüftungsvorschläge[Nummer],0))<>\"\",INDEX(Lüftungsvorschläge[A1],MATCH(P49,Lüftungsvorschläge[Nummer],0)),IF(INDEX(Lüftungsvorschläge[A2],MATCH(P49,Lüftungsvorschläge[Nummer],0))<>\"\",INDEX(Lüftungsvorschläge[A2],MATCH(P49,Lüftungsvorschläge[Nummer],0)),\"\")))))","v":""},null,null,null,null,null,null,"",{"$f":"IF(P49=\"\",\"\",IF(AND(INDEX(Lüftungsvorschläge[B],MATCH(P49,Lüftungsvorschläge[Nummer],0))<>\"\",INDEX(Lüftungsvorschläge[B],MATCH(P49,Lüftungsvorschläge[Nummer],0))<>S49),INDEX(Lüftungsvorschläge[B],MATCH(P49,Lüftungsvorschläge[Nummer],0)),IF(AND(INDEX(Lüftungsvorschläge[A1],MATCH(P49,Lüftungsvorschläge[Nummer],0))<>\"\",INDEX(Lüftungsvorschläge[A1],MATCH(P49,Lüftungsvorschläge[Nummer],0))<>S49),INDEX(Lüftungsvorschläge[A1],MATCH(P49,Lüftungsvorschläge[Nummer],0)),IF(AND(INDEX(Lüftungsvorschläge[A2],MATCH(P49,Lüftungsvorschläge[Nummer],0))<>\"\",INDEX(Lüftungsvorschläge[A2],MATCH(P49,Lüftungsvorschläge[Nummer],0))<>S49),INDEX(Lüftungsvorschläge[A2],MATCH(P49,Lüftungsvorschläge[Nummer],0)),\"\" ))))","v":""},null,null,null,"",{"$f":"IF(P49=\"\",\"\",IF(AND(INDEX(Lüftungsvorschläge[A1],MATCH(P49,Lüftungsvorschläge[Nummer],0))<>\"\",INDEX(Lüftungsvorschläge[A1],MATCH(P49,Lüftungsvorschläge[Nummer],0))<>AA49,INDEX(Lüftungsvorschläge[A1],MATCH(P49,Lüftungsvorschläge[Nummer],0))<>S49),INDEX(Lüftungsvorschläge[A1],MATCH(P49,Lüftungsvorschläge[Nummer],0)),IF(AND(INDEX(Lüftungsvorschläge[A2],MATCH(P49,Lüftungsvorschläge[Nummer],0))<>\"\",INDEX(Lüftungsvorschläge[A2],MATCH(P49,Lüftungsvorschläge[Nummer],0))<>AA49,INDEX(Lüftungsvorschläge[A2],MATCH(P49,Lüftungsvorschläge[Nummer],0))<>S49),INDEX(Lüftungsvorschläge[A2],MATCH(P49,Lüftungsvorschläge[Nummer],0)),\"\")))","v":""},null,null,null,null,null,"",null,"","","","",{"$f":"IF(C49=\"\",\"\",IF(OR(INDEX(Raumliste_kompakt[Raum],C49)=\"Küche\",INDEX(Raumliste_kompakt[Raum],C49)=\"Wohnküche\"),60,IF(ISNUMBER(AS49),IF(OR(AS49=2,AS49=3),20,IF(OR(AS49=4,AS49=5),40,0)),0)))","v":""},{"$f":"IF(COUNTIF(WW_Räume[Raumnr.],'Lüftung AbZuluft'!C49)=0,\"-\",INDEX(WW_Räume[Typ],MATCH('Lüftung AbZuluft'!C49,WW_Räume[Raumnr.],0)))","v":""},{"$f":"IF(D49=\"\",\"\",IF(D49<>D48,MAX($AT$21:AT48)+1,MAX($AT$21:AT48)))","v":""},{"$f":"IF(E49=\"\",\"\",IF(INDEX(ZuAbluft_Def[Zuluft],MATCH('Lüftung AbZuluft'!$E49,ZuAbluft_Def[ZuAbluft_Definition],0))<>\"x\",INDEX(ZuAbluft_Def[Zuluft],MATCH('Lüftung AbZuluft'!$E49,ZuAbluft_Def[ZuAbluft_Definition],0)),\"?\"))","v":""},{"$f":"IF(OR(AS49=2,AS49=3),$F$9,IF(OR(AS49=4,AS49=5),$F$8,IF(E49=\"\",\"\",IF(INDEX(ZuAbluft_Def[Abluft],MATCH('Lüftung AbZuluft'!$E49,ZuAbluft_Def[ZuAbluft_Definition],0))<>\"x\",INDEX(ZuAbluft_Def[Abluft],MATCH('Lüftung AbZuluft'!$E49,ZuAbluft_Def[ZuAbluft_Definition],0)),\"?\"))))","v":""},"","","","","","","","","","","",null,"","","","",null,"","","","",0,{"$f":"IF(BR49=0,\"\",MAX($BS$21:BS48)+1)","v":""}]
[null,null,{"$f":"IF(C49<MAX(Raumliste[Nummer]),C49+1,\"\")","v":""},{"$f":"IF(C50=\"\",\"\",INDEX(Raumliste_kompakt[Geschoß],MATCH(C50,Raumliste_kompakt[Nummer])))","v":""},{"$f":"IF(C50=\"\",\"\",INDEX(Raumliste_kompakt[Raum],MATCH(C50,Raumliste_kompakt[Nummer])))","v":""},{"$f":"IF(C50=\"\",\"\",INDEX(ZuAbluft_Def[Definition],MATCH('Lüftung AbZuluft'!E50,ZuAbluft_Def[ZuAbluft_Definition],0)))","v":""},null,null,null,null,null,null,null,"",null,{"$f":"IF(P49<MAX(Lüftungsvorschläge[Nummer]),P49+1,\"\")","v":""},{"$f":"IF(P50=\"\",\"\",INDEX(Raumliste_kompakt[Geschoß],MATCH(P50,Lüftungsvorschläge[Nummer],0)))","v":""},"",{"$f":"IF(P50=\"\",\"\",IF(INDEX(Lüftungsvorschläge[C],MATCH(P50,Lüftungsvorschläge[Nummer],0))<>\"\",INDEX(Lüftungsvorschläge[C],MATCH(P50,Lüftungsvorschläge[Nummer],0)),IF(INDEX(Lüftungsvorschläge[B],MATCH(P50,Lüftungsvorschläge[Nummer],0))<>\"\",INDEX(Lüftungsvorschläge[B],MATCH(P50,Lüftungsvorschläge[Nummer],0)),IF(INDEX(Lüftungsvorschläge[A1],MATCH(P50,Lüftungsvorschläge[Nummer],0))<>\"\",INDEX(Lüftungsvorschläge[A1],MATCH(P50,Lüftungsvorschläge[Nummer],0)),IF(INDEX(Lüftungsvorschläge[A2],MATCH(P50,Lüftungsvorschläge[Nummer],0))<>\"\",INDEX(Lüftungsvorschläge[A2],MATCH(P50,Lüftungsvorschläge[Nummer],0)),\"\")))))","v":""},null,null,null,null,null,null,"",{"$f":"IF(P50=\"\",\"\",IF(AND(INDEX(Lüftungsvorschläge[B],MATCH(P50,Lüftungsvorschläge[Nummer],0))<>\"\",INDEX(Lüftungsvorschläge[B],MATCH(P50,Lüftungsvorschläge[Nummer],0))<>S50),INDEX(Lüftungsvorschläge[B],MATCH(P50,Lüftungsvorschläge[Nummer],0)),IF(AND(INDEX(Lüftungsvorschläge[A1],MATCH(P50,Lüftungsvorschläge[Nummer],0))<>\"\",INDEX(Lüftungsvorschläge[A1],MATCH(P50,Lüftungsvorschläge[Nummer],0))<>S50),INDEX(Lüftungsvorschläge[A1],MATCH(P50,Lüftungsvorschläge[Nummer],0)),IF(AND(INDEX(Lüftungsvorschläge[A2],MATCH(P50,Lüftungsvorschläge[Nummer],0))<>\"\",INDEX(Lüftungsvorschläge[A2],MATCH(P50,Lüftungsvorschläge[Nummer],0))<>S50),INDEX(Lüftungsvorschläge[A2],MATCH(P50,Lüftungsvorschläge[Nummer],0)),\"\" ))))","v":""},null,null,null,"",{"$f":"IF(P50=\"\",\"\",IF(AND(INDEX(Lüftungsvorschläge[A1],MATCH(P50,Lüftungsvorschläge[Nummer],0))<>\"\",INDEX(Lüftungsvorschläge[A1],MATCH(P50,Lüftungsvorschläge[Nummer],0))<>AA50,INDEX(Lüftungsvorschläge[A1],MATCH(P50,Lüftungsvorschläge[Nummer],0))<>S50),INDEX(Lüftungsvorschläge[A1],MATCH(P50,Lüftungsvorschläge[Nummer],0)),IF(AND(INDEX(Lüftungsvorschläge[A2],MATCH(P50,Lüftungsvorschläge[Nummer],0))<>\"\",INDEX(Lüftungsvorschläge[A2],MATCH(P50,Lüftungsvorschläge[Nummer],0))<>AA50,INDEX(Lüftungsvorschläge[A2],MATCH(P50,Lüftungsvorschläge[Nummer],0))<>S50),INDEX(Lüftungsvorschläge[A2],MATCH(P50,Lüftungsvorschläge[Nummer],0)),\"\")))","v":""},null,null,null,null,null,"",null,"","","","",{"$f":"IF(C50=\"\",\"\",IF(OR(INDEX(Raumliste_kompakt[Raum],C50)=\"Küche\",INDEX(Raumliste_kompakt[Raum],C50)=\"Wohnküche\"),60,IF(ISNUMBER(AS50),IF(OR(AS50=2,AS50=3),20,IF(OR(AS50=4,AS50=5),40,0)),0)))","v":""},{"$f":"IF(COUNTIF(WW_Räume[Raumnr.],'Lüftung AbZuluft'!C50)=0,\"-\",INDEX(WW_Räume[Typ],MATCH('Lüftung AbZuluft'!C50,WW_Räume[Raumnr.],0)))","v":""},{"$f":"IF(D50=\"\",\"\",IF(D50<>D49,MAX($AT$21:AT49)+1,MAX($AT$21:AT49)))","v":""},{"$f":"IF(E50=\"\",\"\",IF(INDEX(ZuAbluft_Def[Zuluft],MATCH('Lüftung AbZuluft'!$E50,ZuAbluft_Def[ZuAbluft_Definition],0))<>\"x\",INDEX(ZuAbluft_Def[Zuluft],MATCH('Lüftung AbZuluft'!$E50,ZuAbluft_Def[ZuAbluft_Definition],0)),\"?\"))","v":""},{"$f":"IF(OR(AS50=2,AS50=3),$F$9,IF(OR(AS50=4,AS50=5),$F$8,IF(E50=\"\",\"\",IF(INDEX(ZuAbluft_Def[Abluft],MATCH('Lüftung AbZuluft'!$E50,ZuAbluft_Def[ZuAbluft_Definition],0))<>\"x\",INDEX(ZuAbluft_Def[Abluft],MATCH('Lüftung AbZuluft'!$E50,ZuAbluft_Def[ZuAbluft_Definition],0)),\"?\"))))","v":""},"","","","","","","","","","","",null,"","","","",null,"","","","",0,{"$f":"IF(BR50=0,\"\",MAX($BS$21:BS49)+1)","v":""}]
[null,null,{"$f":"IF(C50<MAX(Raumliste[Nummer]),C50+1,\"\")","v":""},{"$f":"IF(C51=\"\",\"\",INDEX(Raumliste_kompakt[Geschoß],MATCH(C51,Raumliste_kompakt[Nummer])))","v":""},{"$f":"IF(C51=\"\",\"\",INDEX(Raumliste_kompakt[Raum],MATCH(C51,Raumliste_kompakt[Nummer])))","v":""},{"$f":"IF(C51=\"\",\"\",INDEX(ZuAbluft_Def[Definition],MATCH('Lüftung AbZuluft'!E51,ZuAbluft_Def[ZuAbluft_Definition],0)))","v":""},null,null,null,null,null,null,null,"",null,{"$f":"IF(P50<MAX(Lüftungsvorschläge[Nummer]),P50+1,\"\")","v":""},{"$f":"IF(P51=\"\",\"\",INDEX(Raumliste_kompakt[Geschoß],MATCH(P51,Lüftungsvorschläge[Nummer],0)))","v":""},"",{"$f":"IF(P51=\"\",\"\",IF(INDEX(Lüftungsvorschläge[C],MATCH(P51,Lüftungsvorschläge[Nummer],0))<>\"\",INDEX(Lüftungsvorschläge[C],MATCH(P51,Lüftungsvorschläge[Nummer],0)),IF(INDEX(Lüftungsvorschläge[B],MATCH(P51,Lüftungsvorschläge[Nummer],0))<>\"\",INDEX(Lüftungsvorschläge[B],MATCH(P51,Lüftungsvorschläge[Nummer],0)),IF(INDEX(Lüftungsvorschläge[A1],MATCH(P51,Lüftungsvorschläge[Nummer],0))<>\"\",INDEX(Lüftungsvorschläge[A1],MATCH(P51,Lüftungsvorschläge[Nummer],0)),IF(INDEX(Lüftungsvorschläge[A2],MATCH(P51,Lüftungsvorschläge[Nummer],0))<>\"\",INDEX(Lüftungsvorschläge[A2],MATCH(P51,Lüftungsvorschläge[Nummer],0)),\"\")))))","v":""},null,null,null,null,null,null,"",{"$f":"IF(P51=\"\",\"\",IF(AND(INDEX(Lüftungsvorschläge[B],MATCH(P51,Lüftungsvorschläge[Nummer],0))<>\"\",INDEX(Lüftungsvorschläge[B],MATCH(P51,Lüftungsvorschläge[Nummer],0))<>S51),INDEX(Lüftungsvorschläge[B],MATCH(P51,Lüftungsvorschläge[Nummer],0)),IF(AND(INDEX(Lüftungsvorschläge[A1],MATCH(P51,Lüftungsvorschläge[Nummer],0))<>\"\",INDEX(Lüftungsvorschläge[A1],MATCH(P51,Lüftungsvorschläge[Nummer],0))<>S51),INDEX(Lüftungsvorschläge[A1],MATCH(P51,Lüftungsvorschläge[Nummer],0)),IF(AND(INDEX(Lüftungsvorschläge[A2],MATCH(P51,Lüftungsvorschläge[Nummer],0))<>\"\",INDEX(Lüftungsvorschläge[A2],MATCH(P51,Lüftungsvorschläge[Nummer],0))<>S51),INDEX(Lüftungsvorschläge[A2],MATCH(P51,Lüftungsvorschläge[Nummer],0)),\"\" ))))","v":""},null,null,null,"",{"$f":"IF(P51=\"\",\"\",IF(AND(INDEX(Lüftungsvorschläge[A1],MATCH(P51,Lüftungsvorschläge[Nummer],0))<>\"\",INDEX(Lüftungsvorschläge[A1],MATCH(P51,Lüftungsvorschläge[Nummer],0))<>AA51,INDEX(Lüftungsvorschläge[A1],MATCH(P51,Lüftungsvorschläge[Nummer],0))<>S51),INDEX(Lüftungsvorschläge[A1],MATCH(P51,Lüftungsvorschläge[Nummer],0)),IF(AND(INDEX(Lüftungsvorschläge[A2],MATCH(P51,Lüftungsvorschläge[Nummer],0))<>\"\",INDEX(Lüftungsvorschläge[A2],MATCH(P51,Lüftungsvorschläge[Nummer],0))<>AA51,INDEX(Lüftungsvorschläge[A2],MATCH(P51,Lüftungsvorschläge[Nummer],0))<>S51),INDEX(Lüftungsvorschläge[A2],MATCH(P51,Lüftungsvorschläge[Nummer],0)),\"\")))","v":""},null,null,null,null,null,"",null,"","","","",{"$f":"IF(C51=\"\",\"\",IF(OR(INDEX(Raumliste_kompakt[Raum],C51)=\"Küche\",INDEX(Raumliste_kompakt[Raum],C51)=\"Wohnküche\"),60,IF(ISNUMBER(AS51),IF(OR(AS51=2,AS51=3),20,IF(OR(AS51=4,AS51=5),40,0)),0)))","v":""},{"$f":"IF(COUNTIF(WW_Räume[Raumnr.],'Lüftung AbZuluft'!C51)=0,\"-\",INDEX(WW_Räume[Typ],MATCH('Lüftung AbZuluft'!C51,WW_Räume[Raumnr.],0)))","v":""},{"$f":"IF(D51=\"\",\"\",IF(D51<>D50,MAX($AT$21:AT50)+1,MAX($AT$21:AT50)))","v":""},{"$f":"IF(E51=\"\",\"\",IF(INDEX(ZuAbluft_Def[Zuluft],MATCH('Lüftung AbZuluft'!$E51,ZuAbluft_Def[ZuAbluft_Definition],0))<>\"x\",INDEX(ZuAbluft_Def[Zuluft],MATCH('Lüftung AbZuluft'!$E51,ZuAbluft_Def[ZuAbluft_Definition],0)),\"?\"))","v":""},{"$f":"IF(OR(AS51=2,AS51=3),$F$9,IF(OR(AS51=4,AS51=5),$F$8,IF(E51=\"\",\"\",IF(INDEX(ZuAbluft_Def[Abluft],MATCH('Lüftung AbZuluft'!$E51,ZuAbluft_Def[ZuAbluft_Definition],0))<>\"x\",INDEX(ZuAbluft_Def[Abluft],MATCH('Lüftung AbZuluft'!$E51,ZuAbluft_Def[ZuAbluft_Definition],0)),\"?\"))))","v":""},"","","","","","","","","","","",null,"","","","",null,"","","","",0,{"$f":"IF(BR51=0,\"\",MAX($BS$21:BS50)+1)","v":""}]
[null,null,{"$f":"IF(C51<MAX(Raumliste[Nummer]),C51+1,\"\")","v":""},{"$f":"IF(C52=\"\",\"\",INDEX(Raumliste_kompakt[Geschoß],MATCH(C52,Raumliste_kompakt[Nummer])))","v":""},{"$f":"IF(C52=\"\",\"\",INDEX(Raumliste_kompakt[Raum],MATCH(C52,Raumliste_kompakt[Nummer])))","v":""},{"$f":"IF(C52=\"\",\"\",INDEX(ZuAbluft_Def[Definition],MATCH('Lüftung AbZuluft'!E52,ZuAbluft_Def[ZuAbluft_Definition],0)))","v":""},null,null,null,null,null,null,null,"",null,{"$f":"IF(P51<MAX(Lüftungsvorschläge[Nummer]),P51+1,\"\")","v":""},{"$f":"IF(P52=\"\",\"\",INDEX(Raumliste_kompakt[Geschoß],MATCH(P52,Lüftungsvorschläge[Nummer],0)))","v":""},"",{"$f":"IF(P52=\"\",\"\",IF(INDEX(Lüftungsvorschläge[C],MATCH(P52,Lüftungsvorschläge[Nummer],0))<>\"\",INDEX(Lüftungsvorschläge[C],MATCH(P52,Lüftungsvorschläge[Nummer],0)),IF(INDEX(Lüftungsvorschläge[B],MATCH(P52,Lüftungsvorschläge[Nummer],0))<>\"\",INDEX(Lüftungsvorschläge[B],MATCH(P52,Lüftungsvorschläge[Nummer],0)),IF(INDEX(Lüftungsvorschläge[A1],MATCH(P52,Lüftungsvorschläge[Nummer],0))<>\"\",INDEX(Lüftungsvorschläge[A1],MATCH(P52,Lüftungsvorschläge[Nummer],0)),IF(INDEX(Lüftungsvorschläge[A2],MATCH(P52,Lüftungsvorschläge[Nummer],0))<>\"\",INDEX(Lüftungsvorschläge[A2],MATCH(P52,Lüftungsvorschläge[Nummer],0)),\"\")))))","v":""},null,null,null,null,null,null,"",{"$f":"IF(P52=\"\",\"\",IF(AND(INDEX(Lüftungsvorschläge[B],MATCH(P52,Lüftungsvorschläge[Nummer],0))<>\"\",INDEX(Lüftungsvorschläge[B],MATCH(P52,Lüftungsvorschläge[Nummer],0))<>S52),INDEX(Lüftungsvorschläge[B],MATCH(P52,Lüftungsvorschläge[Nummer],0)),IF(AND(INDEX(Lüftungsvorschläge[A1],MATCH(P52,Lüftungsvorschläge[Nummer],0))<>\"\",INDEX(Lüftungsvorschläge[A1],MATCH(P52,Lüftungsvorschläge[Nummer],0))<>S52),INDEX(Lüftungsvorschläge[A1],MATCH(P52,Lüftungsvorschläge[Nummer],0)),IF(AND(INDEX(Lüftungsvorschläge[A2],MATCH(P52,Lüftungsvorschläge[Nummer],0))<>\"\",INDEX(Lüftungsvorschläge[A2],MATCH(P52,Lüftungsvorschläge[Nummer],0))<>S52),INDEX(Lüftungsvorschläge[A2],MATCH(P52,Lüftungsvorschläge[Nummer],0)),\"\" ))))","v":""},null,null,null,"",{"$f":"IF(P52=\"\",\"\",IF(AND(INDEX(Lüftungsvorschläge[A1],MATCH(P52,Lüftungsvorschläge[Nummer],0))<>\"\",INDEX(Lüftungsvorschläge[A1],MATCH(P52,Lüftungsvorschläge[Nummer],0))<>AA52,INDEX(Lüftungsvorschläge[A1],MATCH(P52,Lüftungsvorschläge[Nummer],0))<>S52),INDEX(Lüftungsvorschläge[A1],MATCH(P52,Lüftungsvorschläge[Nummer],0)),IF(AND(INDEX(Lüftungsvorschläge[A2],MATCH(P52,Lüftungsvorschläge[Nummer],0))<>\"\",INDEX(Lüftungsvorschläge[A2],MATCH(P52,Lüftungsvorschläge[Nummer],0))<>AA52,INDEX(Lüftungsvorschläge[A2],MATCH(P52,Lüftungsvorschläge[Nummer],0))<>S52),INDEX(Lüftungsvorschläge[A2],MATCH(P52,Lüftungsvorschläge[Nummer],0)),\"\")))","v":""},null,null,null,null,null,"",null,"","","","",{"$f":"IF(C52=\"\",\"\",IF(OR(INDEX(Raumliste_kompakt[Raum],C52)=\"Küche\",INDEX(Raumliste_kompakt[Raum],C52)=\"Wohnküche\"),60,IF(ISNUMBER(AS52),IF(OR(AS52=2,AS52=3),20,IF(OR(AS52=4,AS52=5),40,0)),0)))","v":""},{"$f":"IF(COUNTIF(WW_Räume[Raumnr.],'Lüftung AbZuluft'!C52)=0,\"-\",INDEX(WW_Räume[Typ],MATCH('Lüftung AbZuluft'!C52,WW_Räume[Raumnr.],0)))","v":""},{"$f":"IF(D52=\"\",\"\",IF(D52<>D51,MAX($AT$21:AT51)+1,MAX($AT$21:AT51)))","v":""},{"$f":"IF(E52=\"\",\"\",IF(INDEX(ZuAbluft_Def[Zuluft],MATCH('Lüftung AbZuluft'!$E52,ZuAbluft_Def[ZuAbluft_Definition],0))<>\"x\",INDEX(ZuAbluft_Def[Zuluft],MATCH('Lüftung AbZuluft'!$E52,ZuAbluft_Def[ZuAbluft_Definition],0)),\"?\"))","v":""},{"$f":"IF(OR(AS52=2,AS52=3),$F$9,IF(OR(AS52=4,AS52=5),$F$8,IF(E52=\"\",\"\",IF(INDEX(ZuAbluft_Def[Abluft],MATCH('Lüftung AbZuluft'!$E52,ZuAbluft_Def[ZuAbluft_Definition],0))<>\"x\",INDEX(ZuAbluft_Def[Abluft],MATCH('Lüftung AbZuluft'!$E52,ZuAbluft_Def[ZuAbluft_Definition],0)),\"?\"))))","v":""},"","","","","","","","","","","",null,"","","","",null,"","","","",0,{"$f":"IF(BR52=0,\"\",MAX($BS$21:BS51)+1)","v":""}]
[null,null,{"$f":"IF(C52<MAX(Raumliste[Nummer]),C52+1,\"\")","v":""},{"$f":"IF(C53=\"\",\"\",INDEX(Raumliste_kompakt[Geschoß],MATCH(C53,Raumliste_kompakt[Nummer])))","v":""},{"$f":"IF(C53=\"\",\"\",INDEX(Raumliste_kompakt[Raum],MATCH(C53,Raumliste_kompakt[Nummer])))","v":""},{"$f":"IF(C53=\"\",\"\",INDEX(ZuAbluft_Def[Definition],MATCH('Lüftung AbZuluft'!E53,ZuAbluft_Def[ZuAbluft_Definition],0)))","v":""},null,null,null,null,null,null,null,"",null,{"$f":"IF(P52<MAX(Lüftungsvorschläge[Nummer]),P52+1,\"\")","v":""},{"$f":"IF(P53=\"\",\"\",INDEX(Raumliste_kompakt[Geschoß],MATCH(P53,Lüftungsvorschläge[Nummer],0)))","v":""},"",{"$f":"IF(P53=\"\",\"\",IF(INDEX(Lüftungsvorschläge[C],MATCH(P53,Lüftungsvorschläge[Nummer],0))<>\"\",INDEX(Lüftungsvorschläge[C],MATCH(P53,Lüftungsvorschläge[Nummer],0)),IF(INDEX(Lüftungsvorschläge[B],MATCH(P53,Lüftungsvorschläge[Nummer],0))<>\"\",INDEX(Lüftungsvorschläge[B],MATCH(P53,Lüftungsvorschläge[Nummer],0)),IF(INDEX(Lüftungsvorschläge[A1],MATCH(P53,Lüftungsvorschläge[Nummer],0))<>\"\",INDEX(Lüftungsvorschläge[A1],MATCH(P53,Lüftungsvorschläge[Nummer],0)),IF(INDEX(Lüftungsvorschläge[A2],MATCH(P53,Lüftungsvorschläge[Nummer],0))<>\"\",INDEX(Lüftungsvorschläge[A2],MATCH(P53,Lüftungsvorschläge[Nummer],0)),\"\")))))","v":""},null,null,null,null,null,null,"",{"$f":"IF(P53=\"\",\"\",IF(AND(INDEX(Lüftungsvorschläge[B],MATCH(P53,Lüftungsvorschläge[Nummer],0))<>\"\",INDEX(Lüftungsvorschläge[B],MATCH(P53,Lüftungsvorschläge[Nummer],0))<>S53),INDEX(Lüftungsvorschläge[B],MATCH(P53,Lüftungsvorschläge[Nummer],0)),IF(AND(INDEX(Lüftungsvorschläge[A1],MATCH(P53,Lüftungsvorschläge[Nummer],0))<>\"\",INDEX(Lüftungsvorschläge[A1],MATCH(P53,Lüftungsvorschläge[Nummer],0))<>S53),INDEX(Lüftungsvorschläge[A1],MATCH(P53,Lüftungsvorschläge[Nummer],0)),IF(AND(INDEX(Lüftungsvorschläge[A2],MATCH(P53,Lüftungsvorschläge[Nummer],0))<>\"\",INDEX(Lüftungsvorschläge[A2],MATCH(P53,Lüftungsvorschläge[Nummer],0))<>S53),INDEX(Lüftungsvorschläge[A2],MATCH(P53,Lüftungsvorschläge[Nummer],0)),\"\" ))))","v":""},null,null,null,"",{"$f":"IF(P53=\"\",\"\",IF(AND(INDEX(Lüftungsvorschläge[A1],MATCH(P53,Lüftungsvorschläge[Nummer],0))<>\"\",INDEX(Lüftungsvorschläge[A1],MATCH(P53,Lüftungsvorschläge[Nummer],0))<>AA53,INDEX(Lüftungsvorschläge[A1],MATCH(P53,Lüftungsvorschläge[Nummer],0))<>S53),INDEX(Lüftungsvorschläge[A1],MATCH(P53,Lüftungsvorschläge[Nummer],0)),IF(AND(INDEX(Lüftungsvorschläge[A2],MATCH(P53,Lüftungsvorschläge[Nummer],0))<>\"\",INDEX(Lüftungsvorschläge[A2],MATCH(P53,Lüftungsvorschläge[Nummer],0))<>AA53,INDEX(Lüftungsvorschläge[A2],MATCH(P53,Lüftungsvorschläge[Nummer],0))<>S53),INDEX(Lüftungsvorschläge[A2],MATCH(P53,Lüftungsvorschläge[Nummer],0)),\"\")))","v":""},null,null,null,null,null,"",null,"","","","",{"$f":"IF(C53=\"\",\"\",IF(OR(INDEX(Raumliste_kompakt[Raum],C53)=\"Küche\",INDEX(Raumliste_kompakt[Raum],C53)=\"Wohnküche\"),60,IF(ISNUMBER(AS53),IF(OR(AS53=2,AS53=3),20,IF(OR(AS53=4,AS53=5),40,0)),0)))","v":""},{"$f":"IF(COUNTIF(WW_Räume[Raumnr.],'Lüftung AbZuluft'!C53)=0,\"-\",INDEX(WW_Räume[Typ],MATCH('Lüftung AbZuluft'!C53,WW_Räume[Raumnr.],0)))","v":""},{"$f":"IF(D53=\"\",\"\",IF(D53<>D52,MAX($AT$21:AT52)+1,MAX($AT$21:AT52)))","v":""},{"$f":"IF(E53=\"\",\"\",IF(INDEX(ZuAbluft_Def[Zuluft],MATCH('Lüftung AbZuluft'!$E53,ZuAbluft_Def[ZuAbluft_Definition],0))<>\"x\",INDEX(ZuAbluft_Def[Zuluft],MATCH('Lüftung AbZuluft'!$E53,ZuAbluft_Def[ZuAbluft_Definition],0)),\"?\"))","v":""},{"$f":"IF(OR(AS53=2,AS53=3),$F$9,IF(OR(AS53=4,AS53=5),$F$8,IF(E53=\"\",\"\",IF(INDEX(ZuAbluft_Def[Abluft],MATCH('Lüftung AbZuluft'!$E53,ZuAbluft_Def[ZuAbluft_Definition],0))<>\"x\",INDEX(ZuAbluft_Def[Abluft],MATCH('Lüftung AbZuluft'!$E53,ZuAbluft_Def[ZuAbluft_Definition],0)),\"?\"))))","v":""},"","","","","","","","","","","",null,"","","","",null,"","","","",0,{"$f":"IF(BR53=0,\"\",MAX($BS$21:BS52)+1)","v":""}]
[null,null,{"$f":"IF(C53<MAX(Raumliste[Nummer]),C53+1,\"\")","v":""},{"$f":"IF(C54=\"\",\"\",INDEX(Raumliste_kompakt[Geschoß],MATCH(C54,Raumliste_kompakt[Nummer])))","v":""},{"$f":"IF(C54=\"\",\"\",INDEX(Raumliste_kompakt[Raum],MATCH(C54,Raumliste_kompakt[Nummer])))","v":""},{"$f":"IF(C54=\"\",\"\",INDEX(ZuAbluft_Def[Definition],MATCH('Lüftung AbZuluft'!E54,ZuAbluft_Def[ZuAbluft_Definition],0)))","v":""},null,null,null,null,null,null,null,"",null,{"$f":"IF(P53<MAX(Lüftungsvorschläge[Nummer]),P53+1,\"\")","v":""},{"$f":"IF(P54=\"\",\"\",INDEX(Raumliste_kompakt[Geschoß],MATCH(P54,Lüftungsvorschläge[Nummer],0)))","v":""},"",{"$f":"IF(P54=\"\",\"\",IF(INDEX(Lüftungsvorschläge[C],MATCH(P54,Lüftungsvorschläge[Nummer],0))<>\"\",INDEX(Lüftungsvorschläge[C],MATCH(P54,Lüftungsvorschläge[Nummer],0)),IF(INDEX(Lüftungsvorschläge[B],MATCH(P54,Lüftungsvorschläge[Nummer],0))<>\"\",INDEX(Lüftungsvorschläge[B],MATCH(P54,Lüftungsvorschläge[Nummer],0)),IF(INDEX(Lüftungsvorschläge[A1],MATCH(P54,Lüftungsvorschläge[Nummer],0))<>\"\",INDEX(Lüftungsvorschläge[A1],MATCH(P54,Lüftungsvorschläge[Nummer],0)),IF(INDEX(Lüftungsvorschläge[A2],MATCH(P54,Lüftungsvorschläge[Nummer],0))<>\"\",INDEX(Lüftungsvorschläge[A2],MATCH(P54,Lüftungsvorschläge[Nummer],0)),\"\")))))","v":""},null,null,null,null,null,null,"",{"$f":"IF(P54=\"\",\"\",IF(AND(INDEX(Lüftungsvorschläge[B],MATCH(P54,Lüftungsvorschläge[Nummer],0))<>\"\",INDEX(Lüftungsvorschläge[B],MATCH(P54,Lüftungsvorschläge[Nummer],0))<>S54),INDEX(Lüftungsvorschläge[B],MATCH(P54,Lüftungsvorschläge[Nummer],0)),IF(AND(INDEX(Lüftungsvorschläge[A1],MATCH(P54,Lüftungsvorschläge[Nummer],0))<>\"\",INDEX(Lüftungsvorschläge[A1],MATCH(P54,Lüftungsvorschläge[Nummer],0))<>S54),INDEX(Lüftungsvorschläge[A1],MATCH(P54,Lüftungsvorschläge[Nummer],0)),IF(AND(INDEX(Lüftungsvorschläge[A2],MATCH(P54,Lüftungsvorschläge[Nummer],0))<>\"\",INDEX(Lüftungsvorschläge[A2],MATCH(P54,Lüftungsvorschläge[Nummer],0))<>S54),INDEX(Lüftungsvorschläge[A2],MATCH(P54,Lüftungsvorschläge[Nummer],0)),\"\" ))))","v":""},null,null,null,"",{"$f":"IF(P54=\"\",\"\",IF(AND(INDEX(Lüftungsvorschläge[A1],MATCH(P54,Lüftungsvorschläge[Nummer],0))<>\"\",INDEX(Lüftungsvorschläge[A1],MATCH(P54,Lüftungsvorschläge[Nummer],0))<>AA54,INDEX(Lüftungsvorschläge[A1],MATCH(P54,Lüftungsvorschläge[Nummer],0))<>S54),INDEX(Lüftungsvorschläge[A1],MATCH(P54,Lüftungsvorschläge[Nummer],0)),IF(AND(INDEX(Lüftungsvorschläge[A2],MATCH(P54,Lüftungsvorschläge[Nummer],0))<>\"\",INDEX(Lüftungsvorschläge[A2],MATCH(P54,Lüftungsvorschläge[Nummer],0))<>AA54,INDEX(Lüftungsvorschläge[A2],MATCH(P54,Lüftungsvorschläge[Nummer],0))<>S54),INDEX(Lüftungsvorschläge[A2],MATCH(P54,Lüftungsvorschläge[Nummer],0)),\"\")))","v":""},null,null,null,null,null,"",null,"","","","",{"$f":"IF(C54=\"\",\"\",IF(OR(INDEX(Raumliste_kompakt[Raum],C54)=\"Küche\",INDEX(Raumliste_kompakt[Raum],C54)=\"Wohnküche\"),60,IF(ISNUMBER(AS54),IF(OR(AS54=2,AS54=3),20,IF(OR(AS54=4,AS54=5),40,0)),0)))","v":""},{"$f":"IF(COUNTIF(WW_Räume[Raumnr.],'Lüftung AbZuluft'!C54)=0,\"-\",INDEX(WW_Räume[Typ],MATCH('Lüftung AbZuluft'!C54,WW_Räume[Raumnr.],0)))","v":""},{"$f":"IF(D54=\"\",\"\",IF(D54<>D53,MAX($AT$21:AT53)+1,MAX($AT$21:AT53)))","v":""},{"$f":"IF(E54=\"\",\"\",IF(INDEX(ZuAbluft_Def[Zuluft],MATCH('Lüftung AbZuluft'!$E54,ZuAbluft_Def[ZuAbluft_Definition],0))<>\"x\",INDEX(ZuAbluft_Def[Zuluft],MATCH('Lüftung AbZuluft'!$E54,ZuAbluft_Def[ZuAbluft_Definition],0)),\"?\"))","v":""},{"$f":"IF(OR(AS54=2,AS54=3),$F$9,IF(OR(AS54=4,AS54=5),$F$8,IF(E54=\"\",\"\",IF(INDEX(ZuAbluft_Def[Abluft],MATCH('Lüftung AbZuluft'!$E54,ZuAbluft_Def[ZuAbluft_Definition],0))<>\"x\",INDEX(ZuAbluft_Def[Abluft],MATCH('Lüftung AbZuluft'!$E54,ZuAbluft_Def[ZuAbluft_Definition],0)),\"?\"))))","v":""},"","","","","","","","","","","",null,"","","","",null,"","","","",0,{"$f":"IF(BR54=0,\"\",MAX($BS$21:BS53)+1)","v":""}]
[null,null,{"$f":"IF(C54<MAX(Raumliste[Nummer]),C54+1,\"\")","v":""},{"$f":"IF(C55=\"\",\"\",INDEX(Raumliste_kompakt[Geschoß],MATCH(C55,Raumliste_kompakt[Nummer])))","v":""},{"$f":"IF(C55=\"\",\"\",INDEX(Raumliste_kompakt[Raum],MATCH(C55,Raumliste_kompakt[Nummer])))","v":""},{"$f":"IF(C55=\"\",\"\",INDEX(ZuAbluft_Def[Definition],MATCH('Lüftung AbZuluft'!E55,ZuAbluft_Def[ZuAbluft_Definition],0)))","v":""},null,null,null,null,null,null,null,"",null,{"$f":"IF(P54<MAX(Lüftungsvorschläge[Nummer]),P54+1,\"\")","v":""},{"$f":"IF(P55=\"\",\"\",INDEX(Raumliste_kompakt[Geschoß],MATCH(P55,Lüftungsvorschläge[Nummer],0)))","v":""},"",{"$f":"IF(P55=\"\",\"\",IF(INDEX(Lüftungsvorschläge[C],MATCH(P55,Lüftungsvorschläge[Nummer],0))<>\"\",INDEX(Lüftungsvorschläge[C],MATCH(P55,Lüftungsvorschläge[Nummer],0)),IF(INDEX(Lüftungsvorschläge[B],MATCH(P55,Lüftungsvorschläge[Nummer],0))<>\"\",INDEX(Lüftungsvorschläge[B],MATCH(P55,Lüftungsvorschläge[Nummer],0)),IF(INDEX(Lüftungsvorschläge[A1],MATCH(P55,Lüftungsvorschläge[Nummer],0))<>\"\",INDEX(Lüftungsvorschläge[A1],MATCH(P55,Lüftungsvorschläge[Nummer],0)),IF(INDEX(Lüftungsvorschläge[A2],MATCH(P55,Lüftungsvorschläge[Nummer],0))<>\"\",INDEX(Lüftungsvorschläge[A2],MATCH(P55,Lüftungsvorschläge[Nummer],0)),\"\")))))","v":""},null,null,null,null,null,null,"",{"$f":"IF(P55=\"\",\"\",IF(AND(INDEX(Lüftungsvorschläge[B],MATCH(P55,Lüftungsvorschläge[Nummer],0))<>\"\",INDEX(Lüftungsvorschläge[B],MATCH(P55,Lüftungsvorschläge[Nummer],0))<>S55),INDEX(Lüftungsvorschläge[B],MATCH(P55,Lüftungsvorschläge[Nummer],0)),IF(AND(INDEX(Lüftungsvorschläge[A1],MATCH(P55,Lüftungsvorschläge[Nummer],0))<>\"\",INDEX(Lüftungsvorschläge[A1],MATCH(P55,Lüftungsvorschläge[Nummer],0))<>S55),INDEX(Lüftungsvorschläge[A1],MATCH(P55,Lüftungsvorschläge[Nummer],0)),IF(AND(INDEX(Lüftungsvorschläge[A2],MATCH(P55,Lüftungsvorschläge[Nummer],0))<>\"\",INDEX(Lüftungsvorschläge[A2],MATCH(P55,Lüftungsvorschläge[Nummer],0))<>S55),INDEX(Lüftungsvorschläge[A2],MATCH(P55,Lüftungsvorschläge[Nummer],0)),\"\" ))))","v":""},null,null,null,"",{"$f":"IF(P55=\"\",\"\",IF(AND(INDEX(Lüftungsvorschläge[A1],MATCH(P55,Lüftungsvorschläge[Nummer],0))<>\"\",INDEX(Lüftungsvorschläge[A1],MATCH(P55,Lüftungsvorschläge[Nummer],0))<>AA55,INDEX(Lüftungsvorschläge[A1],MATCH(P55,Lüftungsvorschläge[Nummer],0))<>S55),INDEX(Lüftungsvorschläge[A1],MATCH(P55,Lüftungsvorschläge[Nummer],0)),IF(AND(INDEX(Lüftungsvorschläge[A2],MATCH(P55,Lüftungsvorschläge[Nummer],0))<>\"\",INDEX(Lüftungsvorschläge[A2],MATCH(P55,Lüftungsvorschläge[Nummer],0))<>AA55,INDEX(Lüftungsvorschläge[A2],MATCH(P55,Lüftungsvorschläge[Nummer],0))<>S55),INDEX(Lüftungsvorschläge[A2],MATCH(P55,Lüftungsvorschläge[Nummer],0)),\"\")))","v":""},null,null,null,null,null,"",null,"","","","",{"$f":"IF(C55=\"\",\"\",IF(OR(INDEX(Raumliste_kompakt[Raum],C55)=\"Küche\",INDEX(Raumliste_kompakt[Raum],C55)=\"Wohnküche\"),60,IF(ISNUMBER(AS55),IF(OR(AS55=2,AS55=3),20,IF(OR(AS55=4,AS55=5),40,0)),0)))","v":""},{"$f":"IF(COUNTIF(WW_Räume[Raumnr.],'Lüftung AbZuluft'!C55)=0,\"-\",INDEX(WW_Räume[Typ],MATCH('Lüftung AbZuluft'!C55,WW_Räume[Raumnr.],0)))","v":""},{"$f":"IF(D55=\"\",\"\",IF(D55<>D54,MAX($AT$21:AT54)+1,MAX($AT$21:AT54)))","v":""},{"$f":"IF(E55=\"\",\"\",IF(INDEX(ZuAbluft_Def[Zuluft],MATCH('Lüftung AbZuluft'!$E55,ZuAbluft_Def[ZuAbluft_Definition],0))<>\"x\",INDEX(ZuAbluft_Def[Zuluft],MATCH('Lüftung AbZuluft'!$E55,ZuAbluft_Def[ZuAbluft_Definition],0)),\"?\"))","v":""},{"$f":"IF(OR(AS55=2,AS55=3),$F$9,IF(OR(AS55=4,AS55=5),$F$8,IF(E55=\"\",\"\",IF(INDEX(ZuAbluft_Def[Abluft],MATCH('Lüftung AbZuluft'!$E55,ZuAbluft_Def[ZuAbluft_Definition],0))<>\"x\",INDEX(ZuAbluft_Def[Abluft],MATCH('Lüftung AbZuluft'!$E55,ZuAbluft_Def[ZuAbluft_Definition],0)),\"?\"))))","v":""},"","","","","","","","","","","",null,"","","","",null,"","","","",0,{"$f":"IF(BR55=0,\"\",MAX($BS$21:BS54)+1)","v":""}]
[null,null,{"$f":"IF(C55<MAX(Raumliste[Nummer]),C55+1,\"\")","v":""},{"$f":"IF(C56=\"\",\"\",INDEX(Raumliste_kompakt[Geschoß],MATCH(C56,Raumliste_kompakt[Nummer])))","v":""},{"$f":"IF(C56=\"\",\"\",INDEX(Raumliste_kompakt[Raum],MATCH(C56,Raumliste_kompakt[Nummer])))","v":""},{"$f":"IF(C56=\"\",\"\",INDEX(ZuAbluft_Def[Definition],MATCH('Lüftung AbZuluft'!E56,ZuAbluft_Def[ZuAbluft_Definition],0)))","v":""},null,null,null,null,null,null,null,"",null,{"$f":"IF(P55<MAX(Lüftungsvorschläge[Nummer]),P55+1,\"\")","v":""},{"$f":"IF(P56=\"\",\"\",INDEX(Raumliste_kompakt[Geschoß],MATCH(P56,Lüftungsvorschläge[Nummer],0)))","v":""},"",{"$f":"IF(P56=\"\",\"\",IF(INDEX(Lüftungsvorschläge[C],MATCH(P56,Lüftungsvorschläge[Nummer],0))<>\"\",INDEX(Lüftungsvorschläge[C],MATCH(P56,Lüftungsvorschläge[Nummer],0)),IF(INDEX(Lüftungsvorschläge[B],MATCH(P56,Lüftungsvorschläge[Nummer],0))<>\"\",INDEX(Lüftungsvorschläge[B],MATCH(P56,Lüftungsvorschläge[Nummer],0)),IF(INDEX(Lüftungsvorschläge[A1],MATCH(P56,Lüftungsvorschläge[Nummer],0))<>\"\",INDEX(Lüftungsvorschläge[A1],MATCH(P56,Lüftungsvorschläge[Nummer],0)),IF(INDEX(Lüftungsvorschläge[A2],MATCH(P56,Lüftungsvorschläge[Nummer],0))<>\"\",INDEX(Lüftungsvorschläge[A2],MATCH(P56,Lüftungsvorschläge[Nummer],0)),\"\")))))","v":""},null,null,null,null,null,null,"",{"$f":"IF(P56=\"\",\"\",IF(AND(INDEX(Lüftungsvorschläge[B],MATCH(P56,Lüftungsvorschläge[Nummer],0))<>\"\",INDEX(Lüftungsvorschläge[B],MATCH(P56,Lüftungsvorschläge[Nummer],0))<>S56),INDEX(Lüftungsvorschläge[B],MATCH(P56,Lüftungsvorschläge[Nummer],0)),IF(AND(INDEX(Lüftungsvorschläge[A1],MATCH(P56,Lüftungsvorschläge[Nummer],0))<>\"\",INDEX(Lüftungsvorschläge[A1],MATCH(P56,Lüftungsvorschläge[Nummer],0))<>S56),INDEX(Lüftungsvorschläge[A1],MATCH(P56,Lüftungsvorschläge[Nummer],0)),IF(AND(INDEX(Lüftungsvorschläge[A2],MATCH(P56,Lüftungsvorschläge[Nummer],0))<>\"\",INDEX(Lüftungsvorschläge[A2],MATCH(P56,Lüftungsvorschläge[Nummer],0))<>S56),INDEX(Lüftungsvorschläge[A2],MATCH(P56,Lüftungsvorschläge[Nummer],0)),\"\" ))))","v":""},null,null,null,"",{"$f":"IF(P56=\"\",\"\",IF(AND(INDEX(Lüftungsvorschläge[A1],MATCH(P56,Lüftungsvorschläge[Nummer],0))<>\"\",INDEX(Lüftungsvorschläge[A1],MATCH(P56,Lüftungsvorschläge[Nummer],0))<>AA56,INDEX(Lüftungsvorschläge[A1],MATCH(P56,Lüftungsvorschläge[Nummer],0))<>S56),INDEX(Lüftungsvorschläge[A1],MATCH(P56,Lüftungsvorschläge[Nummer],0)),IF(AND(INDEX(Lüftungsvorschläge[A2],MATCH(P56,Lüftungsvorschläge[Nummer],0))<>\"\",INDEX(Lüftungsvorschläge[A2],MATCH(P56,Lüftungsvorschläge[Nummer],0))<>AA56,INDEX(Lüftungsvorschläge[A2],MATCH(P56,Lüftungsvorschläge[Nummer],0))<>S56),INDEX(Lüftungsvorschläge[A2],MATCH(P56,Lüftungsvorschläge[Nummer],0)),\"\")))","v":""},null,null,null,null,null,"",null,"","","","",{"$f":"IF(C56=\"\",\"\",IF(OR(INDEX(Raumliste_kompakt[Raum],C56)=\"Küche\",INDEX(Raumliste_kompakt[Raum],C56)=\"Wohnküche\"),60,IF(ISNUMBER(AS56),IF(OR(AS56=2,AS56=3),20,IF(OR(AS56=4,AS56=5),40,0)),0)))","v":""},{"$f":"IF(COUNTIF(WW_Räume[Raumnr.],'Lüftung AbZuluft'!C56)=0,\"-\",INDEX(WW_Räume[Typ],MATCH('Lüftung AbZuluft'!C56,WW_Räume[Raumnr.],0)))","v":""},{"$f":"IF(D56=\"\",\"\",IF(D56<>D55,MAX($AT$21:AT55)+1,MAX($AT$21:AT55)))","v":""},{"$f":"IF(E56=\"\",\"\",IF(INDEX(ZuAbluft_Def[Zuluft],MATCH('Lüftung AbZuluft'!$E56,ZuAbluft_Def[ZuAbluft_Definition],0))<>\"x\",INDEX(ZuAbluft_Def[Zuluft],MATCH('Lüftung AbZuluft'!$E56,ZuAbluft_Def[ZuAbluft_Definition],0)),\"?\"))","v":""},{"$f":"IF(OR(AS56=2,AS56=3),$F$9,IF(OR(AS56=4,AS56=5),$F$8,IF(E56=\"\",\"\",IF(INDEX(ZuAbluft_Def[Abluft],MATCH('Lüftung AbZuluft'!$E56,ZuAbluft_Def[ZuAbluft_Definition],0))<>\"x\",INDEX(ZuAbluft_Def[Abluft],MATCH('Lüftung AbZuluft'!$E56,ZuAbluft_Def[ZuAbluft_Definition],0)),\"?\"))))","v":""},"","","","","","","","","","","",null,"","","","",null,"","","","",0,{"$f":"IF(BR56=0,\"\",MAX($BS$21:BS55)+1)","v":""}]
[null,null,{"$f":"IF(C56<MAX(Raumliste[Nummer]),C56+1,\"\")","v":""},{"$f":"IF(C57=\"\",\"\",INDEX(Raumliste_kompakt[Geschoß],MATCH(C57,Raumliste_kompakt[Nummer])))","v":""},{"$f":"IF(C57=\"\",\"\",INDEX(Raumliste_kompakt[Raum],MATCH(C57,Raumliste_kompakt[Nummer])))","v":""},{"$f":"IF(C57=\"\",\"\",INDEX(ZuAbluft_Def[Definition],MATCH('Lüftung AbZuluft'!E57,ZuAbluft_Def[ZuAbluft_Definition],0)))","v":""},null,null,null,null,null,null,null,"",null,null,null,null,null,null,null,null,null,null,null,null,null,null,null,null,null,null,null,null,null,null,null,"",null,"",null,"","",{"$f":"IF(C57=\"\",\"\",IF(OR(INDEX(Raumliste_kompakt[Raum],C57)=\"Küche\",INDEX(Raumliste_kompakt[Raum],C57)=\"Wohnküche\"),60,IF(ISNUMBER(AS57),IF(OR(AS57=2,AS57=3),20,IF(OR(AS57=4,AS57=5),40,0)),0)))","v":""},{"$f":"IF(COUNTIF(WW_Räume[Raumnr.],'Lüftung AbZuluft'!C57)=0,\"-\",INDEX(WW_Räume[Typ],MATCH('Lüftung AbZuluft'!C57,WW_Räume[Raumnr.],0)))","v":""},{"$f":"IF(D57=\"\",\"\",IF(D57<>D56,MAX($AT$21:AT56)+1,MAX($AT$21:AT56)))","v":""},{"$f":"IF(E57=\"\",\"\",IF(INDEX(ZuAbluft_Def[Zuluft],MATCH('Lüftung AbZuluft'!$E57,ZuAbluft_Def[ZuAbluft_Definition],0))<>\"x\",INDEX(ZuAbluft_Def[Zuluft],MATCH('Lüftung AbZuluft'!$E57,ZuAbluft_Def[ZuAbluft_Definition],0)),\"?\"))","v":""},{"$f":"IF(OR(AS57=2,AS57=3),$F$9,IF(OR(AS57=4,AS57=5),$F$8,IF(E57=\"\",\"\",IF(INDEX(ZuAbluft_Def[Abluft],MATCH('Lüftung AbZuluft'!$E57,ZuAbluft_Def[ZuAbluft_Definition],0))<>\"x\",INDEX(ZuAbluft_Def[Abluft],MATCH('Lüftung AbZuluft'!$E57,ZuAbluft_Def[ZuAbluft_Definition],0)),\"?\"))))","v":""},"","","","","","","","","","","",null,"","","","",null,"","","","",0,{"$f":"IF(BR57=0,\"\",MAX($BS$21:BS56)+1)","v":""}]
[null,null,{"$f":"IF(C57<MAX(Raumliste[Nummer]),C57+1,\"\")","v":""},{"$f":"IF(C58=\"\",\"\",INDEX(Raumliste_kompakt[Geschoß],MATCH(C58,Raumliste_kompakt[Nummer])))","v":""},{"$f":"IF(C58=\"\",\"\",INDEX(Raumliste_kompakt[Raum],MATCH(C58,Raumliste_kompakt[Nummer])))","v":""},{"$f":"IF(C58=\"\",\"\",INDEX(ZuAbluft_Def[Definition],MATCH('Lüftung AbZuluft'!E58,ZuAbluft_Def[ZuAbluft_Definition],0)))","v":""},null,null,null,null,null,null,null,"",null,null,null,null,null,null,null,null,null,null,null,null,null,null,null,null,null,null,null,null,null,null,null,"",null,"",null,"","",{"$f":"IF(C58=\"\",\"\",IF(OR(INDEX(Raumliste_kompakt[Raum],C58)=\"Küche\",INDEX(Raumliste_kompakt[Raum],C58)=\"Wohnküche\"),60,IF(ISNUMBER(AS58),IF(OR(AS58=2,AS58=3),20,IF(OR(AS58=4,AS58=5),40,0)),0)))","v":""},{"$f":"IF(COUNTIF(WW_Räume[Raumnr.],'Lüftung AbZuluft'!C58)=0,\"-\",INDEX(WW_Räume[Typ],MATCH('Lüftung AbZuluft'!C58,WW_Räume[Raumnr.],0)))","v":""},{"$f":"IF(D58=\"\",\"\",IF(D58<>D57,MAX($AT$21:AT57)+1,MAX($AT$21:AT57)))","v":""},{"$f":"IF(E58=\"\",\"\",IF(INDEX(ZuAbluft_Def[Zuluft],MATCH('Lüftung AbZuluft'!$E58,ZuAbluft_Def[ZuAbluft_Definition],0))<>\"x\",INDEX(ZuAbluft_Def[Zuluft],MATCH('Lüftung AbZuluft'!$E58,ZuAbluft_Def[ZuAbluft_Definition],0)),\"?\"))","v":""},{"$f":"IF(OR(AS58=2,AS58=3),$F$9,IF(OR(AS58=4,AS58=5),$F$8,IF(E58=\"\",\"\",IF(INDEX(ZuAbluft_Def[Abluft],MATCH('Lüftung AbZuluft'!$E58,ZuAbluft_Def[ZuAbluft_Definition],0))<>\"x\",INDEX(ZuAbluft_Def[Abluft],MATCH('Lüftung AbZuluft'!$E58,ZuAbluft_Def[ZuAbluft_Definition],0)),\"?\"))))","v":""},"","","","","","","","","","","",null,"","","","",null,"","","","",0,{"$f":"IF(BR58=0,\"\",MAX($BS$21:BS57)+1)","v":""}]
[null,null,{"$f":"IF(C58<MAX(Raumliste[Nummer]),C58+1,\"\")","v":""},{"$f":"IF(C59=\"\",\"\",INDEX(Raumliste_kompakt[Geschoß],MATCH(C59,Raumliste_kompakt[Nummer])))","v":""},{"$f":"IF(C59=\"\",\"\",INDEX(Raumliste_kompakt[Raum],MATCH(C59,Raumliste_kompakt[Nummer])))","v":""},{"$f":"IF(C59=\"\",\"\",INDEX(ZuAbluft_Def[Definition],MATCH('Lüftung AbZuluft'!E59,ZuAbluft_Def[ZuAbluft_Definition],0)))","v":""},null,null,null,null,null,null,null,"",null,null,null,null,null,null,null,null,null,null,null,null,null,null,null,null,null,null,null,null,null,null,null,"",null,"",null,"","",{"$f":"IF(C59=\"\",\"\",IF(OR(INDEX(Raumliste_kompakt[Raum],C59)=\"Küche\",INDEX(Raumliste_kompakt[Raum],C59)=\"Wohnküche\"),60,IF(ISNUMBER(AS59),IF(OR(AS59=2,AS59=3),20,IF(OR(AS59=4,AS59=5),40,0)),0)))","v":""},{"$f":"IF(COUNTIF(WW_Räume[Raumnr.],'Lüftung AbZuluft'!C59)=0,\"-\",INDEX(WW_Räume[Typ],MATCH('Lüftung AbZuluft'!C59,WW_Räume[Raumnr.],0)))","v":""},{"$f":"IF(D59=\"\",\"\",IF(D59<>D58,MAX($AT$21:AT58)+1,MAX($AT$21:AT58)))","v":""},{"$f":"IF(E59=\"\",\"\",IF(INDEX(ZuAbluft_Def[Zuluft],MATCH('Lüftung AbZuluft'!$E59,ZuAbluft_Def[ZuAbluft_Definition],0))<>\"x\",INDEX(ZuAbluft_Def[Zuluft],MATCH('Lüftung AbZuluft'!$E59,ZuAbluft_Def[ZuAbluft_Definition],0)),\"?\"))","v":""},{"$f":"IF(OR(AS59=2,AS59=3),$F$9,IF(OR(AS59=4,AS59=5),$F$8,IF(E59=\"\",\"\",IF(INDEX(ZuAbluft_Def[Abluft],MATCH('Lüftung AbZuluft'!$E59,ZuAbluft_Def[ZuAbluft_Definition],0))<>\"x\",INDEX(ZuAbluft_Def[Abluft],MATCH('Lüftung AbZuluft'!$E59,ZuAbluft_Def[ZuAbluft_Definition],0)),\"?\"))))","v":""},"","","","","","","","","","","",null,"","","","",null,"","","","",0,{"$f":"IF(BR59=0,\"\",MAX($BS$21:BS58)+1)","v":""}]
[null,null,{"$f":"IF(C59<MAX(Raumliste[Nummer]),C59+1,\"\")","v":""},{"$f":"IF(C60=\"\",\"\",INDEX(Raumliste_kompakt[Geschoß],MATCH(C60,Raumliste_kompakt[Nummer])))","v":""},{"$f":"IF(C60=\"\",\"\",INDEX(Raumliste_kompakt[Raum],MATCH(C60,Raumliste_kompakt[Nummer])))","v":""},{"$f":"IF(C60=\"\",\"\",INDEX(ZuAbluft_Def[Definition],MATCH('Lüftung AbZuluft'!E60,ZuAbluft_Def[ZuAbluft_Definition],0)))","v":""},null,null,null,null,null,null,null,"",null,null,null,null,null,null,null,null,null,null,null,null,{"$f":"INDEX($AQ$21:$AQ$61,MATCH(LEFT(N21,1),$AL$21:$AL$61,0))","v":""},null,null,null,null,null,null,null,null,null,null,"",null,"",null,"","",{"$f":"IF(C60=\"\",\"\",IF(OR(INDEX(Raumliste_kompakt[Raum],C60)=\"Küche\",INDEX(Raumliste_kompakt[Raum],C60)=\"Wohnküche\"),60,IF(ISNUMBER(AS60),IF(OR(AS60=2,AS60=3),20,IF(OR(AS60=4,AS60=5),40,0)),0)))","v":""},{"$f":"IF(COUNTIF(WW_Räume[Raumnr.],'Lüftung AbZuluft'!C60)=0,\"-\",INDEX(WW_Räume[Typ],MATCH('Lüftung AbZuluft'!C60,WW_Räume[Raumnr.],0)))","v":""},{"$f":"IF(D60=\"\",\"\",IF(D60<>D59,MAX($AT$21:AT59)+1,MAX($AT$21:AT59)))","v":""},{"$f":"IF(E60=\"\",\"\",IF(INDEX(ZuAbluft_Def[Zuluft],MATCH('Lüftung AbZuluft'!$E60,ZuAbluft_Def[ZuAbluft_Definition],0))<>\"x\",INDEX(ZuAbluft_Def[Zuluft],MATCH('Lüftung AbZuluft'!$E60,ZuAbluft_Def[ZuAbluft_Definition],0)),\"?\"))","v":""},{"$f":"IF(OR(AS60=2,AS60=3),$F$9,IF(OR(AS60=4,AS60=5),$F$8,IF(E60=\"\",\"\",IF(INDEX(ZuAbluft_Def[Abluft],MATCH('Lüftung AbZuluft'!$E60,ZuAbluft_Def[ZuAbluft_Definition],0))<>\"x\",INDEX(ZuAbluft_Def[Abluft],MATCH('Lüftung AbZuluft'!$E60,ZuAbluft_Def[ZuAbluft_Definition],0)),\"?\"))))","v":""},"","","","","","","","","","","",null,"","","","",null,"","","","",0,{"$f":"IF(BR60=0,\"\",MAX($BS$21:BS59)+1)","v":""}]
[null,null,{"$f":"IF(C60<MAX(Raumliste[Nummer]),C60+1,\"\")","v":""},{"$f":"IF(C61=\"\",\"\",INDEX(Raumliste_kompakt[Geschoß],MATCH(C61,Raumliste_kompakt[Nummer])))","v":""},{"$f":"IF(C61=\"\",\"\",INDEX(Raumliste_kompakt[Raum],MATCH(C61,Raumliste_kompakt[Nummer])))","v":""},{"$f":"IF(C61=\"\",\"\",INDEX(ZuAbluft_Def[Definition],MATCH('Lüftung AbZuluft'!E61,ZuAbluft_Def[ZuAbluft_Definition],0)))","v":""},null,null,null,null,null,null,null,"",null,null,null,null,null,null,null,null,null,null,null,null,null,null,null,null,null,null,null,null,null,null,null,"",null,"",null,"","",{"$f":"IF(C61=\"\",\"\",IF(OR(INDEX(Raumliste_kompakt[Raum],C61)=\"Küche\",INDEX(Raumliste_kompakt[Raum],C61)=\"Wohnküche\"),60,IF(ISNUMBER(AS61),IF(OR(AS61=2,AS61=3),20,IF(OR(AS61=4,AS61=5),40,0)),0)))","v":""},{"$f":"IF(COUNTIF(WW_Räume[Raumnr.],'Lüftung AbZuluft'!C61)=0,\"-\",INDEX(WW_Räume[Typ],MATCH('Lüftung AbZuluft'!C61,WW_Räume[Raumnr.],0)))","v":""},{"$f":"IF(D61=\"\",\"\",IF(D61<>D60,MAX($AT$21:AT60)+1,MAX($AT$21:AT60)))","v":""},{"$f":"IF(E61=\"\",\"\",IF(INDEX(ZuAbluft_Def[Zuluft],MATCH('Lüftung AbZuluft'!$E61,ZuAbluft_Def[ZuAbluft_Definition],0))<>\"x\",INDEX(ZuAbluft_Def[Zuluft],MATCH('Lüftung AbZuluft'!$E61,ZuAbluft_Def[ZuAbluft_Definition],0)),\"?\"))","v":""},{"$f":"IF(OR(AS61=2,AS61=3),$F$9,IF(OR(AS61=4,AS61=5),$F$8,IF(E61=\"\",\"\",IF(INDEX(ZuAbluft_Def[Abluft],MATCH('Lüftung AbZuluft'!$E61,ZuAbluft_Def[ZuAbluft_Definition],0))<>\"x\",INDEX(ZuAbluft_Def[Abluft],MATCH('Lüftung AbZuluft'!$E61,ZuAbluft_Def[ZuAbluft_Definition],0)),\"?\"))))","v":""},"","","","","","","","","","","",null,"","","","",null,{"$f":"IF(D61=\"\",\"\",IF(BA61=1,\"Erweiterte Kaskadenlüftung: Zuluft - \"&E60&\", Überströmbereich - \"&E61&\", Abluft - \"&#REF!,IF(BB61=1,\"Erweiterte Kaskadenlüftung: Zuluft - \"&E60&\", Überströmbereich - \"&E61&\", Abluft - \"&#REF!,IF(BC61=1,\"Erweiterte Kaskadenlüftung: Zuluft - \"&#REF!&\", Überströmbereich - \"&E61&\", Abluft - \"&E60,IF(BD61=1,\"Erweiterte Kaskadenlüftung: Zuluft - \"&#REF!&\", Überströmbereich - \"&E61&\", Abluft - \"&E60,\"\")))))","v":""},"","","",0,{"$f":"IF(BR61=0,\"\",MAX($BS$21:BS60)+1)","v":""}]
[]
[]
[null,null,"Tatsächlicher Luftwechselrate:",null,null,{"$f":"SUM($U$67:$U$106)/SUM($G$67:$G$106)","v":{"$error":"#N/A"}}]
[]
[null,null,"Nr","Geschoß","Raum","Fläche","Volumen","Zone",null,"Zuluft\n[m³/h]",null,null,"Überströmt\n[m³/h]",null,"Abluft\n[m³/h]","Pendellüfter\n[m³/h]",null,null,"Gerät","Anz. d. \nRäume","Volumen-strom [m³/h]",null,"Hinweise:"]
[null,null,{"$f":"C21","v":1},{"$f":"IF(C67=\"\",\"\",INDEX(Raumliste_kompakt[Geschoß],MATCH(C67,Raumliste_kompakt[Nummer])))","v":{"$error":"#N/A"}},{"$f":"IF(C67=\"\",\"\",INDEX(Raumliste_kompakt[Raum],MATCH(C67,Raumliste_kompakt[Nummer])))","v":{"$error":"#N/A"}},{"$f":"IF(C67=\"\",\"\",INDEX(Raumliste_kompakt[Fläche],MATCH(C67,Raumliste_kompakt[Nummer])))","v":{"$error":"#N/A"}},{"$f":"IF(C67=\"\",\"\",F67*IF(D67=\"KG\",RH_KG,IF(D67=\"EG\",RH_EG,IF(D67=\"1.OG\",RH_OG1,IF(D67=\"2.OG\",RH_OG2,RH_DG)))))","v":{"$error":"#N/A"}},{"$f":"IF(C67=\"\",\"\",INDEX($H$21:$H$61,C67))","v":0},null,{"$f":"IF(C67=\"\",\"\",IF(H67=\"Z\",INDEX($AQ$21:$AQ$61,MATCH(G21,$AN$21:$AN$61,0)),\"\"))","v":""},null,null,{"$f":"IF(C67=\"\",\"\",IF(H67=\"Ü\",IF(G21<>\"mehrere\",INDEX($AQ$21:$AQ$61,MATCH(G21,$AN$21:$AN$61,0)),INDEX($AQ$21:$AQ$61,MATCH(I21,$AN$21:$AN$61,0))+IF(J21=\"\",0,INDEX($AQ$21:$AQ$61,MATCH(J21,$AN$21:$AN$61,0))+IF(K21=\"\",0,INDEX($AQ$21:$AQ$61,MATCH(K21,$AN$21:$AN$61,0)))+IF(L21=\"\",0,INDEX($AQ$21:$AQ$61,MATCH(L21,$AN$21:$AN$61,0)))+IF(M21=\"\",0,INDEX($AQ$21:$AQ$61,MATCH(M21,$AN$21:$AN$61,0))))),\"\"))","v":""},null,{"$f":"IF(C67=\"\",\"\",IF(H67=\"A\",INDEX($AQ$21:$AQ$61,MATCH(G21,$AN$21:$AN$61,0)),\"\"))","v":""},{"$f":"IF(C67=\"\",\"\",IF(H67=\"P\",INDEX($AQ$21:$AQ$61,MATCH(G21,$AN$21:$AN$61,0)),\"\"))","v":""},null,null,1,{"$f":"IF(S67=\"\",\"\",COUNTIF($G$21:$G$61,S67))","v":0},{"$f":"AQ21","v":0}]
[null,null,{"$f":"IF(C67<MAX(Raumliste[Nummer]),C67+1,\"\")","v":""},{"$f":"IF(C68=\"\",\"\",INDEX(Raumliste_kompakt[Geschoß],MATCH(C68,Raumliste_kompakt[Nummer])))","v":""},{"$f":"IF(C68=\"\",\"\",INDEX(Raumliste_kompakt[Raum],MATCH(C68,Raumliste_kompakt[Nummer])))","v":""},{"$f":"IF(C68=\"\",\"\",INDEX(Raumliste_kompakt[Fläche],MATCH(C68,Raumliste_kompakt[Nummer])))","v":""},{"$f":"IF(C68=\"\",\"\",F68*IF(D68=\"KG\",RH_KG,IF(D68=\"EG\",RH_EG,IF(D68=\"1.OG\",RH_OG1,IF(D68=\"2.OG\",RH_OG2,RH_DG)))))","v":""},{"$f":"IF(C68=\"\",\"\",INDEX($H$21:$H$61,C68))","v":""},null,{"$f":"IF(C68=\"\",\"\",IF(H68=\"Z\",INDEX($AQ$21:$AQ$61,MATCH(G22,$AN$21:$AN$61,0)),\"\"))","v":""},null,null,"",null,{"$f":"IF(C68=\"\",\"\",IF(H68=\"A\",INDEX($AQ$21:$AQ$61,MATCH(G22,$AN$21:$AN$61,0)),\"\"))","v":""},{"$f":"IF(C68=\"\",\"\",IF(H68=\"P\",INDEX($AQ$21:$AQ$61,MATCH(G22,$AN$21:$AN$61,0)),\"\"))","v":""},null,{"$f":"IF(C68=\"\",\"\",IF(H68=\"P\",INDEX($AQ$21:$AQ$61,MATCH(G22,$AN$21:$AN$61,0)),\"\"))","v":""},{"$f":"IF(S67<MAX($G$21:$G$61),S67+1,\"\")","v":""},{"$f":"IF(S68=\"\",\"\",COUNTIF($G$21:$G$61,S68))","v":""},"",null,{"$f":"IF(COUNTIF(H21:H61,\"A\")=COUNTIF(H21:H61,\"Z\"),\"\",\"Unterschiedliche Anzahl an Zu- und Ablufträumen\")","v":""}]
[null,null,{"$f":"IF(C68<MAX(Raumliste[Nummer]),C68+1,\"\")","v":""},{"$f":"IF(C69=\"\",\"\",INDEX(Raumliste_kompakt[Geschoß],MATCH(C69,Raumliste_kompakt[Nummer])))","v":""},{"$f":"IF(C69=\"\",\"\",INDEX(Raumliste_kompakt[Raum],MATCH(C69,Raumliste_kompakt[Nummer])))","v":""},{"$f":"IF(C69=\"\",\"\",INDEX(Raumliste_kompakt[Fläche],MATCH(C69,Raumliste_kompakt[Nummer])))","v":""},"","",null,"",null,null,"",null,"","",null,"",{"$f":"IF(S68<MAX($G$21:$G$61),S68+1,\"\")","v":""},"","",null,{"$f":"IF(MOD(COUNTIF(H21:H61,\"P\"),2)<>0,\"Ungerade Anzahl an Pendellüftern\",\"\")","v":""}]
[null,null,{"$f":"IF(C69<MAX(Raumliste[Nummer]),C69+1,\"\")","v":""},{"$f":"IF(C70=\"\",\"\",INDEX(Raumliste_kompakt[Geschoß],MATCH(C70,Raumliste_kompakt[Nummer])))","v":""},{"$f":"IF(C70=\"\",\"\",INDEX(Raumliste_kompakt[Raum],MATCH(C70,Raumliste_kompakt[Nummer])))","v":""},{"$f":"IF(C70=\"\",\"\",INDEX(Raumliste_kompakt[Fläche],MATCH(C70,Raumliste_kompakt[Nummer])))","v":""},"","",null,"",null,null,"",null,"","",null,"","","","",null,{"$f":"IF(SUM(U67:U106)<F13,\"Die Summe der Volumenströme ist geringer als der erforderliche Mindesvolumenstrom (\"&ROUND(F13,0)&\" m³/h). Erhöhen Sie die gewünschte Mindestluftrate um dies zu korriegieren\",\"\")","v":""}]
[null,null,{"$f":"IF(C70<MAX(Raumliste[Nummer]),C70+1,\"\")","v":""},{"$f":"IF(C71=\"\",\"\",INDEX(Raumliste_kompakt[Geschoß],MATCH(C71,Raumliste_kompakt[Nummer])))","v":""},{"$f":"IF(C71=\"\",\"\",INDEX(Raumliste_kompakt[Raum],MATCH(C71,Raumliste_kompakt[Nummer])))","v":""},{"$f":"IF(C71=\"\",\"\",INDEX(Raumliste_kompakt[Fläche],MATCH(C71,Raumliste_kompakt[Nummer])))","v":""},"","",null,"",null,null,"",null,"","",null,"","","",""]
[null,null,{"$f":"IF(C71<MAX(Raumliste[Nummer]),C71+1,\"\")","v":""},{"$f":"IF(C72=\"\",\"\",INDEX(Raumliste_kompakt[Geschoß],MATCH(C72,Raumliste_kompakt[Nummer])))","v":""},{"$f":"IF(C72=\"\",\"\",INDEX(Raumliste_kompakt[Raum],MATCH(C72,Raumliste_kompakt[Nummer])))","v":""},{"$f":"IF(C72=\"\",\"\",INDEX(Raumliste_kompakt[Fläche],MATCH(C72,Raumliste_kompakt[Nummer])))","v":""},"","",null,"",null,null,"",null,"","",null,"","","",""]
[null,null,{"$f":"IF(C72<MAX(Raumliste[Nummer]),C72+1,\"\")","v":""},{"$f":"IF(C73=\"\",\"\",INDEX(Raumliste_kompakt[Geschoß],MATCH(C73,Raumliste_kompakt[Nummer])))","v":""},{"$f":"IF(C73=\"\",\"\",INDEX(Raumliste_kompakt[Raum],MATCH(C73,Raumliste_kompakt[Nummer])))","v":""},{"$f":"IF(C73=\"\",\"\",INDEX(Raumliste_kompakt[Fläche],MATCH(C73,Raumliste_kompakt[Nummer])))","v":""},"","",null,"",null,null,"",null,"","",null,"","","",""]
[null,null,{"$f":"IF(C73<MAX(Raumliste[Nummer]),C73+1,\"\")","v":""},{"$f":"IF(C74=\"\",\"\",INDEX(Raumliste_kompakt[Geschoß],MATCH(C74,Raumliste_kompakt[Nummer])))","v":""},{"$f":"IF(C74=\"\",\"\",INDEX(Raumliste_kompakt[Raum],MATCH(C74,Raumliste_kompakt[Nummer])))","v":""},{"$f":"IF(C74=\"\",\"\",INDEX(Raumliste_kompakt[Fläche],MATCH(C74,Raumliste_kompakt[Nummer])))","v":""},"","",null,"",null,null,"",null,"","",null,"","","",""]
[null,null,{"$f":"IF(C74<MAX(Raumliste[Nummer]),C74+1,\"\")","v":""},{"$f":"IF(C75=\"\",\"\",INDEX(Raumliste_kompakt[Geschoß],MATCH(C75,Raumliste_kompakt[Nummer])))","v":""},{"$f":"IF(C75=\"\",\"\",INDEX(Raumliste_kompakt[Raum],MATCH(C75,Raumliste_kompakt[Nummer])))","v":""},{"$f":"IF(C75=\"\",\"\",INDEX(Raumliste_kompakt[Fläche],MATCH(C75,Raumliste_kompakt[Nummer])))","v":""},"","",null,"",null,null,"",null,"","",null,"","","",""]
[null,null,{"$f":"IF(C75<MAX(Raumliste[Nummer]),C75+1,\"\")","v":""},{"$f":"IF(C76=\"\",\"\",INDEX(Raumliste_kompakt[Geschoß],MATCH(C76,Raumliste_kompakt[Nummer])))","v":""},{"$f":"IF(C76=\"\",\"\",INDEX(Raumliste_kompakt[Raum],MATCH(C76,Raumliste_kompakt[Nummer])))","v":""},{"$f":"IF(C76=\"\",\"\",INDEX(Raumliste_kompakt[Fläche],MATCH(C76,Raumliste_kompakt[Nummer])))","v":""},"","",null,"",null,null,"",null,"","",null,"","","",""]
[null,null,{"$f":"IF(C76<MAX(Raumliste[Nummer]),C76+1,\"\")","v":""},{"$f":"IF(C77=\"\",\"\",INDEX(Raumliste_kompakt[Geschoß],MATCH(C77,Raumliste_kompakt[Nummer])))","v":""},{"$f":"IF(C77=\"\",\"\",INDEX(Raumliste_kompakt[Raum],MATCH(C77,Raumliste_kompakt[Nummer])))","v":""},{"$f":"IF(C77=\"\",\"\",INDEX(Raumliste_kompakt[Fläche],MATCH(C77,Raumliste_kompakt[Nummer])))","v":""},"","",null,"",null,null,"",null,"","",null,"","","",""]
[null,null,{"$f":"IF(C77<MAX(Raumliste[Nummer]),C77+1,\"\")","v":""},{"$f":"IF(C78=\"\",\"\",INDEX(Raumliste_kompakt[Geschoß],MATCH(C78,Raumliste_kompakt[Nummer])))","v":""},{"$f":"IF(C78=\"\",\"\",INDEX(Raumliste_kompakt[Raum],MATCH(C78,Raumliste_kompakt[Nummer])))","v":""},{"$f":"IF(C78=\"\",\"\",INDEX(Raumliste_kompakt[Fläche],MATCH(C78,Raumliste_kompakt[Nummer])))","v":""},"","",null,"",null,null,"",null,"","",null,"","","",""]
[null,null,{"$f":"IF(C78<MAX(Raumliste[Nummer]),C78+1,\"\")","v":""},{"$f":"IF(C79=\"\",\"\",INDEX(Raumliste_kompakt[Geschoß],MATCH(C79,Raumliste_kompakt[Nummer])))","v":""},{"$f":"IF(C79=\"\",\"\",INDEX(Raumliste_kompakt[Raum],MATCH(C79,Raumliste_kompakt[Nummer])))","v":""},{"$f":"IF(C79=\"\",\"\",INDEX(Raumliste_kompakt[Fläche],MATCH(C79,Raumliste_kompakt[Nummer])))","v":""},"","",null,"",null,null,"",null,"","",null,"","","",""]
[null,null,{"$f":"IF(C79<MAX(Raumliste[Nummer]),C79+1,\"\")","v":""},{"$f":"IF(C80=\"\",\"\",INDEX(Raumliste_kompakt[Geschoß],MATCH(C80,Raumliste_kompakt[Nummer])))","v":""},{"$f":"IF(C80=\"\",\"\",INDEX(Raumliste_kompakt[Raum],MATCH(C80,Raumliste_kompakt[Nummer])))","v":""},{"$f":"IF(C80=\"\",\"\",INDEX(Raumliste_kompakt[Fläche],MATCH(C80,Raumliste_kompakt[Nummer])))","v":""},"","",null,"",null,null,"",null,"","",null,"","","",""]
[null,null,{"$f":"IF(C80<MAX(Raumliste[Nummer]),C80+1,\"\")","v":""},{"$f":"IF(C81=\"\",\"\",INDEX(Raumliste_kompakt[Geschoß],MATCH(C81,Raumliste_kompakt[Nummer])))","v":""},{"$f":"IF(C81=\"\",\"\",INDEX(Raumliste_kompakt[Raum],MATCH(C81,Raumliste_kompakt[Nummer])))","v":""},{"$f":"IF(C81=\"\",\"\",INDEX(Raumliste_kompakt[Fläche],MATCH(C81,Raumliste_kompakt[Nummer])))","v":""},"","",null,"",null,null,"",null,"","",null,"","","",""]
[null,null,{"$f":"IF(C81<MAX(Raumliste[Nummer]),C81+1,\"\")","v":""},{"$f":"IF(C82=\"\",\"\",INDEX(Raumliste_kompakt[Geschoß],MATCH(C82,Raumliste_kompakt[Nummer])))","v":""},{"$f":"IF(C82=\"\",\"\",INDEX(Raumliste_kompakt[Raum],MATCH(C82,Raumliste_kompakt[Nummer])))","v":""},{"$f":"IF(C82=\"\",\"\",INDEX(Raumliste_kompakt[Fläche],MATCH(C82,Raumliste_kompakt[Nummer])))","v":""},{"$f":"IF(C82=\"\",\"\",F82*IF(D82=\"KG\",RH_KG,IF(D82=\"EG\",RH_EG,IF(D82=\"1.OG\",RH_OG1,IF(D82=\"2.OG\",RH_OG2,RH_DG)))))","v":""},"",null,"",null,null,"",null,"","",null,"","","",""]
[null,null,{"$f":"IF(C82<MAX(Raumliste[Nummer]),C82+1,\"\")","v":""},{"$f":"IF(C83=\"\",\"\",INDEX(Raumliste_kompakt[Geschoß],MATCH(C83,Raumliste_kompakt[Nummer])))","v":""},{"$f":"IF(C83=\"\",\"\",INDEX(Raumliste_kompakt[Raum],MATCH(C83,Raumliste_kompakt[Nummer])))","v":""},{"$f":"IF(C83=\"\",\"\",INDEX(Raumliste_kompakt[Fläche],MATCH(C83,Raumliste_kompakt[Nummer])))","v":""},"","",null,"",null,null,"",null,"","",null,{"$f":"IF(C83=\"\",\"\",IF(H83=\"P\",INDEX($AQ$21:$AQ$61,MATCH(G37,$AN$21:$AN$61,0)),\"\"))","v":""},"","",""]
[null,null,{"$f":"IF(C83<MAX(Raumliste[Nummer]),C83+1,\"\")","v":""},{"$f":"IF(C84=\"\",\"\",INDEX(Raumliste_kompakt[Geschoß],MATCH(C84,Raumliste_kompakt[Nummer])))","v":""},{"$f":"IF(C84=\"\",\"\",INDEX(Raumliste_kompakt[Raum],MATCH(C84,Raumliste_kompakt[Nummer])))","v":""},{"$f":"IF(C84=\"\",\"\",INDEX(Raumliste_kompakt[Fläche],MATCH(C84,Raumliste_kompakt[Nummer])))","v":""},"","",null,"",null,null,"",null,"","",null,"","","",""]
[null,null,{"$f":"IF(C84<MAX(Raumliste[Nummer]),C84+1,\"\")","v":""},{"$f":"IF(C85=\"\",\"\",INDEX(Raumliste_kompakt[Geschoß],MATCH(C85,Raumliste_kompakt[Nummer])))","v":""},{"$f":"IF(C85=\"\",\"\",INDEX(Raumliste_kompakt[Raum],MATCH(C85,Raumliste_kompakt[Nummer])))","v":""},{"$f":"IF(C85=\"\",\"\",INDEX(Raumliste_kompakt[Fläche],MATCH(C85,Raumliste_kompakt[Nummer])))","v":""},"","",null,"",null,null,"",null,"","",null,"","","",""]
[null,null,{"$f":"IF(C85<MAX(Raumliste[Nummer]),C85+1,\"\")","v":""},{"$f":"IF(C86=\"\",\"\",INDEX(Raumliste_kompakt[Geschoß],MATCH(C86,Raumliste_kompakt[Nummer])))","v":""},{"$f":"IF(C86=\"\",\"\",INDEX(Raumliste_kompakt[Raum],MATCH(C86,Raumliste_kompakt[Nummer])))","v":""},{"$f":"IF(C86=\"\",\"\",INDEX(Raumliste_kompakt[Fläche],MATCH(C86,Raumliste_kompakt[Nummer])))","v":""},"","",null,"",null,null,"",null,"","",null,"","","",""]
[null,null,{"$f":"IF(C86<MAX(Raumliste[Nummer]),C86+1,\"\")","v":""},{"$f":"IF(C87=\"\",\"\",INDEX(Raumliste_kompakt[Geschoß],MATCH(C87,Raumliste_kompakt[Nummer])))","v":""},{"$f":"IF(C87=\"\",\"\",INDEX(Raumliste_kompakt[Raum],MATCH(C87,Raumliste_kompakt[Nummer])))","v":""},{"$f":"IF(C87=\"\",\"\",INDEX(Raumliste_kompakt[Fläche],MATCH(C87,Raumliste_kompakt[Nummer])))","v":""},"","",null,"",null,null,"",null,"","",null,"","","",""]
[null,null,{"$f":"IF(C87<MAX(Raumliste[Nummer]),C87+1,\"\")","v":""},{"$f":"IF(C88=\"\",\"\",INDEX(Raumliste_kompakt[Geschoß],MATCH(C88,Raumliste_kompakt[Nummer])))","v":""},{"$f":"IF(C88=\"\",\"\",INDEX(Raumliste_kompakt[Raum],MATCH(C88,Raumliste_kompakt[Nummer])))","v":""},{"$f":"IF(C88=\"\",\"\",INDEX(Raumliste_kompakt[Fläche],MATCH(C88,Raumliste_kompakt[Nummer])))","v":""},"","",null,"",null,null,"",null,"","",null,"","","",""]
[null,null,{"$f":"IF(C88<MAX(Raumliste[Nummer]),C88+1,\"\")","v":""},{"$f":"IF(C89=\"\",\"\",INDEX(Raumliste_kompakt[Geschoß],MATCH(C89,Raumliste_kompakt[Nummer])))","v":""},{"$f":"IF(C89=\"\",\"\",INDEX(Raumliste_kompakt[Raum],MATCH(C89,Raumliste_kompakt[Nummer])))","v":""},{"$f":"IF(C89=\"\",\"\",INDEX(Raumliste_kompakt[Fläche],MATCH(C89,Raumliste_kompakt[Nummer])))","v":""},"","",null,"",null,null,"",null,"","",null,"","","",""]
[null,null,{"$f":"IF(C89<MAX(Raumliste[Nummer]),C89+1,\"\")","v":""},{"$f":"IF(C90=\"\",\"\",INDEX(Raumliste_kompakt[Geschoß],MATCH(C90,Raumliste_kompakt[Nummer])))","v":""},{"$f":"IF(C90=\"\",\"\",INDEX(Raumliste_kompakt[Raum],MATCH(C90,Raumliste_kompakt[Nummer])))","v":""},{"$f":"IF(C90=\"\",\"\",INDEX(Raumliste_kompakt[Fläche],MATCH(C90,Raumliste_kompakt[Nummer])))","v":""},"","",null,"",null,null,"",null,"","",null,"","","",""]
[null,null,{"$f":"IF(C90<MAX(Raumliste[Nummer]),C90+1,\"\")","v":""},{"$f":"IF(C91=\"\",\"\",INDEX(Raumliste_kompakt[Geschoß],MATCH(C91,Raumliste_kompakt[Nummer])))","v":""},{"$f":"IF(C91=\"\",\"\",INDEX(Raumliste_kompakt[Raum],MATCH(C91,Raumliste_kompakt[Nummer])))","v":""},{"$f":"IF(C91=\"\",\"\",INDEX(Raumliste_kompakt[Fläche],MATCH(C91,Raumliste_kompakt[Nummer])))","v":""},"","",null,"",null,null,"",null,"","",null,"","","",""]
[null,null,{"$f":"IF(C91<MAX(Raumliste[Nummer]),C91+1,\"\")","v":""},{"$f":"IF(C92=\"\",\"\",INDEX(Raumliste_kompakt[Geschoß],MATCH(C92,Raumliste_kompakt[Nummer])))","v":""},{"$f":"IF(C92=\"\",\"\",INDEX(Raumliste_kompakt[Raum],MATCH(C92,Raumliste_kompakt[Nummer])))","v":""},{"$f":"IF(C92=\"\",\"\",INDEX(Raumliste_kompakt[Fläche],MATCH(C92,Raumliste_kompakt[Nummer])))","v":""},"","",null,"",null,null,"",null,"","",null,"","","",{"$f":"AQ46","v":""}]
[null,null,{"$f":"IF(C92<MAX(Raumliste[Nummer]),C92+1,\"\")","v":""},{"$f":"IF(C93=\"\",\"\",INDEX(Raumliste_kompakt[Geschoß],MATCH(C93,Raumliste_kompakt[Nummer])))","v":""},{"$f":"IF(C93=\"\",\"\",INDEX(Raumliste_kompakt[Raum],MATCH(C93,Raumliste_kompakt[Nummer])))","v":""},{"$f":"IF(C93=\"\",\"\",INDEX(Raumliste_kompakt[Fläche],MATCH(C93,Raumliste_kompakt[Nummer])))","v":""},"","",null,"",null,null,"",null,"","",null,"","","",{"$f":"AQ47","v":""}]
[null,null,{"$f":"IF(C93<MAX(Raumliste[Nummer]),C93+1,\"\")","v":""},{"$f":"IF(C94=\"\",\"\",INDEX(Raumliste_kompakt[Geschoß],MATCH(C94,Raumliste_kompakt[Nummer])))","v":""},{"$f":"IF(C94=\"\",\"\",INDEX(Raumliste_kompakt[Raum],MATCH(C94,Raumliste_kompakt[Nummer])))","v":""},{"$f":"IF(C94=\"\",\"\",INDEX(Raumliste_kompakt[Fläche],MATCH(C94,Raumliste_kompakt[Nummer])))","v":""},"","",null,"",null,null,"",null,"","",null,"","","",{"$f":"AQ48","v":""}]
[null,null,{"$f":"IF(C94<MAX(Raumliste[Nummer]),C94+1,\"\")","v":""},{"$f":"IF(C95=\"\",\"\",INDEX(Raumliste_kompakt[Geschoß],MATCH(C95,Raumliste_kompakt[Nummer])))","v":""},{"$f":"IF(C95=\"\",\"\",INDEX(Raumliste_kompakt[Raum],MATCH(C95,Raumliste_kompakt[Nummer])))","v":""},{"$f":"IF(C95=\"\",\"\",INDEX(Raumliste_kompakt[Fläche],MATCH(C95,Raumliste_kompakt[Nummer])))","v":""},"","",null,"",null,null,"",null,"","",null,"","","",{"$f":"AQ49","v":""}]
[null,null,{"$f":"IF(C95<MAX(Raumliste[Nummer]),C95+1,\"\")","v":""},{"$f":"IF(C96=\"\",\"\",INDEX(Raumliste_kompakt[Geschoß],MATCH(C96,Raumliste_kompakt[Nummer])))","v":""},{"$f":"IF(C96=\"\",\"\",INDEX(Raumliste_kompakt[Raum],MATCH(C96,Raumliste_kompakt[Nummer])))","v":""},{"$f":"IF(C96=\"\",\"\",INDEX(Raumliste_kompakt[Fläche],MATCH(C96,Raumliste_kompakt[Nummer])))","v":""},"","",null,"",null,null,"",null,"","",null,"","","",{"$f":"AQ50","v":""}]
[null,null,{"$f":"IF(C96<MAX(Raumliste[Nummer]),C96+1,\"\")","v":""},{"$f":"IF(C97=\"\",\"\",INDEX(Raumliste_kompakt[Geschoß],MATCH(C97,Raumliste_kompakt[Nummer])))","v":""},{"$f":"IF(C97=\"\",\"\",INDEX(Raumliste_kompakt[Raum],MATCH(C97,Raumliste_kompakt[Nummer])))","v":""},{"$f":"IF(C97=\"\",\"\",INDEX(Raumliste_kompakt[Fläche],MATCH(C97,Raumliste_kompakt[Nummer])))","v":""},"","",null,"",null,null,"",null,"","",null,"","","",""]
[null,null,{"$f":"IF(C97<MAX(Raumliste[Nummer]),C97+1,\"\")","v":""},{"$f":"IF(C98=\"\",\"\",INDEX(Raumliste_kompakt[Geschoß],MATCH(C98,Raumliste_kompakt[Nummer])))","v":""},{"$f":"IF(C98=\"\",\"\",INDEX(Raumliste_kompakt[Raum],MATCH(C98,Raumliste_kompakt[Nummer])))","v":""},{"$f":"IF(C98=\"\",\"\",INDEX(Raumliste_kompakt[Fläche],MATCH(C98,Raumliste_kompakt[Nummer])))","v":""},"","",null,"",null,null,"",null,"","",null,"","","",""]
[null,null,{"$f":"IF(C98<MAX(Raumliste[Nummer]),C98+1,\"\")","v":""},{"$f":"IF(C99=\"\",\"\",INDEX(Raumliste_kompakt[Geschoß],MATCH(C99,Raumliste_kompakt[Nummer])))","v":""},{"$f":"IF(C99=\"\",\"\",INDEX(Raumliste_kompakt[Raum],MATCH(C99,Raumliste_kompakt[Nummer])))","v":""},{"$f":"IF(C99=\"\",\"\",INDEX(Raumliste_kompakt[Fläche],MATCH(C99,Raumliste_kompakt[Nummer])))","v":""},"","",null,"",null,null,"",null,"","",null,"","","",""]
[null,null,{"$f":"IF(C99<MAX(Raumliste[Nummer]),C99+1,\"\")","v":""},{"$f":"IF(C100=\"\",\"\",INDEX(Raumliste_kompakt[Geschoß],MATCH(C100,Raumliste_kompakt[Nummer])))","v":""},{"$f":"IF(C100=\"\",\"\",INDEX(Raumliste_kompakt[Raum],MATCH(C100,Raumliste_kompakt[Nummer])))","v":""},{"$f":"IF(C100=\"\",\"\",INDEX(Raumliste_kompakt[Fläche],MATCH(C100,Raumliste_kompakt[Nummer])))","v":""},"","",null,"",null,null,"",null,"","",null,"","","",""]
[null,null,{"$f":"IF(C100<MAX(Raumliste[Nummer]),C100+1,\"\")","v":""},{"$f":"IF(C101=\"\",\"\",INDEX(Raumliste_kompakt[Geschoß],MATCH(C101,Raumliste_kompakt[Nummer])))","v":""},{"$f":"IF(C101=\"\",\"\",INDEX(Raumliste_kompakt[Raum],MATCH(C101,Raumliste_kompakt[Nummer])))","v":""},{"$f":"IF(C101=\"\",\"\",INDEX(Raumliste_kompakt[Fläche],MATCH(C101,Raumliste_kompakt[Nummer])))","v":""},"","",null,"",null,null,"",null,"","",null,"","","",""]
[null,null,{"$f":"IF(C101<MAX(Raumliste[Nummer]),C101+1,\"\")","v":""},{"$f":"IF(C102=\"\",\"\",INDEX(Raumliste_kompakt[Geschoß],MATCH(C102,Raumliste_kompakt[Nummer])))","v":""},{"$f":"IF(C102=\"\",\"\",INDEX(Raumliste_kompakt[Raum],MATCH(C102,Raumliste_kompakt[Nummer])))","v":""},{"$f":"IF(C102=\"\",\"\",INDEX(Raumliste_kompakt[Fläche],MATCH(C102,Raumliste_kompakt[Nummer])))","v":""},"","",null,"",null,null,"",null,"","",null,"","","",""]
[null,null,{"$f":"IF(C102<MAX(Raumliste[Nummer]),C102+1,\"\")","v":""},{"$f":"IF(C103=\"\",\"\",INDEX(Raumliste_kompakt[Geschoß],MATCH(C103,Raumliste_kompakt[Nummer])))","v":""},{"$f":"IF(C103=\"\",\"\",INDEX(Raumliste_kompakt[Raum],MATCH(C103,Raumliste_kompakt[Nummer])))","v":""},{"$f":"IF(C103=\"\",\"\",INDEX(Raumliste_kompakt[Fläche],MATCH(C103,Raumliste_kompakt[Nummer])))","v":""},"","",null,"",null,null,"",null,"","",null,"","","",""]
[null,null,{"$f":"IF(C103<MAX(Raumliste[Nummer]),C103+1,\"\")","v":""},{"$f":"IF(C104=\"\",\"\",INDEX(Raumliste_kompakt[Geschoß],MATCH(C104,Raumliste_kompakt[Nummer])))","v":""},{"$f":"IF(C104=\"\",\"\",INDEX(Raumliste_kompakt[Raum],MATCH(C104,Raumliste_kompakt[Nummer])))","v":""},{"$f":"IF(C104=\"\",\"\",INDEX(Raumliste_kompakt[Fläche],MATCH(C104,Raumliste_kompakt[Nummer])))","v":""},"","",null,"",null,null,"",null,"","",null,"","","",""]
[null,null,{"$f":"IF(C104<MAX(Raumliste[Nummer]),C104+1,\"\")","v":""},{"$f":"IF(C105=\"\",\"\",INDEX(Raumliste_kompakt[Geschoß],MATCH(C105,Raumliste_kompakt[Nummer])))","v":""},{"$f":"IF(C105=\"\",\"\",INDEX(Raumliste_kompakt[Raum],MATCH(C105,Raumliste_kompakt[Nummer])))","v":""},{"$f":"IF(C105=\"\",\"\",INDEX(Raumliste_kompakt[Fläche],MATCH(C105,Raumliste_kompakt[Nummer])))","v":""},"","",null,"",null,null,"",null,"","",null,"","","",""]
[null,null,{"$f":"IF(C105<MAX(Raumliste[Nummer]),C105+1,\"\")","v":""},{"$f":"IF(C106=\"\",\"\",INDEX(Raumliste_kompakt[Geschoß],MATCH(C106,Raumliste_kompakt[Nummer])))","v":""},{"$f":"IF(C106=\"\",\"\",INDEX(Raumliste_kompakt[Raum],MATCH(C106,Raumliste_kompakt[Nummer])))","v":""},{"$f":"IF(C106=\"\",\"\",INDEX(Raumliste_kompakt[Fläche],MATCH(C106,Raumliste_kompakt[Nummer])))","v":""},"","",null,"",null,null,"",null,"","",null,"","","",""]

{"sheet":"Zusammenfassung","index":17,"n_rows":809,"n_cols":17,"rows_kept":809,"cut":false,"hidden":false,"merged":[[807,0,807,14],[19,0,19,14],[270,8,270,9],[271,8,271,9],[272,8,272,9],[273,8,273,9],[274,8,274,9],[262,0,262,7],[268,8,268,9],[269,8,269,9],[268,10,268,11],[269,10,269,11],[280,0,280,14],[270,12,270,13],[271,12,271,13],[272,12,272,13],[273,12,273,13],[274,12,274,13],[275,12,275,13],[276,12,276,13],[277,12,277,13],[278,12,278,13],[270,10,270,11],[271,10,271,11],[272,10,272,11],[273,10,273,11],[274,10,274,11],[275,10,275,11],[276,10,276,11],[277,10,277,11],[278,10,278,11],[275,8,275,9],[276,8,276,9],[277,8,277,9],[278,8,278,9],[268,12,268,13],[269,12,269,13],[261,8,261,9],[261,10,261,11],[261,12,261,13],[262,8,262,13],[200,0,200,14],[231,9,231,14],[235,0,235,14],[233,0,233,14],[232,9,232,14],[255,0,255,14],[257,0,257,14],[258,0,258,7],[258,8,258,13],[227,0,227,14],[228,0,228,14],[229,0,229,14],[201,10,201,14],[225,0,225,14],[207,6,207,11],[208,6,208,11],[209,6,209,11],[210,6,210,11],[211,6,211,11],[212,6,212,11],[214,6,214,11],[215,6,215,11],[216,6,216,11],[217,6,217,11],[221,6,221,12],[59,8,59,10],[60,8,60,10],[61,8,61,10],[62,8,62,10],[59,0,59,2],[67,0,67,2],[64,8,64,10],[65,8,65,10],[66,8,66,10],[67,8,67,10],[64,0,64,2],[65,0,65,2],[66,0,66,2],[69,0,69,14],[75,0,75,14],[60,0,60,2],[61,0,61,2],[62,0,62,2],[73,12,73,14],[78,8,78,11],[78,12,78,13],[79,8,79,11],[80,8,80,11],[81,8,81,11],[87,1,87,4],[88,1,88,4],[80,5,80,6],[81,5,81,6],[82,5,82,6],[83,5,83,6],[84,5,84,6],[78,1,78,4],[78,5,78,6],[80,1,80,4],[81,1,81,4],[77,1,77,6],[77,8,77,13],[92,1,92,6],[92,8,92,13],[44,0,44,14],[49,8,49,10],[50,8,50,10],[51,8,51,10],[52,8,52,10],[49,0,49,2],[50,0,50,2],[51,0,51,2],[52,0,52,2],[53,0,53,2],[54,0,54,2],[55,0,55,2],[56,0,56,2],[56,3,56,4],[47,0,47,14],[57,0,57,2],[57,3,57,4],[93,1,93,4],[93,5,93,6],[93,8,93,11],[93,12,93,13],[87,8,87,11],[88,8,88,11],[79,12,79,13],[80,12,80,13],[81,12,81,13],[82,12,82,13],[83,12,83,13],[84,12,84,13],[85,12,85,13],[86,12,86,13],[87,12,87,13],[88,12,88,13],[82,8,82,11],[83,8,83,11],[84,8,84,11],[85,8,85,11],[86,8,86,11],[79,5,79,6],[85,5,85,6],[86,5,86,6],[87,5,87,6],[88,5,88,6],[82,1,82,4],[83,1,83,4],[84,1,84,4],[85,1,85,4],[86,1,86,4],[79,1,79,4],[98,1,98,4],[98,5,98,6],[98,8,98,11],[98,12,98,13],[99,1,99,4],[99,5,99,6],[99,8,99,11],[99,12,99,13],[96,1,96,4],[96,5,96,6],[96,8,96,11],[96,12,96,13],[97,1,97,4],[97,5,97,6],[97,8,97,11],[97,12,97,13],[94,1,94,4],[94,5,94,6],[94,8,94,11],[94,12,94,13],[95,1,95,4],[95,5,95,6],[95,8,95,11],[95,12,95,13],[106,1,106,4],[106,5,106,6],[107,1,107,4],[107,5,107,6],[102,1,102,4],[102,5,102,6],[102,8,102,11],[102,12,102,13],[103,1,103,4],[103,5,103,6],[103,8,103,11],[103,12,103,13],[100,1,100,4],[100,5,100,6],[100,8,100,11],[100,12,100,13],[101,1,101,4],[101,5,101,6],[101,8,101,11],[101,12,101,13],[108,8,108,10],[109,8,109,10],[110,8,110,10],[105,11,105,13],[114,11,114,13],[115,11,115,13],[116,11,116,13],[106,11,106,13],[107,11,107,13],[108,11,108,13],[109,11,109,13],[110,11,110,13],[114,1,114,4],[120,9,120,10],[114,5,114,6],[115,1,115,4],[115,5,115,6],[116,1,116,4],[116,5,116,6],[111,1,111,4],[111,5,111,6],[112,1,112,4],[112,5,112,6],[113,1,113,4],[113,5,113,6],[108,1,108,4],[108,5,108,6],[109,1,109,4],[109,5,109,6],[110,1,110,4],[110,5,110,6],[105,1,105,6],[312,0,312,14],[313,0,313,14],[314,2,314,6],[314,10,314,14],[319,1,319,3],[307,0,307,14],[308,0,308,14],[310,0,310,10],[310,11,310,14],[297,0,297,14],[54,7,57,14],[303,11,303,14],[305,11,305,14],[299,7,299,14],[301,0,301,14],[183,0,183,14],[185,0,185,14],[189,13,189,14],[187,3,187,5],[189,3,189,5],[187,12,187,14],[203,0,203,14],[196,10,196,14],[197,10,197,14],[118,0,118,14],[127,0,127,4],[129,0,129,4],[126,0,126,4],[121,0,121,4],[105,8,105,10],[106,8,106,10],[107,8,107,10],[338,5,338,7],[317,8,317,10],[318,8,318,10],[319,8,319,10],[320,8,320,10],[317,11,317,13],[318,11,318,13],[319,11,319,13],[320,11,320,13],[317,4,317,7],[318,4,318,7],[319,4,319,7],[320,4,320,7],[324,2,324,4],[324,10,324,12],[325,10,325,12],[326,10,326,12],[327,10,327,12],[328,10,328,12],[329,10,329,12],[330,10,330,12],[331,10,331,12],[348,10,348,12],[332,2,332,4],[333,2,333,4],[334,2,334,4],[335,2,335,4],[336,2,336,4],[337,2,337,4],[338,2,338,4],[339,2,339,4],[340,2,340,4],[322,0,322,14],[325,2,325,4],[326,2,326,4],[327,2,327,4],[328,2,328,4],[329,2,329,4],[330,2,330,4],[331,2,331,4],[324,5,324,7],[325,5,325,7],[326,5,326,7],[327,5,327,7],[328,5,328,7],[329,5,329,7],[330,5,330,7],[331,5,331,7],[332,5,332,7],[333,5,333,7],[334,5,334,7],[335,5,335,7],[336,5,336,7],[337,5,337,7],[350,2,350,4],[351,2,351,4],[352,2,352,4],[353,2,353,4],[354,2,354,4],[355,2,355,4],[356,2,356,4],[357,2,357,4],[358,2,358,4],[341,2,341,4],[342,2,342,4],[343,2,343,4],[344,2,344,4],[345,2,345,4],[346,2,346,4],[347,2,347,4],[348,2,348,4],[349,2,349,4],[339,5,339,7],[340,5,340,7],[349,10,349,12],[350,10,350,12],[351,5,351,7],[352,5,352,7],[353,5,353,7],[354,5,354,7],[355,5,355,7],[356,5,356,7],[357,5,357,7],[341,5,341,7],[342,5,342,7],[343,5,343,7],[344,5,344,7],[345,5,345,7],[346,5,346,7],[347,5,347,7],[348,5,348,7],[349,5,349,7],[351,10,351,12],[352,10,352,12],[353,10,353,12],[354,10,354,12],[355,10,355,12],[356,10,356,12],[357,10,357,12],[350,5,350,7],[344,10,344,12],[345,10,345,12],[346,10,346,12],[347,10,347,12],[340,10,340,12],[341,10,341,12],[342,10,342,12],[343,10,343,12],[332,10,332,12],[333,10,333,12],[334,10,334,12],[335,10,335,12],[336,10,336,12],[337,10,337,12],[338,10,338,12],[339,10,339,12],[369,13,369,14],[370,13,370,14],[372,0,372,10],[371,0,371,10],[371,11,371,14],[372,11,372,14],[358,10,358,12],[359,10,359,12],[360,10,360,12],[361,10,361,12],[362,10,362,12],[363,10,363,12],[364,0,364,14],[366,0,366,14],[363,5,363,7],[363,2,363,4],[359,5,359,7],[360,5,360,7],[361,5,361,7],[362,5,362,7],[359,2,359,4],[360,2,360,4],[361,2,361,4],[362,2,362,4],[369,0,369,12],[370,0,370,12],[358,5,358,7],[391,0,391,1],[391,2,391,14],[382,0,382,2],[385,0,385,2],[377,0,378,2],[380,0,381,2],[383,0,384,2],[386,0,387,2],[376,0,376,2],[376,3,376,14],[377,3,377,14],[378,3,378,14],[379,3,379,14],[380,3,380,14],[381,3,381,14],[382,3,382,14],[383,3,383,14],[384,3,384,14],[385,3,385,14],[386,3,386,14],[387,3,387,14],[379,0,379,2],[411,0,411,2],[411,3,411,14],[409,0,409,14],[412,0,412,14],[408,3,408,14],[392,0,393,1],[395,0,396,1],[392,2,392,14],[395,2,395,14],[400,0,400,4],[401,0,401,4],[402,0,402,4],[400,5,400,14],[401,5,401,14],[402,5,402,14],[406,0,406,2],[406,3,406,14],[408,0,408,2],[393,2,393,14],[396,2,396,14],[424,0,424,14],[426,0,426,2],[426,3,426,14],[427,0,427,14],[429,0,429,2],[429,3,429,14],[420,0,420,2],[420,3,420,14],[421,0,421,14],[423,0,423,2],[423,3,423,14],[414,0,414,2],[414,3,414,14],[415,0,415,14],[417,0,417,2],[417,3,417,14],[418,0,418,14],[448,0,448,14],[450,0,450,2],[450,3,450,14],[451,0,451,14],[442,0,442,14],[444,0,444,2],[444,3,444,14],[445,0,445,14],[447,0,447,2],[447,3,447,14],[436,0,436,14],[438,0,438,2],[438,3,438,14],[439,0,439,14],[441,0,441,2],[441,3,441,14],[430,0,430,14],[432,0,432,2],[432,3,432,14],[433,0,433,14],[435,0,435,2],[435,3,435,14],[467,0,467,2],[467,3,467,14],[468,0,468,14],[470,0,470,2],[470,3,470,14],[471,0,471,14],[473,0,473,2],[473,3,473,14],[474,0,474,14],[459,0,459,4],[459,5,459,14],[460,0,460,4],[460,5,460,14],[461,0,461,4],[461,5,461,14],[465,0,465,2],[465,3,465,14],[485,0,485,2],[485,3,485,14],[486,0,486,14],[488,0,488,2],[488,3,488,14],[489,0,489,14],[491,0,491,2],[491,3,491,14],[492,0,492,14],[476,0,476,2],[476,3,476,14],[477,0,477,14],[479,0,479,2],[479,3,479,14],[480,0,480,14],[482,0,482,2],[482,3,482,14],[483,0,483,14],[518,0,518,4],[518,5,518,14],[519,0,519,4],[519,5,519,14],[520,0,520,4],[520,5,520,14],[503,0,503,2],[503,3,503,14],[504,0,504,14],[506,0,506,2],[506,3,506,14],[507,0,507,14],[509,0,509,2],[509,3,509,14],[510,0,510,14],[494,0,494,2],[494,3,494,14],[495,0,495,14],[497,0,497,2],[497,3,497,14],[498,0,498,14],[500,0,500,2],[500,3,500,14],[501,0,501,14],[531,0,531,14],[533,0,533,2],[533,3,533,14],[534,0,534,14],[536,0,536,2],[536,3,536,14],[537,0,537,14],[539,0,539,2],[539,3,539,14],[522,0,522,2],[522,3,522,14],[524,0,524,2],[524,3,524,14],[525,0,525,14],[527,0,527,2],[527,3,527,14],[528,0,528,14],[530,0,530,2],[530,3,530,14],[549,0,549,14],[551,0,551,2],[551,3,551,14],[552,0,552,14],[554,0,554,2],[554,3,554,14],[555,0,555,14],[557,0,557,2],[557,3,557,14],[540,0,540,14],[542,0,542,2],[542,3,542,14],[543,0,543,14],[545,0,545,2],[545,3,545,14],[546,0,546,14],[548,0,548,2],[548,3,548,14],[567,0,567,14],[572,0,572,14],[574,9,574,12],[587,0,587,14],[591,9,591,12],[592,9,592,12],[594,0,594,14],[589,0,589,14],[558,0,558,14],[560,0,560,2],[560,3,560,14],[561,0,561,14],[563,0,563,2],[563,3,563,14],[564,0,564,14],[566,0,566,2],[566,3,566,14],[578,9,578,14],[579,9,579,14],[639,12,639,14],[581,9,581,14],[583,0,583,10],[583,11,583,14],[614,0,614,14],[621,0,621,14],[622,0,622,14],[616,0,616,14],[603,9,603,12],[604,9,604,12],[605,9,605,12],[607,0,607,14],[609,0,609,14],[611,0,611,10],[611,11,611,14],[596,10,596,11],[597,10,597,11],[598,10,598,11],[599,10,599,11],[601,0,601,14],[642,0,642,14],[631,0,631,14],[648,6,648,7],[647,0,647,14],[658,3,658,7],[659,3,659,7],[660,3,660,7],[656,0,656,14],[658,8,658,9],[659,8,659,9],[660,8,660,9],[641,0,641,14],[624,0,624,7],[626,0,626,7],[627,0,627,7],[628,0,628,7],[629,0,629,7],[624,8,624,14],[625,8,625,14],[626,8,626,14],[627,8,627,14],[628,8,628,14],[629,8,629,14],[635,1,635,11],[636,1,636,11],[637,1,637,11],[638,1,638,11],[639,1,639,11],[635,12,635,14],[636,12,636,14],[637,12,637,14],[638,12,638,14],[649,6,649,7],[650,6,650,7],[651,6,651,7],[652,6,652,7],[649,8,649,9],[650,8,650,9],[651,8,651,9],[652,8,652,9],[649,10,649,11],[650,10,650,11],[651,10,651,11],[652,10,652,11],[653,10,653,11],[648,8,648,11],[649,3,649,5],[650,3,650,5],[651,3,651,5],[652,3,652,5],[653,3,653,9],[673,0,673,14],[676,6,676,7],[677,6,677,7],[678,6,678,7],[679,6,679,7],[680,6,680,7],[681,6,681,7],[682,6,682,7],[662,0,662,14],[668,0,668,7],[669,0,669,7],[668,8,668,9],[669,8,669,9],[671,8,671,9],[664,8,664,9],[665,8,665,9],[666,8,666,9],[664,3,664,7],[665,3,665,7],[666,3,666,7],[675,6,675,7],[675,8,675,9],[675,10,675,14],[675,1,675,5],[676,2,676,5],[677,2,677,5],[678,2,678,5],[679,2,679,5],[680,2,680,5],[681,2,681,5],[682,2,682,5],[692,6,692,7],[693,6,693,7],[694,6,694,7],[695,6,695,7],[696,6,696,7],[697,6,697,7],[698,6,698,7],[699,6,699,7],[700,6,700,7],[683,6,683,7],[684,6,684,7],[685,6,685,7],[686,6,686,7],[687,6,687,7],[688,6,688,7],[689,6,689,7],[690,6,690,7],[691,6,691,7],[693,8,693,9],[694,8,694,9],[695,8,695,9],[696,8,696,9],[697,8,697,9],[698,8,698,9],[699,8,699,9],[700,8,700,9],[701,8,701,9],[712,6,712,7],[713,6,713,7],[714,6,714,7],[715,6,715,7],[716,6,716,7],[676,8,676,9],[677,8,677,9],[678,8,678,9],[679,8,679,9],[680,8,680,9],[681,8,681,9],[682,8,682,9],[683,8,683,9],[684,8,684,9],[685,8,685,9],[686,8,686,9],[687,8,687,9],[688,8,688,9],[689,8,689,9],[690,8,690,9],[691,8,691,9],[692,8,692,9],[701,6,701,7],[711,8,711,9],[710,6,710,7],[711,6,711,7],[712,8,712,9],[713,8,713,9],[714,8,714,9],[715,8,715,9],[716,8,716,9],[702,8,702,9],[703,8,703,9],[704,8,704,9],[705,8,705,9],[706,8,706,9],[707,8,707,9],[708,8,708,9],[709,8,709,9],[710,8,710,9],[702,6,702,7],[703,6,703,7],[704,6,704,7],[705,6,705,7],[706,6,706,7],[707,6,707,7],[708,6,708,7],[709,6,709,7],[692,2,692,5],[693,2,693,5],[694,2,694,5],[703,2,703,5],[704,2,704,5],[705,2,705,5],[706,2,706,5],[707,2,707,5],[708,2,708,5],[709,2,709,5],[710,2,710,5],[711,2,711,5],[695,2,695,5],[696,2,696,5],[697,2,697,5],[698,2,698,5],[699,2,699,5],[700,2,700,5],[701,2,701,5],[702,2,702,5],[683,2,683,5],[684,2,684,5],[685,2,685,5],[686,2,686,5],[687,2,687,5],[688,2,688,5],[729,13,729,14],[730,13,730,14],[731,13,731,14],[726,13,726,14],[727,13,727,14],[728,13,728,14],[723,13,723,14],[724,13,724,14],[725,13,725,14],[720,13,720,14],[721,13,721,14],[722,13,722,14],[712,2,712,5],[713,2,713,5],[714,2,714,5],[715,2,715,5],[716,2,716,5],[726,7,726,8],[727,7,727,8],[728,7,728,8],[729,7,729,8],[730,7,730,8],[731,7,731,8],[689,2,689,5],[690,2,690,5],[691,2,691,5],[738,13,738,14],[739,13,739,14],[740,13,740,14],[738,11,738,12],[739,11,739,12],[740,11,740,12],[739,9,739,10],[740,9,740,10],[741,9,741,10],[735,13,735,14],[736,13,736,14],[737,13,737,14],[736,11,736,12],[737,11,737,12],[732,13,732,14],[733,13,733,14],[734,13,734,14],[744,13,744,14],[745,13,745,14],[746,13,746,14],[744,11,744,12],[745,11,745,12],[746,11,746,12],[744,9,744,10],[745,9,745,10],[746,9,746,10],[744,7,744,8],[745,7,745,8],[746,7,746,8],[744,4,744,5],[745,4,745,5],[746,4,746,5],[741,13,741,14],[742,13,742,14],[743,13,743,14],[741,11,741,12],[742,11,742,12],[743,11,743,12],[742,9,742,10],[743,9,743,10],[742,7,742,8],[743,7,743,8],[742,4,742,5],[743,4,743,5],[752,13,752,14],[750,11,750,12],[751,11,751,12],[752,11,752,12],[750,9,750,10],[751,9,751,10],[752,9,752,10],[756,9,756,10],[757,9,757,10],[758,9,758,10],[753,9,753,10],[754,9,754,10],[755,9,755,10],[747,13,747,14],[748,13,748,14],[749,13,749,14],[747,11,747,12],[748,11,748,12],[749,11,749,12],[747,9,747,10],[748,9,748,10],[749,9,749,10],[759,13,759,14],[760,13,760,14],[720,11,720,12],[721,11,721,12],[722,11,722,12],[723,11,723,12],[724,11,724,12],[725,11,725,12],[726,11,726,12],[727,11,727,12],[728,11,728,12],[729,11,729,12],[730,11,730,12],[731,11,731,12],[732,11,732,12],[733,11,733,12],[734,11,734,12],[735,11,735,12],[756,13,756,14],[757,13,757,14],[758,13,758,14],[756,11,756,12],[757,11,757,12],[758,11,758,12],[753,13,753,14],[754,13,754,14],[755,13,755,14],[753,11,753,12],[754,11,754,12],[755,11,755,12],[750,13,750,14],[751,13,751,14],[736,7,736,8],[759,11,759,12],[760,11,760,12],[720,9,720,10],[721,9,721,10],[722,9,722,10],[723,9,723,10],[724,9,724,10],[725,9,725,10],[726,9,726,10],[727,9,727,10],[728,9,728,10],[729,9,729,10],[730,9,730,10],[731,9,731,10],[732,9,732,10],[733,9,733,10],[734,9,734,10],[735,9,735,10],[736,9,736,10],[737,9,737,10],[738,9,738,10],[757,7,757,8],[758,7,758,8],[753,7,753,8],[754,7,754,8],[755,7,755,8],[759,9,759,10],[760,9,760,10],[759,7,759,8],[760,7,760,8],[756,7,756,8],[720,4,720,5],[721,4,721,5],[722,4,722,5],[723,4,723,5],[724,4,724,5],[725,4,725,5],[726,4,726,5],[727,4,727,5],[728,4,728,5],[729,4,729,5],[730,4,730,5],[731,4,731,5],[732,4,732,5],[733,4,733,5],[734,4,734,5],[735,4,735,5],[736,4,736,5],[737,4,737,5],[720,7,720,8],[721,7,721,8],[722,7,722,8],[723,7,723,8],[724,7,724,8],[725,7,725,8],[754,4,754,5],[755,4,755,5],[732,7,732,8],[733,7,733,8],[734,7,734,8],[735,7,735,8],[745,1,745,3],[746,1,746,3],[747,1,747,3],[748,1,748,3],[749,1,749,3],[750,1,750,3],[737,7,737,8],[738,7,738,8],[739,7,739,8],[740,7,740,8]],"merged_total":1197,"flags":["merged_cut"]}
["ZUSAMMENFASSUNG DER ERGEBNISSE",null,null,null,null,null,null,null,null,null,null,null,null,null,null,"SANIERUNGSFAHRPLAN GEBÄUDETECHNIK"]
[]
["In diesem Tabellenblatt werden Ihre bisherigen Eingabe ebenso wie die daraus resultierenden Ergebnisse noch einmal zusammengefasst. Eingaben können hier nicht mehr gemacht werden.\n\nSollten Sie bei der Durchsicht des Protokolls Dinge finden die Sie ändern möchten, so gehen Sie zur Änderung dieser in das entsprechende Tabellenblatt zurück; Die Anpassungen werden dann auch automatisch in die  Zusammenfassung übernommen."]
[]
[]
[]
[]
[]
[]
["Sollten Sie im Protokoll Felder finden, deren Inhalt \"#NV\" oder \"#Wert\" ist, so kann dies ein Hinweis auf fehlende Eingaben beim Durchgehen des Leitfadens sein; Überprüfen Sie dies bitte gegebenfalls. "]
[]
[]
[]
["Da es an vielen Stellen mehrere Varianten gibt die zutreffen können, kommen im Protokoll immer wieder größere Stellen ohne Text, Tabellen oder Diagramme vor. Um die Übersicht zu wahren, können diese allerdings mithilfe der seitlichen Gruppierungen augeblendet werden."]
[]
[]
[]
[]
[]
["Die Zusammenstellung aller wichtigen Zeitpunkte finden Sie im Diagramm rechts."]
[]
[]
[]
[null,null,null,null,null,null,null,null,null,null,null,null,null,null,null,"Jahr","Sanierungsschritt / Maßnahme"]
[null,null,null,null,null,null,null,null,null,null,null,null,null,null,null,{"$f":"IF(Sanierungsschritte!$D$6=\"\",\"\",Sanierungsschritte!$D$6)","v":""},{"$f":"Sanierungsschritte!$D$5","v":{"$error":"#REF!"}}]
[null,null,null,null,null,null,null,null,null,null,null,null,null,null,null,{"$f":"$L$311+0.00002","v":2.0000000000000002E-5},"Einbau der neuen Wärmeübergabesysteme"]
[null,null,null,null,null,null,null,null,null,null,null,null,null,null,null,{"$f":"Sanierungsschritte!$D$28+0.00003","v":3.0000000000000001E-5},"Austausch der Fenster"]
[null,null,null,null,null,null,null,null,null,null,null,null,null,null,null,{"$f":"$K$202+0.00004","v":4.0000000000000003E-5},"Einbau des neuen Wärmeerzeugers"]
[null,null,null,null,null,null,null,null,null,null,null,null,null,null,null,{"$f":"$L$584+0.00006","v":6.0000000000000002E-5},"Installation der neuen Warmwasserbereitung"]
[null,null,null,null,null,null,null,null,null,null,null,null,null,null,null,{"$f":"$L$809+0.00007","v":6.9999999999999994E-5},"Einbau der Lüftungsanlage"]
[null,null,null,null,null,null,null,null,null,null,null,null,null,null,null,{"$f":"IF(Q31=\"\",\"\",Sanierungsschritte!$D$6+0.00001)","v":""},{"$f":"IF(AND('WE Puffer'!$F$42=0,'WE Puffer'!$J$9=\"ja\"),\"Einbau des Pufferspeichers\",\"\")","v":""}]
[null,null,null,null,null,null,null,null,null,null,null,null,null,null,null,{"$f":"IF(Sanierungsschritte!$E$6=\"\",\"\",Sanierungsschritte!$E$6)","v":""},{"$f":"Sanierungsschritte!$E$5","v":{"$error":"#REF!"}}]
[null,null,null,null,null,null,null,null,null,null,null,null,null,null,null,{"$f":"IF(Sanierungsschritte!$F$6=\"\",\"\",Sanierungsschritte!$F$6)","v":""},{"$f":"Sanierungsschritte!$F$5","v":{"$error":"#REF!"}}]
[null,null,null,null,null,null,null,null,null,null,null,null,null,null,null,{"$f":"IF(Sanierungsschritte!$G$6=\"\",\"\",Sanierungsschritte!$G$6)","v":""},{"$f":"Sanierungsschritte!$G$5","v":{"$error":"#REF!"}}]
[null,null,null,null,null,null,null,null,null,null,null,null,null,null,null,{"$f":"IF(Q35=\"\",\"\",$L$612+0.00005)","v":""},{"$f":"IF(AND('PV - Solar'!O14=0,'PV - Solar'!O29=0),\"Installation der Photovoltaik- und der Solaranlage\",IF('PV - Solar'!O14=0,\"Installation der Photovoltaikanlage\",IF('PV - Solar'!O29=0,\"Installation der solarthermischen Anlage\",\"\")))","v":""}]
[null,null,null,null,null,null,null,null,null,null,null,null,null,null,null,{"$f":"IF(Sanierungsschritte!$H$6=\"\",\"\",Sanierungsschritte!$H$6)","v":""},{"$f":"Sanierungsschritte!$H$5","v":{"$error":"#REF!"}}]
[null,null,null,null,null,null,null,null,null,null,null,null,null,null,null,{"$f":"IF(Sanierungsschritte!$I$6=\"\",\"\",Sanierungsschritte!$I$6)","v":""},{"$f":"Sanierungsschritte!$I$5","v":{"$error":"#REF!"}}]
[null,null,null,null,null,null,null,null,null,null,null,null,null,null,null,{"$f":"IF(Sanierungsschritte!$J$6=\"\",\"\",Sanierungsschritte!$J$6)","v":""},{"$f":"Sanierungsschritte!$J$5","v":{"$error":"#REF!"}}]
[null,null,null,null,null,null,null,null,null,null,null,null,null,null,null,{"$f":"IF(Sanierungsschritte!$K$6=\"\",\"\",Sanierungsschritte!$K$6)","v":""},{"$f":"Sanierungsschritte!$K$5","v":{"$error":"#REF!"}}]
[null,null,null,null,null,null,null,null,null,null,null,null,null,null,null,{"$f":"IF(Sanierungsschritte!$L$6=\"\",\"\",Sanierungsschritte!$L$6)","v":""},{"$f":"Sanierungsschritte!$L$5","v":{"$error":"#REF!"}}]
[null,null,null,null,null,null,null,null,null,null,null,null,null,null,null,{"$f":"IF(Sanierungsschritte!$M$6=\"\",\"\",Sanierungsschritte!$M$6)","v":""},{"$f":"Sanierungsschritte!$M$5","v":{"$error":"#REF!"}}]
[null,null,null,null,null,null,null,null,null,null,null,null,null,null,null,{"$f":"IF(Sanierungsschritte!$N$6=\"\",\"\",Sanierungsschritte!$N$6)","v":""},{"$f":"Sanierungsschritte!$N$5","v":{"$error":"#REF!"}}]
[null,null,null,null,null,null,null,null,null,null,null,null,null,null,null,{"$f":"IF(Sanierungsschritte!$O$6=\"\",\"\",Sanierungsschritte!$O$6)","v":""},{"$f":"Sanierungsschritte!$O$5","v":{"$error":"#REF!"}}]
[]
["GEBÄUDETECHNIK BEI STUFENWEISER SANIERUNG"]
[]
[]
["ALLGEMEINES"]
[]
["Objekt:",null,null,{"$f":"Allgemeines!D6","v":{"$error":"#REF!"}},null,null,null,null,"Bauherrschaft:    ",null,null,{"$f":"Allgemeines!I6","v":{"$error":"#REF!"}}]
["Straße:",null,null,{"$f":"Allgemeines!D7","v":{"$error":"#REF!"}},null,null,null,null,"Straße:    ",null,null,{"$f":"Allgemeines!I7","v":{"$error":"#REF!"}}]
["PLZ/Ort:",null,null,{"$f":"Allgemeines!D8&\" \"&Allgemeines!E8","v":{"$error":"#REF!"}},null,null,null,null,"PLZ/Ort:    ",null,null,{"$f":"Allgemeines!I8&\" \"&Allgemeines!J8","v":{"$error":"#REF!"}}]
["Provinz/Land:",null,null,{"$f":"Allgemeines!D9&\" / \"&Allgemeines!F9","v":{"$error":"#REF!"}},null,null,null,null,"Provinz/Land:    ",null,null,{"$f":"IF(Allgemeines!I9=\"\",\"\",Allgemeines!I9&\" / \"&Allgemeines!K9)","v":{"$error":"#REF!"}}]
["Objekt-Typ:",null,null,{"$f":"Allgemeines!D10","v":{"$error":"#REF!"}}]
["Klimadatensatz:",null,null,{"$f":"Allgemeines!D11","v":{"$error":"#REF!"}},null,null,null,{"$f":"Allgemeines!$H$10","v":{"$error":"#REF!"}}]
["Klimazone:",null,null,{"$f":"Allgemeines!D12","v":{"$error":"#REF!"}}]
["Standorthöhe:",null,null,{"$f":"Allgemeines!G12","v":{"$error":"#REF!"}}]
["Baujahr:",null,null,{"$f":"Allgemeines!D25","v":{"$error":"#REF!"}}]
[]
["Architektur:",null,null,{"$f":"Allgemeines!D15","v":{"$error":"#REF!"}},null,null,null,null,"Haustechnik:    ",null,null,{"$f":"Allgemeines!I15","v":{"$error":"#REF!"}}]
["Straße:",null,null,{"$f":"Allgemeines!D16","v":{"$error":"#REF!"}},null,null,null,null,"Straße:    ",null,null,{"$f":"Allgemeines!I16","v":{"$error":"#REF!"}}]
["PLZ/Ort:",null,null,{"$f":"Allgemeines!D17&\" \"&Allgemeines!E17","v":{"$error":"#REF!"}},null,null,null,null,"PLZ/Ort:    ",null,null,{"$f":"Allgemeines!I17&\" \"&Allgemeines!J17","v":{"$error":"#REF!"}}]
["Provinz/Land:",null,null,{"$f":"IF(Allgemeines!D18=\"\",\"\",Allgemeines!D18&\" / \"&Allgemeines!F18)","v":{"$error":"#REF!"}},null,null,null,null,"Provinz/Land:    ",null,null,{"$f":"IF(Allgemeines!I18=\"\",\"\",Allgemeines!I18&\" / \"&Allgemeines!K18)","v":{"$error":"#REF!"}}]
[]
["Energieberatung:",null,null,{"$f":"Allgemeines!D20","v":{"$error":"#REF!"}},null,null,null,null,"Zertifizierung:    ",null,null,{"$f":"Allgemeines!I20","v":{"$error":"#REF!"}}]
["Straße:",null,null,{"$f":"Allgemeines!D21","v":{"$error":"#REF!"}},null,null,null,null,"Straße:    ",null,null,{"$f":"Allgemeines!I21","v":{"$error":"#REF!"}}]
["PLZ/Ort:",null,null,{"$f":"Allgemeines!D22&\" \"&Allgemeines!E22","v":{"$error":"#REF!"}},null,null,null,null,"PLZ/Ort:    ",null,null,{"$f":"Allgemeines!I22&\" \"&Allgemeines!J22","v":{"$error":"#REF!"}}]
["Provinz/Land:",null,null,{"$f":"IF(Allgemeines!D23=\"\",\"\",Allgemeines!D23&\" \"&Allgemeines!F23)","v":{"$error":"#REF!"}},null,null,null,null,"Provinz/Land:    ",null,null,{"$f":"IF(Allgemeines!I23=\"\",\"\",Allgemeines!I23&\" / \"&Allgemeines!K23)","v":{"$error":"#REF!"}}]
[]
["GEBÄUDE"]
[]
["Anzahl der oberirdischen Geschoße:",null,null,null,null,null,{"$f":"Beschreibung!F11","v":0},null,null,"Innentemperatur Winter:",null,null,null,{"$f":"Allgemeines!I25","v":{"$error":"#REF!"}}]
["Kellergeschoß:",null,null,null,null,null,{"$f":"Beschreibung!F13","v":0},null,null,"Innentemperatur Sommer:",null,null,null,{"$f":"Allgemeines!L25","v":{"$error":"#REF!"}}]
["Dachgeschoß:",null,null,null,null,null,{"$f":"Beschreibung!F15","v":0},null,null,"Gartenfläche:",null,null,{"$f":"Beschreibung!F6","v":0}]
[]
["RÄUME"]
[]
[null,"Kellergeschoß",null,null,null,null,null,null,"Erdgeschoß"]
[null,"Raum",null,null,null,"Fläche",null,null,"Raum",null,null,null,"Fläche"]
[null,{"$f":"IF($G$73=\"ja\",IF(Beschreibung!C25=\"\",\"\",Beschreibung!C25),\"\")","v":""},null,null,null,{"$f":"IF($G$73=\"ja\",IF(Beschreibung!D25=\"\",\"\",Beschreibung!D25),\"\")","v":""},null,null,{"$f":"IF(Beschreibung!F25=\"\",\"\",Beschreibung!F25)","v":""},null,null,null,{"$f":"IF(Beschreibung!H25=\"\",\"\",Beschreibung!H25)","v":""}]
[null,{"$f":"IF($G$73=\"ja\",IF(Beschreibung!C26=\"\",\"\",Beschreibung!C26),\"\")","v":""},null,null,null,{"$f":"IF($G$73=\"ja\",IF(Beschreibung!D26=\"\",\"\",Beschreibung!D26),\"\")","v":""},null,null,{"$f":"IF(Beschreibung!F26=\"\",\"\",Beschreibung!F26)","v":""},null,null,null,{"$f":"IF(Beschreibung!H26=\"\",\"\",Beschreibung!H26)","v":""}]
[null,{"$f":"IF($G$73=\"ja\",IF(Beschreibung!C27=\"\",\"\",Beschreibung!C27),\"\")","v":""},null,null,null,{"$f":"IF($G$73=\"ja\",IF(Beschreibung!D27=\"\",\"\",Beschreibung!D27),\"\")","v":""},null,null,{"$f":"IF(Beschreibung!F27=\"\",\"\",Beschreibung!F27)","v":""},null,null,null,{"$f":"IF(Beschreibung!H27=\"\",\"\",Beschreibung!H27)","v":""}]
[null,{"$f":"IF($G$73=\"ja\",IF(Beschreibung!C28=\"\",\"\",Beschreibung!C28),\"\")","v":""},null,null,null,{"$f":"IF($G$73=\"ja\",IF(Beschreibung!D28=\"\",\"\",Beschreibung!D28),\"\")","v":""},null,null,{"$f":"IF(Beschreibung!F28=\"\",\"\",Beschreibung!F28)","v":""},null,null,null,{"$f":"IF(Beschreibung!H28=\"\",\"\",Beschreibung!H28)","v":""}]
[null,{"$f":"IF($G$73=\"ja\",IF(Beschreibung!C29=\"\",\"\",Beschreibung!C29),\"\")","v":""},null,null,null,{"$f":"IF($G$73=\"ja\",IF(Beschreibung!D29=\"\",\"\",Beschreibung!D29),\"\")","v":""},null,null,{"$f":"IF(Beschreibung!F29=\"\",\"\",Beschreibung!F29)","v":""},null,null,null,{"$f":"IF(Beschreibung!H29=\"\",\"\",Beschreibung!H29)","v":""}]
[null,{"$f":"IF($G$73=\"ja\",IF(Beschreibung!C30=\"\",\"\",Beschreibung!C30),\"\")","v":""},null,null,null,{"$f":"IF($G$73=\"ja\",IF(Beschreibung!D30=\"\",\"\",Beschreibung!D30),\"\")","v":""},null,null,{"$f":"IF(Beschreibung!F30=\"\",\"\",Beschreibung!F30)","v":""},null,null,null,{"$f":"IF(Beschreibung!H30=\"\",\"\",Beschreibung!H30)","v":""}]
[null,{"$f":"IF($G$73=\"ja\",IF(Beschreibung!C31=\"\",\"\",Beschreibung!C31),\"\")","v":""},null,null,null,{"$f":"IF($G$73=\"ja\",IF(Beschreibung!D31=\"\",\"\",Beschreibung!D31),\"\")","v":""},null,null,{"$f":"IF(Beschreibung!F31=\"\",\"\",Beschreibung!F31)","v":""},null,null,null,{"$f":"IF(Beschreibung!H31=\"\",\"\",Beschreibung!H31)","v":""}]
[null,{"$f":"IF($G$73=\"ja\",IF(Beschreibung!C32=\"\",\"\",Beschreibung!C32),\"\")","v":""},null,null,null,{"$f":"IF($G$73=\"ja\",IF(Beschreibung!D32=\"\",\"\",Beschreibung!D32),\"\")","v":""},null,null,{"$f":"IF(Beschreibung!F32=\"\",\"\",Beschreibung!F32)","v":""},null,null,null,{"$f":"IF(Beschreibung!H32=\"\",\"\",Beschreibung!H32)","v":""}]
[null,{"$f":"IF($G$73=\"ja\",IF(Beschreibung!C33=\"\",\"\",Beschreibung!C33),\"\")","v":""},null,null,null,{"$f":"IF($G$73=\"ja\",IF(Beschreibung!D33=\"\",\"\",Beschreibung!D33),\"\")","v":""},null,null,{"$f":"IF(Beschreibung!F33=\"\",\"\",Beschreibung!F33)","v":""},null,null,null,{"$f":"IF(Beschreibung!H33=\"\",\"\",Beschreibung!H33)","v":""}]
[null,{"$f":"IF($G$73=\"ja\",IF(Beschreibung!C34=\"\",\"\",Beschreibung!C34),\"\")","v":""},null,null,null,{"$f":"IF($G$73=\"ja\",IF(Beschreibung!D34=\"\",\"\",Beschreibung!D34),\"\")","v":""},null,null,{"$f":"IF(Beschreibung!F34=\"\",\"\",Beschreibung!F34)","v":""},null,null,null,{"$f":"IF(Beschreibung!H34=\"\",\"\",Beschreibung!H34)","v":""}]
[]
[]
[]
[null,"1. Obergeschoß",null,null,null,null,null,null,"2. Obergeschoß"]
[null,"Raum",null,null,null,"Fläche",null,null,"Raum",null,null,null,"Fläche"]
[null,{"$f":"IF($G$72>=2,IF(Beschreibung!J25=\"\",\"\",Beschreibung!J25),\"\")","v":""},null,null,null,{"$f":"IF($G$72>=2,IF(Beschreibung!K25=\"\",\"\",Beschreibung!K25),\"\")","v":""},null,null,{"$f":"IF($G$72=3,IF(Beschreibung!M25=\"\",\"\",Beschreibung!M25),\"\")","v":""},null,null,null,{"$f":"IF($G$72=3,IF(Beschreibung!N25=\"\",\"\",Beschreibung!N25),\"\")","v":""}]
[null,{"$f":"IF($G$72>=2,IF(Beschreibung!J26=\"\",\"\",Beschreibung!J26),\"\")","v":""},null,null,null,{"$f":"IF($G$72>=2,IF(Beschreibung!K26=\"\",\"\",Beschreibung!K26),\"\")","v":""},null,null,{"$f":"IF($G$72=3,IF(Beschreibung!M26=\"\",\"\",Beschreibung!M26),\"\")","v":""},null,null,null,{"$f":"IF($G$72=3,IF(Beschreibung!N26=\"\",\"\",Beschreibung!N26),\"\")","v":""}]
[null,{"$f":"IF($G$72>=2,IF(Beschreibung!J27=\"\",\"\",Beschreibung!J27),\"\")","v":""},null,null,null,{"$f":"IF($G$72>=2,IF(Beschreibung!K27=\"\",\"\",Beschreibung!K27),\"\")","v":""},null,null,{"$f":"IF($G$72=3,IF(Beschreibung!M27=\"\",\"\",Beschreibung!M27),\"\")","v":""},null,null,null,{"$f":"IF($G$72=3,IF(Beschreibung!N27=\"\",\"\",Beschreibung!N27),\"\")","v":""}]
[null,{"$f":"IF($G$72>=2,IF(Beschreibung!J28=\"\",\"\",Beschreibung!J28),\"\")","v":""},null,null,null,{"$f":"IF($G$72>=2,IF(Beschreibung!K28=\"\",\"\",Beschreibung!K28),\"\")","v":""},null,null,{"$f":"IF($G$72=3,IF(Beschreibung!M28=\"\",\"\",Beschreibung!M28),\"\")","v":""},null,null,null,{"$f":"IF($G$72=3,IF(Beschreibung!N28=\"\",\"\",Beschreibung!N28),\"\")","v":""}]
[null,{"$f":"IF($G$72>=2,IF(Beschreibung!J29=\"\",\"\",Beschreibung!J29),\"\")","v":""},null,null,null,{"$f":"IF($G$72>=2,IF(Beschreibung!K29=\"\",\"\",Beschreibung!K29),\"\")","v":""},null,null,{"$f":"IF($G$72=3,IF(Beschreibung!M29=\"\",\"\",Beschreibung!M29),\"\")","v":""},null,null,null,{"$f":"IF($G$72=3,IF(Beschreibung!N29=\"\",\"\",Beschreibung!N29),\"\")","v":""}]
[null,{"$f":"IF($G$72>=2,IF(Beschreibung!J30=\"\",\"\",Beschreibung!J30),\"\")","v":""},null,null,null,{"$f":"IF($G$72>=2,IF(Beschreibung!K30=\"\",\"\",Beschreibung!K30),\"\")","v":""},null,null,{"$f":"IF($G$72=3,IF(Beschreibung!M30=\"\",\"\",Beschreibung!M30),\"\")","v":""},null,null,null,{"$f":"IF($G$72=3,IF(Beschreibung!N30=\"\",\"\",Beschreibung!N30),\"\")","v":""}]
[null,{"$f":"IF($G$72>=2,IF(Beschreibung!J31=\"\",\"\",Beschreibung!J31),\"\")","v":""},null,null,null,{"$f":"IF($G$72>=2,IF(Beschreibung!K31=\"\",\"\",Beschreibung!K31),\"\")","v":""},null,null,{"$f":"IF($G$72=3,IF(Beschreibung!M31=\"\",\"\",Beschreibung!M31),\"\")","v":""},null,null,null,{"$f":"IF($G$72=3,IF(Beschreibung!N31=\"\",\"\",Beschreibung!N31),\"\")","v":""}]
[null,{"$f":"IF($G$72>=2,IF(Beschreibung!J32=\"\",\"\",Beschreibung!J32),\"\")","v":""},null,null,null,{"$f":"IF($G$72>=2,IF(Beschreibung!K32=\"\",\"\",Beschreibung!K32),\"\")","v":""},null,null,{"$f":"IF($G$72=3,IF(Beschreibung!M32=\"\",\"\",Beschreibung!M32),\"\")","v":""},null,null,null,{"$f":"IF($G$72=3,IF(Beschreibung!N32=\"\",\"\",Beschreibung!N32),\"\")","v":""}]
[null,{"$f":"IF($G$72>=2,IF(Beschreibung!J33=\"\",\"\",Beschreibung!J33),\"\")","v":""},null,null,null,{"$f":"IF($G$72>=2,IF(Beschreibung!K33=\"\",\"\",Beschreibung!K33),\"\")","v":""},null,null,{"$f":"IF($G$72=3,IF(Beschreibung!M33=\"\",\"\",Beschreibung!M33),\"\")","v":""},null,null,null,{"$f":"IF($G$72=3,IF(Beschreibung!N33=\"\",\"\",Beschreibung!N33),\"\")","v":""}]
[null,{"$f":"IF($G$72>=2,IF(Beschreibung!J34=\"\",\"\",Beschreibung!J34),\"\")","v":""},null,null,null,{"$f":"IF($G$72>=2,IF(Beschreibung!K34=\"\",\"\",Beschreibung!K34),\"\")","v":""},null,null,{"$f":"IF($G$72=3,IF(Beschreibung!M34=\"\",\"\",Beschreibung!M34),\"\")","v":""},null,null,null,{"$f":"IF($G$72=3,IF(Beschreibung!N34=\"\",\"\",Beschreibung!N34),\"\")","v":""}]
[]
[null,"Dachgeschoß",null,null,null,null,null,null,"Geschoß",null,null,"Raumhöhe"]
[null,"Raum",null,null,null,"Fläche",null,null,"KG",null,null,{"$f":"IF(G73=\"ja\",RH_KG,\"\")","v":""}]
[null,{"$f":"IF($G$74=\"ja\",IF(Beschreibung!P25=\"\",\"\",Beschreibung!P25),\"\")","v":""},null,null,null,{"$f":"IF($G$74=\"ja\",IF(Beschreibung!Q25=\"\",\"\",Beschreibung!Q25))","v":false},null,null,"EG",null,null,{"$f":"RH_EG","v":0}]
[null,{"$f":"IF($G$74=\"ja\",IF(Beschreibung!P26=\"\",\"\",Beschreibung!P26),\"\")","v":""},null,null,null,{"$f":"IF($G$74=\"ja\",IF(Beschreibung!Q26=\"\",\"\",Beschreibung!Q26))","v":false},null,null,"1.OG",null,null,{"$f":"IF($G$72>=2,RH_OG1,\"\")","v":""}]
[null,{"$f":"IF($G$74=\"ja\",IF(Beschreibung!P27=\"\",\"\",Beschreibung!P27),\"\")","v":""},null,null,null,{"$f":"IF($G$74=\"ja\",IF(Beschreibung!Q27=\"\",\"\",Beschreibung!Q27))","v":false},null,null,"2.OG",null,null,{"$f":"IF($G$72=3,RH_OG2,\"\")","v":""}]
[null,{"$f":"IF($G$74=\"ja\",IF(Beschreibung!P28=\"\",\"\",Beschreibung!P28),\"\")","v":""},null,null,null,{"$f":"IF($G$74=\"ja\",IF(Beschreibung!Q28=\"\",\"\",Beschreibung!Q28))","v":false},null,null,"DG",null,null,{"$f":"RH_DG","v":1.7}]
[null,{"$f":"IF($G$74=\"ja\",IF(Beschreibung!P29=\"\",\"\",Beschreibung!P29),\"\")","v":""},null,null,null,{"$f":"IF($G$74=\"ja\",IF(Beschreibung!Q29=\"\",\"\",Beschreibung!Q29))","v":false}]
[null,{"$f":"IF($G$74=\"ja\",IF(Beschreibung!P30=\"\",\"\",Beschreibung!P30),\"\")","v":""},null,null,null,{"$f":"IF($G$74=\"ja\",IF(Beschreibung!Q30=\"\",\"\",Beschreibung!Q30))","v":false},null,null,"* gemittelte Raumhöhe"]
[null,{"$f":"IF($G$74=\"ja\",IF(Beschreibung!P31=\"\",\"\",Beschreibung!P31),\"\")","v":""},null,null,null,{"$f":"IF($G$74=\"ja\",IF(Beschreibung!Q31=\"\",\"\",Beschreibung!Q31))","v":false}]
[null,{"$f":"IF($G$74=\"ja\",IF(Beschreibung!P32=\"\",\"\",Beschreibung!P32),\"\")","v":""},null,null,null,{"$f":"IF($G$74=\"ja\",IF(Beschreibung!Q32=\"\",\"\",Beschreibung!Q32))","v":false},null,null,"Gesamtfläche:",null,null,{"$f":"SUM(F80:G89,M80:N89,F95:G104,M95:N104,F108:G117)","v":0}]
[null,{"$f":"IF($G$74=\"ja\",IF(Beschreibung!P33=\"\",\"\",Beschreibung!P33),\"\")","v":""},null,null,null,{"$f":"IF($G$74=\"ja\",IF(Beschreibung!Q33=\"\",\"\",Beschreibung!Q33))","v":false},null,null,"Gesamtvolumen:",null,null,{"$f":"IF(L107=\"\",0,SUM(F80:G89)*L107)+SUM(M80:N89)*L108+IF(L109=\"\",0,SUM(F95:G104)*L109)+IF(L110=\"\",0,SUM(M95:N104)*L110)+IF(L111=\"\",0,SUM(F108:G117)*L111)","v":0}]
[null,{"$f":"IF($G$74=\"ja\",IF(Beschreibung!P34=\"\",\"\",Beschreibung!P34),\"\")","v":""},null,null,null,{"$f":"IF($G$74=\"ja\",IF(Beschreibung!Q34=\"\",\"\",Beschreibung!Q34))","v":false},null,null,"Anzahl d. Räume:",null,null,{"$f":"Beschreibung!D39","v":0}]
[]
["SANIERUNGSVERLAUF"]
[]
["Energiebezugsfläche des Gebäudes gemäß PHPP:",null,null,null,null,null,null,null,null,{"$f":"Sanierungsschritte!D15","v":{"$error":"#REF!"}}]
["Sanierungsmaßnahmen",null,null,null,null,{"$f":"Sanierungsschritte!D5","v":{"$error":"#REF!"}},{"$f":"Sanierungsschritte!E5","v":{"$error":"#REF!"}},{"$f":"Sanierungsschritte!F5","v":{"$error":"#REF!"}},{"$f":"Sanierungsschritte!G5","v":{"$error":"#REF!"}},{"$f":"Sanierungsschritte!H5","v":{"$error":"#REF!"}},{"$f":"Sanierungsschritte!I5","v":{"$error":"#REF!"}},{"$f":"Sanierungsschritte!K5","v":{"$error":"#REF!"}},{"$f":"Sanierungsschritte!L5","v":{"$error":"#REF!"}},{"$f":"Sanierungsschritte!M5","v":{"$error":"#REF!"}},{"$f":"Sanierungsschritte!N5","v":{"$error":"#REF!"}}]
["Zeitpunkt des Sanierungsschritts",null,null,null,null,{"$f":"IF(Sanierungsschritte!D6=\"\",\"\",Sanierungsschritte!D6)","v":""},{"$f":"IF(Sanierungsschritte!E6=\"\",\"\",Sanierungsschritte!E6)","v":""},{"$f":"IF(Sanierungsschritte!F6=\"\",\"\",Sanierungsschritte!F6)","v":""},{"$f":"IF(Sanierungsschritte!G6=\"\",\"\",Sanierungsschritte!G6)","v":""},{"$f":"IF(Sanierungsschritte!H6=\"\",\"\",Sanierungsschritte!H6)","v":""},{"$f":"IF(Sanierungsschritte!I6=\"\",\"\",Sanierungsschritte!I6)","v":""},{"$f":"IF(Sanierungsschritte!J6=\"\",\"\",Sanierungsschritte!J6)","v":""},{"$f":"IF(Sanierungsschritte!K6=\"\",\"\",Sanierungsschritte!K6)","v":""},{"$f":"IF(Sanierungsschritte!L6=\"\",\"\",Sanierungsschritte!L6)","v":""},{"$f":"IF(Sanierungsschritte!M6=\"\",\"\",Sanierungsschritte!M6)","v":""}]
[{"$f":"Sanierungsschritte!C7","v":"Heizwärmebedarf [kWh/m²a]"},null,null,null,null,{"$f":"Sanierungsschritte!D7","v":{"$error":"#REF!"}},{"$f":"Sanierungsschritte!E7","v":{"$error":"#REF!"}},{"$f":"Sanierungsschritte!F7","v":{"$error":"#REF!"}},{"$f":"Sanierungsschritte!G7","v":{"$error":"#REF!"}},{"$f":"Sanierungsschritte!H7","v":{"$error":"#REF!"}},{"$f":"Sanierungsschritte!I7","v":{"$error":"#REF!"}},{"$f":"Sanierungsschritte!K7","v":{"$error":"#REF!"}},{"$f":"Sanierungsschritte!L7","v":{"$error":"#REF!"}},{"$f":"Sanierungsschritte!M7","v":{"$error":"#REF!"}},{"$f":"Sanierungsschritte!N7","v":{"$error":"#REF!"}}]
["Jährlicher Heizwärmebedarf [kWh/a]",null,null,null,null,{"$f":"IF(F124=\"\",\"\",F124*$J$121)","v":{"$error":"#REF!"}},{"$error":"#REF!"},{"$error":"#REF!"},{"$error":"#REF!"},{"$error":"#REF!"},{"$error":"#REF!"},{"$error":"#REF!"},{"$error":"#REF!"},{"$error":"#REF!"},{"$error":"#REF!"}]
[{"$f":"Sanierungsschritte!C8","v":"Heizlast [W/m²]"},null,null,null,null,{"$f":"Sanierungsschritte!D8","v":{"$error":"#REF!"}},{"$f":"Sanierungsschritte!E8","v":{"$error":"#REF!"}},{"$f":"Sanierungsschritte!F8","v":{"$error":"#REF!"}},{"$f":"Sanierungsschritte!G8","v":{"$error":"#REF!"}},{"$f":"Sanierungsschritte!H8","v":{"$error":"#REF!"}},{"$f":"Sanierungsschritte!I8","v":{"$error":"#REF!"}},{"$f":"Sanierungsschritte!K8","v":{"$error":"#REF!"}},{"$f":"Sanierungsschritte!L8","v":{"$error":"#REF!"}},{"$f":"Sanierungsschritte!M8","v":{"$error":"#REF!"}},{"$f":"Sanierungsschritte!N8","v":{"$error":"#REF!"}}]
["Heizlast des Gebäudes [kW]",null,null,null,null,{"$f":"IF(F126=\"\",\"\",F126*$J$121/1000)","v":{"$error":"#REF!"}},{"$error":"#REF!"},{"$error":"#REF!"},{"$error":"#REF!"},{"$error":"#REF!"},{"$error":"#REF!"},{"$error":"#REF!"},{"$error":"#REF!"},{"$error":"#REF!"},{"$error":"#REF!"}]
["Übertemperaturhäufigk. (>25°C) [%]",null,null,null,null,{"$f":"Sanierungsschritte!D11","v":{"$error":"#REF!"}},{"$f":"Sanierungsschritte!E11","v":{"$error":"#REF!"}},{"$f":"Sanierungsschritte!F11","v":{"$error":"#REF!"}},{"$f":"Sanierungsschritte!G11","v":{"$error":"#REF!"}},{"$f":"Sanierungsschritte!H11","v":{"$error":"#REF!"}},{"$f":"Sanierungsschritte!I11","v":{"$error":"#REF!"}},{"$f":"Sanierungsschritte!K11","v":{"$error":"#REF!"}},{"$f":"Sanierungsschritte!L11","v":{"$error":"#REF!"}},{"$f":"Sanierungsschritte!M11","v":{"$error":"#REF!"}},{"$f":"Sanierungsschritte!N11","v":{"$error":"#REF!"}}]
["Kühl- + Entfeuchtungsbedarf",null,null,null,null,{"$f":"Sanierungsschritte!D9","v":{"$error":"#REF!"}},{"$f":"Sanierungsschritte!E9","v":{"$error":"#REF!"}},{"$f":"Sanierungsschritte!F9","v":{"$error":"#REF!"}},{"$f":"Sanierungsschritte!G9","v":{"$error":"#REF!"}},{"$f":"Sanierungsschritte!H9","v":{"$error":"#REF!"}},{"$f":"Sanierungsschritte!I9","v":{"$error":"#REF!"}},{"$f":"Sanierungsschritte!J9","v":{"$error":"#REF!"}},{"$f":"Sanierungsschritte!K9","v":{"$error":"#REF!"}},{"$f":"Sanierungsschritte!L9","v":{"$error":"#REF!"}},{"$f":"Sanierungsschritte!M9","v":{"$error":"#REF!"}}]
["Kühllast",null,null,null,null,{"$f":"Sanierungsschritte!D10","v":{"$error":"#REF!"}},{"$f":"Sanierungsschritte!E10","v":{"$error":"#REF!"}},{"$f":"Sanierungsschritte!F10","v":{"$error":"#REF!"}},{"$f":"Sanierungsschritte!G10","v":{"$error":"#REF!"}},{"$f":"Sanierungsschritte!H10","v":{"$error":"#REF!"}},{"$f":"Sanierungsschritte!I10","v":{"$error":"#REF!"}},{"$f":"Sanierungsschritte!J10","v":{"$error":"#REF!"}},{"$f":"Sanierungsschritte!K10","v":{"$error":"#REF!"}},{"$f":"Sanierungsschritte!L10","v":{"$error":"#REF!"}},{"$f":"Sanierungsschritte!M10","v":{"$error":"#REF!"}}]
[{"$f":"Sanierungsschritte!C12","v":"PER-Bedarf [kWh/m²a]"},null,null,null,null,{"$f":"Sanierungsschritte!D12","v":{"$error":"#REF!"}},{"$f":"Sanierungsschritte!E12","v":{"$error":"#REF!"}},{"$f":"Sanierungsschritte!F12","v":{"$error":"#REF!"}},{"$f":"Sanierungsschritte!G12","v":{"$error":"#REF!"}},{"$f":"Sanierungsschritte!H12","v":{"$error":"#REF!"}},{"$f":"Sanierungsschritte!I12","v":{"$error":"#REF!"}},{"$f":"Sanierungsschritte!K12","v":{"$error":"#REF!"}},{"$f":"Sanierungsschritte!L12","v":{"$error":"#REF!"}},{"$f":"Sanierungsschritte!M12","v":{"$error":"#REF!"}},{"$f":"Sanierungsschritte!N12","v":{"$error":"#REF!"}}]
[{"$f":"Sanierungsschritte!C13","v":"EnerPHit Classic"},null,null,null,null,{"$f":"Sanierungsschritte!D13","v":{"$error":"#REF!"}},{"$f":"Sanierungsschritte!E13","v":{"$error":"#REF!"}},{"$f":"Sanierungsschritte!F13","v":{"$error":"#REF!"}},{"$f":"Sanierungsschritte!G13","v":{"$error":"#REF!"}},{"$f":"Sanierungsschritte!H13","v":{"$error":"#REF!"}},{"$f":"Sanierungsschritte!I13","v":{"$error":"#REF!"}},{"$f":"Sanierungsschritte!K13","v":{"$error":"#REF!"}},{"$f":"Sanierungsschritte!L13","v":{"$error":"#REF!"}},{"$f":"Sanierungsschritte!M13","v":{"$error":"#REF!"}},{"$f":"Sanierungsschritte!N13","v":{"$error":"#REF!"}}]
[]
[]
["Im folgenden Diagramm ist der Verlauf der Heizlast des Gebäudes in [kW] über die Zeit aufgetragen:"]
[]
[]
[]
[]
[]
[]
[]
[]
[]
[]
[]
[]
[]
[]
[]
[]
[]
["Das folgende Diagramm zeigt den Verlauf des Heizwärmebedarfs des Gebäudes in [kWh/m²a]:"]
[]
[]
[]
[]
[]
[]
[]
[]
[]
[]
[]
[]
[]
[]
["Verlauf des jährlichen Heizwärmebedarfs des Gebäudes [kWh/a]:"]
[]
[]
[]
[]
[]
[]
[]
[]
[]
[]
[]
[]
[]
[]
[]
["HEIZWÄRMEERZEUGER"]
[]
["Bestand"]
[]
[{"$f":"'WE Bestand'!C6","v":"Energieträger:"},null,null,{"$f":"'WE Bestand'!E6","v":0},null,null,null,"Einbau des Bestandskessels:",null,null,null,null,{"$f":"'WE Bestand'!I6","v":0}]
[]
[{"$f":"'WE Bestand'!C8","v":"Installierte Leitung:"},null,null,{"$f":"'WE Bestand'!E8","v":0},null,null,null,"Erforderliche Leistung gemäß PHPP:",null,null,null,null,null,{"$f":"'WE Bestand'!I8","v":{"$error":"#VALUE!"}}]
[]
[{"$f":"IF('WE Bestand'!I22=\"ja\",\"-  Es gibt einen bestehenden Gasanschluss\",IF(AND('WE Bestand'!I22=\"nein\",'WE Bestand'!I24=\"ja\"),\"-  Es besteht die Möglichkeit eines Gasanschlusses\",\"-  Die Möglichkeit eines Gasanschlusses besteht nicht\"))","v":"-  Die Möglichkeit eines Gasanschlusses besteht nicht"}]
[{"$f":"IF('WE Bestand'!I26=\"ja\",\"-  Es gibt im Moment keinen Anschluss an ein Fernwärmenetz\",IF(AND('WE Bestand'!I26=\"nein\",'WE Bestand'!I28=\"ja\"),\"-  Es besteht die Möglichkeit eines Anschlusses an ein Fernwärmenetz\",\"-  Die Möglichkeit eines Anschlusses an ein Fernwärmenetz besteht nicht\"))","v":"-  Die Möglichkeit eines Anschlusses an ein Fernwärmenetz besteht nicht"}]
[{"$f":"IF('WE Bestand'!E10=\"ja\",\"-  Der bestehende Pufferspeicher hat ein Volumen von \"&'WE Bestand'!I10&\" Liter\",\"-  Es gibt keinen bestehenden Pufferspeicher\")","v":"-  Es gibt keinen bestehenden Pufferspeicher"}]
[{"$f":"IF('WE Bestand'!I32=\"ja\",\"-  Der bestehende Wärmeerzeuger ist noch funktionsfähig\",\"-  Der bestehende Wärmeerzeuger ist nicht mehr funktionsfähig\")","v":"-  Der bestehende Wärmeerzeuger ist nicht mehr funktionsfähig"}]
[]
["Angenommene Lebensdauer des bestehenden Wärmeerzeugers:",null,null,null,null,null,null,null,null,null,{"$f":"Sanierungsschritte!D19","v":0}]
["Damit voraussichtlicher Ausfall im Jahr:",null,null,null,null,null,null,null,null,null,{"$f":"Sanierungsschritte!D21","v":0}]
[]
[{"$f":"IF(OR(AND(A229='WE Auswahl'!Q172,'WE Leistung'!L96<>Sanierungsschritte!D21),'WE Leistung'!H30<>'WE Leistung'!H29),'WE Leistung'!AK37,\"\")","v":""}]
[{"$f":"IF(OR(AND(A229='WE Auswahl'!Q172,'WE Leistung'!L96<>Sanierungsschritte!D21),'WE Leistung'!H30<>'WE Leistung'!H29),'WE Leistung'!AK38,\"\")","v":""}]
["Einbau des neuen Wärmeerzeugers:",null,null,null,null,null,null,null,null,null,{"$f":"'WE Leistung'!AO11","v":0}]
[]
["Auswahl des neuen Wärmeerzeugers"]
[]
["Aus den angebotenen Optionen haben Sie die folgenden gewählt:"]
[]
[null,"Bevorzugter Energieträger:",null,null,null,null,{"$f":"'WE Auswahl'!W6","v":"Wärmepumpe"}]
[null,null,null,null,null,null,{"$f":"'WE Auswahl'!W7","v":"Holz"}]
[null,null,null,null,null,null,{"$f":"'WE Auswahl'!W8","v":"Fernwärme"}]
[null,null,null,null,null,null,{"$f":"'WE Auswahl'!W9","v":"Gas"}]
[null,null,null,null,null,null,{"$f":"'WE Auswahl'!W10","v":"Heizöl"}]
[null,null,null,null,null,null,{"$f":"'WE Auswahl'!W11","v":"keine klaren Präferenzen"}]
[]
[null,"Präferierte Eigenschaft:",null,null,null,null,{"$f":"'WE Auswahl'!V6","v":"Niedrige Investitionskosten"}]
[null,null,null,null,null,null,{"$f":"'WE Auswahl'!V7","v":"Niedrige Betriebskosten "}]
[null,null,null,null,null,null,{"$f":"'WE Auswahl'!V8","v":"Nutzung erneuerbarer Energien"}]
[null,null,null,null,null,null,{"$f":"'WE Auswahl'!V9","v":"keine klaren Präferenzen"}]
[]
["Gebäudestandard beim voraussichtichen Ausfall des Wärmeerzeugers:"]
[]
[null,null,null,null,null,null,{"$f":"'WE Auswahl'!D16","v":{"$error":"#N/A"}}]
[]
[]
["Aus diesen Angaben resultierte folgende Empfehlung:"]
[{"$f":"INDEX(IF(OR('WE Auswahl'!$O$16=3,'WE Auswahl'!$O$16=4),'WE Matrix'!$C$4:$F$9,IF('WE Auswahl'!$O$16=2,'WE Matrix'!G4:J9,'WE Matrix'!K4:N9)),'WE Auswahl'!O8,'WE Auswahl'!O12)","v":{"$error":"#N/A"}}]
[]
["Auf Basis dieser Empfehlung und der im Tabellenblatt \"WE Auswahl\" angebotenen Informationen haben Sie sich für den folgenden Heizwärmeerzeuger entschieden:"]
[{"$f":"'WE Auswahl'!E171","v":0}]
[{"$f":"IF('WE Auswahl'!G176=\"ja\",'WE Auswahl'!G178,IF('WE Auswahl'!G176=\"nein\",'WE Auswahl'!G179,\"\"))","v":{"$error":"#N/A"}}]
[]
["Vom neuen Wärmeerzeuger abzudeckende Leistung:",null,null,null,null,null,null,null,null,{"$f":"IF(A229='WE Auswahl'!Q172,'WE Leistung'!X95,'WE Leistung'!E36)","v":0}]
["Gewählte Leistung:",null,null,null,null,null,null,null,null,{"$f":"IF(A229='WE Auswahl'!Q172,'WE Leistung'!X92,'WE Leistung'!E36)","v":0}]
[{"$f":"IF(AND(A229='WE Auswahl'!Q172,J233<J232),\"Die Wärmepumpe wird bivalent betrieben. Die verbleibenden \"&ROUND(J232-J233,1)&\" kW werden mit Direktstrom ergänzt\",\"\")","v":""}]
[]
["Im folgenden Diagramm ist noch einmal der Verlauf der Heizlast dargestellt; Diesmal jedoch gemeinsam mit der vom bestehenden und vom neuen Wärmeerzeuger abgedeckten Leistung:"]
[]
[]
[]
[]
[]
[]
[]
[]
[]
[]
[]
[]
[]
[]
[]
[]
[]
[]
[]
["PUFFERSPEICHER"]
[]
[{"$f":"'WE Puffer'!H39","v":"Im Gebäude git es keinen Pufferspeicher; Dies ist nicht empfehlenswert!"}]
[{"$f":"'WE Puffer'!H40","v":""},null,null,null,null,null,null,null,{"$f":"IF('WE Puffer'!H40=\"\",\"\",'WE Puffer'!D12)","v":""}]
[]
["Nach dem Austausch des Wärmeerzeugers"]
["Gewählte Grenztemperaturen:",null,null,null,null,null,null,null,{"$f":"'WE Puffer'!D16","v":30},null,"und ",null,{"$f":"'WE Puffer'!D17","v":85}]
["Somit speicherbare Energie:",null,null,null,null,null,null,null,{"$f":"'WE Puffer'!H16","v":0}]
[]
["Nach dem Austausch des Wärmeerzeugers"]
["Gewählte Grenztemperaturen:",null,null,null,null,null,null,null,{"$f":"'WE Puffer'!D22","v":30},null,"und ",null,{"$f":"'WE Puffer'!D23","v":85}]
["Somit speicherbare Energie:",null,null,null,null,null,null,null,{"$f":"'WE Puffer'!H21","v":0}]
[]
[null,null,null,null,null,null,null,null,"Heizlast \n[kW]",null,"Beladezeit bei Kesselvolllast [h]",null,"Entladezeit im Heizlastfall \n[h]"]
[null,{"$f":"'WE Puffer'!B27","v":1},{"$f":"'WE Puffer'!C27","v":{"$error":"#REF!"}},null,null,null,null,null,{"$f":"'WE Puffer'!F27","v":{"$error":"#REF!"}},null,{"$f":"'WE Puffer'!H27","v":{"$error":"#REF!"}},null,{"$f":"'WE Puffer'!I27","v":{"$error":"#REF!"}}]
[null,{"$f":"'WE Puffer'!B28","v":{"$error":"#REF!"}},{"$f":"'WE Puffer'!C28","v":{"$error":"#REF!"}},null,null,null,null,null,{"$f":"'WE Puffer'!F28","v":{"$error":"#REF!"}},null,{"$f":"'WE Puffer'!H28","v":{"$error":"#REF!"}},null,{"$f":"'WE Puffer'!I28","v":{"$error":"#REF!"}}]
[null,{"$f":"'WE Puffer'!B29","v":{"$error":"#REF!"}},{"$f":"'WE Puffer'!C29","v":{"$error":"#REF!"}},null,null,null,null,null,{"$f":"'WE Puffer'!F29","v":{"$error":"#REF!"}},null,{"$f":"'WE Puffer'!H29","v":{"$error":"#REF!"}},null,{"$f":"'WE Puffer'!I29","v":{"$error":"#REF!"}}]
[null,{"$f":"'WE Puffer'!B30","v":{"$error":"#REF!"}},{"$f":"'WE Puffer'!C30","v":{"$error":"#REF!"}},null,null,null,null,null,{"$f":"'WE Puffer'!F30","v":{"$error":"#REF!"}},null,{"$f":"'WE Puffer'!H30","v":{"$error":"#REF!"}},null,{"$f":"'WE Puffer'!I30","v":{"$error":"#REF!"}}]
[null,{"$f":"'WE Puffer'!B31","v":{"$error":"#REF!"}},{"$f":"'WE Puffer'!C31","v":{"$error":"#REF!"}},null,null,null,null,null,{"$f":"'WE Puffer'!F31","v":{"$error":"#REF!"}},null,{"$f":"'WE Puffer'!H31","v":{"$error":"#REF!"}},null,{"$f":"'WE Puffer'!I31","v":{"$error":"#REF!"}}]
[null,{"$f":"'WE Puffer'!B32","v":{"$error":"#REF!"}},{"$f":"'WE Puffer'!C32","v":{"$error":"#REF!"}},null,null,null,null,null,{"$f":"'WE Puffer'!F32","v":{"$error":"#REF!"}},null,{"$f":"'WE Puffer'!H32","v":{"$error":"#REF!"}},null,{"$f":"'WE Puffer'!I32","v":{"$error":"#REF!"}}]
[null,{"$f":"'WE Puffer'!B33","v":{"$error":"#REF!"}},null,null,null,null,null,null,{"$f":"'WE Puffer'!F33","v":{"$error":"#REF!"}},null,{"$f":"'WE Puffer'!H33","v":{"$error":"#REF!"}},null,{"$f":"'WE Puffer'!I33","v":{"$error":"#REF!"}}]
[null,{"$f":"'WE Puffer'!B34","v":{"$error":"#REF!"}},null,null,null,null,{"$f":"'WE Puffer'!F34","v":{"$error":"#REF!"}},null,{"$f":"'WE Puffer'!F34","v":{"$error":"#REF!"}},null,{"$f":"'WE Puffer'!H34","v":{"$error":"#REF!"}},null,{"$f":"'WE Puffer'!I34","v":{"$error":"#REF!"}}]
[null,{"$f":"'WE Puffer'!B35","v":{"$error":"#REF!"}},null,null,null,null,{"$f":"'WE Puffer'!F35","v":{"$error":"#REF!"}},null,{"$f":"'WE Puffer'!F35","v":{"$error":"#REF!"}},null,{"$f":"'WE Puffer'!H35","v":{"$error":"#REF!"}},null,{"$f":"'WE Puffer'!I35","v":{"$error":"#REF!"}}]
[null,{"$f":"'WE Puffer'!B36","v":{"$error":"#REF!"}},null,null,null,null,{"$f":"'WE Puffer'!F36","v":{"$error":"#REF!"}},null,{"$f":"'WE Puffer'!F36","v":{"$error":"#REF!"}},null,{"$f":"'WE Puffer'!H36","v":{"$error":"#REF!"}},null,{"$f":"'WE Puffer'!I36","v":{"$error":"#REF!"}}]
[]
["Zeit in [h] die die ausschließlich im Pufferspeicher gespeicherte Energie bei der Monatsdurchschnittstemperatur reicht um das Gebäude zu heizen:"]
[null,null,"Jän","Feb","Mär","Apr","Mai","Jun","Jul","Aug","Sep","Okt","Nov","Dez"]
[null,{"$f":"'WE Puffer'!B27","v":1},{"$f":"'WE Puffer'!K27","v":{"$error":"#REF!"}},{"$f":"'WE Puffer'!L27","v":{"$error":"#REF!"}},{"$f":"'WE Puffer'!M27","v":{"$error":"#REF!"}},{"$f":"'WE Puffer'!N27","v":{"$error":"#REF!"}},{"$f":"'WE Puffer'!O27","v":{"$error":"#REF!"}},{"$f":"'WE Puffer'!P27","v":{"$error":"#REF!"}},{"$f":"'WE Puffer'!Q27","v":{"$error":"#REF!"}},{"$f":"'WE Puffer'!R27","v":{"$error":"#REF!"}},{"$f":"'WE Puffer'!S27","v":{"$error":"#REF!"}},{"$f":"'WE Puffer'!T27","v":{"$error":"#REF!"}},{"$f":"'WE Puffer'!U27","v":{"$error":"#REF!"}},{"$f":"'WE Puffer'!V27","v":{"$error":"#REF!"}}]
[null,{"$f":"'WE Puffer'!B28","v":{"$error":"#REF!"}},{"$f":"'WE Puffer'!K28","v":{"$error":"#REF!"}},{"$f":"'WE Puffer'!L28","v":{"$error":"#REF!"}},{"$f":"'WE Puffer'!M28","v":{"$error":"#REF!"}},{"$f":"'WE Puffer'!N28","v":{"$error":"#REF!"}},{"$f":"'WE Puffer'!O28","v":{"$error":"#REF!"}},{"$f":"'WE Puffer'!P28","v":{"$error":"#REF!"}},{"$f":"'WE Puffer'!Q28","v":{"$error":"#REF!"}},{"$f":"'WE Puffer'!R28","v":{"$error":"#REF!"}},{"$f":"'WE Puffer'!S28","v":{"$error":"#REF!"}},{"$f":"'WE Puffer'!T28","v":{"$error":"#REF!"}},{"$f":"'WE Puffer'!U28","v":{"$error":"#REF!"}},{"$f":"'WE Puffer'!V28","v":{"$error":"#REF!"}}]
[null,{"$f":"'WE Puffer'!B29","v":{"$error":"#REF!"}},{"$f":"'WE Puffer'!K29","v":{"$error":"#REF!"}},{"$f":"'WE Puffer'!L29","v":{"$error":"#REF!"}},{"$f":"'WE Puffer'!M29","v":{"$error":"#REF!"}},{"$f":"'WE Puffer'!N29","v":{"$error":"#REF!"}},{"$f":"'WE Puffer'!O29","v":{"$error":"#REF!"}},{"$f":"'WE Puffer'!P29","v":{"$error":"#REF!"}},{"$f":"'WE Puffer'!Q29","v":{"$error":"#REF!"}},{"$f":"'WE Puffer'!R29","v":{"$error":"#REF!"}},{"$f":"'WE Puffer'!S29","v":{"$error":"#REF!"}},{"$f":"'WE Puffer'!T29","v":{"$error":"#REF!"}},{"$f":"'WE Puffer'!U29","v":{"$error":"#REF!"}},{"$f":"'WE Puffer'!V29","v":{"$error":"#REF!"}}]
[null,{"$f":"'WE Puffer'!B30","v":{"$error":"#REF!"}},{"$f":"'WE Puffer'!K30","v":{"$error":"#REF!"}},{"$f":"'WE Puffer'!L30","v":{"$error":"#REF!"}},{"$f":"'WE Puffer'!M30","v":{"$error":"#REF!"}},{"$f":"'WE Puffer'!N30","v":{"$error":"#REF!"}},{"$f":"'WE Puffer'!O30","v":{"$error":"#REF!"}},{"$f":"'WE Puffer'!P30","v":{"$error":"#REF!"}},{"$f":"'WE Puffer'!Q30","v":{"$error":"#REF!"}},{"$f":"'WE Puffer'!R30","v":{"$error":"#REF!"}},{"$f":"'WE Puffer'!S30","v":{"$error":"#REF!"}},{"$f":"'WE Puffer'!T30","v":{"$error":"#REF!"}},{"$f":"'WE Puffer'!U30","v":{"$error":"#REF!"}},{"$f":"'WE Puffer'!V30","v":{"$error":"#REF!"}}]
[null,{"$f":"'WE Puffer'!B31","v":{"$error":"#REF!"}},{"$f":"'WE Puffer'!K31","v":{"$error":"#REF!"}},{"$f":"'WE Puffer'!L31","v":{"$error":"#REF!"}},{"$f":"'WE Puffer'!M31","v":{"$error":"#REF!"}},{"$f":"'WE Puffer'!N31","v":{"$error":"#REF!"}},{"$f":"'WE Puffer'!O31","v":{"$error":"#REF!"}},{"$f":"'WE Puffer'!P31","v":{"$error":"#REF!"}},{"$f":"'WE Puffer'!Q31","v":{"$error":"#REF!"}},{"$f":"'WE Puffer'!R31","v":{"$error":"#REF!"}},{"$f":"'WE Puffer'!S31","v":{"$error":"#REF!"}},{"$f":"'WE Puffer'!T31","v":{"$error":"#REF!"}},{"$f":"'WE Puffer'!U31","v":{"$error":"#REF!"}},{"$f":"'WE Puffer'!V31","v":{"$error":"#REF!"}}]
[null,{"$f":"'WE Puffer'!B32","v":{"$error":"#REF!"}},{"$f":"'WE Puffer'!K32","v":{"$error":"#REF!"}},{"$f":"'WE Puffer'!L32","v":{"$error":"#REF!"}},{"$f":"'WE Puffer'!M32","v":{"$error":"#REF!"}},{"$f":"'WE Puffer'!N32","v":{"$error":"#REF!"}},{"$f":"'WE Puffer'!O32","v":{"$error":"#REF!"}},{"$f":"'WE Puffer'!P32","v":{"$error":"#REF!"}},{"$f":"'WE Puffer'!Q32","v":{"$error":"#REF!"}},{"$f":"'WE Puffer'!R32","v":{"$error":"#REF!"}},{"$f":"'WE Puffer'!S32","v":{"$error":"#REF!"}},{"$f":"'WE Puffer'!T32","v":{"$error":"#REF!"}},{"$f":"'WE Puffer'!U32","v":{"$error":"#REF!"}},{"$f":"'WE Puffer'!V32","v":{"$error":"#REF!"}}]
[null,{"$f":"'WE Puffer'!B33","v":{"$error":"#REF!"}},{"$f":"'WE Puffer'!K33","v":{"$error":"#REF!"}},{"$f":"'WE Puffer'!L33","v":{"$error":"#REF!"}},{"$f":"'WE Puffer'!M33","v":{"$error":"#REF!"}},{"$f":"'WE Puffer'!N33","v":{"$error":"#REF!"}},{"$f":"'WE Puffer'!O33","v":{"$error":"#REF!"}},{"$f":"'WE Puffer'!P33","v":{"$error":"#REF!"}},{"$f":"'WE Puffer'!Q33","v":{"$error":"#REF!"}},{"$f":"'WE Puffer'!R33","v":{"$error":"#REF!"}},{"$f":"'WE Puffer'!S33","v":{"$error":"#REF!"}},{"$f":"'WE Puffer'!T33","v":{"$error":"#REF!"}},{"$f":"'WE Puffer'!U33","v":{"$error":"#REF!"}},{"$f":"'WE Puffer'!V33","v":{"$error":"#REF!"}}]
[null,{"$f":"'WE Puffer'!B34","v":{"$error":"#REF!"}},{"$f":"'WE Puffer'!K34","v":{"$error":"#REF!"}},{"$f":"'WE Puffer'!L34","v":{"$error":"#REF!"}},{"$f":"'WE Puffer'!M34","v":{"$error":"#REF!"}},{"$f":"'WE Puffer'!N34","v":{"$error":"#REF!"}},{"$f":"'WE Puffer'!O34","v":{"$error":"#REF!"}},{"$f":"'WE Puffer'!P34","v":{"$error":"#REF!"}},{"$f":"'WE Puffer'!Q34","v":{"$error":"#REF!"}},{"$f":"'WE Puffer'!R34","v":{"$error":"#REF!"}},{"$f":"'WE Puffer'!S34","v":{"$error":"#REF!"}},{"$f":"'WE Puffer'!T34","v":{"$error":"#REF!"}},{"$f":"'WE Puffer'!U34","v":{"$error":"#REF!"}},{"$f":"'WE Puffer'!V34","v":{"$error":"#REF!"}}]
[null,{"$f":"'WE Puffer'!B35","v":{"$error":"#REF!"}},{"$f":"'WE Puffer'!K35","v":{"$error":"#REF!"}},{"$f":"'WE Puffer'!L35","v":{"$error":"#REF!"}},{"$f":"'WE Puffer'!M35","v":{"$error":"#REF!"}},{"$f":"'WE Puffer'!N35","v":{"$error":"#REF!"}},{"$f":"'WE Puffer'!O35","v":{"$error":"#REF!"}},{"$f":"'WE Puffer'!P35","v":{"$error":"#REF!"}},{"$f":"'WE Puffer'!Q35","v":{"$error":"#REF!"}},{"$f":"'WE Puffer'!R35","v":{"$error":"#REF!"}},{"$f":"'WE Puffer'!S35","v":{"$error":"#REF!"}},{"$f":"'WE Puffer'!T35","v":{"$error":"#REF!"}},{"$f":"'WE Puffer'!U35","v":{"$error":"#REF!"}},{"$f":"'WE Puffer'!V35","v":{"$error":"#REF!"}}]
[null,{"$f":"'WE Puffer'!B36","v":{"$error":"#REF!"}},{"$f":"'WE Puffer'!K36","v":{"$error":"#REF!"}},{"$f":"'WE Puffer'!L36","v":{"$error":"#REF!"}},{"$f":"'WE Puffer'!M36","v":{"$error":"#REF!"}},{"$f":"'WE Puffer'!N36","v":{"$error":"#REF!"}},{"$f":"'WE Puffer'!O36","v":{"$error":"#REF!"}},{"$f":"'WE Puffer'!P36","v":{"$error":"#REF!"}},{"$f":"'WE Puffer'!Q36","v":{"$error":"#REF!"}},{"$f":"'WE Puffer'!R36","v":{"$error":"#REF!"}},{"$f":"'WE Puffer'!S36","v":{"$error":"#REF!"}},{"$f":"'WE Puffer'!T36","v":{"$error":"#REF!"}},{"$f":"'WE Puffer'!U36","v":{"$error":"#REF!"}},{"$f":"'WE Puffer'!V36","v":{"$error":"#REF!"}}]
[]
[]
[]
[]
[]
["WÄRMEÜBERGABE"]
[]
[{"$f":"'WÜ neu'!D4","v":"Gewählter Heizwärmeerzeuger:"},null,null,null,null,null,null,{"$f":"'WÜ neu'!F4","v":0}]
[]
[{"$f":"'WÜ neu'!$D$6","v":{"$error":"#N/A"}}]
[]
[{"$f":"'WÜ neu'!D17","v":"Voraussichtlicher Ausfall des bestehenden Wärmeübergabesystems:"},null,null,null,null,null,null,null,null,null,null,{"$f":"'WÜ neu'!H17","v":0}]
[]
[{"$f":"'WÜ neu'!D18","v":"Austausch des Heizwärmeerzeugers:"},null,null,null,null,null,null,null,null,null,null,{"$f":"'WÜ neu'!H18","v":0}]
[]
[{"$f":"'WÜ neu'!$D$20","v":{"$error":"#N/A"}}]
[{"$f":"IF(A308=\"\",\"\",\"→ Sie haben sich für den Umbau der hydraulischen Schaltung entschieden\")","v":{"$error":"#N/A"}}]
[]
["Einbau des neuen Wärmeübergabesystems:",null,null,null,null,null,null,null,null,null,null,{"$f":"'WÜ neu'!$H$23","v":0}]
[]
["Zu diesem Zeitpunkt befindet sich das Gebäude in folgender Sanierungsstufe:"]
[{"$f":"'WÜ neu'!F26","v":"Bitte Zeitpunkt für den Austausch angeben"}]
["Zeitraum:",null,{"$f":"'WÜ neu'!$I$26","v":""},null,null,null,null,null,"Heizlast:",null,{"$f":"'WÜ neu'!$K$26","v":""}]
[]
[{"$f":"'WÜ neu'!D9","v":"Abschätzung der Abgabeleistung:"}]
[null,null,null,null,{"$f":"'WÜ neu'!F10","v":"Temp. Oberfläche [°C]"},null,null,null,{"$f":"'WÜ neu'!G10","v":"Temp. Raum [°C]"},null,null,{"$f":"'WÜ neu'!H10","v":"Abgabeleistung"}]
[null,{"$f":"'WÜ neu'!E11","v":"Fußbodenheizung"},null,null,{"$f":"'WÜ neu'!F11","v":0},null,null,null,{"$f":"'WÜ neu'!G11","v":0},null,null,{"$f":"'WÜ neu'!H11","v":0}]
[null,{"$f":"'WÜ neu'!E12","v":"Wandheizung"},null,null,{"$f":"'WÜ neu'!F12","v":0},null,null,null,{"$f":"'WÜ neu'!G12","v":0},null,null,{"$f":"'WÜ neu'!H12","v":0}]
[null,{"$f":"'WÜ neu'!E13","v":"Deckenheizung"},null,null,{"$f":"'WÜ neu'!F13","v":0},null,null,null,{"$f":"'WÜ neu'!G13","v":0},null,null,{"$f":"'WÜ neu'!H13","v":0}]
[]
["Gewählte Wärmeübergabesysteme"]
[]
[{"$f":"'WÜ neu'!C36","v":"Nr"},{"$f":"'WÜ neu'!D36","v":"Geschoß"},{"$f":"'WÜ neu'!E36","v":"Raum"},null,null,{"$f":"'WÜ neu'!F36","v":"Bestehendes System"},null,null,{"$f":"'WÜ neu'!H36","v":"Raumfläche [m²]"},{"$f":"'WÜ neu'!I36","v":"Abzugebende \nLeistung [W]"},{"$f":"'WÜ neu'!J36","v":"Neues System"},null,null,{"$f":"'WÜ neu'!K36","v":"Erforderliche Heizfläche [m²]"},{"$f":"'WÜ neu'!L36","v":"Heizen durch \nAußenwand?"}]
[{"$f":"'WÜ neu'!C37","v":1},{"$f":"'WÜ neu'!D37","v":{"$error":"#N/A"}},{"$f":"'WÜ neu'!E37","v":{"$error":"#N/A"}},null,null,{"$f":"'WÜ neu'!F37","v":""},null,null,{"$f":"'WÜ neu'!H37","v":{"$error":"#N/A"}},{"$f":"IF('WÜ neu'!I37=\"\",\"\",'WÜ neu'!I37)","v":{"$error":"#N/A"}},{"$f":"IF('WÜ neu'!J37=\"\",\"\",'WÜ neu'!J37)","v":""},null,null,{"$f":"IF('WÜ neu'!K37=\"\",\"\",'WÜ neu'!K37)","v":{"$error":"#N/A"}},{"$f":"IF('WÜ neu'!L37=\"\",\"\",'WÜ neu'!L37)","v":""}]
[{"$f":"'WÜ neu'!C38","v":""},{"$f":"'WÜ neu'!D38","v":""},{"$f":"'WÜ neu'!E38","v":""},null,null,{"$f":"'WÜ neu'!F38","v":""},null,null,{"$f":"'WÜ neu'!H38","v":""},{"$f":"IF('WÜ neu'!I38=\"\",\"\",'WÜ neu'!I38)","v":""},{"$f":"IF('WÜ neu'!J38=\"\",\"\",'WÜ neu'!J38)","v":""},null,null,{"$f":"IF('WÜ neu'!K38=\"\",\"\",'WÜ neu'!K38)","v":""},{"$f":"IF('WÜ neu'!L38=\"\",\"\",'WÜ neu'!L38)","v":""}]
[{"$f":"'WÜ neu'!C39","v":""},{"$f":"'WÜ neu'!D39","v":""},{"$f":"'WÜ neu'!E39","v":""},null,null,{"$f":"'WÜ neu'!F39","v":""},null,null,{"$f":"'WÜ neu'!H39","v":""},{"$f":"IF('WÜ neu'!I39=\"\",\"\",'WÜ neu'!I39)","v":""},{"$f":"IF('WÜ neu'!J39=\"\",\"\",'WÜ neu'!J39)","v":""},null,null,{"$f":"IF('WÜ neu'!K39=\"\",\"\",'WÜ neu'!K39)","v":""},{"$f":"IF('WÜ neu'!L39=\"\",\"\",'WÜ neu'!L39)","v":""}]
[{"$f":"'WÜ neu'!C40","v":""},{"$f":"'WÜ neu'!D40","v":""},{"$f":"'WÜ neu'!E40","v":""},null,null,{"$f":"'WÜ neu'!F40","v":""},null,null,{"$f":"'WÜ neu'!H40","v":""},{"$f":"IF('WÜ neu'!I40=\"\",\"\",'WÜ neu'!I40)","v":""},{"$f":"IF('WÜ neu'!J40=\"\",\"\",'WÜ neu'!J40)","v":""},null,null,{"$f":"IF('WÜ neu'!K40=\"\",\"\",'WÜ neu'!K40)","v":""},{"$f":"IF('WÜ neu'!L40=\"\",\"\",'WÜ neu'!L40)","v":""}]
[{"$f":"'WÜ neu'!C41","v":""},{"$f":"'WÜ neu'!D41","v":""},{"$f":"'WÜ neu'!E41","v":""},null,null,{"$f":"'WÜ neu'!F41","v":""},null,null,{"$f":"'WÜ neu'!H41","v":""},{"$f":"IF('WÜ neu'!I41=\"\",\"\",'WÜ neu'!I41)","v":""},{"$f":"IF('WÜ neu'!J41=\"\",\"\",'WÜ neu'!J41)","v":""},null,null,{"$f":"IF('WÜ neu'!K41=\"\",\"\",'WÜ neu'!K41)","v":""},{"$f":"IF('WÜ neu'!L41=\"\",\"\",'WÜ neu'!L41)","v":""}]
[{"$f":"'WÜ neu'!C42","v":""},{"$f":"'WÜ neu'!D42","v":""},{"$f":"'WÜ neu'!E42","v":""},null,null,{"$f":"'WÜ neu'!F42","v":""},null,null,{"$f":"'WÜ neu'!H42","v":""},{"$f":"IF('WÜ neu'!I42=\"\",\"\",'WÜ neu'!I42)","v":""},{"$f":"IF('WÜ neu'!J42=\"\",\"\",'WÜ neu'!J42)","v":""},null,null,{"$f":"IF('WÜ neu'!K42=\"\",\"\",'WÜ neu'!K42)","v":""},{"$f":"IF('WÜ neu'!L42=\"\",\"\",'WÜ neu'!L42)","v":""}]
[{"$f":"'WÜ neu'!C43","v":""},{"$f":"'WÜ neu'!D43","v":""},{"$f":"'WÜ neu'!E43","v":""},null,null,{"$f":"'WÜ neu'!F43","v":""},null,null,{"$f":"'WÜ neu'!H43","v":""},{"$f":"IF('WÜ neu'!I43=\"\",\"\",'WÜ neu'!I43)","v":""},{"$f":"IF('WÜ neu'!J43=\"\",\"\",'WÜ neu'!J43)","v":""},null,null,{"$f":"IF('WÜ neu'!K43=\"\",\"\",'WÜ neu'!K43)","v":""},{"$f":"IF('WÜ neu'!L43=\"\",\"\",'WÜ neu'!L43)","v":""}]
[{"$f":"'WÜ neu'!C44","v":""},{"$f":"'WÜ neu'!D44","v":""},{"$f":"'WÜ neu'!E44","v":""},null,null,{"$f":"'WÜ neu'!F44","v":""},null,null,{"$f":"'WÜ neu'!H44","v":""},{"$f":"IF('WÜ neu'!I44=\"\",\"\",'WÜ neu'!I44)","v":""},{"$f":"IF('WÜ neu'!J44=\"\",\"\",'WÜ neu'!J44)","v":""},null,null,{"$f":"IF('WÜ neu'!K44=\"\",\"\",'WÜ neu'!K44)","v":""},{"$f":"IF('WÜ neu'!L44=\"\",\"\",'WÜ neu'!L44)","v":""}]
[{"$f":"'WÜ neu'!C45","v":""},{"$f":"'WÜ neu'!D45","v":""},{"$f":"'WÜ neu'!E45","v":""},null,null,{"$f":"'WÜ neu'!F45","v":""},null,null,{"$f":"'WÜ neu'!H45","v":""},{"$f":"IF('WÜ neu'!I45=\"\",\"\",'WÜ neu'!I45)","v":""},{"$f":"IF('WÜ neu'!J45=\"\",\"\",'WÜ neu'!J45)","v":""},null,null,{"$f":"IF('WÜ neu'!K45=\"\",\"\",'WÜ neu'!K45)","v":""},{"$f":"IF('WÜ neu'!L45=\"\",\"\",'WÜ neu'!L45)","v":""}]
[{"$f":"'WÜ neu'!C46","v":""},{"$f":"'WÜ neu'!D46","v":""},{"$f":"'WÜ neu'!E46","v":""},null,null,{"$f":"'WÜ neu'!F46","v":""},null,null,{"$f":"'WÜ neu'!H46","v":""},{"$f":"IF('WÜ neu'!I46=\"\",\"\",'WÜ neu'!I46)","v":""},{"$f":"IF('WÜ neu'!J46=\"\",\"\",'WÜ neu'!J46)","v":""},null,null,{"$f":"IF('WÜ neu'!K46=\"\",\"\",'WÜ neu'!K46)","v":""},{"$f":"IF('WÜ neu'!L46=\"\",\"\",'WÜ neu'!L46)","v":""}]
[{"$f":"'WÜ neu'!C47","v":""},{"$f":"'WÜ neu'!D47","v":""},{"$f":"'WÜ neu'!E47","v":""},null,null,{"$f":"'WÜ neu'!F47","v":""},null,null,{"$f":"'WÜ neu'!H47","v":""},{"$f":"IF('WÜ neu'!I47=\"\",\"\",'WÜ neu'!I47)","v":""},{"$f":"IF('WÜ neu'!J47=\"\",\"\",'WÜ neu'!J47)","v":""},null,null,{"$f":"IF('WÜ neu'!K47=\"\",\"\",'WÜ neu'!K47)","v":""},{"$f":"IF('WÜ neu'!L47=\"\",\"\",'WÜ neu'!L47)","v":""}]
[{"$f":"'WÜ neu'!C48","v":""},{"$f":"'WÜ neu'!D48","v":""},{"$f":"'WÜ neu'!E48","v":""},null,null,{"$f":"'WÜ neu'!F48","v":""},null,null,{"$f":"'WÜ neu'!H48","v":""},{"$f":"IF('WÜ neu'!I48=\"\",\"\",'WÜ neu'!I48)","v":""},{"$f":"IF('WÜ neu'!J48=\"\",\"\",'WÜ neu'!J48)","v":""},null,null,{"$f":"IF('WÜ neu'!K48=\"\",\"\",'WÜ neu'!K48)","v":""},{"$f":"IF('WÜ neu'!L48=\"\",\"\",'WÜ neu'!L48)","v":""}]
[{"$f":"'WÜ neu'!C49","v":""},{"$f":"'WÜ neu'!D49","v":""},{"$f":"'WÜ neu'!E49","v":""},null,null,{"$f":"'WÜ neu'!F49","v":""},null,null,{"$f":"'WÜ neu'!H49","v":""},{"$f":"IF('WÜ neu'!I49=\"\",\"\",'WÜ neu'!I49)","v":""},{"$f":"IF('WÜ neu'!J49=\"\",\"\",'WÜ neu'!J49)","v":""},null,null,{"$f":"IF('WÜ neu'!K49=\"\",\"\",'WÜ neu'!K49)","v":""},{"$f":"IF('WÜ neu'!L49=\"\",\"\",'WÜ neu'!L49)","v":""}]
[{"$f":"'WÜ neu'!C50","v":""},{"$f":"'WÜ neu'!D50","v":""},{"$f":"'WÜ neu'!E50","v":""},null,null,{"$f":"'WÜ neu'!F50","v":""},null,null,{"$f":"'WÜ neu'!H50","v":""},{"$f":"IF('WÜ neu'!I50=\"\",\"\",'WÜ neu'!I50)","v":""},{"$f":"IF('WÜ neu'!J50=\"\",\"\",'WÜ neu'!J50)","v":""},null,null,{"$f":"IF('WÜ neu'!K50=\"\",\"\",'WÜ neu'!K50)","v":""},{"$f":"IF('WÜ neu'!L50=\"\",\"\",'WÜ neu'!L50)","v":""}]
[{"$f":"'WÜ neu'!C51","v":""},{"$f":"'WÜ neu'!D51","v":""},{"$f":"'WÜ neu'!E51","v":""},null,null,{"$f":"'WÜ neu'!F51","v":""},null,null,{"$f":"'WÜ neu'!H51","v":""},{"$f":"IF('WÜ neu'!I51=\"\",\"\",'WÜ neu'!I51)","v":""},{"$f":"IF('WÜ neu'!J51=\"\",\"\",'WÜ neu'!J51)","v":""},null,null,{"$f":"IF('WÜ neu'!K51=\"\",\"\",'WÜ neu'!K51)","v":""},{"$f":"IF('WÜ neu'!L51=\"\",\"\",'WÜ neu'!L51)","v":""}]
[{"$f":"'WÜ neu'!C52","v":""},{"$f":"'WÜ neu'!D52","v":""},{"$f":"'WÜ neu'!E52","v":""},null,null,{"$f":"'WÜ neu'!F52","v":""},null,null,{"$f":"'WÜ neu'!H52","v":""},{"$f":"IF('WÜ neu'!I52=\"\",\"\",'WÜ neu'!I52)","v":""},{"$f":"IF('WÜ neu'!J52=\"\",\"\",'WÜ neu'!J52)","v":""},null,null,{"$f":"IF('WÜ neu'!K52=\"\",\"\",'WÜ neu'!K52)","v":""},{"$f":"IF('WÜ neu'!L52=\"\",\"\",'WÜ neu'!L52)","v":""}]
[{"$f":"'WÜ neu'!C53","v":""},{"$f":"'WÜ neu'!D53","v":""},{"$f":"'WÜ neu'!E53","v":""},null,null,{"$f":"'WÜ neu'!F53","v":""},null,null,{"$f":"'WÜ neu'!I53","v":""},{"$f":"IF('WÜ neu'!I53=\"\",\"\",'WÜ neu'!I53)","v":""},{"$f":"IF('WÜ neu'!J53=\"\",\"\",'WÜ neu'!J53)","v":""},null,null,{"$f":"IF('WÜ neu'!K53=\"\",\"\",'WÜ neu'!K53)","v":""},{"$f":"IF('WÜ neu'!L53=\"\",\"\",'WÜ neu'!L53)","v":""}]
[{"$f":"'WÜ neu'!C54","v":""},{"$f":"'WÜ neu'!D54","v":""},{"$f":"'WÜ neu'!E54","v":""},null,null,{"$f":"'WÜ neu'!F54","v":""},null,null,{"$f":"'WÜ neu'!I54","v":""},{"$f":"IF('WÜ neu'!I54=\"\",\"\",'WÜ neu'!I54)","v":""},{"$f":"IF('WÜ neu'!J54=\"\",\"\",'WÜ neu'!J54)","v":""},null,null,{"$f":"IF('WÜ neu'!K54=\"\",\"\",'WÜ neu'!K54)","v":""},{"$f":"IF('WÜ neu'!L54=\"\",\"\",'WÜ neu'!L54)","v":""}]
[{"$f":"'WÜ neu'!C55","v":""},{"$f":"'WÜ neu'!D55","v":""},{"$f":"'WÜ neu'!E55","v":""},null,null,{"$f":"'WÜ neu'!F55","v":""},null,null,{"$f":"'WÜ neu'!I55","v":""},{"$f":"IF('WÜ neu'!I55=\"\",\"\",'WÜ neu'!I55)","v":""},{"$f":"IF('WÜ neu'!J55=\"\",\"\",'WÜ neu'!J55)","v":""},null,null,{"$f":"IF('WÜ neu'!K55=\"\",\"\",'WÜ neu'!K55)","v":""},{"$f":"IF('WÜ neu'!L55=\"\",\"\",'WÜ neu'!L55)","v":""}]
[{"$f":"'WÜ neu'!C56","v":""},{"$f":"'WÜ neu'!D56","v":""},{"$f":"'WÜ neu'!E56","v":""},null,null,{"$f":"'WÜ neu'!F56","v":""},null,null,{"$f":"'WÜ neu'!I56","v":""},{"$f":"IF('WÜ neu'!I56=\"\",\"\",'WÜ neu'!I56)","v":""},{"$f":"IF('WÜ neu'!J56=\"\",\"\",'WÜ neu'!J56)","v":""},null,null,{"$f":"IF('WÜ neu'!K56=\"\",\"\",'WÜ neu'!K56)","v":""},{"$f":"IF('WÜ neu'!L56=\"\",\"\",'WÜ neu'!L56)","v":""}]
[{"$f":"'WÜ neu'!C57","v":""},{"$f":"'WÜ neu'!D57","v":""},{"$f":"'WÜ neu'!E57","v":""},null,null,{"$f":"'WÜ neu'!F57","v":""},null,null,{"$f":"'WÜ neu'!I57","v":""},{"$f":"IF('WÜ neu'!I57=\"\",\"\",'WÜ neu'!I57)","v":""},{"$f":"IF('WÜ neu'!J57=\"\",\"\",'WÜ neu'!J57)","v":""},null,null,{"$f":"IF('WÜ neu'!K57=\"\",\"\",'WÜ neu'!K57)","v":""},{"$f":"IF('WÜ neu'!L57=\"\",\"\",'WÜ neu'!L57)","v":""}]
[{"$f":"'WÜ neu'!C58","v":""},{"$f":"'WÜ neu'!D58","v":""},{"$f":"'WÜ neu'!E58","v":""},null,null,{"$f":"'WÜ neu'!F58","v":""},null,null,{"$f":"'WÜ neu'!I58","v":""},{"$f":"IF('WÜ neu'!I58=\"\",\"\",'WÜ neu'!I58)","v":""},{"$f":"IF('WÜ neu'!J58=\"\",\"\",'WÜ neu'!J58)","v":""},null,null,{"$f":"IF('WÜ neu'!K58=\"\",\"\",'WÜ neu'!K58)","v":""},{"$f":"IF('WÜ neu'!L58=\"\",\"\",'WÜ neu'!L58)","v":""}]
[{"$f":"'WÜ neu'!C59","v":""},{"$f":"'WÜ neu'!D59","v":""},{"$f":"'WÜ neu'!E59","v":""},null,null,{"$f":"'WÜ neu'!F59","v":""},null,null,{"$f":"'WÜ neu'!I59","v":""},{"$f":"IF('WÜ neu'!I59=\"\",\"\",'WÜ neu'!I59)","v":""},{"$f":"IF('WÜ neu'!J59=\"\",\"\",'WÜ neu'!J59)","v":""},null,null,{"$f":"IF('WÜ neu'!K59=\"\",\"\",'WÜ neu'!K59)","v":""},{"$f":"IF('WÜ neu'!L59=\"\",\"\",'WÜ neu'!L59)","v":""}]
[{"$f":"'WÜ neu'!C60","v":""},{"$f":"'WÜ neu'!D60","v":""},{"$f":"'WÜ neu'!E60","v":""},null,null,{"$f":"'WÜ neu'!F60","v":""},null,null,{"$f":"'WÜ neu'!I60","v":""},{"$f":"IF('WÜ neu'!I60=\"\",\"\",'WÜ neu'!I60)","v":""},{"$f":"IF('WÜ neu'!J60=\"\",\"\",'WÜ neu'!J60)","v":""},null,null,{"$f":"IF('WÜ neu'!K60=\"\",\"\",'WÜ neu'!K60)","v":""},{"$f":"IF('WÜ neu'!L60=\"\",\"\",'WÜ neu'!L60)","v":""}]
[{"$f":"'WÜ neu'!C61","v":""},{"$f":"'WÜ neu'!D61","v":""},{"$f":"'WÜ neu'!E61","v":""},null,null,{"$f":"'WÜ neu'!F61","v":""},null,null,{"$f":"'WÜ neu'!I61","v":""},{"$f":"IF('WÜ neu'!I61=\"\",\"\",'WÜ neu'!I61)","v":""},{"$f":"IF('WÜ neu'!J61=\"\",\"\",'WÜ neu'!J61)","v":""},null,null,{"$f":"IF('WÜ neu'!K61=\"\",\"\",'WÜ neu'!K61)","v":""},{"$f":"IF('WÜ neu'!L61=\"\",\"\",'WÜ neu'!L61)","v":""}]
[{"$f":"'WÜ neu'!C62","v":""},{"$f":"'WÜ neu'!D62","v":""},{"$f":"'WÜ neu'!E62","v":""},null,null,{"$f":"'WÜ neu'!F62","v":""},null,null,{"$f":"'WÜ neu'!I62","v":""},{"$f":"IF('WÜ neu'!I62=\"\",\"\",'WÜ neu'!I62)","v":""},{"$f":"IF('WÜ neu'!J62=\"\",\"\",'WÜ neu'!J62)","v":""},null,null,{"$f":"IF('WÜ neu'!K62=\"\",\"\",'WÜ neu'!K62)","v":""},{"$f":"IF('WÜ neu'!L62=\"\",\"\",'WÜ neu'!L62)","v":""}]
[{"$f":"'WÜ neu'!C63","v":""},{"$f":"'WÜ neu'!D63","v":""},{"$f":"'WÜ neu'!E63","v":""},null,null,{"$f":"'WÜ neu'!F63","v":""},null,null,{"$f":"'WÜ neu'!I63","v":""},{"$f":"IF('WÜ neu'!I63=\"\",\"\",'WÜ neu'!I63)","v":""},{"$f":"IF('WÜ neu'!J63=\"\",\"\",'WÜ neu'!J63)","v":""},null,null,{"$f":"IF('WÜ neu'!K63=\"\",\"\",'WÜ neu'!K63)","v":""},{"$f":"IF('WÜ neu'!L63=\"\",\"\",'WÜ neu'!L63)","v":""}]
[{"$f":"'WÜ neu'!C64","v":""},{"$f":"'WÜ neu'!D64","v":""},{"$f":"'WÜ neu'!E64","v":""},null,null,{"$f":"'WÜ neu'!F64","v":""},null,null,{"$f":"'WÜ neu'!I64","v":""},{"$f":"IF('WÜ neu'!I64=\"\",\"\",'WÜ neu'!I64)","v":""},{"$f":"IF('WÜ neu'!J64=\"\",\"\",'WÜ neu'!J64)","v":""},null,null,{"$f":"IF('WÜ neu'!K64=\"\",\"\",'WÜ neu'!K64)","v":""},{"$f":"IF('WÜ neu'!L64=\"\",\"\",'WÜ neu'!L64)","v":""}]
[{"$f":"'WÜ neu'!C65","v":""},{"$f":"'WÜ neu'!D65","v":""},{"$f":"'WÜ neu'!E65","v":""},null,null,{"$f":"'WÜ neu'!F65","v":""},null,null,{"$f":"'WÜ neu'!I65","v":""},{"$f":"IF('WÜ neu'!I65=\"\",\"\",'WÜ neu'!I65)","v":""},{"$f":"IF('WÜ neu'!J65=\"\",\"\",'WÜ neu'!J65)","v":""},null,null,{"$f":"IF('WÜ neu'!K65=\"\",\"\",'WÜ neu'!K65)","v":""},{"$f":"IF('WÜ neu'!L65=\"\",\"\",'WÜ neu'!L65)","v":""}]
[{"$f":"'WÜ neu'!C66","v":""},{"$f":"'WÜ neu'!D66","v":""},{"$f":"'WÜ neu'!E66","v":""},null,null,{"$f":"'WÜ neu'!F66","v":""},null,null,{"$f":"'WÜ neu'!I66","v":""},{"$f":"IF('WÜ neu'!I66=\"\",\"\",'WÜ neu'!I66)","v":""},{"$f":"IF('WÜ neu'!J66=\"\",\"\",'WÜ neu'!J66)","v":""},null,null,{"$f":"IF('WÜ neu'!K66=\"\",\"\",'WÜ neu'!K66)","v":""},{"$f":"IF('WÜ neu'!L66=\"\",\"\",'WÜ neu'!L66)","v":""}]
[{"$f":"'WÜ neu'!C67","v":""},{"$f":"'WÜ neu'!D67","v":""},{"$f":"'WÜ neu'!E67","v":""},null,null,{"$f":"'WÜ neu'!F67","v":""},null,null,{"$f":"'WÜ neu'!I67","v":""},{"$f":"IF('WÜ neu'!I67=\"\",\"\",'WÜ neu'!I67)","v":""},{"$f":"IF('WÜ neu'!J67=\"\",\"\",'WÜ neu'!J67)","v":""},null,null,{"$f":"IF('WÜ neu'!K67=\"\",\"\",'WÜ neu'!K67)","v":""},{"$f":"IF('WÜ neu'!L67=\"\",\"\",'WÜ neu'!L67)","v":""}]
[{"$f":"'WÜ neu'!C68","v":""},{"$f":"'WÜ neu'!D68","v":""},{"$f":"'WÜ neu'!E68","v":""},null,null,{"$f":"'WÜ neu'!F68","v":""},null,null,{"$f":"'WÜ neu'!I68","v":""},{"$f":"IF('WÜ neu'!I68=\"\",\"\",'WÜ neu'!I68)","v":""},{"$f":"IF('WÜ neu'!J68=\"\",\"\",'WÜ neu'!J68)","v":""},null,null,{"$f":"IF('WÜ neu'!K68=\"\",\"\",'WÜ neu'!K68)","v":""},{"$f":"IF('WÜ neu'!L68=\"\",\"\",'WÜ neu'!L68)","v":""}]
[{"$f":"'WÜ neu'!C69","v":""},{"$f":"'WÜ neu'!D69","v":""},{"$f":"'WÜ neu'!E69","v":""},null,null,{"$f":"'WÜ neu'!F69","v":""},null,null,{"$f":"'WÜ neu'!I69","v":""},{"$f":"IF('WÜ neu'!I69=\"\",\"\",'WÜ neu'!I69)","v":""},{"$f":"IF('WÜ neu'!J69=\"\",\"\",'WÜ neu'!J69)","v":""},null,null,{"$f":"IF('WÜ neu'!K69=\"\",\"\",'WÜ neu'!K69)","v":""},{"$f":"IF('WÜ neu'!L69=\"\",\"\",'WÜ neu'!L69)","v":""}]
[{"$f":"'WÜ neu'!C70","v":""},{"$f":"'WÜ neu'!D70","v":""},{"$f":"'WÜ neu'!E70","v":""},null,null,{"$f":"'WÜ neu'!F70","v":""},null,null,{"$f":"'WÜ neu'!I70","v":""},{"$f":"IF('WÜ neu'!I70=\"\",\"\",'WÜ neu'!I70)","v":""},{"$f":"IF('WÜ neu'!J70=\"\",\"\",'WÜ neu'!J70)","v":""},null,null,{"$f":"IF('WÜ neu'!K70=\"\",\"\",'WÜ neu'!K70)","v":""},{"$f":"IF('WÜ neu'!L70=\"\",\"\",'WÜ neu'!L70)","v":""}]
[{"$f":"'WÜ neu'!C71","v":""},{"$f":"'WÜ neu'!D71","v":""},{"$f":"'WÜ neu'!E71","v":""},null,null,{"$f":"'WÜ neu'!F71","v":""},null,null,{"$f":"'WÜ neu'!I71","v":""},{"$f":"IF('WÜ neu'!I71=\"\",\"\",'WÜ neu'!I71)","v":""},{"$f":"IF('WÜ neu'!J71=\"\",\"\",'WÜ neu'!J71)","v":""},null,null,{"$f":"IF('WÜ neu'!K71=\"\",\"\",'WÜ neu'!K71)","v":""},{"$f":"IF('WÜ neu'!L71=\"\",\"\",'WÜ neu'!L71)","v":""}]
[{"$f":"'WÜ neu'!C72","v":""},{"$f":"'WÜ neu'!D72","v":""},{"$f":"'WÜ neu'!E72","v":""},null,null,{"$f":"'WÜ neu'!F72","v":""},null,null,{"$f":"'WÜ neu'!I72","v":""},{"$f":"IF('WÜ neu'!I72=\"\",\"\",'WÜ neu'!I72)","v":""},{"$f":"IF('WÜ neu'!J72=\"\",\"\",'WÜ neu'!J72)","v":""},null,null,{"$f":"IF('WÜ neu'!K72=\"\",\"\",'WÜ neu'!K72)","v":""},{"$f":"IF('WÜ neu'!L72=\"\",\"\",'WÜ neu'!L72)","v":""}]
[{"$f":"'WÜ neu'!C73","v":""},{"$f":"'WÜ neu'!D73","v":""},{"$f":"'WÜ neu'!E73","v":""},null,null,{"$f":"'WÜ neu'!F73","v":""},null,null,{"$f":"'WÜ neu'!I73","v":""},{"$f":"IF('WÜ neu'!I73=\"\",\"\",'WÜ neu'!I73)","v":""},{"$f":"IF('WÜ neu'!J73=\"\",\"\",'WÜ neu'!J73)","v":""},null,null,{"$f":"IF('WÜ neu'!K73=\"\",\"\",'WÜ neu'!K73)","v":""},{"$f":"IF('WÜ neu'!L73=\"\",\"\",'WÜ neu'!L73)","v":""}]
[{"$f":"'WÜ neu'!C74","v":""},{"$f":"'WÜ neu'!D74","v":""},{"$f":"'WÜ neu'!E74","v":""},null,null,{"$f":"'WÜ neu'!F74","v":""},null,null,{"$f":"'WÜ neu'!I74","v":""},{"$f":"IF('WÜ neu'!I74=\"\",\"\",'WÜ neu'!I74)","v":""},{"$f":"IF('WÜ neu'!J74=\"\",\"\",'WÜ neu'!J74)","v":""},null,null,{"$f":"IF('WÜ neu'!K74=\"\",\"\",'WÜ neu'!K74)","v":""},{"$f":"IF('WÜ neu'!L74=\"\",\"\",'WÜ neu'!L74)","v":""}]
[]
[{"$f":"IF('WÜ neu'!O80=1,\"\",IF('WÜ neu'!J80=\"ja\",\"Die für die Wandheizung erforderliche freie Wandfläche ist vorhanden\",\"Die für die Wandheizung erforderliche freie Wandfläche ist nicht vorhanden. \nBitte überprüfen Sie ihre Eingaben!\"))","v":""}]
[]
["WARMWASSER"]
[]
["Ziel der Sanierung ist ein möglichst zentrales System"]
[{"$f":"'WW neu'!C53","v":"Gibt es Warmwasserabnehmer die (einschließlich Steigleitungen) eine Leitungslänge von über 5 m zum Warmwasserspeicher (neben dem Heizwärmeerzeuger) erfordern?"},null,null,null,null,null,null,null,null,null,null,null,null,{"$f":"'WW neu'!M53","v":0}]
[{"$f":"'WW neu'!C56","v":""},null,null,null,null,null,null,null,null,null,null,null,null,{"$f":"'WW neu'!M56","v":0}]
[{"$f":"'WW neu'!C59","v":""},null,null,null,null,null,null,null,null,null,null,{"$f":"'WW neu'!$M$60","v":0}]
[{"$f":"'WW neu'!C62","v":""},null,null,null,null,null,null,null,null,null,null,{"$f":"'WW neu'!M63","v":0}]
[]
["Folgende Räume können zur Gänze nicht vom Warmwasserspeicher versorgt werden:"]
[]
[{"$f":"'WW neu'!G65","v":"Raum"},null,null,"Empfehlung / Gewähltes System"]
[{"$f":"'WW neu'!G66","v":0},null,null,{"$f":"'WW neu'!H66","v":""}]
[null,null,null,{"$f":"'WW neu'!H67","v":0}]
[]
[{"$f":"IF('WW neu'!G69=\"\",\"\",'WW neu'!G69)","v":""},null,null,{"$f":"'WW neu'!H69","v":""}]
[null,null,null,{"$f":"IF('WW neu'!H70=\"\",\"\",'WW neu'!H70)","v":""}]
[]
[{"$f":"IF('WW neu'!G72=\"\",\"\",'WW neu'!G72)","v":""},null,null,{"$f":"'WW neu'!H72","v":""}]
[null,null,null,{"$f":"IF('WW neu'!H73=\"\",\"\",'WW neu'!H73)","v":""}]
[]
[{"$f":"IF('WW neu'!G75=\"\",\"\",'WW neu'!G75)","v":""},null,null,{"$f":"'WW neu'!H75","v":""}]
[null,null,null,{"$f":"IF('WW neu'!H76=\"\",\"\",'WW neu'!H76)","v":""}]
[]
["Folgende einzelne Verbraucher können nicht vom Warmwasserspeicher versorgt werden:"]
[]
[{"$f":"'WW neu'!G78","v":"Verbraucher"},null,"Empfehlung / Gewähltes System"]
[{"$f":"IF('WW neu'!G79=\"\",\"\",'WW neu'!G79)","v":""},null,{"$f":"'WW neu'!H79","v":""}]
[null,null,{"$f":"IF('WW neu'!G80=\"\",\"\",'WW neu'!G80)","v":""}]
[]
[{"$f":"IF('WW neu'!G82=\"\",\"\",'WW neu'!G82)","v":""},null,{"$f":"'WW neu'!H82","v":""}]
[null,null,{"$f":"IF('WW neu'!G83=\"\",\"\",'WW neu'!G83)","v":""}]
[]
["Gewähltes System mit dem der zentral erwärmte Teil des Warmwassers erzeugt wird:"]
[]
[{"$f":"'WW neu'!G85","v":"Gewähltes System:"},null,null,null,null,{"$f":"IF('WW neu'!I85=\"\",\"\",'WW neu'!I85)","v":""}]
[{"$f":"'WW neu'!G86","v":"Zweites System (optional)"},null,null,null,null,{"$f":"IF('WW neu'!I86=\"\",\"\",'WW neu'!I86)","v":""}]
[{"$f":"'WW neu'!G87","v":"Drittes System (optional)"},null,null,null,null,{"$f":"IF('WW neu'!I87=\"\",\"\",'WW neu'!I87)","v":""}]
[]
["Ziel der Sanierung ist ein möglichst dezentrales System"]
[]
["Raum",null,null,"Empfehlung / Gewähltes System"]
[]
[{"$f":"'WW neu'!C92","v":{"$error":"#N/A"}},null,null,{"$f":"'WW neu'!D92:G92","v":{"$error":"#N/A"}}]
[{"$f":"IF('WW neu'!H92=\"\",\"\",'WW neu'!H92)","v":""}]
[]
[{"$f":"'WW neu'!C93","v":""},null,null,{"$f":"'WW neu'!D93","v":""}]
[{"$f":"IF('WW neu'!H93=\"\",\"\",'WW neu'!H93)","v":""}]
[]
[{"$f":"'WW neu'!C94","v":""},null,null,{"$f":"'WW neu'!D94","v":""}]
[{"$f":"IF('WW neu'!H94=\"\",\"\",'WW neu'!H94)","v":""}]
[]
[{"$f":"'WW neu'!C95","v":""},null,{"$f":"'WW neu'!E95","v":0},{"$f":"'WW neu'!D95","v":""},{"$f":"'WW neu'!G95","v":0}]
[{"$f":"IF('WW neu'!H95=\"\",\"\",'WW neu'!H95)","v":""}]
[]
[{"$f":"'WW neu'!C96","v":""},null,{"$f":"'WW neu'!E96","v":0},{"$f":"'WW neu'!D96","v":""},{"$f":"'WW neu'!G96","v":0},null,{"$f":"'WW neu'!I96","v":0},{"$f":"'WW neu'!J96","v":0},{"$f":"'WW neu'!K96","v":0},{"$f":"'WW neu'!L96","v":0},{"$f":"'WW neu'!M96","v":0},{"$f":"'WW neu'!N96","v":0}]
[{"$f":"IF('WW neu'!H96=\"\",\"\",'WW neu'!H96)","v":""}]
[]
[{"$f":"'WW neu'!C97","v":""},null,{"$f":"'WW neu'!E97","v":0},{"$f":"'WW neu'!D97","v":""},{"$f":"'WW neu'!G97","v":0},null,{"$f":"'WW neu'!I97","v":0},{"$f":"'WW neu'!J97","v":0},{"$f":"'WW neu'!K97","v":0},{"$f":"'WW neu'!L97","v":0},{"$f":"'WW neu'!M97","v":0},{"$f":"'WW neu'!N97","v":0}]
[{"$f":"IF('WW neu'!H97=\"\",\"\",'WW neu'!H97)","v":""}]
[]
[{"$f":"'WW neu'!C98","v":""},null,{"$f":"'WW neu'!E98","v":0},{"$f":"'WW neu'!D98","v":""},{"$f":"'WW neu'!G98","v":0},null,{"$f":"'WW neu'!I98","v":0},{"$f":"'WW neu'!J98","v":0},{"$f":"'WW neu'!K98","v":0},{"$f":"'WW neu'!L98","v":0},{"$f":"'WW neu'!M98","v":0},{"$f":"'WW neu'!N98","v":0}]
[{"$f":"IF('WW neu'!H98=\"\",\"\",'WW neu'!H98)","v":""}]
[]
[{"$f":"'WW neu'!C99","v":""},null,{"$f":"'WW neu'!E99","v":0},{"$f":"'WW neu'!D99","v":""},{"$f":"'WW neu'!G99","v":0},null,{"$f":"'WW neu'!I99","v":0},{"$f":"'WW neu'!J99","v":0},{"$f":"'WW neu'!K99","v":0},{"$f":"'WW neu'!L99","v":0},{"$f":"'WW neu'!M99","v":0},{"$f":"'WW neu'!N99","v":0}]
[{"$f":"IF('WW neu'!H99=\"\",\"\",'WW neu'!H99)","v":""}]
[]
[{"$f":"'WW neu'!C100","v":""},null,{"$f":"'WW neu'!E100","v":0},{"$f":"'WW neu'!D100","v":""},{"$f":"'WW neu'!G100","v":0},null,{"$f":"'WW neu'!I100","v":0},{"$f":"'WW neu'!J100","v":0},{"$f":"'WW neu'!K100","v":0},{"$f":"'WW neu'!L100","v":0},{"$f":"'WW neu'!M100","v":0},{"$f":"'WW neu'!N100","v":0}]
[{"$f":"IF('WW neu'!H100=\"\",\"\",'WW neu'!H100)","v":""}]
[]
[{"$f":"'WW neu'!C101","v":""},null,{"$f":"'WW neu'!E101","v":0},{"$f":"'WW neu'!D101","v":""},{"$f":"'WW neu'!G101","v":0},null,{"$f":"'WW neu'!I101","v":0},{"$f":"'WW neu'!J101","v":0},{"$f":"'WW neu'!K101","v":0},{"$f":"'WW neu'!L101","v":0},{"$f":"'WW neu'!M101","v":0},{"$f":"'WW neu'!N101","v":0}]
[{"$f":"IF('WW neu'!H101=\"\",\"\",'WW neu'!H101)","v":""}]
[]
[{"$f":"'WW neu'!C102","v":""},null,{"$f":"'WW neu'!E102","v":0},{"$f":"'WW neu'!D102","v":""},{"$f":"'WW neu'!G102","v":0},null,{"$f":"'WW neu'!I102","v":0},{"$f":"'WW neu'!J102","v":0},{"$f":"'WW neu'!K102","v":0},{"$f":"'WW neu'!L102","v":0},{"$f":"'WW neu'!M102","v":0},{"$f":"'WW neu'!N102","v":0}]
[{"$f":"IF('WW neu'!H102=\"\",\"\",'WW neu'!H102)","v":""}]
[]
[{"$f":"'WW neu'!C103","v":""},null,{"$f":"'WW neu'!E103","v":0},{"$f":"'WW neu'!D103","v":""},{"$f":"'WW neu'!G103","v":0},null,{"$f":"'WW neu'!I103","v":0},{"$f":"'WW neu'!J103","v":0},{"$f":"'WW neu'!K103","v":0},{"$f":"'WW neu'!L103","v":0},{"$f":"'WW neu'!M103","v":0},{"$f":"'WW neu'!N103","v":0}]
[{"$f":"IF('WW neu'!H103=\"\",\"\",'WW neu'!H103)","v":""}]
[]
[{"$f":"'WW neu'!C104","v":""},null,{"$f":"'WW neu'!E104","v":0},{"$f":"'WW neu'!D104","v":""},{"$f":"'WW neu'!G104","v":0},null,{"$f":"'WW neu'!I104","v":0},{"$f":"'WW neu'!J104","v":0},{"$f":"'WW neu'!K104","v":0},{"$f":"'WW neu'!L104","v":0},{"$f":"'WW neu'!M104","v":0},{"$f":"'WW neu'!N104","v":0}]
[{"$f":"IF('WW neu'!H104=\"\",\"\",'WW neu'!H104)","v":""}]
[]
[{"$f":"'WW neu'!C105","v":""},null,{"$f":"'WW neu'!E105","v":0},{"$f":"'WW neu'!D105","v":""},{"$f":"'WW neu'!G105","v":0},null,{"$f":"'WW neu'!I105","v":0},{"$f":"'WW neu'!J105","v":0},{"$f":"'WW neu'!K105","v":0},{"$f":"'WW neu'!L105","v":0},{"$f":"'WW neu'!M105","v":0},{"$f":"'WW neu'!N105","v":0}]
[{"$f":"IF('WW neu'!H105=\"\",\"\",'WW neu'!H105)","v":""}]
[]
[{"$f":"'WW neu'!C106","v":""},null,{"$f":"'WW neu'!E106","v":0},{"$f":"'WW neu'!D106","v":""},{"$f":"'WW neu'!G106","v":0},null,{"$f":"'WW neu'!I106","v":0},{"$f":"'WW neu'!J106","v":0},{"$f":"'WW neu'!K106","v":0},{"$f":"'WW neu'!L106","v":0},{"$f":"'WW neu'!M106","v":0},{"$f":"'WW neu'!N106","v":0}]
[{"$f":"IF('WW neu'!H106=\"\",\"\",'WW neu'!H106)","v":""}]
[]
[]
[]
["Das bestehende System (vollständig zentral) wird beibehalten"]
[]
["Gewähltes System zur Warmwassererzeugung:"]
[]
[{"$f":"'WW neu'!C113","v":"Gewähltes System:"},null,null,null,null,{"$f":"'WW neu'!D113","v":0}]
[{"$f":"'WW neu'!C114","v":"Zweites System (optional)"},null,null,null,null,{"$f":"IF('WW neu'!D114=\"\",\"\",'WW neu'!D114)","v":""}]
[{"$f":"'WW neu'!C115","v":"Drittes System (optional)"},null,null,null,null,{"$f":"IF('WW neu'!D115=\"\",\"\",'WW neu'!D115)","v":""}]
[]
["Das bestehende System (vollständig dezentral) wird beibehalten"]
[]
["Raum",null,null,"Empfehlung / Gewähltes System"]
[]
[{"$f":"'WW neu'!C121","v":{"$error":"#N/A"}},null,null,{"$f":"'WW neu'!D121","v":{"$error":"#N/A"}}]
[{"$f":"IF('WW neu'!H121=\"\",\"\",'WW neu'!H121)","v":""}]
[]
[{"$f":"'WW neu'!C122","v":""},null,null,{"$f":"'WW neu'!D122","v":""}]
[{"$f":"IF('WW neu'!H122=\"\",\"\",'WW neu'!H122)","v":""}]
[]
[{"$f":"'WW neu'!C123","v":""},null,null,{"$f":"'WW neu'!D123","v":""}]
[{"$f":"IF('WW neu'!H123=\"\",\"\",'WW neu'!H123)","v":""}]
[]
[{"$f":"'WW neu'!C124","v":""},null,{"$f":"'WW neu'!E152","v":0},{"$f":"'WW neu'!D124","v":""},{"$f":"'WW neu'!G152","v":0}]
[{"$f":"IF('WW neu'!H124=\"\",\"\",'WW neu'!H124)","v":""}]
[]
[{"$f":"'WW neu'!C125","v":""},null,{"$f":"'WW neu'!E153","v":0},{"$f":"'WW neu'!D125","v":""},{"$f":"'WW neu'!G153","v":0},null,{"$f":"'WW neu'!I153","v":0},{"$f":"'WW neu'!J153","v":0},{"$f":"'WW neu'!K153","v":0},{"$f":"'WW neu'!L153","v":0},{"$f":"'WW neu'!M153","v":0},{"$f":"'WW neu'!N153","v":0}]
[{"$f":"IF('WW neu'!H125=\"\",\"\",'WW neu'!H125)","v":""}]
[]
[{"$f":"'WW neu'!C126","v":""},null,{"$f":"'WW neu'!E154","v":0},{"$f":"'WW neu'!D126","v":""},{"$f":"'WW neu'!G154","v":0},null,{"$f":"'WW neu'!I154","v":0},{"$f":"'WW neu'!J154","v":0},{"$f":"'WW neu'!K154","v":0},{"$f":"'WW neu'!L154","v":0},{"$f":"'WW neu'!M154","v":0},{"$f":"'WW neu'!N154","v":0}]
[{"$f":"IF('WW neu'!H126=\"\",\"\",'WW neu'!H126)","v":""}]
[]
[{"$f":"'WW neu'!C127","v":""},null,{"$f":"'WW neu'!E155","v":0},{"$f":"'WW neu'!D127","v":""},{"$f":"'WW neu'!G155","v":0},null,{"$f":"'WW neu'!I155","v":0},{"$f":"'WW neu'!J155","v":0},{"$f":"'WW neu'!K155","v":0},{"$f":"'WW neu'!L155","v":0},{"$f":"'WW neu'!M155","v":0},{"$f":"'WW neu'!N155","v":0}]
[{"$f":"IF('WW neu'!H127=\"\",\"\",'WW neu'!H127)","v":""}]
[]
[{"$f":"'WW neu'!C128","v":""},null,{"$f":"'WW neu'!E156","v":0},{"$f":"'WW neu'!D128","v":""},{"$f":"'WW neu'!G156","v":0},null,{"$f":"'WW neu'!I156","v":0},{"$f":"'WW neu'!J156","v":0},{"$f":"'WW neu'!K156","v":0},{"$f":"'WW neu'!L156","v":0},{"$f":"'WW neu'!M156","v":0},{"$f":"'WW neu'!N156","v":0}]
[{"$f":"IF('WW neu'!H128=\"\",\"\",'WW neu'!H128)","v":""}]
[]
[{"$f":"'WW neu'!C129","v":""},null,{"$f":"'WW neu'!E157","v":0},{"$f":"'WW neu'!D129","v":""},{"$f":"'WW neu'!G157","v":0},null,{"$f":"'WW neu'!I157","v":0},{"$f":"'WW neu'!J157","v":0},{"$f":"'WW neu'!K157","v":0},{"$f":"'WW neu'!L157","v":0},{"$f":"'WW neu'!M157","v":0},{"$f":"'WW neu'!N157","v":0}]
[{"$f":"IF('WW neu'!H157=\"\",\"\",'WW neu'!H157)","v":""}]
[]
[{"$f":"'WW neu'!C130","v":""},null,{"$f":"'WW neu'!E158","v":0},{"$f":"'WW neu'!D130","v":""},{"$f":"'WW neu'!G158","v":0},null,{"$f":"'WW neu'!I158","v":0},{"$f":"'WW neu'!J158","v":0},{"$f":"'WW neu'!K158","v":0},{"$f":"'WW neu'!L158","v":0},{"$f":"'WW neu'!M158","v":0},{"$f":"'WW neu'!N158","v":0}]
[{"$f":"IF('WW neu'!H130=\"\",\"\",'WW neu'!H130)","v":""}]
[]
[{"$f":"'WW neu'!C131","v":""},null,{"$f":"'WW neu'!E159","v":0},{"$f":"'WW neu'!D131","v":""},{"$f":"'WW neu'!G159","v":0},null,{"$f":"'WW neu'!I159","v":0},{"$f":"'WW neu'!J159","v":0},{"$f":"'WW neu'!K159","v":0},{"$f":"'WW neu'!L159","v":0},{"$f":"'WW neu'!M159","v":0},{"$f":"'WW neu'!N159","v":0}]
[{"$f":"IF('WW neu'!H131=\"\",\"\",'WW neu'!H131)","v":""}]
[]
[{"$f":"'WW neu'!C132","v":""},null,{"$f":"'WW neu'!E160","v":0},{"$f":"'WW neu'!D132","v":""},{"$f":"'WW neu'!G160","v":0},null,{"$f":"'WW neu'!I160","v":0},{"$f":"'WW neu'!J160","v":0},{"$f":"'WW neu'!K160","v":0},{"$f":"'WW neu'!L160","v":0},{"$f":"'WW neu'!M160","v":0},{"$f":"'WW neu'!N160","v":0}]
[{"$f":"IF('WW neu'!H132=\"\",\"\",'WW neu'!H132)","v":""}]
[]
[{"$f":"'WW neu'!C133","v":""},null,{"$f":"'WW neu'!E161","v":0},{"$f":"'WW neu'!D133","v":""},{"$f":"'WW neu'!G161","v":0},null,{"$f":"'WW neu'!I161","v":0},{"$f":"'WW neu'!J161","v":0},{"$f":"'WW neu'!K161","v":0},{"$f":"'WW neu'!L161","v":0},{"$f":"'WW neu'!M161","v":0},{"$f":"'WW neu'!N161","v":0}]
[{"$f":"IF('WW neu'!H133=\"\",\"\",'WW neu'!H133)","v":""}]
[]
[{"$f":"'WW neu'!C134","v":""},null,{"$f":"'WW neu'!E162","v":0},{"$f":"'WW neu'!D134","v":""},{"$f":"'WW neu'!G162","v":0},null,{"$f":"'WW neu'!I162","v":0},{"$f":"'WW neu'!J162","v":0},{"$f":"'WW neu'!K162","v":0},{"$f":"'WW neu'!L162","v":0},{"$f":"'WW neu'!M162","v":0},{"$f":"'WW neu'!N162","v":0}]
[{"$f":"IF('WW neu'!H134=\"\",\"\",'WW neu'!H134)","v":""}]
[]
[{"$f":"'WW neu'!C135","v":""},null,{"$f":"'WW neu'!E163","v":0},{"$f":"'WW neu'!D135","v":""},{"$f":"'WW neu'!G163","v":0},null,{"$f":"'WW neu'!I163","v":0},{"$f":"'WW neu'!J163","v":0},{"$f":"'WW neu'!K163","v":0},{"$f":"'WW neu'!L163","v":0},{"$f":"'WW neu'!M163","v":0},{"$f":"'WW neu'!N163","v":0}]
[{"$f":"IF('WW neu'!H135=\"\",\"\",'WW neu'!H135)","v":""}]
[]
[]
[]
["Das bestehende System (ein Teil zentral, ein Teil dezentral) wird beibehalten"]
[]
["Gewähltes System mit dem der zentral erwärmte Teil des Warmwassers erzeugt wird:"]
[]
[{"$f":"'WW neu'!C143","v":"Gewähltes System:"},null,null,null,null,{"$f":"'WW neu'!D143","v":0}]
[{"$f":"'WW neu'!C144","v":"Zweites System (optional)"},null,null,null,null,{"$f":"IF('WW neu'!D144=\"\",\"\",'WW neu'!D144)","v":""}]
[{"$f":"'WW neu'!C145","v":"Drittes System (optional)"},null,null,null,null,{"$f":"IF('WW neu'!D145=\"\",\"\",'WW neu'!D145)","v":""}]
[]
["Raum",null,null,"Empfehlung / Gewähltes System"]
[]
[{"$f":"'WW neu'!C151","v":{"$error":"#N/A"}},null,null,{"$f":"'WW neu'!D151","v":{"$error":"#N/A"}}]
[{"$f":"IF('WW neu'!H151=\"\",\"\",'WW neu'!H151)","v":""}]
[]
[{"$f":"'WW neu'!C152","v":""},null,null,{"$f":"'WW neu'!D152","v":""}]
[{"$f":"IF('WW neu'!H152=\"\",\"\",'WW neu'!H152)","v":""}]
[]
[{"$f":"'WW neu'!C153","v":""},null,null,{"$f":"'WW neu'!D153","v":""}]
[{"$f":"IF('WW neu'!H153=\"\",\"\",'WW neu'!H153)","v":""}]
[]
[{"$f":"'WW neu'!C154","v":""},null,{"$f":"'WW neu'!E207","v":0},{"$f":"'WW neu'!D154","v":""},{"$f":"'WW neu'!G207","v":0}]
[{"$f":"IF('WW neu'!H154=\"\",\"\",'WW neu'!H154)","v":""}]
[]
[{"$f":"'WW neu'!C155","v":""},null,{"$f":"'WW neu'!E208","v":0},{"$f":"'WW neu'!D155","v":""},{"$f":"'WW neu'!G208","v":0},null,{"$f":"'WW neu'!I208","v":0},{"$f":"'WW neu'!J208","v":0},{"$f":"'WW neu'!K208","v":0},{"$f":"'WW neu'!L208","v":0},{"$f":"'WW neu'!M208","v":0},{"$f":"'WW neu'!N208","v":0}]
[{"$f":"IF('WW neu'!H155=\"\",\"\",'WW neu'!H155)","v":""}]
[]
[{"$f":"'WW neu'!C156","v":""},null,{"$f":"'WW neu'!E209","v":0},{"$f":"'WW neu'!D156","v":""},{"$f":"'WW neu'!G209","v":0},null,{"$f":"'WW neu'!I209","v":0},{"$f":"'WW neu'!J209","v":0},{"$f":"'WW neu'!K209","v":0},{"$f":"'WW neu'!L209","v":0},{"$f":"'WW neu'!M209","v":0},{"$f":"'WW neu'!N209","v":0}]
[{"$f":"IF('WW neu'!H156=\"\",\"\",'WW neu'!H156)","v":""}]
[]
[{"$f":"'WW neu'!C157","v":""},null,{"$f":"'WW neu'!E210","v":0},{"$f":"'WW neu'!D157","v":""},{"$f":"'WW neu'!G210","v":0},null,{"$f":"'WW neu'!I210","v":0},{"$f":"'WW neu'!J210","v":0},{"$f":"'WW neu'!K210","v":0},{"$f":"'WW neu'!L210","v":0},{"$f":"'WW neu'!M210","v":0},{"$f":"'WW neu'!N210","v":0}]
[{"$f":"IF('WW neu'!H157=\"\",\"\",'WW neu'!H157)","v":""}]
[]
[{"$f":"'WW neu'!C158","v":""},null,{"$f":"'WW neu'!E211","v":0},{"$f":"'WW neu'!D158","v":""},{"$f":"'WW neu'!G211","v":0},null,{"$f":"'WW neu'!I211","v":0},{"$f":"'WW neu'!J211","v":0},{"$f":"'WW neu'!K211","v":0},{"$f":"'WW neu'!L211","v":0},{"$f":"'WW neu'!M211","v":0},{"$f":"'WW neu'!N211","v":0}]
[{"$f":"IF('WW neu'!H158=\"\",\"\",'WW neu'!H158)","v":""}]
[]
[{"$f":"'WW neu'!C159","v":""},null,{"$f":"'WW neu'!E212","v":0},{"$f":"'WW neu'!D159","v":""},{"$f":"'WW neu'!G212","v":0},null,{"$f":"'WW neu'!I212","v":0},{"$f":"'WW neu'!J212","v":0},{"$f":"'WW neu'!K212","v":0},{"$f":"'WW neu'!L212","v":0},{"$f":"'WW neu'!M212","v":0},{"$f":"'WW neu'!N212","v":0}]
[{"$f":"IF('WW neu'!H159=\"\",\"\",'WW neu'!H159)","v":""}]
[]
[{"$f":"'WW neu'!C160","v":""},null,{"$f":"'WW neu'!E213","v":0},{"$f":"'WW neu'!D160","v":""},{"$f":"'WW neu'!G213","v":0},null,{"$f":"'WW neu'!I213","v":0},{"$f":"'WW neu'!J213","v":0},{"$f":"'WW neu'!K213","v":0},{"$f":"'WW neu'!L213","v":0},{"$f":"'WW neu'!M213","v":0},{"$f":"'WW neu'!N213","v":0}]
[{"$f":"IF('WW neu'!H160=\"\",\"\",'WW neu'!H160)","v":""}]
[]
[{"$f":"'WW neu'!C161","v":""},null,{"$f":"'WW neu'!E214","v":0},{"$f":"'WW neu'!D161","v":""},{"$f":"'WW neu'!G214","v":0},null,{"$f":"'WW neu'!I214","v":0},{"$f":"'WW neu'!J214","v":0},{"$f":"'WW neu'!K214","v":0},{"$f":"'WW neu'!L214","v":0},{"$f":"'WW neu'!M214","v":0},{"$f":"'WW neu'!N214","v":0}]
[{"$f":"IF('WW neu'!H161=\"\",\"\",'WW neu'!H161)","v":""}]
[]
[{"$f":"'WW neu'!C162","v":""},null,{"$f":"'WW neu'!E215","v":0},{"$f":"'WW neu'!D162","v":""},{"$f":"'WW neu'!G215","v":0},null,{"$f":"'WW neu'!I215","v":0},{"$f":"'WW neu'!J215","v":0},{"$f":"'WW neu'!K215","v":0},{"$f":"'WW neu'!L215","v":0},{"$f":"'WW neu'!M215","v":0},{"$f":"'WW neu'!N215","v":0}]
[{"$f":"IF('WW neu'!H162=\"\",\"\",'WW neu'!H162)","v":""}]
[]
[{"$f":"'WW neu'!C163","v":""},null,{"$f":"'WW neu'!E216","v":0},{"$f":"'WW neu'!D163","v":""},{"$f":"'WW neu'!G216","v":0},null,{"$f":"'WW neu'!I216","v":0},{"$f":"'WW neu'!J216","v":0},{"$f":"'WW neu'!K216","v":0},{"$f":"'WW neu'!L216","v":0},{"$f":"'WW neu'!M216","v":0},{"$f":"'WW neu'!N216","v":0}]
[{"$f":"IF('WW neu'!H163=\"\",\"\",'WW neu'!H163)","v":""}]
[]
[{"$f":"'WW neu'!C164","v":""},null,{"$f":"'WW neu'!E217","v":0},{"$f":"'WW neu'!D164","v":""},{"$f":"'WW neu'!G217","v":0},null,{"$f":"'WW neu'!I217","v":0},{"$f":"'WW neu'!J217","v":0},{"$f":"'WW neu'!K217","v":0},{"$f":"'WW neu'!L217","v":0},{"$f":"'WW neu'!M217","v":0},{"$f":"'WW neu'!N217","v":0}]
[{"$f":"IF('WW neu'!H164=\"\",\"\",'WW neu'!H164)","v":""}]
[]
[{"$f":"'WW neu'!C165","v":""},null,{"$f":"'WW neu'!E218","v":0},{"$f":"'WW neu'!D165","v":""},{"$f":"'WW neu'!G218","v":0},null,{"$f":"'WW neu'!I218","v":0},{"$f":"'WW neu'!J218","v":0},{"$f":"'WW neu'!K218","v":0},{"$f":"'WW neu'!L218","v":0},{"$f":"'WW neu'!M218","v":0},{"$f":"'WW neu'!N218","v":0}]
[{"$f":"IF('WW neu'!H165=\"\",\"\",'WW neu'!H165)","v":""}]
[]
[]
[]
[]
[{"$f":"IF(NOT(ISNUMBER('WW neu'!V46)),\"Bitte überprüfen Sie im Tabellenblatt WW neu den Abschnitt Warmwasserspeicher\",IF('WW neu'!V46=1,'WW neu'!V47,IF('WW neu'!V46=2,'WW neu'!V48,\"\")))","v":"Bitte überprüfen Sie im Tabellenblatt WW neu den Abschnitt Warmwasserspeicher"}]
[]
["Volumen des separaten Speichers:",null,null,null,null,null,null,null,null,{"$f":"'WW neu'!G46","v":150}]
[]
["Einflüsse auf den Einbauzeitpunkt der neuen Warmwasserbereitung:"]
[]
[{"$f":"'WW neu'!C177","v":"Autausch des Wärmeerzeugers:"},null,null,null,null,null,null,null,null,{"$f":"IF('WW neu'!G177=\"\",'WW neu'!F177,\"Kein direkter Einfluss\")","v":"Kein direkter Einfluss"}]
[{"$f":"'WW neu'!C178","v":"Einbau der Photovoltaik bzw. solarthermischen Anlage:"},null,null,null,null,null,null,null,null,{"$f":"IF('WW neu'!G178=\"\",'WW neu'!F178,\"Kein direkter Einfluss\")","v":"Kein direkter Einfluss"}]
[]
[{"$f":"'WW neu'!I177","v":"Empfohlener Einbauzeitpunkt der Warmwasserbereitung:"},null,null,null,null,null,null,null,null,{"$f":"'WW neu'!N177","v":10000}]
[]
[{"$f":"'WW neu'!I181","v":"Gewählter Einbauzeitpunkt:"},null,null,null,null,null,null,null,null,null,null,{"$f":"'WW neu'!N181","v":0}]
[]
[]
[]
["NUTZUNG SOLARER ENERGIE"]
[]
[{"$f":"INDEX('PV - Solar'!U7:U10,'PV - Solar'!U5)","v":{"$error":"#N/A"}}]
[]
[null,{"$f":"'PV - Solar'!C11","v":"Gesamtkollektorfläche:"},null,null,null,null,null,null,null,{"$f":"'PV - Solar'!H11","v":{"$error":"#REF!"}}]
[null,{"$f":"'PV - Solar'!C12","v":"Jahres-Stromertrag nach Wechselrichter, absolut:"},null,null,null,null,null,null,null,{"$f":"'PV - Solar'!H12","v":{"$error":"#REF!"}}]
[]
["Für die Warmwasserbreitung in Kombination mit einer Wärmepumpe ergibt sich ungefähr folgender Strombedarf:"]
[]
[null,{"$f":"'PV - Solar'!C17","v":"Angenommene Jahresarbeitszahl der Wärmepumpe:"},null,null,null,null,null,null,null,null,{"$f":"'PV - Solar'!H17","v":0}]
[null,{"$f":"'PV - Solar'!C18","v":"Jährlich erforderliche Energie zur Warmwasserbereitung:"},null,null,null,null,null,null,null,null,{"$f":"'PV - Solar'!H18","v":{"$error":"#N/A"}}]
[null,{"$f":"'PV - Solar'!C19","v":"Angestrebter, solar gedeckter Anteil:"},null,null,null,null,null,null,null,null,{"$f":"'PV - Solar'!H19","v":0}]
[null,{"$f":"'PV - Solar'!C22","v":"Jährlicher Strombedarf der Warmwasserwärmepumpe"},null,null,null,null,null,null,null,null,{"$f":"'PV - Solar'!H22","v":{"$error":"#N/A"}}]
[]
[{"$f":"INDEX('PV - Solar'!U27:U30,'PV - Solar'!U26)","v":{"$error":"#N/A"}}]
[]
[null,{"$f":"'PV - Solar'!C30","v":"Solarer Wärmebeitrag gesamt"},null,null,null,null,null,null,null,{"$f":"'PV - Solar'!H30","v":{"$error":"#REF!"}}]
[null,{"$f":"'PV - Solar'!C31","v":"Solarer Deckungsbeitrag WW"},null,null,null,null,null,null,null,{"$f":"'PV - Solar'!H31","v":{"$error":"#REF!"}}]
[null,{"$f":"'PV - Solar'!C32","v":"Solarer Deckungsbeitrag Raumheizung"},null,null,null,null,null,null,null,{"$f":"'PV - Solar'!H32","v":{"$error":"#REF!"}}]
[]
[{"$f":"INDEX('PV - Solar'!Q48:Q50,MATCH('PV - Solar'!G40,'PV - Solar'!Q44:Q46,0))","v":{"$error":"#N/A"}}]
[]
[{"$f":"IF(AND('PV - Solar'!K46=\"ja\",OR('PV - Solar'!H8='PV - Solar'!Q7,'PV - Solar'!H8='PV - Solar'!Q9)),'PV - Solar'!U52,'PV - Solar'!U53)","v":"Es ist keine Batterie zur Speicherung von elektrischer Energie vorgesehen."}]
[]
["Einbau der Anlage:",null,null,null,null,null,null,null,null,null,null,{"$f":"'PV - Solar'!G44","v":0}]
[]
[]
["LÜFTUNGSANLAGE"]
[]
["Bestandssituation"]
[]
[{"$f":"\"Im Gebäude wohnen \"&'Lüftung Bestand'!F6&\" Personen.\"","v":"Im Gebäude wohnen 0 Personen."}]
[{"$f":"\"Die bestehenden Fenster wurden im Jahr \"&'Lüftung Bestand'!F11&\" eingebaut.\"","v":"Die bestehenden Fenster wurden im Jahr  eingebaut."}]
[]
[{"$f":"'Lüftung System'!C4","v":"Da es im bestehenden Gebäude sowohl Probleme mit Schimmel als auch mit der Luftqualität gibt, sollte ein Zusammenhang der beiden Probleme genauer untersucht werden. Der Einbau einer Lüftungsanlage ist auf jedenfall äußerst sinnvoll!"}]
[{"$f":"'Lüftung System'!C5","v":""}]
[]
["Im Bestand wird bisher folgendes System verwendet:",null,null,null,null,null,null,null,{"$f":"'Lüftung Bestand'!E16","v":0}]
[]
[{"$f":"'Lüftung Bestand'!C18","v":"-  in Wohn-, Aufenthalts- und Schlafräume"},null,null,null,null,null,null,null,{"$f":"'Lüftung Bestand'!E18","v":0}]
[{"$f":"'Lüftung Bestand'!C19","v":"-  in der Küche"},null,null,null,null,null,null,null,{"$f":"'Lüftung Bestand'!E19","v":0}]
[{"$f":"'Lüftung Bestand'!C20","v":"-  im Bad / in den Bädern"},null,null,null,null,null,null,null,{"$f":"'Lüftung Bestand'!E20","v":0}]
[{"$f":"'Lüftung Bestand'!C21","v":"-  im WC / in den WCs"},null,null,null,null,null,null,null,{"$f":"'Lüftung Bestand'!E21","v":0}]
[]
["System nach der Sanierung"]
[]
["Wichtige Aspekte beim Einbau einer zentralen Lüftungsanlage:"]
[]
[1,"Gibt es einen zentralen Erschließungsraum in jedem Geschoß?",null,null,null,null,null,null,null,null,null,null,{"$f":"'Lüftung System'!M37","v":0}]
[2,"Lassen die Raumhöhen (besonders) im Erschließungsbereich ein teilweises Abhängen der Decke zu um die Luftkanäle zu führen?",null,null,null,null,null,null,null,null,null,null,{"$f":"'Lüftung System'!M38","v":0}]
[3,"Gibt es einen geeigneten Platz an dem ein Rohrleitungsschacht über alle Geschoße geführt werden kann?",null,null,null,null,null,null,null,null,null,null,{"$f":"'Lüftung System'!M39","v":0}]
[4,"Ist ausreichend Platz zum Aufstellen eines zentralen Lüftungsgeräts vorhanden?",null,null,null,null,null,null,null,null,null,null,{"$f":"'Lüftung System'!M40","v":0}]
[5,"Ist der Geräuschpegel eines zentralen Lüftungsgerätes an diesem Platz störend?",null,null,null,null,null,null,null,null,null,null,{"$f":"'Lüftung System'!M41","v":0}]
[]
["Unter Berücksichtigung dieser Fragen und der im Tabellenblatt \"Lüftung System\" genannten Vor- und Nachteile haben sie sich für folgendes System entschieden:"]
[{"$f":"'Lüftung System'!$J$43","v":0}]
[]
[]
["Drei Kriterien für die Dimensionierung der Anlage maßgebend sein:"]
[]
["Ablufträume - Abluftbedarf"]
[null,null,null,null,null,null,{"$f":"'Lüftung AbZuluft'!E6","v":"Anzahl "},null,{"$f":"'Lüftung AbZuluft'!F6","v":"Abluftbedarf [m³/h]"}]
[null,null,null,{"$f":"'Lüftung AbZuluft'!C7","v":"Küche"},null,null,{"$f":"'Lüftung AbZuluft'!E7","v":0},null,{"$f":"'Lüftung AbZuluft'!F7","v":60},null,{"$f":"'Lüftung AbZuluft'!G7","v":0}]
[null,null,null,{"$f":"'Lüftung AbZuluft'!C8","v":"Bad"},null,null,{"$f":"'Lüftung AbZuluft'!E8","v":0},null,{"$f":"'Lüftung AbZuluft'!F8","v":40},null,{"$f":"'Lüftung AbZuluft'!G8","v":0}]
[null,null,null,{"$f":"'Lüftung AbZuluft'!C9","v":"Bad (nur Dusche)"},null,null,{"$f":"'Lüftung AbZuluft'!E9","v":0},null,{"$f":"'Lüftung AbZuluft'!F9","v":20},null,{"$f":"'Lüftung AbZuluft'!G9","v":0}]
[null,null,null,{"$f":"'Lüftung AbZuluft'!C10","v":"WC"},null,null,{"$f":"'Lüftung AbZuluft'!E10","v":0},null,{"$f":"'Lüftung AbZuluft'!F10","v":20},null,{"$f":"'Lüftung AbZuluft'!G10","v":0}]
[null,null,null,{"$f":"'Lüftung AbZuluft'!C11","v":"Abluftbedarf gesamt"},null,null,null,null,null,null,{"$f":"'Lüftung AbZuluft'!G11","v":0}]
[]
[]
[{"$f":"'Lüftung AbZuluft'!I4","v":"Frischluftbedarf"}]
[]
[null,null,null,{"$f":"'Lüftung AbZuluft'!J6","v":"Anzahl Personen:"},null,null,null,null,{"$f":"'Lüftung AbZuluft'!O6","v":0}]
[null,null,null,{"$f":"'Lüftung AbZuluft'!J8","v":"Bedarf pro Person:"},null,null,null,null,{"$f":"'Lüftung AbZuluft'!O8","v":30}]
[null,null,null,{"$f":"'Lüftung AbZuluft'!J11","v":"Frischluftbedarf gesamt"},null,null,null,null,{"$f":"'Lüftung AbZuluft'!O11","v":0}]
[]
["Hygienischer Mindestluftwechsel"]
[]
[null,null,null,{"$f":"'Lüftung AbZuluft'!S6","v":"Raumvolumen gesamt:"},null,null,null,null,{"$f":"'Lüftung AbZuluft'!U6","v":0}]
[null,null,null,{"$f":"'Lüftung AbZuluft'!S7","v":"Mindestluftwechsel [1/h]"},null,null,null,null,{"$f":"'Lüftung AbZuluft'!U7","v":0.3}]
[null,null,null,{"$f":"'Lüftung AbZuluft'!S11","v":"Hygienischer Luftwechsel"},null,null,null,null,{"$f":"'Lüftung AbZuluft'!U11","v":0}]
[]
[{"$f":"'Lüftung AbZuluft'!C13","v":"Auslegungsvolumenstrom, Empfehlung:"},null,null,null,null,null,null,null,{"$f":"'Lüftung AbZuluft'!F13","v":0}]
[{"$f":"'Lüftung AbZuluft'!C14","v":"Auslegungsvolumenstrom, gewählt:"},null,null,null,null,null,null,null,{"$f":"'Lüftung AbZuluft'!F14","v":0}]
[]
[{"$f":"'Lüftung AbZuluft'!J14","v":"Gewünschte Mindestluftwechselrate"},null,null,null,null,null,null,null,{"$f":"'Lüftung AbZuluft'!P14","v":0}]
[]
["Auf Basis des Gebäudegrundrisses und der generierten Empfehlungen wurden im Tabellenblatt \"Lüftung AbZuluft\" die verschiedenen Lüftungszonen wie folgt festgelegt: "]
[]
[{"$f":"'Lüftung AbZuluft'!C20","v":"Nr"},{"$f":"'Lüftung AbZuluft'!E20","v":"Raum"},null,null,null,null,{"$f":"'Lüftung AbZuluft'!G20","v":"Gerät Nr."},null,{"$f":"'Lüftung AbZuluft'!H20","v":"Zone"},null,{"$f":"'Lüftung AbZuluft'!I20","v":"wenn mehrere Geräte"}]
[{"$f":"'Lüftung AbZuluft'!C21","v":1},{"$f":"'Lüftung AbZuluft'!D21","v":{"$error":"#N/A"}},{"$f":"'Lüftung AbZuluft'!E21","v":{"$error":"#N/A"}},null,null,null,{"$f":"IF('Lüftung AbZuluft'!G21=\"\",\"\",'Lüftung AbZuluft'!G21)","v":""},null,{"$f":"IF('Lüftung AbZuluft'!H21=\"\",\"\",'Lüftung AbZuluft'!H21)","v":""},null,{"$f":"IF('Lüftung AbZuluft'!I21=\"\",\"\",'Lüftung AbZuluft'!I21)","v":""},{"$f":"IF('Lüftung AbZuluft'!J21=\"\",\"\",'Lüftung AbZuluft'!J21)","v":""},{"$f":"IF('Lüftung AbZuluft'!K21=\"\",\"\",'Lüftung AbZuluft'!K21)","v":""},{"$f":"IF('Lüftung AbZuluft'!L21=\"\",\"\",'Lüftung AbZuluft'!L21)","v":""},{"$f":"IF('Lüftung AbZuluft'!M21=\"\",\"\",'Lüftung AbZuluft'!M21)","v":""}]
[{"$f":"'Lüftung AbZuluft'!C22","v":""},{"$f":"'Lüftung AbZuluft'!D22","v":""},{"$f":"'Lüftung AbZuluft'!E22","v":""},null,null,null,{"$f":"IF('Lüftung AbZuluft'!G22=\"\",\"\",'Lüftung AbZuluft'!G22)","v":""},null,{"$f":"IF('Lüftung AbZuluft'!H22=\"\",\"\",'Lüftung AbZuluft'!H22)","v":""},null,{"$f":"IF('Lüftung AbZuluft'!I22=\"\",\"\",'Lüftung AbZuluft'!I22)","v":""},{"$f":"IF('Lüftung AbZuluft'!J22=\"\",\"\",'Lüftung AbZuluft'!J22)","v":""},{"$f":"IF('Lüftung AbZuluft'!K22=\"\",\"\",'Lüftung AbZuluft'!K22)","v":""},{"$f":"IF('Lüftung AbZuluft'!L22=\"\",\"\",'Lüftung AbZuluft'!L22)","v":""},{"$f":"IF('Lüftung AbZuluft'!M22=\"\",\"\",'Lüftung AbZuluft'!M22)","v":""}]
[{"$f":"'Lüftung AbZuluft'!C23","v":""},{"$f":"'Lüftung AbZuluft'!D23","v":""},{"$f":"'Lüftung AbZuluft'!E23","v":""},null,null,null,{"$f":"IF('Lüftung AbZuluft'!G23=\"\",\"\",'Lüftung AbZuluft'!G23)","v":""},null,{"$f":"IF('Lüftung AbZuluft'!H23=\"\",\"\",'Lüftung AbZuluft'!H23)","v":""},null,{"$f":"IF('Lüftung AbZuluft'!I23=\"\",\"\",'Lüftung AbZuluft'!I23)","v":""},{"$f":"IF('Lüftung AbZuluft'!J23=\"\",\"\",'Lüftung AbZuluft'!J23)","v":""},{"$f":"IF('Lüftung AbZuluft'!K23=\"\",\"\",'Lüftung AbZuluft'!K23)","v":""},{"$f":"IF('Lüftung AbZuluft'!L23=\"\",\"\",'Lüftung AbZuluft'!L23)","v":""},{"$f":"IF('Lüftung AbZuluft'!M23=\"\",\"\",'Lüftung AbZuluft'!M23)","v":""}]
[{"$f":"'Lüftung AbZuluft'!C24","v":""},{"$f":"'Lüftung AbZuluft'!D24","v":""},{"$f":"'Lüftung AbZuluft'!E24","v":""},null,null,null,{"$f":"IF('Lüftung AbZuluft'!G24=\"\",\"\",'Lüftung AbZuluft'!G24)","v":""},null,{"$f":"IF('Lüftung AbZuluft'!H24=\"\",\"\",'Lüftung AbZuluft'!H24)","v":""},null,{"$f":"IF('Lüftung AbZuluft'!I24=\"\",\"\",'Lüftung AbZuluft'!I24)","v":""},{"$f":"IF('Lüftung AbZuluft'!J24=\"\",\"\",'Lüftung AbZuluft'!J24)","v":""},{"$f":"IF('Lüftung AbZuluft'!K24=\"\",\"\",'Lüftung AbZuluft'!K24)","v":""},{"$f":"IF('Lüftung AbZuluft'!L24=\"\",\"\",'Lüftung AbZuluft'!L24)","v":""},{"$f":"IF('Lüftung AbZuluft'!M24=\"\",\"\",'Lüftung AbZuluft'!M24)","v":""}]
[{"$f":"'Lüftung AbZuluft'!C25","v":""},{"$f":"'Lüftung AbZuluft'!D25","v":""},{"$f":"'Lüftung AbZuluft'!E25","v":""},null,null,null,{"$f":"IF('Lüftung AbZuluft'!G25=\"\",\"\",'Lüftung AbZuluft'!G25)","v":""},null,{"$f":"IF('Lüftung AbZuluft'!H25=\"\",\"\",'Lüftung AbZuluft'!H25)","v":""},null,{"$f":"IF('Lüftung AbZuluft'!I25=\"\",\"\",'Lüftung AbZuluft'!I25)","v":""},{"$f":"IF('Lüftung AbZuluft'!J25=\"\",\"\",'Lüftung AbZuluft'!J25)","v":""},{"$f":"IF('Lüftung AbZuluft'!K25=\"\",\"\",'Lüftung AbZuluft'!K25)","v":""},{"$f":"IF('Lüftung AbZuluft'!L25=\"\",\"\",'Lüftung AbZuluft'!L25)","v":""},{"$f":"IF('Lüftung AbZuluft'!M25=\"\",\"\",'Lüftung AbZuluft'!M25)","v":""}]
[{"$f":"'Lüftung AbZuluft'!C26","v":""},{"$f":"'Lüftung AbZuluft'!D26","v":""},{"$f":"'Lüftung AbZuluft'!E26","v":""},null,null,null,{"$f":"IF('Lüftung AbZuluft'!G26=\"\",\"\",'Lüftung AbZuluft'!G26)","v":""},null,{"$f":"IF('Lüftung AbZuluft'!H26=\"\",\"\",'Lüftung AbZuluft'!H26)","v":""},null,{"$f":"IF('Lüftung AbZuluft'!I26=\"\",\"\",'Lüftung AbZuluft'!I26)","v":""},{"$f":"IF('Lüftung AbZuluft'!J26=\"\",\"\",'Lüftung AbZuluft'!J26)","v":""},{"$f":"IF('Lüftung AbZuluft'!K26=\"\",\"\",'Lüftung AbZuluft'!K26)","v":""},{"$f":"IF('Lüftung AbZuluft'!L26=\"\",\"\",'Lüftung AbZuluft'!L26)","v":""},{"$f":"IF('Lüftung AbZuluft'!M26=\"\",\"\",'Lüftung AbZuluft'!M26)","v":""}]
[{"$f":"'Lüftung AbZuluft'!C27","v":""},{"$f":"'Lüftung AbZuluft'!D27","v":""},{"$f":"'Lüftung AbZuluft'!E27","v":""},null,null,null,{"$f":"IF('Lüftung AbZuluft'!G27=\"\",\"\",'Lüftung AbZuluft'!G27)","v":""},null,{"$f":"IF('Lüftung AbZuluft'!H27=\"\",\"\",'Lüftung AbZuluft'!H27)","v":""},null,{"$f":"IF('Lüftung AbZuluft'!I27=\"\",\"\",'Lüftung AbZuluft'!I27)","v":""},{"$f":"IF('Lüftung AbZuluft'!J27=\"\",\"\",'Lüftung AbZuluft'!J27)","v":""},{"$f":"IF('Lüftung AbZuluft'!K27=\"\",\"\",'Lüftung AbZuluft'!K27)","v":""},{"$f":"IF('Lüftung AbZuluft'!L27=\"\",\"\",'Lüftung AbZuluft'!L27)","v":""},{"$f":"IF('Lüftung AbZuluft'!M27=\"\",\"\",'Lüftung AbZuluft'!M27)","v":""}]
[{"$f":"'Lüftung AbZuluft'!C28","v":""},{"$f":"'Lüftung AbZuluft'!D28","v":""},{"$f":"'Lüftung AbZuluft'!E28","v":""},null,null,null,{"$f":"IF('Lüftung AbZuluft'!G28=\"\",\"\",'Lüftung AbZuluft'!G28)","v":""},null,{"$f":"IF('Lüftung AbZuluft'!H28=\"\",\"\",'Lüftung AbZuluft'!H28)","v":""},null,{"$f":"IF('Lüftung AbZuluft'!I28=\"\",\"\",'Lüftung AbZuluft'!I28)","v":""},{"$f":"IF('Lüftung AbZuluft'!J28=\"\",\"\",'Lüftung AbZuluft'!J28)","v":""},{"$f":"IF('Lüftung AbZuluft'!K28=\"\",\"\",'Lüftung AbZuluft'!K28)","v":""},{"$f":"IF('Lüftung AbZuluft'!L28=\"\",\"\",'Lüftung AbZuluft'!L28)","v":""},{"$f":"IF('Lüftung AbZuluft'!M28=\"\",\"\",'Lüftung AbZuluft'!M28)","v":""}]
[{"$f":"'Lüftung AbZuluft'!C29","v":""},{"$f":"'Lüftung AbZuluft'!D29","v":""},{"$f":"'Lüftung AbZuluft'!E29","v":""},null,null,null,{"$f":"IF('Lüftung AbZuluft'!G29=\"\",\"\",'Lüftung AbZuluft'!G29)","v":""},null,{"$f":"IF('Lüftung AbZuluft'!H29=\"\",\"\",'Lüftung AbZuluft'!H29)","v":""},null,{"$f":"IF('Lüftung AbZuluft'!I29=\"\",\"\",'Lüftung AbZuluft'!I29)","v":""},{"$f":"IF('Lüftung AbZuluft'!J29=\"\",\"\",'Lüftung AbZuluft'!J29)","v":""},{"$f":"IF('Lüftung AbZuluft'!K29=\"\",\"\",'Lüftung AbZuluft'!K29)","v":""},{"$f":"IF('Lüftung AbZuluft'!L29=\"\",\"\",'Lüftung AbZuluft'!L29)","v":""},{"$f":"IF('Lüftung AbZuluft'!M29=\"\",\"\",'Lüftung AbZuluft'!M29)","v":""}]
[{"$f":"'Lüftung AbZuluft'!C30","v":""},{"$f":"'Lüftung AbZuluft'!D30","v":""},{"$f":"'Lüftung AbZuluft'!E30","v":""},null,null,null,{"$f":"IF('Lüftung AbZuluft'!G30=\"\",\"\",'Lüftung AbZuluft'!G30)","v":""},null,{"$f":"IF('Lüftung AbZuluft'!H30=\"\",\"\",'Lüftung AbZuluft'!H30)","v":""},null,{"$f":"IF('Lüftung AbZuluft'!I30=\"\",\"\",'Lüftung AbZuluft'!I30)","v":""},{"$f":"IF('Lüftung AbZuluft'!J30=\"\",\"\",'Lüftung AbZuluft'!J30)","v":""},{"$f":"IF('Lüftung AbZuluft'!K30=\"\",\"\",'Lüftung AbZuluft'!K30)","v":""},{"$f":"IF('Lüftung AbZuluft'!L30=\"\",\"\",'Lüftung AbZuluft'!L30)","v":""},{"$f":"IF('Lüftung AbZuluft'!M30=\"\",\"\",'Lüftung AbZuluft'!M30)","v":""}]
[{"$f":"'Lüftung AbZuluft'!C31","v":""},{"$f":"'Lüftung AbZuluft'!D31","v":""},{"$f":"'Lüftung AbZuluft'!E31","v":""},null,null,null,{"$f":"IF('Lüftung AbZuluft'!G31=\"\",\"\",'Lüftung AbZuluft'!G31)","v":""},null,{"$f":"IF('Lüftung AbZuluft'!H31=\"\",\"\",'Lüftung AbZuluft'!H31)","v":""},null,{"$f":"IF('Lüftung AbZuluft'!I31=\"\",\"\",'Lüftung AbZuluft'!I31)","v":""},{"$f":"IF('Lüftung AbZuluft'!J31=\"\",\"\",'Lüftung AbZuluft'!J31)","v":""},{"$f":"IF('Lüftung AbZuluft'!K31=\"\",\"\",'Lüftung AbZuluft'!K31)","v":""},{"$f":"IF('Lüftung AbZuluft'!L31=\"\",\"\",'Lüftung AbZuluft'!L31)","v":""},{"$f":"IF('Lüftung AbZuluft'!M31=\"\",\"\",'Lüftung AbZuluft'!M31)","v":""}]
[{"$f":"'Lüftung AbZuluft'!C32","v":""},{"$f":"'Lüftung AbZuluft'!D32","v":""},{"$f":"'Lüftung AbZuluft'!E32","v":""},null,null,null,{"$f":"IF('Lüftung AbZuluft'!G32=\"\",\"\",'Lüftung AbZuluft'!G32)","v":""},null,{"$f":"IF('Lüftung AbZuluft'!H32=\"\",\"\",'Lüftung AbZuluft'!H32)","v":""},null,{"$f":"IF('Lüftung AbZuluft'!I32=\"\",\"\",'Lüftung AbZuluft'!I32)","v":""},{"$f":"IF('Lüftung AbZuluft'!J32=\"\",\"\",'Lüftung AbZuluft'!J32)","v":""},{"$f":"IF('Lüftung AbZuluft'!K32=\"\",\"\",'Lüftung AbZuluft'!K32)","v":""},{"$f":"IF('Lüftung AbZuluft'!L32=\"\",\"\",'Lüftung AbZuluft'!L32)","v":""},{"$f":"IF('Lüftung AbZuluft'!M32=\"\",\"\",'Lüftung AbZuluft'!M32)","v":""}]
[{"$f":"'Lüftung AbZuluft'!C33","v":""},{"$f":"'Lüftung AbZuluft'!D33","v":""},{"$f":"'Lüftung AbZuluft'!E33","v":""},null,null,null,{"$f":"IF('Lüftung AbZuluft'!G33=\"\",\"\",'Lüftung AbZuluft'!G33)","v":""},null,{"$f":"IF('Lüftung AbZuluft'!H33=\"\",\"\",'Lüftung AbZuluft'!H33)","v":""},null,{"$f":"IF('Lüftung AbZuluft'!I33=\"\",\"\",'Lüftung AbZuluft'!I33)","v":""},{"$f":"IF('Lüftung AbZuluft'!J33=\"\",\"\",'Lüftung AbZuluft'!J33)","v":""},{"$f":"IF('Lüftung AbZuluft'!K33=\"\",\"\",'Lüftung AbZuluft'!K33)","v":""},{"$f":"IF('Lüftung AbZuluft'!L33=\"\",\"\",'Lüftung AbZuluft'!L33)","v":""},{"$f":"IF('Lüftung AbZuluft'!M33=\"\",\"\",'Lüftung AbZuluft'!M33)","v":""}]
[{"$f":"'Lüftung AbZuluft'!C34","v":""},{"$f":"'Lüftung AbZuluft'!D34","v":""},{"$f":"'Lüftung AbZuluft'!E34","v":""},null,null,null,{"$f":"IF('Lüftung AbZuluft'!G34=\"\",\"\",'Lüftung AbZuluft'!G34)","v":""},null,{"$f":"IF('Lüftung AbZuluft'!H34=\"\",\"\",'Lüftung AbZuluft'!H34)","v":""},null,{"$f":"IF('Lüftung AbZuluft'!I34=\"\",\"\",'Lüftung AbZuluft'!I34)","v":""},{"$f":"IF('Lüftung AbZuluft'!J34=\"\",\"\",'Lüftung AbZuluft'!J34)","v":""},{"$f":"IF('Lüftung AbZuluft'!K34=\"\",\"\",'Lüftung AbZuluft'!K34)","v":""},{"$f":"IF('Lüftung AbZuluft'!L34=\"\",\"\",'Lüftung AbZuluft'!L34)","v":""},{"$f":"IF('Lüftung AbZuluft'!M34=\"\",\"\",'Lüftung AbZuluft'!M34)","v":""}]
[{"$f":"'Lüftung AbZuluft'!C35","v":""},{"$f":"'Lüftung AbZuluft'!D35","v":""},{"$f":"'Lüftung AbZuluft'!E35","v":""},null,null,null,{"$f":"IF('Lüftung AbZuluft'!G35=\"\",\"\",'Lüftung AbZuluft'!G35)","v":""},null,{"$f":"IF('Lüftung AbZuluft'!H35=\"\",\"\",'Lüftung AbZuluft'!H35)","v":""},null,{"$f":"IF('Lüftung AbZuluft'!I35=\"\",\"\",'Lüftung AbZuluft'!I35)","v":""},{"$f":"IF('Lüftung AbZuluft'!J35=\"\",\"\",'Lüftung AbZuluft'!J35)","v":""},{"$f":"IF('Lüftung AbZuluft'!K35=\"\",\"\",'Lüftung AbZuluft'!K35)","v":""},{"$f":"IF('Lüftung AbZuluft'!L35=\"\",\"\",'Lüftung AbZuluft'!L35)","v":""},{"$f":"IF('Lüftung AbZuluft'!M35=\"\",\"\",'Lüftung AbZuluft'!M35)","v":""}]
[{"$f":"'Lüftung AbZuluft'!C36","v":""},{"$f":"'Lüftung AbZuluft'!D36","v":""},{"$f":"'Lüftung AbZuluft'!E36","v":""},null,null,null,{"$f":"IF('Lüftung AbZuluft'!G36=\"\",\"\",'Lüftung AbZuluft'!G36)","v":""},null,{"$f":"IF('Lüftung AbZuluft'!H36=\"\",\"\",'Lüftung AbZuluft'!H36)","v":""},null,{"$f":"IF('Lüftung AbZuluft'!I36=\"\",\"\",'Lüftung AbZuluft'!I36)","v":""},{"$f":"IF('Lüftung AbZuluft'!J36=\"\",\"\",'Lüftung AbZuluft'!J36)","v":""},{"$f":"IF('Lüftung AbZuluft'!K36=\"\",\"\",'Lüftung AbZuluft'!K36)","v":""},{"$f":"IF('Lüftung AbZuluft'!L36=\"\",\"\",'Lüftung AbZuluft'!L36)","v":""},{"$f":"IF('Lüftung AbZuluft'!M36=\"\",\"\",'Lüftung AbZuluft'!M36)","v":""}]
[{"$f":"'Lüftung AbZuluft'!C37","v":""},{"$f":"'Lüftung AbZuluft'!D37","v":""},{"$f":"'Lüftung AbZuluft'!E37","v":""},null,null,null,{"$f":"IF('Lüftung AbZuluft'!G37=\"\",\"\",'Lüftung AbZuluft'!G37)","v":""},null,{"$f":"IF('Lüftung AbZuluft'!H37=\"\",\"\",'Lüftung AbZuluft'!H37)","v":""},null,{"$f":"IF('Lüftung AbZuluft'!I37=\"\",\"\",'Lüftung AbZuluft'!I37)","v":""},{"$f":"IF('Lüftung AbZuluft'!J37=\"\",\"\",'Lüftung AbZuluft'!J37)","v":""},{"$f":"IF('Lüftung AbZuluft'!K37=\"\",\"\",'Lüftung AbZuluft'!K37)","v":""},{"$f":"IF('Lüftung AbZuluft'!L37=\"\",\"\",'Lüftung AbZuluft'!L37)","v":""},{"$f":"IF('Lüftung AbZuluft'!M37=\"\",\"\",'Lüftung AbZuluft'!M37)","v":""}]
[{"$f":"'Lüftung AbZuluft'!C38","v":""},{"$f":"'Lüftung AbZuluft'!D38","v":""},{"$f":"'Lüftung AbZuluft'!E38","v":""},null,null,null,{"$f":"IF('Lüftung AbZuluft'!G38=\"\",\"\",'Lüftung AbZuluft'!G38)","v":""},null,{"$f":"IF('Lüftung AbZuluft'!H38=\"\",\"\",'Lüftung AbZuluft'!H38)","v":""},null,{"$f":"IF('Lüftung AbZuluft'!I38=\"\",\"\",'Lüftung AbZuluft'!I38)","v":""},{"$f":"IF('Lüftung AbZuluft'!J38=\"\",\"\",'Lüftung AbZuluft'!J38)","v":""},{"$f":"IF('Lüftung AbZuluft'!K38=\"\",\"\",'Lüftung AbZuluft'!K38)","v":""},{"$f":"IF('Lüftung AbZuluft'!L38=\"\",\"\",'Lüftung AbZuluft'!L38)","v":""},{"$f":"IF('Lüftung AbZuluft'!M38=\"\",\"\",'Lüftung AbZuluft'!M38)","v":""}]
[{"$f":"'Lüftung AbZuluft'!C39","v":""},{"$f":"'Lüftung AbZuluft'!D39","v":""},{"$f":"'Lüftung AbZuluft'!E39","v":""},null,null,null,{"$f":"IF('Lüftung AbZuluft'!G39=\"\",\"\",'Lüftung AbZuluft'!G39)","v":""},null,{"$f":"IF('Lüftung AbZuluft'!H39=\"\",\"\",'Lüftung AbZuluft'!H39)","v":""},null,{"$f":"IF('Lüftung AbZuluft'!I39=\"\",\"\",'Lüftung AbZuluft'!I39)","v":""},{"$f":"IF('Lüftung AbZuluft'!J39=\"\",\"\",'Lüftung AbZuluft'!J39)","v":""},{"$f":"IF('Lüftung AbZuluft'!K39=\"\",\"\",'Lüftung AbZuluft'!K39)","v":""},{"$f":"IF('Lüftung AbZuluft'!L39=\"\",\"\",'Lüftung AbZuluft'!L39)","v":""},{"$f":"IF('Lüftung AbZuluft'!M39=\"\",\"\",'Lüftung AbZuluft'!M39)","v":""}]
[{"$f":"'Lüftung AbZuluft'!C40","v":""},{"$f":"'Lüftung AbZuluft'!D40","v":""},{"$f":"'Lüftung AbZuluft'!E40","v":""},null,null,null,{"$f":"IF('Lüftung AbZuluft'!G40=\"\",\"\",'Lüftung AbZuluft'!G40)","v":""},null,{"$f":"IF('Lüftung AbZuluft'!H40=\"\",\"\",'Lüftung AbZuluft'!H40)","v":""},null,{"$f":"IF('Lüftung AbZuluft'!I40=\"\",\"\",'Lüftung AbZuluft'!I40)","v":""},{"$f":"IF('Lüftung AbZuluft'!J40=\"\",\"\",'Lüftung AbZuluft'!J40)","v":""},{"$f":"IF('Lüftung AbZuluft'!K40=\"\",\"\",'Lüftung AbZuluft'!K40)","v":""},{"$f":"IF('Lüftung AbZuluft'!L40=\"\",\"\",'Lüftung AbZuluft'!L40)","v":""},{"$f":"IF('Lüftung AbZuluft'!M40=\"\",\"\",'Lüftung AbZuluft'!M40)","v":""}]
[{"$f":"'Lüftung AbZuluft'!C41","v":""},{"$f":"'Lüftung AbZuluft'!D41","v":""},{"$f":"'Lüftung AbZuluft'!E41","v":""},null,null,null,{"$f":"IF('Lüftung AbZuluft'!G41=\"\",\"\",'Lüftung AbZuluft'!G41)","v":""},null,{"$f":"IF('Lüftung AbZuluft'!H41=\"\",\"\",'Lüftung AbZuluft'!H41)","v":""},null,{"$f":"IF('Lüftung AbZuluft'!I41=\"\",\"\",'Lüftung AbZuluft'!I41)","v":""},{"$f":"IF('Lüftung AbZuluft'!J41=\"\",\"\",'Lüftung AbZuluft'!J41)","v":""},{"$f":"IF('Lüftung AbZuluft'!K41=\"\",\"\",'Lüftung AbZuluft'!K41)","v":""},{"$f":"IF('Lüftung AbZuluft'!L41=\"\",\"\",'Lüftung AbZuluft'!L41)","v":""},{"$f":"IF('Lüftung AbZuluft'!M41=\"\",\"\",'Lüftung AbZuluft'!M41)","v":""}]
[{"$f":"'Lüftung AbZuluft'!C42","v":""},{"$f":"'Lüftung AbZuluft'!D42","v":""},{"$f":"'Lüftung AbZuluft'!E42","v":""},null,null,null,{"$f":"IF('Lüftung AbZuluft'!G42=\"\",\"\",'Lüftung AbZuluft'!G42)","v":""},null,{"$f":"IF('Lüftung AbZuluft'!H42=\"\",\"\",'Lüftung AbZuluft'!H42)","v":""},null,{"$f":"IF('Lüftung AbZuluft'!I42=\"\",\"\",'Lüftung AbZuluft'!I42)","v":""},{"$f":"IF('Lüftung AbZuluft'!J42=\"\",\"\",'Lüftung AbZuluft'!J42)","v":""},{"$f":"IF('Lüftung AbZuluft'!K42=\"\",\"\",'Lüftung AbZuluft'!K42)","v":""},{"$f":"IF('Lüftung AbZuluft'!L42=\"\",\"\",'Lüftung AbZuluft'!L42)","v":""},{"$f":"IF('Lüftung AbZuluft'!M42=\"\",\"\",'Lüftung AbZuluft'!M42)","v":""}]
[{"$f":"'Lüftung AbZuluft'!C43","v":""},{"$f":"'Lüftung AbZuluft'!D43","v":""},{"$f":"'Lüftung AbZuluft'!E43","v":""},null,null,null,{"$f":"IF('Lüftung AbZuluft'!G43=\"\",\"\",'Lüftung AbZuluft'!G43)","v":""},null,{"$f":"IF('Lüftung AbZuluft'!H43=\"\",\"\",'Lüftung AbZuluft'!H43)","v":""},null,{"$f":"IF('Lüftung AbZuluft'!I43=\"\",\"\",'Lüftung AbZuluft'!I43)","v":""},{"$f":"IF('Lüftung AbZuluft'!J43=\"\",\"\",'Lüftung AbZuluft'!J43)","v":""},{"$f":"IF('Lüftung AbZuluft'!K43=\"\",\"\",'Lüftung AbZuluft'!K43)","v":""},{"$f":"IF('Lüftung AbZuluft'!L43=\"\",\"\",'Lüftung AbZuluft'!L43)","v":""},{"$f":"IF('Lüftung AbZuluft'!M43=\"\",\"\",'Lüftung AbZuluft'!M43)","v":""}]
[{"$f":"'Lüftung AbZuluft'!C44","v":""},{"$f":"'Lüftung AbZuluft'!D44","v":""},{"$f":"'Lüftung AbZuluft'!E44","v":""},null,null,null,{"$f":"IF('Lüftung AbZuluft'!G44=\"\",\"\",'Lüftung AbZuluft'!G44)","v":""},null,{"$f":"IF('Lüftung AbZuluft'!H44=\"\",\"\",'Lüftung AbZuluft'!H44)","v":""},null,{"$f":"IF('Lüftung AbZuluft'!I44=\"\",\"\",'Lüftung AbZuluft'!I44)","v":""},{"$f":"IF('Lüftung AbZuluft'!J44=\"\",\"\",'Lüftung AbZuluft'!J44)","v":""},{"$f":"IF('Lüftung AbZuluft'!K44=\"\",\"\",'Lüftung AbZuluft'!K44)","v":""},{"$f":"IF('Lüftung AbZuluft'!L44=\"\",\"\",'Lüftung AbZuluft'!L44)","v":""},{"$f":"IF('Lüftung AbZuluft'!M44=\"\",\"\",'Lüftung AbZuluft'!M44)","v":""}]
[{"$f":"'Lüftung AbZuluft'!C45","v":""},{"$f":"'Lüftung AbZuluft'!D45","v":""},{"$f":"'Lüftung AbZuluft'!E45","v":""},null,null,null,{"$f":"IF('Lüftung AbZuluft'!G45=\"\",\"\",'Lüftung AbZuluft'!G45)","v":""},null,{"$f":"IF('Lüftung AbZuluft'!H45=\"\",\"\",'Lüftung AbZuluft'!H45)","v":""},null,{"$f":"IF('Lüftung AbZuluft'!I45=\"\",\"\",'Lüftung AbZuluft'!I45)","v":""},{"$f":"IF('Lüftung AbZuluft'!J45=\"\",\"\",'Lüftung AbZuluft'!J45)","v":""},{"$f":"IF('Lüftung AbZuluft'!K45=\"\",\"\",'Lüftung AbZuluft'!K45)","v":""},{"$f":"IF('Lüftung AbZuluft'!L45=\"\",\"\",'Lüftung AbZuluft'!L45)","v":""},{"$f":"IF('Lüftung AbZuluft'!M45=\"\",\"\",'Lüftung AbZuluft'!M45)","v":""}]
[{"$f":"'Lüftung AbZuluft'!C46","v":""},{"$f":"'Lüftung AbZuluft'!D46","v":""},{"$f":"'Lüftung AbZuluft'!E46","v":""},null,null,null,{"$f":"IF('Lüftung AbZuluft'!G46=\"\",\"\",'Lüftung AbZuluft'!G46)","v":""},null,{"$f":"IF('Lüftung AbZuluft'!H46=\"\",\"\",'Lüftung AbZuluft'!H46)","v":""},null,{"$f":"IF('Lüftung AbZuluft'!I46=\"\",\"\",'Lüftung AbZuluft'!I46)","v":""},{"$f":"IF('Lüftung AbZuluft'!J46=\"\",\"\",'Lüftung AbZuluft'!J46)","v":""},{"$f":"IF('Lüftung AbZuluft'!K46=\"\",\"\",'Lüftung AbZuluft'!K46)","v":""},{"$f":"IF('Lüftung AbZuluft'!L46=\"\",\"\",'Lüftung AbZuluft'!L46)","v":""},{"$f":"IF('Lüftung AbZuluft'!M46=\"\",\"\",'Lüftung AbZuluft'!M46)","v":""}]
[{"$f":"'Lüftung AbZuluft'!C47","v":""},{"$f":"'Lüftung AbZuluft'!D47","v":""},{"$f":"'Lüftung AbZuluft'!E47","v":""},null,null,null,{"$f":"IF('Lüftung AbZuluft'!G47=\"\",\"\",'Lüftung AbZuluft'!G47)","v":""},null,{"$f":"IF('Lüftung AbZuluft'!H47=\"\",\"\",'Lüftung AbZuluft'!H47)","v":""},null,{"$f":"IF('Lüftung AbZuluft'!I47=\"\",\"\",'Lüftung AbZuluft'!I47)","v":""},{"$f":"IF('Lüftung AbZuluft'!J47=\"\",\"\",'Lüftung AbZuluft'!J47)","v":""},{"$f":"IF('Lüftung AbZuluft'!K47=\"\",\"\",'Lüftung AbZuluft'!K47)","v":""},{"$f":"IF('Lüftung AbZuluft'!L47=\"\",\"\",'Lüftung AbZuluft'!L47)","v":""},{"$f":"IF('Lüftung AbZuluft'!M47=\"\",\"\",'Lüftung AbZuluft'!M47)","v":""}]
[{"$f":"'Lüftung AbZuluft'!C48","v":""},{"$f":"'Lüftung AbZuluft'!D48","v":""},{"$f":"'Lüftung AbZuluft'!E48","v":""},null,null,null,{"$f":"IF('Lüftung AbZuluft'!G48=\"\",\"\",'Lüftung AbZuluft'!G48)","v":""},null,{"$f":"IF('Lüftung AbZuluft'!H48=\"\",\"\",'Lüftung AbZuluft'!H48)","v":""},null,{"$f":"IF('Lüftung AbZuluft'!I48=\"\",\"\",'Lüftung AbZuluft'!I48)","v":""},{"$f":"IF('Lüftung AbZuluft'!J48=\"\",\"\",'Lüftung AbZuluft'!J48)","v":""},{"$f":"IF('Lüftung AbZuluft'!K48=\"\",\"\",'Lüftung AbZuluft'!K48)","v":""},{"$f":"IF('Lüftung AbZuluft'!L48=\"\",\"\",'Lüftung AbZuluft'!L48)","v":""},{"$f":"IF('Lüftung AbZuluft'!M48=\"\",\"\",'Lüftung AbZuluft'!M48)","v":""}]
[{"$f":"'Lüftung AbZuluft'!C49","v":""},{"$f":"'Lüftung AbZuluft'!D49","v":""},{"$f":"'Lüftung AbZuluft'!E49","v":""},null,null,null,{"$f":"IF('Lüftung AbZuluft'!G49=\"\",\"\",'Lüftung AbZuluft'!G49)","v":""},null,{"$f":"IF('Lüftung AbZuluft'!H49=\"\",\"\",'Lüftung AbZuluft'!H49)","v":""},null,{"$f":"IF('Lüftung AbZuluft'!I49=\"\",\"\",'Lüftung AbZuluft'!I49)","v":""},{"$f":"IF('Lüftung AbZuluft'!J49=\"\",\"\",'Lüftung AbZuluft'!J49)","v":""},{"$f":"IF('Lüftung AbZuluft'!K49=\"\",\"\",'Lüftung AbZuluft'!K49)","v":""},{"$f":"IF('Lüftung AbZuluft'!L49=\"\",\"\",'Lüftung AbZuluft'!L49)","v":""},{"$f":"IF('Lüftung AbZuluft'!M49=\"\",\"\",'Lüftung AbZuluft'!M49)","v":""}]
[{"$f":"'Lüftung AbZuluft'!C50","v":""},{"$f":"'Lüftung AbZuluft'!D50","v":""},{"$f":"'Lüftung AbZuluft'!E50","v":""},null,null,null,{"$f":"IF('Lüftung AbZuluft'!G50=\"\",\"\",'Lüftung AbZuluft'!G50)","v":""},null,{"$f":"IF('Lüftung AbZuluft'!H50=\"\",\"\",'Lüftung AbZuluft'!H50)","v":""},null,{"$f":"IF('Lüftung AbZuluft'!I50=\"\",\"\",'Lüftung AbZuluft'!I50)","v":""},{"$f":"IF('Lüftung AbZuluft'!J50=\"\",\"\",'Lüftung AbZuluft'!J50)","v":""},{"$f":"IF('Lüftung AbZuluft'!K50=\"\",\"\",'Lüftung AbZuluft'!K50)","v":""},{"$f":"IF('Lüftung AbZuluft'!L50=\"\",\"\",'Lüftung AbZuluft'!L50)","v":""},{"$f":"IF('Lüftung AbZuluft'!M50=\"\",\"\",'Lüftung AbZuluft'!M50)","v":""}]
[{"$f":"'Lüftung AbZuluft'!C51","v":""},{"$f":"'Lüftung AbZuluft'!D51","v":""},{"$f":"'Lüftung AbZuluft'!E51","v":""},null,null,null,{"$f":"IF('Lüftung AbZuluft'!G51=\"\",\"\",'Lüftung AbZuluft'!G51)","v":""},null,{"$f":"IF('Lüftung AbZuluft'!H51=\"\",\"\",'Lüftung AbZuluft'!H51)","v":""},null,{"$f":"IF('Lüftung AbZuluft'!I51=\"\",\"\",'Lüftung AbZuluft'!I51)","v":""},{"$f":"IF('Lüftung AbZuluft'!J51=\"\",\"\",'Lüftung AbZuluft'!J51)","v":""},{"$f":"IF('Lüftung AbZuluft'!K51=\"\",\"\",'Lüftung AbZuluft'!K51)","v":""},{"$f":"IF('Lüftung AbZuluft'!L51=\"\",\"\",'Lüftung AbZuluft'!L51)","v":""},{"$f":"IF('Lüftung AbZuluft'!M51=\"\",\"\",'Lüftung AbZuluft'!M51)","v":""}]
[{"$f":"'Lüftung AbZuluft'!C52","v":""},{"$f":"'Lüftung AbZuluft'!D52","v":""},{"$f":"'Lüftung AbZuluft'!E52","v":""},null,null,null,{"$f":"IF('Lüftung AbZuluft'!G52=\"\",\"\",'Lüftung AbZuluft'!G52)","v":""},null,{"$f":"IF('Lüftung AbZuluft'!H52=\"\",\"\",'Lüftung AbZuluft'!H52)","v":""},null,{"$f":"IF('Lüftung AbZuluft'!I52=\"\",\"\",'Lüftung AbZuluft'!I52)","v":""},{"$f":"IF('Lüftung AbZuluft'!J52=\"\",\"\",'Lüftung AbZuluft'!J52)","v":""},{"$f":"IF('Lüftung AbZuluft'!K52=\"\",\"\",'Lüftung AbZuluft'!K52)","v":""},{"$f":"IF('Lüftung AbZuluft'!L52=\"\",\"\",'Lüftung AbZuluft'!L52)","v":""},{"$f":"IF('Lüftung AbZuluft'!M52=\"\",\"\",'Lüftung AbZuluft'!M52)","v":""}]
[{"$f":"'Lüftung AbZuluft'!C53","v":""},{"$f":"'Lüftung AbZuluft'!D53","v":""},{"$f":"'Lüftung AbZuluft'!E53","v":""},null,null,null,{"$f":"IF('Lüftung AbZuluft'!G53=\"\",\"\",'Lüftung AbZuluft'!G53)","v":""},null,{"$f":"IF('Lüftung AbZuluft'!H53=\"\",\"\",'Lüftung AbZuluft'!H53)","v":""},null,{"$f":"IF('Lüftung AbZuluft'!I53=\"\",\"\",'Lüftung AbZuluft'!I53)","v":""},{"$f":"IF('Lüftung AbZuluft'!J53=\"\",\"\",'Lüftung AbZuluft'!J53)","v":""},{"$f":"IF('Lüftung AbZuluft'!K53=\"\",\"\",'Lüftung AbZuluft'!K53)","v":""},{"$f":"IF('Lüftung AbZuluft'!L53=\"\",\"\",'Lüftung AbZuluft'!L53)","v":""},{"$f":"IF('Lüftung AbZuluft'!M53=\"\",\"\",'Lüftung AbZuluft'!M53)","v":""}]
[{"$f":"'Lüftung AbZuluft'!C54","v":""},{"$f":"'Lüftung AbZuluft'!D54","v":""},{"$f":"'Lüftung AbZuluft'!E54","v":""},null,null,null,{"$f":"IF('Lüftung AbZuluft'!G54=\"\",\"\",'Lüftung AbZuluft'!G54)","v":""},null,{"$f":"IF('Lüftung AbZuluft'!H54=\"\",\"\",'Lüftung AbZuluft'!H54)","v":""},null,{"$f":"IF('Lüftung AbZuluft'!I54=\"\",\"\",'Lüftung AbZuluft'!I54)","v":""},{"$f":"IF('Lüftung AbZuluft'!J54=\"\",\"\",'Lüftung AbZuluft'!J54)","v":""},{"$f":"IF('Lüftung AbZuluft'!K54=\"\",\"\",'Lüftung AbZuluft'!K54)","v":""},{"$f":"IF('Lüftung AbZuluft'!L54=\"\",\"\",'Lüftung AbZuluft'!L54)","v":""},{"$f":"IF('Lüftung AbZuluft'!M54=\"\",\"\",'Lüftung AbZuluft'!M54)","v":""}]
[{"$f":"'Lüftung AbZuluft'!C55","v":""},{"$f":"'Lüftung AbZuluft'!D55","v":""},{"$f":"'Lüftung AbZuluft'!E55","v":""},null,null,null,{"$f":"IF('Lüftung AbZuluft'!G55=\"\",\"\",'Lüftung AbZuluft'!G55)","v":""},null,{"$f":"IF('Lüftung AbZuluft'!H55=\"\",\"\",'Lüftung AbZuluft'!H55)","v":""},null,{"$f":"IF('Lüftung AbZuluft'!I55=\"\",\"\",'Lüftung AbZuluft'!I55)","v":""},{"$f":"IF('Lüftung AbZuluft'!J55=\"\",\"\",'Lüftung AbZuluft'!J55)","v":""},{"$f":"IF('Lüftung AbZuluft'!K55=\"\",\"\",'Lüftung AbZuluft'!K55)","v":""},{"$f":"IF('Lüftung AbZuluft'!L55=\"\",\"\",'Lüftung AbZuluft'!L55)","v":""},{"$f":"IF('Lüftung AbZuluft'!M55=\"\",\"\",'Lüftung AbZuluft'!M55)","v":""}]
[{"$f":"'Lüftung AbZuluft'!C56","v":""},{"$f":"'Lüftung AbZuluft'!D56","v":""},{"$f":"'Lüftung AbZuluft'!E56","v":""},null,null,null,{"$f":"IF('Lüftung AbZuluft'!G56=\"\",\"\",'Lüftung AbZuluft'!G56)","v":""},null,{"$f":"IF('Lüftung AbZuluft'!H56=\"\",\"\",'Lüftung AbZuluft'!H56)","v":""},null,{"$f":"IF('Lüftung AbZuluft'!I56=\"\",\"\",'Lüftung AbZuluft'!I56)","v":""},{"$f":"IF('Lüftung AbZuluft'!J56=\"\",\"\",'Lüftung AbZuluft'!J56)","v":""},{"$f":"IF('Lüftung AbZuluft'!K56=\"\",\"\",'Lüftung AbZuluft'!K56)","v":""},{"$f":"IF('Lüftung AbZuluft'!L56=\"\",\"\",'Lüftung AbZuluft'!L56)","v":""},{"$f":"IF('Lüftung AbZuluft'!M56=\"\",\"\",'Lüftung AbZuluft'!M56)","v":""}]
[{"$f":"'Lüftung AbZuluft'!C57","v":""},{"$f":"'Lüftung AbZuluft'!D57","v":""},{"$f":"'Lüftung AbZuluft'!E57","v":""},null,null,null,{"$f":"IF('Lüftung AbZuluft'!G57=\"\",\"\",'Lüftung AbZuluft'!G57)","v":""},null,{"$f":"IF('Lüftung AbZuluft'!H57=\"\",\"\",'Lüftung AbZuluft'!H57)","v":""},null,{"$f":"IF('Lüftung AbZuluft'!I57=\"\",\"\",'Lüftung AbZuluft'!I57)","v":""},{"$f":"IF('Lüftung AbZuluft'!J57=\"\",\"\",'Lüftung AbZuluft'!J57)","v":""},{"$f":"IF('Lüftung AbZuluft'!K57=\"\",\"\",'Lüftung AbZuluft'!K57)","v":""},{"$f":"IF('Lüftung AbZuluft'!L57=\"\",\"\",'Lüftung AbZuluft'!L57)","v":""},{"$f":"IF('Lüftung AbZuluft'!M57=\"\",\"\",'Lüftung AbZuluft'!M57)","v":""}]
[{"$f":"'Lüftung AbZuluft'!C58","v":""},{"$f":"'Lüftung AbZuluft'!D58","v":""},{"$f":"'Lüftung AbZuluft'!E58","v":""},null,null,null,{"$f":"IF('Lüftung AbZuluft'!G58=\"\",\"\",'Lüftung AbZuluft'!G58)","v":""},null,{"$f":"IF('Lüftung AbZuluft'!H58=\"\",\"\",'Lüftung AbZuluft'!H58)","v":""},null,{"$f":"IF('Lüftung AbZuluft'!I58=\"\",\"\",'Lüftung AbZuluft'!I58)","v":""},{"$f":"IF('Lüftung AbZuluft'!J58=\"\",\"\",'Lüftung AbZuluft'!J58)","v":""},{"$f":"IF('Lüftung AbZuluft'!K58=\"\",\"\",'Lüftung AbZuluft'!K58)","v":""},{"$f":"IF('Lüftung AbZuluft'!L58=\"\",\"\",'Lüftung AbZuluft'!L58)","v":""},{"$f":"IF('Lüftung AbZuluft'!M58=\"\",\"\",'Lüftung AbZuluft'!M58)","v":""}]
[{"$f":"'Lüftung AbZuluft'!C59","v":""},{"$f":"'Lüftung AbZuluft'!D59","v":""},{"$f":"'Lüftung AbZuluft'!E59","v":""},null,null,null,{"$f":"IF('Lüftung AbZuluft'!G59=\"\",\"\",'Lüftung AbZuluft'!G59)","v":""},null,{"$f":"IF('Lüftung AbZuluft'!H59=\"\",\"\",'Lüftung AbZuluft'!H59)","v":""},null,{"$f":"IF('Lüftung AbZuluft'!I59=\"\",\"\",'Lüftung AbZuluft'!I59)","v":""},{"$f":"IF('Lüftung AbZuluft'!J59=\"\",\"\",'Lüftung AbZuluft'!J59)","v":""},{"$f":"IF('Lüftung AbZuluft'!K59=\"\",\"\",'Lüftung AbZuluft'!K59)","v":""},{"$f":"IF('Lüftung AbZuluft'!L59=\"\",\"\",'Lüftung AbZuluft'!L59)","v":""},{"$f":"IF('Lüftung AbZuluft'!M59=\"\",\"\",'Lüftung AbZuluft'!M59)","v":""}]
[{"$f":"'Lüftung AbZuluft'!C60","v":""},{"$f":"'Lüftung AbZuluft'!D60","v":""},{"$f":"'Lüftung AbZuluft'!E60","v":""},null,null,null,{"$f":"IF('Lüftung AbZuluft'!G60=\"\",\"\",'Lüftung AbZuluft'!G60)","v":""},null,{"$f":"IF('Lüftung AbZuluft'!H60=\"\",\"\",'Lüftung AbZuluft'!H60)","v":""},null,{"$f":"IF('Lüftung AbZuluft'!I60=\"\",\"\",'Lüftung AbZuluft'!I60)","v":""},{"$f":"IF('Lüftung AbZuluft'!J60=\"\",\"\",'Lüftung AbZuluft'!J60)","v":""},{"$f":"IF('Lüftung AbZuluft'!K60=\"\",\"\",'Lüftung AbZuluft'!K60)","v":""},{"$f":"IF('Lüftung AbZuluft'!L60=\"\",\"\",'Lüftung AbZuluft'!L60)","v":""},{"$f":"IF('Lüftung AbZuluft'!M60=\"\",\"\",'Lüftung AbZuluft'!M60)","v":""}]
[{"$f":"'Lüftung AbZuluft'!C61","v":""},{"$f":"'Lüftung AbZuluft'!D61","v":""},{"$f":"'Lüftung AbZuluft'!E61","v":""},null,null,null,{"$f":"IF('Lüftung AbZuluft'!G61=\"\",\"\",'Lüftung AbZuluft'!G61)","v":""},null,{"$f":"IF('Lüftung AbZuluft'!H61=\"\",\"\",'Lüftung AbZuluft'!H61)","v":""},null,{"$f":"IF('Lüftung AbZuluft'!I61=\"\",\"\",'Lüftung AbZuluft'!I61)","v":""},{"$f":"IF('Lüftung AbZuluft'!J61=\"\",\"\",'Lüftung AbZuluft'!J61)","v":""},{"$f":"IF('Lüftung AbZuluft'!K61=\"\",\"\",'Lüftung AbZuluft'!K61)","v":""},{"$f":"IF('Lüftung AbZuluft'!L61=\"\",\"\",'Lüftung AbZuluft'!L61)","v":""},{"$f":"IF('Lüftung AbZuluft'!M61=\"\",\"\",'Lüftung AbZuluft'!M61)","v":""}]
[]
[]
[]
[{"$f":"'Lüftung AbZuluft'!C66","v":"Nr"},{"$f":"'Lüftung AbZuluft'!E66","v":"Raum"},null,null,{"$f":"'Lüftung AbZuluft'!G66","v":"Volumen"},null,{"$f":"'Lüftung AbZuluft'!H66","v":"Zone"},{"$f":"'Lüftung AbZuluft'!J66","v":"Zuluft\n[m³/h]"},null,{"$f":"'Lüftung AbZuluft'!M66","v":"Überströmt\n[m³/h]"},null,{"$f":"'Lüftung AbZuluft'!O66","v":"Abluft\n[m³/h]"},null,{"$f":"'Lüftung AbZuluft'!P66","v":"Pendellüfter\n[m³/h]"}]
[{"$f":"IF('Lüftung AbZuluft'!C67=\"\",\"\",'Lüftung AbZuluft'!C67)","v":1},{"$f":"'Lüftung AbZuluft'!E67","v":{"$error":"#N/A"}},null,null,{"$f":"'Lüftung AbZuluft'!G67","v":{"$error":"#N/A"}},null,{"$f":"IF('Lüftung AbZuluft'!H67=\"\",\"\",'Lüftung AbZuluft'!H67)","v":0},{"$f":"'Lüftung AbZuluft'!J67","v":""},null,{"$f":"'Lüftung AbZuluft'!M67","v":""},null,{"$f":"'Lüftung AbZuluft'!O67","v":""},null,{"$f":"'Lüftung AbZuluft'!P67","v":""}]
[{"$f":"IF('Lüftung AbZuluft'!C68=\"\",\"\",'Lüftung AbZuluft'!C68)","v":""},{"$f":"'Lüftung AbZuluft'!E68","v":""},null,null,{"$f":"'Lüftung AbZuluft'!G68","v":""},null,{"$f":"IF('Lüftung AbZuluft'!H68=\"\",\"\",'Lüftung AbZuluft'!H68)","v":""},{"$f":"'Lüftung AbZuluft'!J68","v":""},null,{"$f":"'Lüftung AbZuluft'!M68","v":""},null,{"$f":"'Lüftung AbZuluft'!O68","v":""},null,{"$f":"'Lüftung AbZuluft'!P68","v":""}]
[{"$f":"IF('Lüftung AbZuluft'!C69=\"\",\"\",'Lüftung AbZuluft'!C69)","v":""},{"$f":"'Lüftung AbZuluft'!E69","v":""},null,null,{"$f":"'Lüftung AbZuluft'!G69","v":""},null,{"$f":"IF('Lüftung AbZuluft'!H69=\"\",\"\",'Lüftung AbZuluft'!H69)","v":""},{"$f":"'Lüftung AbZuluft'!J69","v":""},null,{"$f":"'Lüftung AbZuluft'!M69","v":""},null,{"$f":"'Lüftung AbZuluft'!O69","v":""},null,{"$f":"'Lüftung AbZuluft'!P69","v":""}]
[{"$f":"IF('Lüftung AbZuluft'!C70=\"\",\"\",'Lüftung AbZuluft'!C70)","v":""},{"$f":"'Lüftung AbZuluft'!E70","v":""},null,null,{"$f":"'Lüftung AbZuluft'!G70","v":""},null,{"$f":"IF('Lüftung AbZuluft'!H70=\"\",\"\",'Lüftung AbZuluft'!H70)","v":""},{"$f":"'Lüftung AbZuluft'!J70","v":""},null,{"$f":"'Lüftung AbZuluft'!M70","v":""},null,{"$f":"'Lüftung AbZuluft'!O70","v":""},null,{"$f":"'Lüftung AbZuluft'!P70","v":""}]
[{"$f":"IF('Lüftung AbZuluft'!C71=\"\",\"\",'Lüftung AbZuluft'!C71)","v":""},{"$f":"'Lüftung AbZuluft'!E71","v":""},null,null,{"$f":"'Lüftung AbZuluft'!G71","v":""},null,{"$f":"IF('Lüftung AbZuluft'!H71=\"\",\"\",'Lüftung AbZuluft'!H71)","v":""},{"$f":"'Lüftung AbZuluft'!J71","v":""},null,{"$f":"'Lüftung AbZuluft'!M71","v":""},null,{"$f":"'Lüftung AbZuluft'!O71","v":""},null,{"$f":"'Lüftung AbZuluft'!P71","v":""}]
[{"$f":"IF('Lüftung AbZuluft'!C72=\"\",\"\",'Lüftung AbZuluft'!C72)","v":""},{"$f":"'Lüftung AbZuluft'!E72","v":""},null,null,{"$f":"'Lüftung AbZuluft'!G72","v":""},null,{"$f":"IF('Lüftung AbZuluft'!H72=\"\",\"\",'Lüftung AbZuluft'!H72)","v":""},{"$f":"'Lüftung AbZuluft'!J72","v":""},null,{"$f":"'Lüftung AbZuluft'!M72","v":""},null,{"$f":"'Lüftung AbZuluft'!O72","v":""},null,{"$f":"'Lüftung AbZuluft'!P72","v":""}]
[{"$f":"IF('Lüftung AbZuluft'!C73=\"\",\"\",'Lüftung AbZuluft'!C73)","v":""},{"$f":"'Lüftung AbZuluft'!E73","v":""},null,null,{"$f":"'Lüftung AbZuluft'!G73","v":""},null,{"$f":"IF('Lüftung AbZuluft'!H73=\"\",\"\",'Lüftung AbZuluft'!H73)","v":""},{"$f":"'Lüftung AbZuluft'!J73","v":""},null,{"$f":"'Lüftung AbZuluft'!M73","v":""},null,{"$f":"'Lüftung AbZuluft'!O73","v":""},null,{"$f":"'Lüftung AbZuluft'!P73","v":""}]
[{"$f":"IF('Lüftung AbZuluft'!C74=\"\",\"\",'Lüftung AbZuluft'!C74)","v":""},{"$f":"'Lüftung AbZuluft'!E74","v":""},null,null,{"$f":"'Lüftung AbZuluft'!G74","v":""},null,{"$f":"IF('Lüftung AbZuluft'!H74=\"\",\"\",'Lüftung AbZuluft'!H74)","v":""},{"$f":"'Lüftung AbZuluft'!J74","v":""},null,{"$f":"'Lüftung AbZuluft'!M74","v":""},null,{"$f":"'Lüftung AbZuluft'!O74","v":""},null,{"$f":"'Lüftung AbZuluft'!P74","v":""}]
[{"$f":"IF('Lüftung AbZuluft'!C75=\"\",\"\",'Lüftung AbZuluft'!C75)","v":""},{"$f":"'Lüftung AbZuluft'!E75","v":""},null,null,{"$f":"'Lüftung AbZuluft'!G75","v":""},null,{"$f":"IF('Lüftung AbZuluft'!H75=\"\",\"\",'Lüftung AbZuluft'!H75)","v":""},{"$f":"'Lüftung AbZuluft'!J75","v":""},null,{"$f":"'Lüftung AbZuluft'!M75","v":""},null,{"$f":"'Lüftung AbZuluft'!O75","v":""},null,{"$f":"'Lüftung AbZuluft'!P75","v":""}]
[{"$f":"IF('Lüftung AbZuluft'!C76=\"\",\"\",'Lüftung AbZuluft'!C76)","v":""},{"$f":"'Lüftung AbZuluft'!E76","v":""},null,null,{"$f":"'Lüftung AbZuluft'!G76","v":""},null,{"$f":"IF('Lüftung AbZuluft'!H76=\"\",\"\",'Lüftung AbZuluft'!H76)","v":""},{"$f":"'Lüftung AbZuluft'!J76","v":""},null,{"$f":"'Lüftung AbZuluft'!M76","v":""},null,{"$f":"'Lüftung AbZuluft'!O76","v":""},null,{"$f":"'Lüftung AbZuluft'!P76","v":""}]
[{"$f":"IF('Lüftung AbZuluft'!C77=\"\",\"\",'Lüftung AbZuluft'!C77)","v":""},{"$f":"'Lüftung AbZuluft'!E77","v":""},null,null,{"$f":"'Lüftung AbZuluft'!G77","v":""},null,{"$f":"IF('Lüftung AbZuluft'!H77=\"\",\"\",'Lüftung AbZuluft'!H77)","v":""},{"$f":"'Lüftung AbZuluft'!J77","v":""},null,{"$f":"'Lüftung AbZuluft'!M77","v":""},null,{"$f":"'Lüftung AbZuluft'!O77","v":""},null,{"$f":"'Lüftung AbZuluft'!P77","v":""}]
[{"$f":"IF('Lüftung AbZuluft'!C78=\"\",\"\",'Lüftung AbZuluft'!C78)","v":""},{"$f":"'Lüftung AbZuluft'!E78","v":""},null,null,{"$f":"'Lüftung AbZuluft'!G78","v":""},null,{"$f":"IF('Lüftung AbZuluft'!H78=\"\",\"\",'Lüftung AbZuluft'!H78)","v":""},{"$f":"'Lüftung AbZuluft'!J78","v":""},null,{"$f":"'Lüftung AbZuluft'!M78","v":""},null,{"$f":"'Lüftung AbZuluft'!O78","v":""},null,{"$f":"'Lüftung AbZuluft'!P78","v":""}]
[{"$f":"IF('Lüftung AbZuluft'!C79=\"\",\"\",'Lüftung AbZuluft'!C79)","v":""},{"$f":"'Lüftung AbZuluft'!E79","v":""},null,null,{"$f":"'Lüftung AbZuluft'!G79","v":""},null,{"$f":"IF('Lüftung AbZuluft'!H79=\"\",\"\",'Lüftung AbZuluft'!H79)","v":""},{"$f":"'Lüftung AbZuluft'!J79","v":""},null,{"$f":"'Lüftung AbZuluft'!M79","v":""},null,{"$f":"'Lüftung AbZuluft'!O79","v":""},null,{"$f":"'Lüftung AbZuluft'!P79","v":""}]
[{"$f":"IF('Lüftung AbZuluft'!C80=\"\",\"\",'Lüftung AbZuluft'!C80)","v":""},{"$f":"'Lüftung AbZuluft'!E80","v":""},null,null,{"$f":"'Lüftung AbZuluft'!G80","v":""},null,{"$f":"IF('Lüftung AbZuluft'!H80=\"\",\"\",'Lüftung AbZuluft'!H80)","v":""},{"$f":"'Lüftung AbZuluft'!J80","v":""},null,{"$f":"'Lüftung AbZuluft'!M80","v":""},null,{"$f":"'Lüftung AbZuluft'!O80","v":""},null,{"$f":"'Lüftung AbZuluft'!P80","v":""}]
[{"$f":"IF('Lüftung AbZuluft'!C81=\"\",\"\",'Lüftung AbZuluft'!C81)","v":""},{"$f":"'Lüftung AbZuluft'!E81","v":""},null,null,{"$f":"'Lüftung AbZuluft'!G81","v":""},null,{"$f":"IF('Lüftung AbZuluft'!H81=\"\",\"\",'Lüftung AbZuluft'!H81)","v":""},{"$f":"'Lüftung AbZuluft'!J81","v":""},null,{"$f":"'Lüftung AbZuluft'!M81","v":""},null,{"$f":"'Lüftung AbZuluft'!O81","v":""},null,{"$f":"'Lüftung AbZuluft'!P81","v":""}]
[{"$f":"IF('Lüftung AbZuluft'!C82=\"\",\"\",'Lüftung AbZuluft'!C82)","v":""},{"$f":"'Lüftung AbZuluft'!E82","v":""},null,null,{"$f":"'Lüftung AbZuluft'!G82","v":""},null,{"$f":"IF('Lüftung AbZuluft'!H82=\"\",\"\",'Lüftung AbZuluft'!H82)","v":""},{"$f":"'Lüftung AbZuluft'!J82","v":""},null,{"$f":"'Lüftung AbZuluft'!M82","v":""},null,{"$f":"'Lüftung AbZuluft'!O82","v":""},null,{"$f":"'Lüftung AbZuluft'!P82","v":""}]
[{"$f":"IF('Lüftung AbZuluft'!C83=\"\",\"\",'Lüftung AbZuluft'!C83)","v":""},{"$f":"'Lüftung AbZuluft'!E83","v":""},null,null,{"$f":"'Lüftung AbZuluft'!G83","v":""},null,{"$f":"IF('Lüftung AbZuluft'!H83=\"\",\"\",'Lüftung AbZuluft'!H83)","v":""},{"$f":"'Lüftung AbZuluft'!J83","v":""},null,{"$f":"'Lüftung AbZuluft'!M83","v":""},null,{"$f":"'Lüftung AbZuluft'!O83","v":""},null,{"$f":"'Lüftung AbZuluft'!P83","v":""}]
[{"$f":"IF('Lüftung AbZuluft'!C84=\"\",\"\",'Lüftung AbZuluft'!C84)","v":""},{"$f":"'Lüftung AbZuluft'!E84","v":""},null,null,{"$f":"'Lüftung AbZuluft'!G84","v":""},null,{"$f":"IF('Lüftung AbZuluft'!H84=\"\",\"\",'Lüftung AbZuluft'!H84)","v":""},{"$f":"'Lüftung AbZuluft'!J84","v":""},null,{"$f":"'Lüftung AbZuluft'!M84","v":""},null,{"$f":"'Lüftung AbZuluft'!O84","v":""},null,{"$f":"'Lüftung AbZuluft'!P84","v":""}]
[{"$f":"IF('Lüftung AbZuluft'!C85=\"\",\"\",'Lüftung AbZuluft'!C85)","v":""},{"$f":"'Lüftung AbZuluft'!E85","v":""},null,null,{"$f":"'Lüftung AbZuluft'!G85","v":""},null,{"$f":"IF('Lüftung AbZuluft'!H85=\"\",\"\",'Lüftung AbZuluft'!H85)","v":""},{"$f":"'Lüftung AbZuluft'!J85","v":""},null,{"$f":"'Lüftung AbZuluft'!M85","v":""},null,{"$f":"'Lüftung AbZuluft'!O85","v":""},null,{"$f":"'Lüftung AbZuluft'!P85","v":""}]
[{"$f":"IF('Lüftung AbZuluft'!C86=\"\",\"\",'Lüftung AbZuluft'!C86)","v":""},{"$f":"'Lüftung AbZuluft'!E86","v":""},null,null,{"$f":"'Lüftung AbZuluft'!G86","v":""},null,{"$f":"IF('Lüftung AbZuluft'!H86=\"\",\"\",'Lüftung AbZuluft'!H86)","v":""},{"$f":"'Lüftung AbZuluft'!J86","v":""},null,{"$f":"'Lüftung AbZuluft'!M86","v":""},null,{"$f":"'Lüftung AbZuluft'!O86","v":""},null,{"$f":"'Lüftung AbZuluft'!P86","v":""}]
[{"$f":"IF('Lüftung AbZuluft'!C87=\"\",\"\",'Lüftung AbZuluft'!C87)","v":""},{"$f":"'Lüftung AbZuluft'!E87","v":""},null,null,{"$f":"'Lüftung AbZuluft'!G87","v":""},null,{"$f":"IF('Lüftung AbZuluft'!H87=\"\",\"\",'Lüftung AbZuluft'!H87)","v":""},{"$f":"'Lüftung AbZuluft'!J87","v":""},null,{"$f":"'Lüftung AbZuluft'!M87","v":""},null,{"$f":"'Lüftung AbZuluft'!O87","v":""},null,{"$f":"'Lüftung AbZuluft'!P87","v":""}]
[{"$f":"IF('Lüftung AbZuluft'!C88=\"\",\"\",'Lüftung AbZuluft'!C88)","v":""},{"$f":"'Lüftung AbZuluft'!E88","v":""},null,null,{"$f":"'Lüftung AbZuluft'!G88","v":""},null,{"$f":"IF('Lüftung AbZuluft'!H88=\"\",\"\",'Lüftung AbZuluft'!H88)","v":""},{"$f":"'Lüftung AbZuluft'!J88","v":""},null,{"$f":"'Lüftung AbZuluft'!M88","v":""},null,{"$f":"'Lüftung AbZuluft'!O88","v":""},null,{"$f":"'Lüftung AbZuluft'!P88","v":""}]
[{"$f":"IF('Lüftung AbZuluft'!C89=\"\",\"\",'Lüftung AbZuluft'!C89)","v":""},{"$f":"'Lüftung AbZuluft'!E89","v":""},null,null,{"$f":"'Lüftung AbZuluft'!G89","v":""},null,{"$f":"IF('Lüftung AbZuluft'!H89=\"\",\"\",'Lüftung AbZuluft'!H89)","v":""},{"$f":"'Lüftung AbZuluft'!J89","v":""},null,{"$f":"'Lüftung AbZuluft'!M89","v":""},null,{"$f":"'Lüftung AbZuluft'!O89","v":""},null,{"$f":"'Lüftung AbZuluft'!P89","v":""}]
[{"$f":"IF('Lüftung AbZuluft'!C90=\"\",\"\",'Lüftung AbZuluft'!C90)","v":""},{"$f":"'Lüftung AbZuluft'!E90","v":""},null,null,{"$f":"'Lüftung AbZuluft'!G90","v":""},null,{"$f":"IF('Lüftung AbZuluft'!H90=\"\",\"\",'Lüftung AbZuluft'!H90)","v":""},{"$f":"'Lüftung AbZuluft'!J90","v":""},null,{"$f":"'Lüftung AbZuluft'!M90","v":""},null,{"$f":"'Lüftung AbZuluft'!O90","v":""},null,{"$f":"'Lüftung AbZuluft'!P90","v":""}]
[{"$f":"IF('Lüftung AbZuluft'!C91=\"\",\"\",'Lüftung AbZuluft'!C91)","v":""},{"$f":"'Lüftung AbZuluft'!E91","v":""},null,null,{"$f":"'Lüftung AbZuluft'!G91","v":""},null,{"$f":"IF('Lüftung AbZuluft'!H91=\"\",\"\",'Lüftung AbZuluft'!H91)","v":""},{"$f":"'Lüftung AbZuluft'!J91","v":""},null,{"$f":"'Lüftung AbZuluft'!M91","v":""},null,{"$f":"'Lüftung AbZuluft'!O91","v":""},null,{"$f":"'Lüftung AbZuluft'!P91","v":""}]
[{"$f":"IF('Lüftung AbZuluft'!C92=\"\",\"\",'Lüftung AbZuluft'!C92)","v":""},{"$f":"'Lüftung AbZuluft'!E92","v":""},null,null,{"$f":"'Lüftung AbZuluft'!G92","v":""},null,{"$f":"IF('Lüftung AbZuluft'!H92=\"\",\"\",'Lüftung AbZuluft'!H92)","v":""},{"$f":"'Lüftung AbZuluft'!J92","v":""},null,{"$f":"'Lüftung AbZuluft'!M92","v":""},null,{"$f":"'Lüftung AbZuluft'!O92","v":""},null,{"$f":"'Lüftung AbZuluft'!P92","v":""}]
[{"$f":"IF('Lüftung AbZuluft'!C93=\"\",\"\",'Lüftung AbZuluft'!C93)","v":""},{"$f":"'Lüftung AbZuluft'!E93","v":""},null,null,{"$f":"'Lüftung AbZuluft'!G93","v":""},null,{"$f":"IF('Lüftung AbZuluft'!H93=\"\",\"\",'Lüftung AbZuluft'!H93)","v":""},{"$f":"'Lüftung AbZuluft'!J93","v":""},null,{"$f":"'Lüftung AbZuluft'!M93","v":""},null,{"$f":"'Lüftung AbZuluft'!O93","v":""},null,{"$f":"'Lüftung AbZuluft'!P93","v":""}]
[{"$f":"IF('Lüftung AbZuluft'!C94=\"\",\"\",'Lüftung AbZuluft'!C94)","v":""},{"$f":"'Lüftung AbZuluft'!E94","v":""},null,null,{"$f":"'Lüftung AbZuluft'!G94","v":""},null,{"$f":"IF('Lüftung AbZuluft'!H94=\"\",\"\",'Lüftung AbZuluft'!H94)","v":""},{"$f":"'Lüftung AbZuluft'!J94","v":""},null,{"$f":"'Lüftung AbZuluft'!M94","v":""},null,{"$f":"'Lüftung AbZuluft'!O94","v":""},null,{"$f":"'Lüftung AbZuluft'!P94","v":""}]
[{"$f":"IF('Lüftung AbZuluft'!C95=\"\",\"\",'Lüftung AbZuluft'!C95)","v":""},{"$f":"'Lüftung AbZuluft'!E95","v":""},null,null,{"$f":"'Lüftung AbZuluft'!G95","v":""},null,{"$f":"IF('Lüftung AbZuluft'!H95=\"\",\"\",'Lüftung AbZuluft'!H95)","v":""},{"$f":"'Lüftung AbZuluft'!J95","v":""},null,{"$f":"'Lüftung AbZuluft'!M95","v":""},null,{"$f":"'Lüftung AbZuluft'!O95","v":""},null,{"$f":"'Lüftung AbZuluft'!P95","v":""}]
[{"$f":"IF('Lüftung AbZuluft'!C96=\"\",\"\",'Lüftung AbZuluft'!C96)","v":""},{"$f":"'Lüftung AbZuluft'!E96","v":""},null,null,{"$f":"'Lüftung AbZuluft'!G96","v":""},null,{"$f":"IF('Lüftung AbZuluft'!H96=\"\",\"\",'Lüftung AbZuluft'!H96)","v":""},{"$f":"'Lüftung AbZuluft'!J96","v":""},null,{"$f":"'Lüftung AbZuluft'!M96","v":""},null,{"$f":"'Lüftung AbZuluft'!O96","v":""},null,{"$f":"'Lüftung AbZuluft'!P96","v":""}]
[{"$f":"IF('Lüftung AbZuluft'!C97=\"\",\"\",'Lüftung AbZuluft'!C97)","v":""},{"$f":"'Lüftung AbZuluft'!E97","v":""},null,null,{"$f":"'Lüftung AbZuluft'!G97","v":""},null,{"$f":"IF('Lüftung AbZuluft'!H97=\"\",\"\",'Lüftung AbZuluft'!H97)","v":""},{"$f":"'Lüftung AbZuluft'!J97","v":""},null,{"$f":"'Lüftung AbZuluft'!M97","v":""},null,{"$f":"'Lüftung AbZuluft'!O97","v":""},null,{"$f":"'Lüftung AbZuluft'!P97","v":""}]
[{"$f":"IF('Lüftung AbZuluft'!C98=\"\",\"\",'Lüftung AbZuluft'!C98)","v":""},{"$f":"'Lüftung AbZuluft'!E98","v":""},null,null,{"$f":"'Lüftung AbZuluft'!G98","v":""},null,{"$f":"IF('Lüftung AbZuluft'!H98=\"\",\"\",'Lüftung AbZuluft'!H98)","v":""},{"$f":"'Lüftung AbZuluft'!J98","v":""},null,{"$f":"'Lüftung AbZuluft'!M98","v":""},null,{"$f":"'Lüftung AbZuluft'!O98","v":""},null,{"$f":"'Lüftung AbZuluft'!P98","v":""}]
[{"$f":"IF('Lüftung AbZuluft'!C99=\"\",\"\",'Lüftung AbZuluft'!C99)","v":""},{"$f":"'Lüftung AbZuluft'!E99","v":""},null,null,{"$f":"'Lüftung AbZuluft'!G99","v":""},null,{"$f":"IF('Lüftung AbZuluft'!H99=\"\",\"\",'Lüftung AbZuluft'!H99)","v":""},{"$f":"'Lüftung AbZuluft'!J99","v":""},null,{"$f":"'Lüftung AbZuluft'!M99","v":""},null,{"$f":"'Lüftung AbZuluft'!O99","v":""},null,{"$f":"'Lüftung AbZuluft'!P99","v":""}]
[{"$f":"IF('Lüftung AbZuluft'!C100=\"\",\"\",'Lüftung AbZuluft'!C100)","v":""},{"$f":"'Lüftung AbZuluft'!E100","v":""},null,null,{"$f":"'Lüftung AbZuluft'!G100","v":""},null,{"$f":"IF('Lüftung AbZuluft'!H100=\"\",\"\",'Lüftung AbZuluft'!H100)","v":""},{"$f":"'Lüftung AbZuluft'!J100","v":""},null,{"$f":"'Lüftung AbZuluft'!M100","v":""},null,{"$f":"'Lüftung AbZuluft'!O100","v":""},null,{"$f":"'Lüftung AbZuluft'!P100","v":""}]
[{"$f":"IF('Lüftung AbZuluft'!C101=\"\",\"\",'Lüftung AbZuluft'!C101)","v":""},{"$f":"'Lüftung AbZuluft'!E101","v":""},null,null,{"$f":"'Lüftung AbZuluft'!G101","v":""},null,{"$f":"IF('Lüftung AbZuluft'!H101=\"\",\"\",'Lüftung AbZuluft'!H101)","v":""},{"$f":"'Lüftung AbZuluft'!J101","v":""},null,{"$f":"'Lüftung AbZuluft'!M101","v":""},null,{"$f":"'Lüftung AbZuluft'!O101","v":""},null,{"$f":"'Lüftung AbZuluft'!P101","v":""}]
[{"$f":"IF('Lüftung AbZuluft'!C102=\"\",\"\",'Lüftung AbZuluft'!C102)","v":""},{"$f":"'Lüftung AbZuluft'!E102","v":""},null,null,{"$f":"'Lüftung AbZuluft'!G102","v":""},null,{"$f":"IF('Lüftung AbZuluft'!H102=\"\",\"\",'Lüftung AbZuluft'!H102)","v":""},{"$f":"'Lüftung AbZuluft'!J102","v":""},null,{"$f":"'Lüftung AbZuluft'!M102","v":""},null,{"$f":"'Lüftung AbZuluft'!O102","v":""},null,{"$f":"'Lüftung AbZuluft'!P102","v":""}]
[{"$f":"IF('Lüftung AbZuluft'!C103=\"\",\"\",'Lüftung AbZuluft'!C103)","v":""},{"$f":"'Lüftung AbZuluft'!E103","v":""},null,null,{"$f":"'Lüftung AbZuluft'!G103","v":""},null,{"$f":"IF('Lüftung AbZuluft'!H103=\"\",\"\",'Lüftung AbZuluft'!H103)","v":""},{"$f":"'Lüftung AbZuluft'!J103","v":""},null,{"$f":"'Lüftung AbZuluft'!M103","v":""},null,{"$f":"'Lüftung AbZuluft'!O103","v":""},null,{"$f":"'Lüftung AbZuluft'!P103","v":""}]
[{"$f":"IF('Lüftung AbZuluft'!C104=\"\",\"\",'Lüftung AbZuluft'!C104)","v":""},{"$f":"'Lüftung AbZuluft'!E104","v":""},null,null,{"$f":"'Lüftung AbZuluft'!G104","v":""},null,{"$f":"IF('Lüftung AbZuluft'!H104=\"\",\"\",'Lüftung AbZuluft'!H104)","v":""},{"$f":"'Lüftung AbZuluft'!J104","v":""},null,{"$f":"'Lüftung AbZuluft'!M104","v":""},null,{"$f":"'Lüftung AbZuluft'!O104","v":""},null,{"$f":"'Lüftung AbZuluft'!P104","v":""}]
[{"$f":"IF('Lüftung AbZuluft'!C105=\"\",\"\",'Lüftung AbZuluft'!C105)","v":""},{"$f":"'Lüftung AbZuluft'!E105","v":""},null,null,{"$f":"'Lüftung AbZuluft'!G105","v":""},null,{"$f":"IF('Lüftung AbZuluft'!H105=\"\",\"\",'Lüftung AbZuluft'!H105)","v":""},{"$f":"'Lüftung AbZuluft'!J105","v":""},null,{"$f":"'Lüftung AbZuluft'!M105","v":""},null,{"$f":"'Lüftung AbZuluft'!O105","v":""},null,{"$f":"'Lüftung AbZuluft'!P105","v":""}]
[{"$f":"IF('Lüftung AbZuluft'!C106=\"\",\"\",'Lüftung AbZuluft'!C106)","v":""},{"$f":"'Lüftung AbZuluft'!E106","v":""},null,null,{"$f":"'Lüftung AbZuluft'!G106","v":""},null,{"$f":"IF('Lüftung AbZuluft'!H106=\"\",\"\",'Lüftung AbZuluft'!H106)","v":""},{"$f":"'Lüftung AbZuluft'!J106","v":""},null,{"$f":"'Lüftung AbZuluft'!M106","v":""},null,{"$f":"'Lüftung AbZuluft'!O106","v":""},null,{"$f":"'Lüftung AbZuluft'!P106","v":""}]
[]
["Daraus ergeben sich folgende Volumenströme für die Auswahl / Bemessung der jeweiligen Lüftungsgeräte:"]
[]
[null,{"$f":"'Lüftung AbZuluft'!S66","v":"Gerät"},null,"Anzahl der versorgten Räume",null,null,"Volumenstrom [m³/h]"]
[null,{"$f":"'Lüftung AbZuluft'!S67","v":1},null,{"$f":"'Lüftung AbZuluft'!T67","v":0},null,null,{"$f":"'Lüftung AbZuluft'!U67","v":0}]
[null,{"$f":"'Lüftung AbZuluft'!S68","v":""},null,{"$f":"'Lüftung AbZuluft'!T68","v":""},null,null,{"$f":"'Lüftung AbZuluft'!U68","v":""}]
[null,{"$f":"'Lüftung AbZuluft'!S69","v":""},null,{"$f":"'Lüftung AbZuluft'!T69","v":""},null,null,{"$f":"'Lüftung AbZuluft'!U69","v":""}]
[null,{"$f":"'Lüftung AbZuluft'!S70","v":""},null,{"$f":"'Lüftung AbZuluft'!T70","v":""},null,null,{"$f":"'Lüftung AbZuluft'!U70","v":""}]
[null,{"$f":"'Lüftung AbZuluft'!S71","v":""},null,{"$f":"'Lüftung AbZuluft'!T71","v":""},null,null,{"$f":"'Lüftung AbZuluft'!U71","v":""}]
[null,{"$f":"'Lüftung AbZuluft'!S72","v":""},null,{"$f":"'Lüftung AbZuluft'!T72","v":""},null,null,{"$f":"'Lüftung AbZuluft'!U72","v":""}]
[null,{"$f":"'Lüftung AbZuluft'!S73","v":""},null,{"$f":"'Lüftung AbZuluft'!T73","v":""},null,null,{"$f":"'Lüftung AbZuluft'!U73","v":""}]
[null,{"$f":"'Lüftung AbZuluft'!S74","v":""},null,{"$f":"'Lüftung AbZuluft'!T74","v":""},null,null,{"$f":"'Lüftung AbZuluft'!U74","v":""}]
[null,{"$f":"'Lüftung AbZuluft'!S75","v":""},null,{"$f":"'Lüftung AbZuluft'!T75","v":""},null,null,{"$f":"'Lüftung AbZuluft'!U75","v":""}]
[null,{"$f":"'Lüftung AbZuluft'!S76","v":""},null,{"$f":"'Lüftung AbZuluft'!T76","v":""},null,null,{"$f":"'Lüftung AbZuluft'!U76","v":""}]
[null,{"$f":"'Lüftung AbZuluft'!S77","v":""},null,{"$f":"'Lüftung AbZuluft'!T77","v":""},null,null,{"$f":"'Lüftung AbZuluft'!U77","v":""}]
[null,{"$f":"'Lüftung AbZuluft'!S78","v":""},null,{"$f":"'Lüftung AbZuluft'!T78","v":""},null,null,{"$f":"'Lüftung AbZuluft'!U78","v":""}]
[null,{"$f":"'Lüftung AbZuluft'!S79","v":""},null,{"$f":"'Lüftung AbZuluft'!T79","v":""},null,null,{"$f":"'Lüftung AbZuluft'!U79","v":""}]
[null,{"$f":"'Lüftung AbZuluft'!S80","v":""},null,{"$f":"'Lüftung AbZuluft'!T80","v":""},null,null,{"$f":"'Lüftung AbZuluft'!U80","v":""}]
[null,{"$f":"'Lüftung AbZuluft'!S81","v":""},null,{"$f":"'Lüftung AbZuluft'!T81","v":""},null,null,{"$f":"'Lüftung AbZuluft'!U81","v":""}]
[null,{"$f":"'Lüftung AbZuluft'!S82","v":""},null,{"$f":"'Lüftung AbZuluft'!T82","v":""},null,null,{"$f":"'Lüftung AbZuluft'!U82","v":""}]
[null,{"$f":"'Lüftung AbZuluft'!S83","v":""},null,{"$f":"'Lüftung AbZuluft'!T83","v":""},null,null,{"$f":"'Lüftung AbZuluft'!U83","v":""}]
[null,{"$f":"'Lüftung AbZuluft'!S84","v":""},null,{"$f":"'Lüftung AbZuluft'!T84","v":""},null,null,{"$f":"'Lüftung AbZuluft'!U84","v":""}]
[null,{"$f":"'Lüftung AbZuluft'!S85","v":""},null,{"$f":"'Lüftung AbZuluft'!T85","v":""},null,null,{"$f":"'Lüftung AbZuluft'!U85","v":""}]
[null,{"$f":"'Lüftung AbZuluft'!S86","v":""},null,{"$f":"'Lüftung AbZuluft'!T86","v":""},null,null,{"$f":"'Lüftung AbZuluft'!U86","v":""}]
[null,{"$f":"'Lüftung AbZuluft'!S87","v":""},null,{"$f":"'Lüftung AbZuluft'!T87","v":""},null,null,{"$f":"'Lüftung AbZuluft'!U87","v":""}]
[null,{"$f":"'Lüftung AbZuluft'!S88","v":""},null,{"$f":"'Lüftung AbZuluft'!T88","v":""},null,null,{"$f":"'Lüftung AbZuluft'!U88","v":""}]
[null,{"$f":"'Lüftung AbZuluft'!S89","v":""},null,{"$f":"'Lüftung AbZuluft'!T89","v":""},null,null,{"$f":"'Lüftung AbZuluft'!U89","v":""}]
[null,{"$f":"'Lüftung AbZuluft'!S90","v":""},null,{"$f":"'Lüftung AbZuluft'!T90","v":""},null,null,{"$f":"'Lüftung AbZuluft'!U90","v":""}]
[null,{"$f":"'Lüftung AbZuluft'!S91","v":""},null,{"$f":"'Lüftung AbZuluft'!T91","v":""},null,null,{"$f":"'Lüftung AbZuluft'!U91","v":""}]
[null,{"$f":"'Lüftung AbZuluft'!S92","v":""},null,{"$f":"'Lüftung AbZuluft'!T92","v":""},null,null,{"$f":"'Lüftung AbZuluft'!U92","v":""}]
[null,{"$f":"'Lüftung AbZuluft'!S93","v":""},null,{"$f":"'Lüftung AbZuluft'!T93","v":""},null,null,{"$f":"'Lüftung AbZuluft'!U93","v":""}]
[null,{"$f":"'Lüftung AbZuluft'!S94","v":""},null,{"$f":"'Lüftung AbZuluft'!T94","v":""},null,null,{"$f":"'Lüftung AbZuluft'!U94","v":""}]
[null,{"$f":"'Lüftung AbZuluft'!S95","v":""},null,{"$f":"'Lüftung AbZuluft'!T95","v":""},null,null,{"$f":"'Lüftung AbZuluft'!U95","v":""}]
[null,{"$f":"'Lüftung AbZuluft'!S96","v":""},null,{"$f":"'Lüftung AbZuluft'!T96","v":""},null,null,{"$f":"'Lüftung AbZuluft'!U96","v":""}]
[null,{"$f":"'Lüftung AbZuluft'!S97","v":""},null,{"$f":"'Lüftung AbZuluft'!T97","v":""},null,null,{"$f":"'Lüftung AbZuluft'!U97","v":""}]
[null,{"$f":"'Lüftung AbZuluft'!S98","v":""},null,{"$f":"'Lüftung AbZuluft'!T98","v":""},null,null,{"$f":"'Lüftung AbZuluft'!U98","v":""}]
[null,{"$f":"'Lüftung AbZuluft'!S99","v":""},null,{"$f":"'Lüftung AbZuluft'!T99","v":""},null,null,{"$f":"'Lüftung AbZuluft'!U99","v":""}]
[null,{"$f":"'Lüftung AbZuluft'!S100","v":""},null,{"$f":"'Lüftung AbZuluft'!T100","v":""},null,null,{"$f":"'Lüftung AbZuluft'!U100","v":""}]
[null,{"$f":"'Lüftung AbZuluft'!S101","v":""},null,{"$f":"'Lüftung AbZuluft'!T101","v":""},null,null,{"$f":"'Lüftung AbZuluft'!U101","v":""}]
[null,{"$f":"'Lüftung AbZuluft'!S102","v":""},null,{"$f":"'Lüftung AbZuluft'!T102","v":""},null,null,{"$f":"'Lüftung AbZuluft'!U102","v":""}]
[null,{"$f":"'Lüftung AbZuluft'!S103","v":""},null,{"$f":"'Lüftung AbZuluft'!T103","v":""},null,null,{"$f":"'Lüftung AbZuluft'!U103","v":""}]
[null,{"$f":"'Lüftung AbZuluft'!S104","v":""},null,{"$f":"'Lüftung AbZuluft'!T104","v":""},null,null,{"$f":"'Lüftung AbZuluft'!U104","v":""}]
[null,{"$f":"'Lüftung AbZuluft'!S105","v":""},null,{"$f":"'Lüftung AbZuluft'!T105","v":""},null,null,{"$f":"'Lüftung AbZuluft'!U105","v":""}]
[null,{"$f":"'Lüftung AbZuluft'!S106","v":""},null,{"$f":"'Lüftung AbZuluft'!T106","v":""},null,null,{"$f":"'Lüftung AbZuluft'!U106","v":""}]
[]
[]
[{"$f":"IF('Lüftung System'!AD43=0,\"\",\"Für die Ausarbeitung das Lüftungskonzept der zentralen Zu- und Abluftanlage wenden Sie sich bitte an einen Fachplaner.\")","v":""}]
["Einbau der Anlage:",null,null,null,null,null,null,null,null,null,null,{"$f":"'Lüftung System'!I51","v":0}]